{"text_format":"1","workbook":"xlsx","n_sheets":12,"sheets":["はじめに","基本","決裁版","総務事務版","業務割","CSV出力用","総務用","システムデータ⇒","職員一覧","祝日","勤務シフト一覧","総務事務システムへの読み込み"],"not_rendered":{"charts":0,"images":8,"macros":1,"external_links":0,"defined_names":30,"comments":4,"pivot_tables":0},"unopened":[],"bounds":{"document_bytes":16777216,"sheet_cells":100000,"rows_first":2000,"rows_last":500,"rows_between":2000,"halvings":0,"cell_chars":16384,"cell_head_chars":4096},"cells_cut":0,"cells_raw":0,"read":"whole","date_system":"1900"}

{"sheet":"はじめに","index":0,"n_rows":25,"n_cols":3,"rows_kept":25,"cut":false,"hidden":false,"merged":[]}
["勤務シフト設定について","作成日","2010-04-01"]
[]
["１．概略"]
["　　勤務表（エクセルシート）を用いて、勤務シフトを設定すれば、"]
["　　そのエクセルファイルから総務事務Ｓ勤務設定ＣＳＶを作成することができ、"]
["　　総務事務ＳでそのＣＳＶを読み込めば、勤務設定が反映される。"]
["　　ならびに、夜間勤務手当、夜間看護手当の支給データも作成読込みされる。"]
[]
[]
["２．事前の設定","担当部署"]
["　　①官執勤務等の共通勤務区分以外については、所属独自の勤務区分を総務事務Ｓに設定する。","総務課"]
["　　②勤務表に、職員情報の設定をする。（職員氏名、職員番号）※業務補助職員含む","総務課or看護部"]
[]
[]
["３．勤務シフト設定の詳細"]
["　　①基本に勤務シフトを入力する。","看護部"]
["　　②正規職員用の勤務設定ＣＳＶと業務補助職員用の勤務設定ＣＳＶの２種類を作成する。","総務課"]
["　　③それぞれのＣＳＶをそれぞれの画面で読み込む。","総務課"]
["　　④勤務シフトに変更があれば、勤務表に入力のうえ、再度読み込みを行う。","看護部⇒総務課"]
[]
[]
["４．留意点"]
["　　①勤務表については、フォーマットは同一だが、反映すべき勤務シフト一覧（別シート）"]
["　　　をそれぞれの利用部署で編集可能とする。"]
["　　②勤務設定（勤務区分コード）は、所属単位で統一する。"]

{"sheet":"基本","index":1,"n_rows":98,"n_cols":48,"rows_kept":98,"cut":false,"hidden":false,"merged":[[1,37,1,40],[1,33,1,36],[1,30,1,32],[1,27,1,29],[1,24,1,26],[0,37,0,40],[0,33,0,36],[0,30,0,32],[0,27,0,29],[0,24,0,26],[3,43,4,43],[3,34,4,34],[3,42,4,42],[3,36,4,36],[3,37,4,37],[3,35,4,35],[3,41,4,41],[7,0,8,0],[9,0,10,0],[3,38,4,38],[3,40,4,40],[3,33,4,33],[3,39,4,39],[5,0,6,0],[13,0,14,0],[11,0,12,0],[19,0,20,0],[23,0,24,0],[17,0,18,0],[21,0,22,0],[15,0,16,0],[27,0,28,0],[25,0,26,0],[45,0,46,0],[51,0,52,0],[47,0,48,0],[39,0,40,0],[41,0,42,0],[43,0,44,0],[37,0,38,0],[35,0,36,0],[29,0,30,0],[59,0,60,0],[49,0,50,0],[65,0,66,0],[31,0,32,0],[33,0,34,0],[63,0,64,0],[61,0,62,0],[53,0,54,0],[55,0,56,0],[57,0,58,0]]}
[45870,"1900-01-11","月",null,null,null,null,null,null,null,null,null,null,null,null,null,null,null,null,null,null,null,null,null,"院長",null,null,"運営調整部長",null,null,"看護部長",null,null,"看護師長"]
[null,null,null,null,"【３階病棟看護室】勤務表予定表・実施表",null,null,null,null,null,null,null,null,null,null,null,null,null,null,null,null,null,null,null,null,null,null,null,null,null,null,null,null,null,null,null,null,null,null,null,null,null,"休日休数","変則回数","年休通算","時間外会議"]
[]
[null,"日",{"$f":"$A$1","v":"2025-08-01"},{"$f":"$A$1+1","v":"2025-08-02"},{"$f":"$A$1+2","v":"2025-08-03"},{"$f":"$A$1+3","v":"2025-08-04"},{"$f":"$A$1+4","v":"2025-08-05"},{"$f":"$A$1+5","v":"2025-08-06"},{"$f":"$A$1+6","v":"2025-08-07"},{"$f":"$A$1+7","v":"2025-08-08"},{"$f":"$A$1+8","v":"2025-08-09"},{"$f":"$A$1+9","v":"2025-08-10"},{"$f":"$A$1+10","v":"2025-08-11"},{"$f":"$A$1+11","v":"2025-08-12"},{"$f":"$A$1+12","v":"2025-08-13"},{"$f":"$A$1+13","v":"2025-08-14"},{"$f":"$A$1+14","v":"2025-08-15"},{"$f":"$A$1+15","v":"2025-08-16"},{"$f":"$A$1+16","v":"2025-08-17"},{"$f":"$A$1+17","v":"2025-08-18"},{"$f":"$A$1+18","v":"2025-08-19"},{"$f":"$A$1+19","v":"2025-08-20"},{"$f":"$A$1+20","v":"2025-08-21"},{"$f":"$A$1+21","v":"2025-08-22"},{"$f":"$A$1+22","v":"2025-08-23"},{"$f":"$A$1+23","v":"2025-08-24"},{"$f":"$A$1+24","v":"2025-08-25"},{"$f":"$A$1+25","v":"2025-08-26"},{"$f":"$A$1+26","v":"2025-08-27"},{"$f":"$A$1+27","v":"2025-08-28"},{"$f":"IF(DAY($A$1+28)>10,A1+28,\"\")","v":"2025-08-29"},{"$f":"IF(DAY($A$1+29)>10,A1+29,\"\")","v":"2025-08-30"},{"$f":"IF(DAY($A$1+30)>10,A1+30,\"\")","v":"2025-08-31"},"準夜","深夜","遅出","中遅","早出","週休","年休","夏期","職免"]
[null,"曜",{"$f":"C4","v":45870},{"$f":"D4","v":45871},{"$f":"E4","v":45872},{"$f":"F4","v":45873},45874,45875,45876,45877,45878,45879,45880,45881,45882,45883,45884,45885,45886,45887,45888,45889,45890,45891,45892,45893,45894,45895,45896,45897,{"$f":"AE4","v":45898},{"$f":"AF4","v":45899},{"$f":"AG4","v":45900}]
[{"$f":"IF(LEN(職員一覧!B2)<>0,職員一覧!B2,\"\")","v":"病院　太郎"},"予定","祭日","祭／","祭／","日","日","日直","／","祭／","年／","日","日","師日当","明け","日","日","日","日","日","日","／","当直","*730","日","年／","日","日","／","／","日","日","日",{"$f":"COUNTIF(C6:AG6,\"準\")","v":0},{"$f":"COUNTIF(C6:AG6,\"深\")","v":0},{"$f":"COUNTIF(C6:AG6,\"遅\")","v":0},{"$f":"COUNTIF(C6:AG6,\"中\")","v":0},{"$f":"COUNTIF(C6:AG6,\"早\")","v":0},{"$f":"COUNTIF(C6:AG6,\"／\")","v":4},{"$f":"COUNTIF(C6:AG6,\"年\")","v":0},{"$f":"COUNTIF(C6:AG6,\"夏\")","v":0},{"$f":"COUNTIF(C6:AG6,\"職免\")","v":0}]
[null,"実施","祭/","","","","","","","","","","師会","","","/","タスク","介助","","","","","","","","","","","","","","","",null,null,null,null,null,null,null,null,null,null,null,null,null,"日"]
[{"$f":"IF(LEN(職員一覧!B3)<>0,職員一覧!B3,\"\")","v":"病院　次郎"},"予定","祭／","祭／","祭日","／","深","／","深","祭深","日","／","日","準","*／","日","日","日","準","*準","*／","日","日","日","／","深","深","日","／","／","準","*1230","日",{"$f":"COUNTIF(C8:AG8,\"準\")","v":3},{"$f":"COUNTIF(C8:AG8,\"深\")","v":4},{"$f":"COUNTIF(C8:AG8,\"遅\")","v":0},{"$f":"COUNTIF(C8:AG8,\"中\")","v":0},{"$f":"COUNTIF(C8:AG8,\"早\")","v":0},{"$f":"COUNTIF(C8:AG8,\"／\")","v":6},{"$f":"COUNTIF(C8:AG8,\"年\")","v":0},{"$f":"COUNTIF(C8:AG8,\"夏\")","v":0},{"$f":"COUNTIF(C8:AG8,\"職免\")","v":0},null,null,null,null,"準"]
[null,"実施","","","祭/","","","研修","","","健学","","","","","","副","学","","","","","","","","","","","","","","","",null,null,null,null,null,null,null,null,null,null,null,null,null,"深"]
[{"$f":"IF(LEN(職員一覧!B4)<>0,職員一覧!B4,\"\")","v":"病院　三郎"},"予定","祭準","*祭／","祭／","深","1230","日","日","祭／","日","深","A免","／","日","深","日","／","0700","深","準","*／","／","／","日","日","日","深","／","準","*／","準","*／",{"$f":"COUNTIF(C10:AG10,\"準\")","v":3},{"$f":"COUNTIF(C10:AG10,\"深\")","v":5},{"$f":"COUNTIF(C10:AG10,\"遅\")","v":0},{"$f":"COUNTIF(C10:AG10,\"中\")","v":0},{"$f":"COUNTIF(C10:AG10,\"早\")","v":0},{"$f":"COUNTIF(C10:AG10,\"／\")","v":5},{"$f":"COUNTIF(C10:AG10,\"年\")","v":0},{"$f":"COUNTIF(C10:AG10,\"夏\")","v":0},{"$f":"COUNTIF(C10:AG10,\"職免\")","v":0},null,null,null,null,"／"]
[null,"実施","","","","","教育","","","","検代","","ドッグ","","","","副","","","","","","","","","研修","深X","","","","","","",null,null,null,null,null,null,null,null,null,null,null,null,null,"指／"]
[{"$f":"IF(LEN(職員一覧!B5)<>0,職員一覧!B5,\"\")","v":""},"予定",null,null,null,null,null,null,null,null,null,null,null,null,null,null,null,null,null,null,null,null,null,null,null,null,null,null,null,null,null,null,null,{"$f":"COUNTIF(C12:AG12,\"準\")","v":0},{"$f":"COUNTIF(C12:AG12,\"深\")","v":0},{"$f":"COUNTIF(C12:AG12,\"遅\")","v":0},{"$f":"COUNTIF(C12:AG12,\"中\")","v":0},{"$f":"COUNTIF(C12:AG12,\"早\")","v":0},{"$f":"COUNTIF(C12:AG12,\"／\")","v":0},{"$f":"COUNTIF(C12:AG12,\"年\")","v":0},{"$f":"COUNTIF(C12:AG12,\"夏\")","v":0},{"$f":"COUNTIF(C12:AG12,\"職免\")","v":0},null,null,null,null,"祭／"]
[null,"実施",null,null,null,null,null,null,null,null,null,null,null,null,null,null,null,null,null,null,null,null,null,null,null,null,null,null,null,null,null,null,null,null,null,null,null,null,null,null,null,null,null,null,null,null,"祭代"]
[{"$f":"IF(LEN(職員一覧!B6)<>0,職員一覧!B6,\"\")","v":""},"予定",null,null,null,null,null,null,null,null,null,null,null,null,null,null,null,null,null,null,null,null,null,null,null,null,null,null,null,null,null,null,null,{"$f":"COUNTIF(C14:AG14,\"準\")","v":0},{"$f":"COUNTIF(C14:AG14,\"深\")","v":0},{"$f":"COUNTIF(C14:AG14,\"遅\")","v":0},{"$f":"COUNTIF(C14:AG14,\"中\")","v":0},{"$f":"COUNTIF(C14:AG14,\"早\")","v":0},{"$f":"COUNTIF(C14:AG14,\"／\")","v":0},{"$f":"COUNTIF(C14:AG14,\"年\")","v":0},{"$f":"COUNTIF(C14:AG14,\"夏\")","v":0},{"$f":"COUNTIF(C14:AG14,\"職免\")","v":0},null,null,null,null,"0600"]
[null,"実施",null,null,null,null,null,null,null,null,null,null,null,null,null,null,null,null,null,null,null,null,null,null,null,null,null,null,null,null,null,null,null,null,null,null,null,null,null,null,null,null,null,null,null,null,"0700"]
[{"$f":"IF(LEN(職員一覧!B7)<>0,職員一覧!B7,\"\")","v":""},"予定",null,null,null,null,null,null,null,null,null,null,null,null,null,null,null,null,null,null,null,null,null,null,null,null,null,null,null,null,null,null,null,{"$f":"COUNTIF(C16:AG16,\"準\")","v":0},{"$f":"COUNTIF(C16:AG16,\"深\")","v":0},{"$f":"COUNTIF(C16:AG16,\"遅\")","v":0},{"$f":"COUNTIF(C16:AG16,\"中\")","v":0},{"$f":"COUNTIF(C16:AG16,\"早\")","v":0},{"$f":"COUNTIF(C16:AG16,\"／\")","v":0},{"$f":"COUNTIF(C16:AG16,\"年\")","v":0},{"$f":"COUNTIF(C16:AG16,\"夏\")","v":0},{"$f":"COUNTIF(C16:AG16,\"職免\")","v":0},null,null,null,null,1000]
[null,"実施",null,null,null,null,null,null,null,null,null,null,null,null,null,null,null,null,null,null,null,null,null,null,null,null,null,null,null,null,null,null,null,null,null,null,null,null,null,null,null,null,null,null,null,null,1230]
[{"$f":"IF(LEN(職員一覧!B8)<>0,職員一覧!B8,\"\")","v":""},"予定",null,null,null,null,null,null,null,null,null,null,null,null,null,null,null,null,null,null,null,null,null,null,null,null,null,null,null,null,null,null,null,{"$f":"COUNTIF(C18:AG18,\"準\")","v":0},{"$f":"COUNTIF(C18:AG18,\"深\")","v":0},{"$f":"COUNTIF(C18:AG18,\"遅\")","v":0},{"$f":"COUNTIF(C18:AG18,\"中\")","v":0},{"$f":"COUNTIF(C18:AG18,\"早\")","v":0},{"$f":"COUNTIF(C18:AG18,\"／\")","v":0},{"$f":"COUNTIF(C18:AG18,\"年\")","v":0},{"$f":"COUNTIF(C18:AG18,\"夏\")","v":0},{"$f":"COUNTIF(C18:AG18,\"職免\")","v":0},null,null,null,null,"師日当"]
[null,"実施",null,null,null,null,null,null,null,null,null,null,null,null,null,null,null,null,null,null,null,null,null,null,null,null,null,null,null,null,null,null,null,null,null,null,null,null,null,null,null,null,null,null,null,null,"師直"]
[{"$f":"IF(LEN(職員一覧!B9)<>0,職員一覧!B9,\"\")","v":""},"予定",null,null,null,null,null,null,null,null,null,null,null,null,null,null,null,null,null,null,null,null,null,null,null,null,null,null,null,null,null,null,null,{"$f":"COUNTIF(C20:AG20,\"準\")","v":0},{"$f":"COUNTIF(C20:AG20,\"深\")","v":0},{"$f":"COUNTIF(C20:AG20,\"遅\")","v":0},{"$f":"COUNTIF(C20:AG20,\"中\")","v":0},{"$f":"COUNTIF(C20:AG20,\"早\")","v":0},{"$f":"COUNTIF(C20:AG20,\"／\")","v":0},{"$f":"COUNTIF(C20:AG20,\"年\")","v":0},{"$f":"COUNTIF(C20:AG20,\"夏\")","v":0},{"$f":"COUNTIF(C20:AG20,\"職免\")","v":0},null,null,null,null,"日直","遅1"]
[null,"実施",null,null,null,null,null,null,null,null,null,null,null,null,null,null,null,null,null,null,null,null,null,null,null,null,null,null,null,null,null,null,null,null,null,null,null,null,null,null,null,null,null,null,null,null,"当直","遅3"]
[{"$f":"IF(LEN(職員一覧!B10)<>0,職員一覧!B10,\"\")","v":""},"予定",null,null,null,null,null,null,null,null,null,null,null,null,null,null,null,null,null,null,null,null,null,null,null,null,null,null,null,null,null,null,null,{"$f":"COUNTIF(C22:AG22,\"準\")","v":0},{"$f":"COUNTIF(C22:AG22,\"深\")","v":0},{"$f":"COUNTIF(C22:AG22,\"遅\")","v":0},{"$f":"COUNTIF(C22:AG22,\"中\")","v":0},{"$f":"COUNTIF(C22:AG22,\"早\")","v":0},{"$f":"COUNTIF(C22:AG22,\"／\")","v":0},{"$f":"COUNTIF(C22:AG22,\"年\")","v":0},{"$f":"COUNTIF(C22:AG22,\"夏\")","v":0},{"$f":"COUNTIF(C22:AG22,\"職免\")","v":0},null,null,null,null,"0730"]
[null,"実施",null,null,null,null,null,null,null,null,null,null,null,null,null,null,null,null,null,null,null,null,null,null,null,null,null,null,null,null,null,null,null,null,null,null,null,null,null,null,null,null,null,null,null,null,"明け"]
[{"$f":"IF(LEN(職員一覧!B11)<>0,職員一覧!B11,\"\")","v":""},"予定",null,null,null,null,null,null,null,null,null,null,null,null,null,null,null,null,null,null,null,null,null,null,null,null,null,null,null,null,null,null,null,{"$f":"COUNTIF(C24:AG24,\"準\")","v":0},{"$f":"COUNTIF(C24:AG24,\"深\")","v":0},{"$f":"COUNTIF(C24:AG24,\"遅\")","v":0},{"$f":"COUNTIF(C24:AG24,\"中\")","v":0},{"$f":"COUNTIF(C24:AG24,\"早\")","v":0},{"$f":"COUNTIF(C24:AG24,\"／\")","v":0},{"$f":"COUNTIF(C24:AG24,\"年\")","v":0},{"$f":"COUNTIF(C24:AG24,\"夏\")","v":0},{"$f":"COUNTIF(C24:AG24,\"職免\")","v":0},null,null,null,null,"*730"]
[null,"実施",null,null,null,null,null,null,null,null,null,null,null,null,null,null,null,null,null,null,null,null,null,null,null,null,null,null,null,null,null,null,null,null,null,null,null,null,null,null,null,null,null,null,null,null,"*830"]
[{"$f":"IF(LEN(職員一覧!B12)<>0,職員一覧!B12,\"\")","v":""},"予定",null,null,null,null,null,null,null,null,null,null,null,null,null,null,null,null,null,null,null,null,null,null,null,null,null,null,null,null,null,null,null,{"$f":"COUNTIF(C26:AG26,\"準\")","v":0},{"$f":"COUNTIF(C26:AG26,\"深\")","v":0},{"$f":"COUNTIF(C26:AG26,\"遅\")","v":0},{"$f":"COUNTIF(C26:AG26,\"中\")","v":0},{"$f":"COUNTIF(C26:AG26,\"早\")","v":0},{"$f":"COUNTIF(C26:AG26,\"／\")","v":0},{"$f":"COUNTIF(C26:AG26,\"年\")","v":0},{"$f":"COUNTIF(C26:AG26,\"夏\")","v":0},{"$f":"COUNTIF(C26:AG26,\"職免\")","v":0},null,null,null,null,"日7"]
[null,"実施",null,null,null,null,null,null,null,null,null,null,null,null,null,null,null,null,null,null,null,null,null,null,null,null,null,null,null,null,null,null,null,null,null,null,null,null,null,null,null,null,null,null,null,null,"日6"]
[{"$f":"IF(LEN(職員一覧!B13)<>0,職員一覧!B13,\"\")","v":""},"予定",null,null,null,null,null,null,null,null,null,null,null,null,null,null,null,null,null,null,null,null,null,null,null,null,null,null,null,null,null,null,null,{"$f":"COUNTIF(C28:AG28,\"準\")","v":0},{"$f":"COUNTIF(C28:AG28,\"深\")","v":0},{"$f":"COUNTIF(C28:AG28,\"遅\")","v":0},{"$f":"COUNTIF(C28:AG28,\"中\")","v":0},{"$f":"COUNTIF(C28:AG28,\"早\")","v":0},{"$f":"COUNTIF(C28:AG28,\"／\")","v":0},{"$f":"COUNTIF(C28:AG28,\"年\")","v":0},{"$f":"COUNTIF(C28:AG28,\"夏\")","v":0},{"$f":"COUNTIF(C28:AG28,\"職免\")","v":0},null,null,null,null,"日5"]
[null,"実施",null,null,null,null,null,null,null,null,null,null,null,null,null,null,null,null,null,null,null,null,null,null,null,null,null,null,null,null,null,null,null,null,null,null,null,null,null,null,null,null,null,null,null,null,"日4"]
[{"$f":"IF(LEN(職員一覧!B14)<>0,職員一覧!B14,\"\")","v":""},"予定",null,null,null,null,null,null,null,null,null,null,null,null,null,null,null,null,null,null,null,null,null,null,null,null,null,null,null,null,null,null,null,{"$f":"COUNTIF(C30:AG30,\"準\")","v":0},{"$f":"COUNTIF(C30:AG30,\"深\")","v":0},{"$f":"COUNTIF(C30:AG30,\"遅\")","v":0},{"$f":"COUNTIF(C30:AG30,\"中\")","v":0},{"$f":"COUNTIF(C30:AG30,\"早\")","v":0},{"$f":"COUNTIF(C30:AG30,\"／\")","v":0},{"$f":"COUNTIF(C30:AG30,\"年\")","v":0},{"$f":"COUNTIF(C30:AG30,\"夏\")","v":0},{"$f":"COUNTIF(C30:AG30,\"職免\")","v":0},null,null,null,null,"代／"]
[null,"実施",null,null,null,null,null,null,null,null,null,null,null,null,null,null,null,null,null,null,null,null,null,null,null,null,null,null,null,null,null,null,null,null,null,null,null,null,null,null,null,null,null,null,null,null,"結／"]
[{"$f":"IF(LEN(職員一覧!B15)<>0,職員一覧!B15,\"\")","v":""},"予定",null,null,null,null,null,null,null,null,null,null,null,null,null,null,null,null,null,null,null,null,null,null,null,null,null,null,null,null,null,null,null,{"$f":"COUNTIF(C32:AG32,\"準\")","v":0},{"$f":"COUNTIF(C32:AG32,\"深\")","v":0},{"$f":"COUNTIF(C32:AG32,\"遅\")","v":0},{"$f":"COUNTIF(C32:AG32,\"中\")","v":0},{"$f":"COUNTIF(C32:AG32,\"早\")","v":0},{"$f":"COUNTIF(C32:AG32,\"／\")","v":0},{"$f":"COUNTIF(C32:AG32,\"年\")","v":0},{"$f":"COUNTIF(C32:AG32,\"夏\")","v":0},{"$f":"COUNTIF(C32:AG32,\"職免\")","v":0},null,null,null,null,"産／"]
[null,"実施",null,null,null,null,null,null,null,null,null,null,null,null,null,null,null,null,null,null,null,null,null,null,null,null,null,null,null,null,null,null,null,null,null,null,null,null,null,null,null,null,null,null,null,null,"病／"]
[{"$f":"IF(LEN(職員一覧!B16)<>0,職員一覧!B16,\"\")","v":""},"予定",null,null,null,null,null,null,null,null,null,null,null,null,null,null,null,null,null,null,null,null,null,null,null,null,null,null,null,null,null,null,null,{"$f":"COUNTIF(C34:AG34,\"準\")","v":0},{"$f":"COUNTIF(C34:AG34,\"深\")","v":0},{"$f":"COUNTIF(C34:AG34,\"遅\")","v":0},{"$f":"COUNTIF(C34:AG34,\"中\")","v":0},{"$f":"COUNTIF(C34:AG34,\"早\")","v":0},{"$f":"COUNTIF(C34:AG34,\"／\")","v":0},{"$f":"COUNTIF(C34:AG34,\"年\")","v":0},{"$f":"COUNTIF(C34:AG34,\"夏\")","v":0},{"$f":"COUNTIF(C34:AG34,\"職免\")","v":0},null,null,null,null,"年／"]
[null,"実施",null,null,null,null,null,null,null,null,null,null,null,null,null,null,null,null,null,null,null,null,null,null,null,null,null,null,null,null,null,null,null,null,null,null,null,null,null,null,null,null,null,null,null,null,"A年"]
[{"$f":"IF(LEN(職員一覧!B17)<>0,職員一覧!B17,\"\")","v":""},"予定",null,null,null,null,null,null,null,null,null,null,null,null,null,null,null,null,null,null,null,null,null,null,null,null,null,null,null,null,null,null,null,{"$f":"COUNTIF(C36:AG36,\"準\")","v":0},{"$f":"COUNTIF(C36:AG36,\"深\")","v":0},{"$f":"COUNTIF(C36:AG36,\"遅\")","v":0},{"$f":"COUNTIF(C36:AG36,\"中\")","v":0},{"$f":"COUNTIF(C36:AG36,\"早\")","v":0},{"$f":"COUNTIF(C36:AG36,\"／\")","v":0},{"$f":"COUNTIF(C36:AG36,\"年\")","v":0},{"$f":"COUNTIF(C36:AG36,\"夏\")","v":0},{"$f":"COUNTIF(C36:AG36,\"職免\")","v":0},null,null,null,null,"P年"]
[null,"実施",null,null,null,null,null,null,null,null,null,null,null,null,null,null,null,null,null,null,null,null,null,null,null,null,null,null,null,null,null,null,null,null,null,null,null,null,null,null,null,null,null,null,null,null,"出張"]
[{"$f":"IF(LEN(職員一覧!B18)<>0,職員一覧!B18,\"\")","v":""},"予定",null,null,null,null,null,null,null,null,null,null,null,null,null,null,null,null,null,null,null,null,null,null,null,null,null,null,null,null,null,null,null,{"$f":"COUNTIF(C38:AG38,\"準\")","v":0},{"$f":"COUNTIF(C38:AG38,\"深\")","v":0},{"$f":"COUNTIF(C38:AG38,\"遅\")","v":0},{"$f":"COUNTIF(C38:AG38,\"中\")","v":0},{"$f":"COUNTIF(C38:AG38,\"早\")","v":0},{"$f":"COUNTIF(C38:AG38,\"／\")","v":0},{"$f":"COUNTIF(C38:AG38,\"年\")","v":0},{"$f":"COUNTIF(C38:AG38,\"夏\")","v":0},{"$f":"COUNTIF(C38:AG38,\"職免\")","v":0},null,null,null,null,"А出"]
[null,"実施",null,null,null,null,null,null,null,null,null,null,null,null,null,null,null,null,null,null,null,null,null,null,null,null,null,null,null,null,null,null,null,null,null,null,null,null,null,null,null,null,null,null,null,null,"P出"]
[{"$f":"IF(LEN(職員一覧!B19)<>0,職員一覧!B19,\"\")","v":""},"予定",null,null,null,null,null,null,null,null,null,null,null,null,null,null,null,null,null,null,null,null,null,null,null,null,null,null,null,null,null,null,null,{"$f":"COUNTIF(C40:AG40,\"準\")","v":0},{"$f":"COUNTIF(C40:AG40,\"深\")","v":0},{"$f":"COUNTIF(C40:AG40,\"遅\")","v":0},{"$f":"COUNTIF(C40:AG40,\"中\")","v":0},{"$f":"COUNTIF(C40:AG40,\"早\")","v":0},{"$f":"COUNTIF(C40:AG40,\"／\")","v":0},{"$f":"COUNTIF(C40:AG40,\"年\")","v":0},{"$f":"COUNTIF(C40:AG40,\"夏\")","v":0},{"$f":"COUNTIF(C40:AG40,\"職免\")","v":0},null,null,null,null,"夏／"]
[null,"実施",null,null,null,null,null,null,null,null,null,null,null,null,null,null,null,null,null,null,null,null,null,null,null,null,null,null,null,null,null,null,null,null,null,null,null,null,null,null,null,null,null,null,null,null,"А夏"]
[{"$f":"IF(LEN(職員一覧!B20)<>0,職員一覧!B20,\"\")","v":""},"予定",null,null,null,null,null,null,null,null,null,null,null,null,null,null,null,null,null,null,null,null,null,null,null,null,null,null,null,null,null,null,null,{"$f":"COUNTIF(C42:AG42,\"準\")","v":0},{"$f":"COUNTIF(C42:AG42,\"深\")","v":0},{"$f":"COUNTIF(C42:AG42,\"遅\")","v":0},{"$f":"COUNTIF(C42:AG42,\"中\")","v":0},{"$f":"COUNTIF(C42:AG42,\"早\")","v":0},{"$f":"COUNTIF(C42:AG42,\"／\")","v":0},{"$f":"COUNTIF(C42:AG42,\"年\")","v":0},{"$f":"COUNTIF(C42:AG42,\"夏\")","v":0},{"$f":"COUNTIF(C42:AG42,\"職免\")","v":0},null,null,null,null,"Р夏"]
[null,"実施",null,null,null,null,null,null,null,null,null,null,null,null,null,null,null,null,null,null,null,null,null,null,null,null,null,null,null,null,null,null,null,null,null,null,null,null,null,null,null,null,null,null,null,null,"免／"]
[{"$f":"IF(LEN(職員一覧!B21)<>0,職員一覧!B21,\"\")","v":""},"予定",null,null,null,null,null,null,null,null,null,null,null,null,null,null,null,null,null,null,null,null,null,null,null,null,null,null,null,null,null,null,null,{"$f":"COUNTIF(C44:AG44,\"準\")","v":0},{"$f":"COUNTIF(C44:AG44,\"深\")","v":0},{"$f":"COUNTIF(C44:AG44,\"遅\")","v":0},{"$f":"COUNTIF(C44:AG44,\"中\")","v":0},{"$f":"COUNTIF(C44:AG44,\"早\")","v":0},{"$f":"COUNTIF(C44:AG44,\"／\")","v":0},{"$f":"COUNTIF(C44:AG44,\"年\")","v":0},{"$f":"COUNTIF(C44:AG44,\"夏\")","v":0},{"$f":"COUNTIF(C44:AG44,\"職免\")","v":0},null,null,null,null,"免年"]
[null,"実施",null,null,null,null,null,null,null,null,null,null,null,null,null,null,null,null,null,null,null,null,null,null,null,null,null,null,null,null,null,null,null,null,null,null,null,null,null,null,null,null,null,null,null,null,"A免"]
[{"$f":"IF(LEN(職員一覧!B22)<>0,職員一覧!B22,\"\")","v":""},"予定",null,null,null,null,null,null,null,null,null,null,null,null,null,null,null,null,null,null,null,null,null,null,null,null,null,null,null,null,null,null,null,{"$f":"COUNTIF(C46:AG46,\"準\")","v":0},{"$f":"COUNTIF(C46:AG46,\"深\")","v":0},{"$f":"COUNTIF(C46:AG46,\"遅\")","v":0},{"$f":"COUNTIF(C46:AG46,\"中\")","v":0},{"$f":"COUNTIF(C46:AG46,\"早\")","v":0},{"$f":"COUNTIF(C46:AG46,\"／\")","v":0},{"$f":"COUNTIF(C46:AG46,\"年\")","v":0},{"$f":"COUNTIF(C46:AG46,\"夏\")","v":0},{"$f":"COUNTIF(C46:AG46,\"職免\")","v":0},null,null,null,null,"P免"]
[null,"実施",null,null,null,null,null,null,null,null,null,null,null,null,null,null,null,null,null,null,null,null,null,null,null,null,null,null,null,null,null,null,null,null,null,null,null,null,null,null,null,null,null,null,null,null,"特／"]
[{"$f":"IF(LEN(職員一覧!B23)<>0,職員一覧!B23,\"\")","v":""},"予定",null,null,null,null,null,null,null,null,null,null,null,null,null,null,null,null,null,null,null,null,null,null,null,null,null,null,null,null,null,null,null,{"$f":"COUNTIF(C48:AG48,\"準\")","v":0},{"$f":"COUNTIF(C48:AG48,\"深\")","v":0},{"$f":"COUNTIF(C48:AG48,\"遅\")","v":0},{"$f":"COUNTIF(C48:AG48,\"中\")","v":0},{"$f":"COUNTIF(C48:AG48,\"早\")","v":0},{"$f":"COUNTIF(C48:AG48,\"／\")","v":0},{"$f":"COUNTIF(C48:AG48,\"年\")","v":0},{"$f":"COUNTIF(C48:AG48,\"夏\")","v":0},{"$f":"COUNTIF(C48:AG48,\"職免\")","v":0},null,null,null,null,"A特"]
[null,"実施",null,null,null,null,null,null,null,null,null,null,null,null,null,null,null,null,null,null,null,null,null,null,null,null,null,null,null,null,null,null,null,null,null,null,null,null,null,null,null,null,null,null,null,null,"P特"]
[{"$f":"IF(LEN(職員一覧!B24)<>0,職員一覧!B24,\"\")","v":""},"予定",null,null,null,null,null,null,null,null,null,null,null,null,null,null,null,null,null,null,null,null,null,null,null,null,null,null,null,null,null,null,null,{"$f":"COUNTIF(C50:AG50,\"準\")","v":0},{"$f":"COUNTIF(C50:AG50,\"深\")","v":0},{"$f":"COUNTIF(C50:AG50,\"遅\")","v":0},{"$f":"COUNTIF(C50:AG50,\"中\")","v":0},{"$f":"COUNTIF(C50:AG50,\"早\")","v":0},{"$f":"COUNTIF(C50:AG50,\"／\")","v":0},{"$f":"COUNTIF(C50:AG50,\"年\")","v":0},{"$f":"COUNTIF(C50:AG50,\"夏\")","v":0},{"$f":"COUNTIF(C50:AG50,\"職免\")","v":0},null,null,null,null,"特年"]
[null,"実施",null,null,null,null,null,null,null,null,null,null,null,null,null,null,null,null,null,null,null,null,null,null,null,null,null,null,null,null,null,null,null,null,null,null,null,null,null,null,null,null,null,null,null,null,"*日"]
[{"$f":"IF(LEN(職員一覧!B25)<>0,職員一覧!B25,\"\")","v":""},"予定","日","日","日","日","日","日","日","日","日","日","日","日","日","日","日","日","日","日","日","日","日","日","日","日","日","日","日","日","日","日","日",{"$f":"COUNTIF(C52:AG52,\"準\")","v":0},{"$f":"COUNTIF(C52:AG52,\"深\")","v":0},{"$f":"COUNTIF(C52:AG52,\"遅\")","v":0},{"$f":"COUNTIF(C52:AG52,\"中\")","v":0},{"$f":"COUNTIF(C52:AG52,\"早\")","v":0},{"$f":"COUNTIF(C52:AG52,\"／\")","v":0},{"$f":"COUNTIF(C52:AG52,\"年\")","v":0},{"$f":"COUNTIF(C52:AG52,\"夏\")","v":0},{"$f":"COUNTIF(C52:AG52,\"職免\")","v":0},null,null,null,null,"*準"]
[null,"実施","","","","","","","","","","","","","","","","","","","","","","","","","","","","","","","",null,null,null,null,null,null,null,null,null,null,null,null,null,"*／"]
[{"$f":"IF(LEN(職員一覧!B26)<>0,職員一覧!B26,\"\")","v":""},"予定",null,null,null,null,null,null,null,null,null,null,null,null,null,null,null,null,null,null,null,null,null,null,null,null,null,null,null,null,null,null,null,{"$f":"COUNTIF(C54:AG54,\"準\")","v":0},{"$f":"COUNTIF(C54:AG54,\"深\")","v":0},{"$f":"COUNTIF(C54:AG54,\"遅\")","v":0},{"$f":"COUNTIF(C54:AG54,\"中\")","v":0},{"$f":"COUNTIF(C54:AG54,\"早\")","v":0},{"$f":"COUNTIF(C54:AG54,\"／\")","v":0},{"$f":"COUNTIF(C54:AG54,\"年\")","v":0},{"$f":"COUNTIF(C54:AG54,\"夏\")","v":0},{"$f":"COUNTIF(C54:AG54,\"職免\")","v":0},null,null,null,null,"*指／"]
[null,"実施",null,null,null,null,null,null,null,null,null,null,null,null,null,null,null,null,null,null,null,null,null,null,null,null,null,null,null,null,null,null,null,null,null,null,null,null,null,null,null,null,null,null,null,null,"*1000"]
[{"$f":"IF(LEN(職員一覧!B27)<>0,職員一覧!B27,\"\")","v":""},"予定",null,null,null,null,null,null,null,null,null,null,null,null,null,null,null,null,null,null,null,null,null,null,null,null,null,null,null,null,null,null,null,{"$f":"COUNTIF(C56:AG56,\"準\")","v":0},{"$f":"COUNTIF(C56:AG56,\"深\")","v":0},{"$f":"COUNTIF(C56:AG56,\"遅\")","v":0},{"$f":"COUNTIF(C56:AG56,\"中\")","v":0},{"$f":"COUNTIF(C56:AG56,\"早\")","v":0},{"$f":"COUNTIF(C56:AG56,\"／\")","v":0},{"$f":"COUNTIF(C56:AG56,\"年\")","v":0},{"$f":"COUNTIF(C56:AG56,\"夏\")","v":0},{"$f":"COUNTIF(C56:AG56,\"職免\")","v":0},null,null,null,null,"*1230"]
[null,"実施",null,null,null,null,null,null,null,null,null,null,null,null,null,null,null,null,null,null,null,null,null,null,null,null,null,null,null,null,null,null,null,null,null,null,null,null,null,null,null,null,null,null,null,null,"*祭／"]
[{"$f":"IF(LEN(職員一覧!B28)<>0,職員一覧!B28,\"\")","v":""},"予定",null,null,null,null,null,null,null,null,null,null,null,null,null,null,null,null,null,null,null,null,null,null,null,null,null,null,null,null,null,null,null,{"$f":"COUNTIF(C58:AG58,\"準\")","v":0},{"$f":"COUNTIF(C58:AG58,\"深\")","v":0},{"$f":"COUNTIF(C58:AG58,\"遅\")","v":0},{"$f":"COUNTIF(C58:AG58,\"中\")","v":0},{"$f":"COUNTIF(C58:AG58,\"早\")","v":0},{"$f":"COUNTIF(C58:AG58,\"／\")","v":0},{"$f":"COUNTIF(C58:AG58,\"年\")","v":0},{"$f":"COUNTIF(C58:AG58,\"夏\")","v":0},{"$f":"COUNTIF(C58:AG58,\"職免\")","v":0},null,null,null,null,"*祭代"]
[null,"実施",null,null,null,null,null,null,null,null,null,null,null,null,null,null,null,null,null,null,null,null,null,null,null,null,null,null,null,null,null,null,null,null,null,null,null,null,null,null,null,null,null,null,null,null,"介／"]
[{"$f":"IF(LEN(職員一覧!B29)<>0,職員一覧!B29,\"\")","v":""},"予定",null,null,null,null,null,null,null,null,null,null,null,null,null,null,null,null,null,null,null,null,null,null,null,null,null,null,null,null,null,null,null,{"$f":"COUNTIF(C60:AG60,\"準\")","v":0},{"$f":"COUNTIF(C60:AG60,\"深\")","v":0},{"$f":"COUNTIF(C60:AG60,\"遅\")","v":0},{"$f":"COUNTIF(C60:AG60,\"中\")","v":0},{"$f":"COUNTIF(C60:AG60,\"早\")","v":0},{"$f":"COUNTIF(C60:AG60,\"／\")","v":0},{"$f":"COUNTIF(C60:AG60,\"年\")","v":0},{"$f":"COUNTIF(C60:AG60,\"夏\")","v":0},{"$f":"COUNTIF(C60:AG60,\"職免\")","v":0},null,null,null,null,"祭日"]
[null,"実施",null,null,null,null,null,null,null,null,null,null,null,null,null,null,null,null,null,null,null,null,null,null,null,null,null,null,null,null,null,null,null,null,null,null,null,null,null,null,null,null,null,null,null,null,"祭準"]
[{"$f":"IF(LEN(職員一覧!B30)<>0,職員一覧!B30,\"\")","v":""},"予定",null,null,null,null,null,null,null,null,null,null,null,null,null,null,null,null,null,null,null,null,null,null,null,null,null,null,null,null,null,null,null,{"$f":"COUNTIF(C62:AG62,\"準\")","v":0},{"$f":"COUNTIF(C62:AG62,\"深\")","v":0},{"$f":"COUNTIF(C62:AG62,\"遅\")","v":0},{"$f":"COUNTIF(C62:AG62,\"中\")","v":0},{"$f":"COUNTIF(C62:AG62,\"早\")","v":0},{"$f":"COUNTIF(C62:AG62,\"／\")","v":0},{"$f":"COUNTIF(C62:AG62,\"年\")","v":0},{"$f":"COUNTIF(C62:AG62,\"夏\")","v":0},{"$f":"COUNTIF(C62:AG62,\"職免\")","v":0},null,null,null,null,"祭深"]
[null,"実施",null,null,null,null,null,null,null,null,null,null,null,null,null,null,null,null,null,null,null,null,null,null,null,null,null,null,null,null,null,null,null,null,null,null,null,null,null,null,null,null,null,null,null,null,"祭0600"]
[{"$f":"IF(LEN(職員一覧!B31)<>0,職員一覧!B31,\"\")","v":""},"予定",null,null,null,null,null,null,null,null,null,null,null,null,null,null,null,null,null,null,null,null,null,null,null,null,null,null,null,null,null,null,null,{"$f":"COUNTIF(C64:AG64,\"準\")","v":0},{"$f":"COUNTIF(C64:AG64,\"深\")","v":0},{"$f":"COUNTIF(C64:AG64,\"遅\")","v":0},{"$f":"COUNTIF(C64:AG64,\"中\")","v":0},{"$f":"COUNTIF(C64:AG64,\"早\")","v":0},{"$f":"COUNTIF(C64:AG64,\"／\")","v":0},{"$f":"COUNTIF(C64:AG64,\"年\")","v":0},{"$f":"COUNTIF(C64:AG64,\"夏\")","v":0},{"$f":"COUNTIF(C64:AG64,\"職免\")","v":0},null,null,null,null,"祭0700"]
[null,"実施",null,null,null,null,null,null,null,null,null,null,null,null,null,null,null,null,null,null,null,null,null,null,null,null,null,null,null,null,null,null,null,null,null,null,null,null,null,null,null,null,null,null,null,null,"祭1000"]
[null,"日",{"$f":"$A$1","v":"2025-08-01"},{"$f":"$A$1+1","v":"2025-08-02"},{"$f":"$A$1+2","v":"2025-08-03"},{"$f":"$A$1+3","v":"2025-08-04"},{"$f":"$A$1+4","v":"2025-08-05"},{"$f":"$A$1+5","v":"2025-08-06"},{"$f":"$A$1+6","v":"2025-08-07"},{"$f":"$A$1+7","v":"2025-08-08"},{"$f":"$A$1+8","v":"2025-08-09"},{"$f":"$A$1+9","v":"2025-08-10"},{"$f":"$A$1+10","v":"2025-08-11"},{"$f":"$A$1+11","v":"2025-08-12"},{"$f":"$A$1+12","v":"2025-08-13"},{"$f":"$A$1+13","v":"2025-08-14"},{"$f":"$A$1+14","v":"2025-08-15"},{"$f":"$A$1+15","v":"2025-08-16"},{"$f":"$A$1+16","v":"2025-08-17"},{"$f":"$A$1+17","v":"2025-08-18"},{"$f":"$A$1+18","v":"2025-08-19"},{"$f":"$A$1+19","v":"2025-08-20"},{"$f":"$A$1+20","v":"2025-08-21"},{"$f":"$A$1+21","v":"2025-08-22"},{"$f":"$A$1+22","v":"2025-08-23"},{"$f":"$A$1+23","v":"2025-08-24"},{"$f":"$A$1+24","v":"2025-08-25"},{"$f":"$A$1+25","v":"2025-08-26"},{"$f":"$A$1+26","v":"2025-08-27"},{"$f":"$A$1+27","v":"2025-08-28"},{"$f":"$A$1+28","v":"2025-08-29"},{"$f":"$A$1+29","v":"2025-08-30"},"1900-01-31",null,null,null,null,null,null,null,null,null,null,null,null,null,"祭1230"]
[null,"曜",{"$f":"C66","v":45870},{"$f":"D66","v":45871},{"$f":"E66","v":45872},45873,45874,45875,45876,45877,45878,45879,45880,45881,45882,45883,45884,45885,45886,45887,45888,45889,45890,45891,45892,45893,45894,45895,45896,45897,{"$f":"AE66","v":45898},{"$f":"AF66","v":45899},"金",null,null,null,null,null,null,null,null,null,null,null,null,null,"祭日直"]
[null,null,null,null,null,null,null,null,null,null,null,null,null,null,null,null,null,null,null,null,null,null,null,null,null,null,null,null,null,null,null,null,null,null,null,null,null,null,null,null,null,null,null,null,null,null,"祭当直"]
["早出",null,{"$f":"COUNTIF(C6:C65,\"早\")","v":0},0,0,0,0,0,0,0,0,0,0,0,0,0,0,0,0,0,0,0,0,0,0,0,0,0,0,0,0,0,0,null,null,null,null,null,null,null,null,null,null,null,null,null,"祭日7"]
["日勤",null,{"$f":"COUNTIF(C6:C65,\"日\")","v":1},1,1,2,2,2,2,1,3,2,3,1,2,3,4,3,2,2,2,2,2,2,3,2,3,3,1,1,2,2,3,null,null,null,null,null,null,null,null,null,null,null,null,null,"祭日6"]
["準夜",null,{"$f":"COUNTIF(C6:C65,\"準\")","v":0},0,0,0,0,0,0,0,0,0,0,1,0,0,0,0,1,0,1,0,0,0,0,0,0,0,0,1,1,1,0,null,null,null,null,null,null,null,null,null,null,null,null,null,"祭日5"]
["深夜",null,{"$f":"COUNTIF(C6:C65,\"深\")","v":0},0,0,1,1,0,1,0,0,1,0,0,0,1,0,0,0,1,0,0,0,0,0,1,1,1,0,0,0,0,0,null,null,null,null,null,null,null,null,null,null,null,null,null,"祭日4"]
["遅出",null,{"$f":"COUNTIF(C6:C65,\"遅\")","v":0},0,0,0,0,0,0,0,0,0,0,0,0,0,0,0,0,0,0,0,0,0,0,0,0,0,0,0,0,0,0,null,null,null,null,null,null,null,null,null,null,null,null,null,"祭出張"]
["中遅",null,{"$f":"COUNTIF(C6:C65,\"中\")","v":0},0,0,0,0,0,0,0,0,0,0,0,0,0,0,0,0,0,0,0,0,0,0,0,0,0,0,0,0,0,0,null,null,null,null,null,null,null,null,null,null,null,null,null,"祭А出"]
[null,null,null,null,null,null,null,null,null,null,null,null,null,null,null,null,null,null,null,null,null,null,null,null,null,null,null,null,null,null,null,null,null,null,null,null,null,null,null,null,null,null,null,null,null,null,"祭P出"]
[null,null,null,null,null,null,null,null,null,null,null,null,null,null,null,null,null,null,null,null,null,null,null,null,null,null,null,null,null,null,null,null,null,null,null,null,null,null,null,null,null,null,null,null,null,null,"*祭日"]
[null,"あすなろ会議",null,null,null,null,null,null,null,null,null,null,null,null,null,null,null,null,null,null,null,null,null,null,null,null,null,null,null,null,null,null,null,null,null,null,null,null,null,null,null,null,null,null,null,null,"*祭準"]
[null,"入院調整会議",null,null,null,null,null,null,null,null,null,null,null,null,null,null,null,null,null,null,null,null,null,null,null,null,null,null,null,null,null,null,null,null,null,null,null,null,null,null,null,null,null,null,null,null,"*祭1000"]
[null,"病棟会議",null,null,null,null,null,null,null,null,null,null,null,null,null,null,null,null,null,null,null,null,null,null,null,null,null,null,null,null,null,null,null,null,null,null,null,null,null,null,null,null,null,null,null,null,"*祭1230"]
[null,"病棟療育会議"]
[null,"療育策定会議"]
[null,"おもしろ会議"]
[null,"治療教育合同会議"]
[null,"リスク会議"]
[null,"PDD会議"]
[null,"CM会議"]
[null,"研修策定会議"]
[null,"支援室責任者会議"]
[null,"西田CC"]
[null,"大槻CC①"]
[null,"大槻CC②"]
[null,"中島CC①"]
[null,"中島CC②"]
[null,"大橋CC"]
[null,"SST"]
[null,"太鼓"]
[null,"子ども会"]
[null,"合同療育"]

{"sheet":"決裁版","index":2,"n_rows":531,"n_cols":165,"rows_kept":531,"cut":false,"hidden":true,"merged":[[1,37,1,40],[3,37,4,37],[0,24,0,26],[0,27,0,29],[0,30,0,32],[0,33,0,36],[0,37,0,40],[1,24,1,26],[1,27,1,29],[1,33,1,36],[1,30,1,32],[37,0,38,0],[35,0,36,0],[27,0,28,0],[51,0,52,0],[49,0,50,0],[23,0,24,0],[3,38,4,38],[3,35,4,35],[3,36,4,36],[19,0,20,0],[13,0,14,0],[9,0,10,0],[3,33,4,33],[11,0,12,0],[15,0,16,0],[7,0,8,0],[17,0,18,0],[5,0,6,0],[21,0,22,0],[3,42,4,42],[3,39,4,39],[3,34,4,34],[3,41,4,41],[3,40,4,40],[65,0,66,0],[31,0,32,0],[33,0,34,0],[25,0,26,0],[29,0,30,0],[57,0,58,0],[61,0,62,0],[59,0,60,0],[43,0,44,0],[45,0,46,0],[47,0,48,0],[53,0,54,0],[63,0,64,0],[39,0,40,0],[41,0,42,0],[55,0,56,0]]}
[{"$f":"基本!A1","v":45870},{"$f":"A1","v":"2025-08-01"},"月",null,null,null,null,null,null,null,null,null,null,null,null,null,null,null,null,null,null,null,null,null,"院長",null,null,"運営調整部長",null,null,"看護部長",null,null,"看護師長"]
[null,null,null,"【３階病棟看護室】勤務表予定表・実施表"]
[]
[null,"日",{"$f":"$A$1","v":"2025-08-01"},{"$f":"$A$1+1","v":"2025-08-02"},{"$f":"$A$1+2","v":"2025-08-03"},{"$f":"$A$1+3","v":"2025-08-04"},{"$f":"$A$1+4","v":"2025-08-05"},{"$f":"$A$1+5","v":"2025-08-06"},{"$f":"$A$1+6","v":"2025-08-07"},{"$f":"$A$1+7","v":"2025-08-08"},{"$f":"$A$1+8","v":"2025-08-09"},{"$f":"$A$1+9","v":"2025-08-10"},{"$f":"$A$1+10","v":"2025-08-11"},{"$f":"$A$1+11","v":"2025-08-12"},{"$f":"$A$1+12","v":"2025-08-13"},{"$f":"$A$1+13","v":"2025-08-14"},{"$f":"$A$1+14","v":"2025-08-15"},{"$f":"$A$1+15","v":"2025-08-16"},{"$f":"$A$1+16","v":"2025-08-17"},{"$f":"$A$1+17","v":"2025-08-18"},{"$f":"$A$1+18","v":"2025-08-19"},{"$f":"$A$1+19","v":"2025-08-20"},{"$f":"$A$1+20","v":"2025-08-21"},{"$f":"$A$1+21","v":"2025-08-22"},{"$f":"$A$1+22","v":"2025-08-23"},{"$f":"$A$1+23","v":"2025-08-24"},{"$f":"$A$1+24","v":"2025-08-25"},{"$f":"$A$1+25","v":"2025-08-26"},{"$f":"$A$1+26","v":"2025-08-27"},{"$f":"$A$1+27","v":"2025-08-28"},{"$f":"IF(DAY($A$1+28)>10,A1+28,\"\")","v":"2025-08-29"},{"$f":"IF(DAY($A$1+29)>10,A1+29,\"\")","v":"2025-08-30"},{"$f":"IF(DAY($A$1+30)>10,A1+30,\"\")","v":"2025-08-31"},"準夜","深夜","遅出","中遅","早出","週休","年休","夏期","職免"]
[null,"曜",{"$f":"C4","v":45870},45871,45872,45873,45874,45875,45876,45877,45878,45879,45880,45881,45882,45883,45884,45885,45886,45887,45888,45889,45890,45891,45892,45893,45894,45895,45896,45897,45898,45899,45900]
[{"$f":"基本!A6","v":"病院　太郎"},"予定",{"$f":"基本!C6","v":"祭日"},{"$f":"基本!D6","v":"祭／"},{"$f":"基本!E6","v":"祭／"},{"$f":"基本!F6","v":"日"},{"$f":"基本!G6","v":"日"},{"$f":"基本!H6","v":"日直"},{"$f":"基本!I6","v":"／"},{"$f":"基本!J6","v":"祭／"},{"$f":"基本!K6","v":"年／"},{"$f":"基本!L6","v":"日"},{"$f":"基本!M6","v":"日"},{"$f":"基本!N6","v":"師日当"},{"$f":"基本!O6","v":"明け"},{"$f":"基本!P6","v":"日"},{"$f":"基本!Q6","v":"日"},{"$f":"基本!R6","v":"日"},{"$f":"基本!S6","v":"日"},{"$f":"基本!T6","v":"日"},{"$f":"基本!U6","v":"日"},{"$f":"基本!V6","v":"／"},{"$f":"基本!W6","v":"当直"},{"$f":"基本!X6","v":"*730"},{"$f":"基本!Y6","v":"日"},{"$f":"基本!Z6","v":"年／"},{"$f":"基本!AA6","v":"日"},{"$f":"基本!AB6","v":"日"},{"$f":"基本!AC6","v":"／"},{"$f":"基本!AD6","v":"／"},{"$f":"基本!AE6","v":"日"},{"$f":"基本!AF6","v":"日"},{"$f":"基本!AG6","v":"日"},{"$f":"COUNTIF(C6:AG6,\"準\")","v":0},{"$f":"COUNTIF(C6:AG6,\"深\")","v":0},{"$f":"COUNTIF(C6:AG6,\"遅\")","v":0},{"$f":"COUNTIF(C6:AG6,\"中\")","v":0},{"$f":"COUNTIF(C6:AG6,\"早\")","v":0},{"$f":"COUNTIF(C6:AG6,\"／\")","v":4},{"$f":"COUNTIF(C6:AG6,\"年\")","v":0},{"$f":"COUNTIF(C6:AG6,\"夏\")","v":0},{"$f":"COUNTIF(H6:AG6,\"職免\")","v":0}]
[null,"実施"]
[{"$f":"基本!A8","v":"病院　次郎"},"予定",{"$f":"基本!C8","v":"祭／"},{"$f":"基本!D8","v":"祭／"},{"$f":"基本!E8","v":"祭日"},{"$f":"基本!F8","v":"／"},{"$f":"基本!G8","v":"深"},{"$f":"基本!H8","v":"／"},{"$f":"基本!I8","v":"深"},{"$f":"基本!J8","v":"祭深"},{"$f":"基本!K8","v":"日"},{"$f":"基本!L8","v":"／"},{"$f":"基本!M8","v":"日"},{"$f":"基本!N8","v":"準"},{"$f":"基本!O8","v":"*／"},{"$f":"基本!P8","v":"日"},{"$f":"基本!Q8","v":"日"},{"$f":"基本!R8","v":"日"},{"$f":"基本!S8","v":"準"},{"$f":"基本!T8","v":"*準"},{"$f":"基本!U8","v":"*／"},{"$f":"基本!V8","v":"日"},{"$f":"基本!W8","v":"日"},{"$f":"基本!X8","v":"日"},{"$f":"基本!Y8","v":"／"},{"$f":"基本!Z8","v":"深"},{"$f":"基本!AA8","v":"深"},{"$f":"基本!AB8","v":"日"},{"$f":"基本!AC8","v":"／"},{"$f":"基本!AD8","v":"／"},{"$f":"基本!AE8","v":"準"},{"$f":"基本!AF8","v":"*1230"},{"$f":"基本!AG8","v":"日"},{"$f":"COUNTIF(C8:AG8,\"準\")","v":3},{"$f":"COUNTIF(C8:AG8,\"深\")","v":4},{"$f":"COUNTIF(C8:AG8,\"遅\")","v":0},{"$f":"COUNTIF(C8:AG8,\"中\")","v":0},{"$f":"COUNTIF(C8:AG8,\"早\")","v":0},{"$f":"COUNTIF(C8:AG8,\"／\")","v":6},{"$f":"COUNTIF(C8:AG8,\"年\")","v":0},{"$f":"COUNTIF(C8:AG8,\"夏\")","v":0},{"$f":"COUNTIF(H8:AG8,\"職免\")","v":0}]
[null,"実施"]
[{"$f":"基本!A10","v":"病院　三郎"},"予定",{"$f":"基本!C10","v":"祭準"},{"$f":"基本!D10","v":"*祭／"},{"$f":"基本!E10","v":"祭／"},{"$f":"基本!F10","v":"深"},{"$f":"基本!G10","v":"1230"},{"$f":"基本!H10","v":"日"},{"$f":"基本!I10","v":"日"},{"$f":"基本!J10","v":"祭／"},{"$f":"基本!K10","v":"日"},{"$f":"基本!L10","v":"深"},{"$f":"基本!M10","v":"A免"},{"$f":"基本!N10","v":"／"},{"$f":"基本!O10","v":"日"},{"$f":"基本!P10","v":"深"},{"$f":"基本!Q10","v":"日"},{"$f":"基本!R10","v":"／"},{"$f":"基本!S10","v":"0700"},{"$f":"基本!T10","v":"深"},{"$f":"基本!U10","v":"準"},{"$f":"基本!V10","v":"*／"},{"$f":"基本!W10","v":"／"},{"$f":"基本!X10","v":"／"},{"$f":"基本!Y10","v":"日"},{"$f":"基本!Z10","v":"日"},{"$f":"基本!AA10","v":"日"},{"$f":"基本!AB10","v":"深"},{"$f":"基本!AC10","v":"／"},{"$f":"基本!AD10","v":"準"},{"$f":"基本!AE10","v":"*／"},{"$f":"基本!AF10","v":"準"},{"$f":"基本!AG10","v":"*／"},{"$f":"COUNTIF(C10:AG10,\"準\")","v":3},{"$f":"COUNTIF(C10:AG10,\"深\")","v":5},{"$f":"COUNTIF(C10:AG10,\"遅\")","v":0},{"$f":"COUNTIF(C10:AG10,\"中\")","v":0},{"$f":"COUNTIF(C10:AG10,\"早\")","v":0},{"$f":"COUNTIF(C10:AG10,\"／\")","v":5},{"$f":"COUNTIF(C10:AG10,\"年\")","v":0},{"$f":"COUNTIF(C10:AG10,\"夏\")","v":0},{"$f":"COUNTIF(H10:AG10,\"職免\")","v":0}]
[null,"実施"]
[{"$f":"基本!A12","v":""},"予定",{"$f":"基本!C12","v":0},{"$f":"基本!D12","v":0},{"$f":"基本!E12","v":0},{"$f":"基本!F12","v":0},{"$f":"基本!G12","v":0},{"$f":"基本!H12","v":0},{"$f":"基本!I12","v":0},{"$f":"基本!J12","v":0},{"$f":"基本!K12","v":0},{"$f":"基本!L12","v":0},{"$f":"基本!M12","v":0},{"$f":"基本!N12","v":0},{"$f":"基本!O12","v":0},{"$f":"基本!P12","v":0},{"$f":"基本!Q12","v":0},{"$f":"基本!R12","v":0},{"$f":"基本!S12","v":0},{"$f":"基本!T12","v":0},{"$f":"基本!U12","v":0},{"$f":"基本!V12","v":0},{"$f":"基本!W12","v":0},{"$f":"基本!X12","v":0},{"$f":"基本!Y12","v":0},{"$f":"基本!Z12","v":0},{"$f":"基本!AA12","v":0},{"$f":"基本!AB12","v":0},{"$f":"基本!AC12","v":0},{"$f":"基本!AD12","v":0},{"$f":"基本!AE12","v":0},{"$f":"基本!AF12","v":0},{"$f":"基本!AG12","v":0},{"$f":"COUNTIF(C12:AG12,\"準\")","v":0},{"$f":"COUNTIF(C12:AG12,\"深\")","v":0},{"$f":"COUNTIF(C12:AG12,\"遅\")","v":0},{"$f":"COUNTIF(C12:AG12,\"中\")","v":0},{"$f":"COUNTIF(C12:AG12,\"早\")","v":0},{"$f":"COUNTIF(C12:AG12,\"／\")","v":0},{"$f":"COUNTIF(C12:AG12,\"年\")","v":0},{"$f":"COUNTIF(C12:AG12,\"夏\")","v":0},{"$f":"COUNTIF(H12:AG12,\"職免\")","v":0}]
[null,"実施"]
[{"$f":"基本!A14","v":""},"予定",{"$f":"基本!C14","v":0},{"$f":"基本!D14","v":0},{"$f":"基本!E14","v":0},{"$f":"基本!F14","v":0},{"$f":"基本!G14","v":0},{"$f":"基本!H14","v":0},{"$f":"基本!I14","v":0},{"$f":"基本!J14","v":0},{"$f":"基本!K14","v":0},{"$f":"基本!L14","v":0},{"$f":"基本!M14","v":0},{"$f":"基本!N14","v":0},{"$f":"基本!O14","v":0},{"$f":"基本!P14","v":0},{"$f":"基本!Q14","v":0},{"$f":"基本!R14","v":0},{"$f":"基本!S14","v":0},{"$f":"基本!T14","v":0},{"$f":"基本!U14","v":0},{"$f":"基本!V14","v":0},{"$f":"基本!W14","v":0},{"$f":"基本!X14","v":0},{"$f":"基本!Y14","v":0},{"$f":"基本!Z14","v":0},{"$f":"基本!AA14","v":0},{"$f":"基本!AB14","v":0},{"$f":"基本!AC14","v":0},{"$f":"基本!AD14","v":0},{"$f":"基本!AE14","v":0},{"$f":"基本!AF14","v":0},{"$f":"基本!AG14","v":0},{"$f":"COUNTIF(C14:AG14,\"準\")","v":0},{"$f":"COUNTIF(C14:AG14,\"深\")","v":0},{"$f":"COUNTIF(C14:AG14,\"遅\")","v":0},{"$f":"COUNTIF(C14:AG14,\"中\")","v":0},{"$f":"COUNTIF(C14:AG14,\"早\")","v":0},{"$f":"COUNTIF(C14:AG14,\"／\")","v":0},{"$f":"COUNTIF(C14:AG14,\"年\")","v":0},{"$f":"COUNTIF(C14:AG14,\"夏\")","v":0},{"$f":"COUNTIF(H14:AG14,\"職免\")","v":0}]
[null,"実施"]
[{"$f":"基本!A16","v":""},"予定",{"$f":"基本!C16","v":0},{"$f":"基本!D16","v":0},{"$f":"基本!E16","v":0},{"$f":"基本!F16","v":0},{"$f":"基本!G16","v":0},{"$f":"基本!H16","v":0},{"$f":"基本!I16","v":0},{"$f":"基本!J16","v":0},{"$f":"基本!K16","v":0},{"$f":"基本!L16","v":0},{"$f":"基本!M16","v":0},{"$f":"基本!N16","v":0},{"$f":"基本!O16","v":0},{"$f":"基本!P16","v":0},{"$f":"基本!Q16","v":0},{"$f":"基本!R16","v":0},{"$f":"基本!S16","v":0},{"$f":"基本!T16","v":0},{"$f":"基本!U16","v":0},{"$f":"基本!V16","v":0},{"$f":"基本!W16","v":0},{"$f":"基本!X16","v":0},{"$f":"基本!Y16","v":0},{"$f":"基本!Z16","v":0},{"$f":"基本!AA16","v":0},{"$f":"基本!AB16","v":0},{"$f":"基本!AC16","v":0},{"$f":"基本!AD16","v":0},{"$f":"基本!AE16","v":0},{"$f":"基本!AF16","v":0},{"$f":"基本!AG16","v":0},{"$f":"COUNTIF(C16:AG16,\"準\")","v":0},{"$f":"COUNTIF(C16:AG16,\"深\")","v":0},{"$f":"COUNTIF(C16:AG16,\"遅\")","v":0},{"$f":"COUNTIF(C16:AG16,\"中\")","v":0},{"$f":"COUNTIF(C16:AG16,\"早\")","v":0},{"$f":"COUNTIF(C16:AG16,\"／\")","v":0},{"$f":"COUNTIF(C16:AG16,\"年\")","v":0},{"$f":"COUNTIF(C16:AG16,\"夏\")","v":0},{"$f":"COUNTIF(H16:AG16,\"職免\")","v":0}]
[null,"実施"]
[{"$f":"基本!A18","v":""},"予定",{"$f":"基本!C18","v":0},{"$f":"基本!D18","v":0},{"$f":"基本!E18","v":0},{"$f":"基本!F18","v":0},{"$f":"基本!G18","v":0},{"$f":"基本!H18","v":0},{"$f":"基本!I18","v":0},{"$f":"基本!J18","v":0},{"$f":"基本!K18","v":0},{"$f":"基本!L18","v":0},{"$f":"基本!M18","v":0},{"$f":"基本!N18","v":0},{"$f":"基本!O18","v":0},{"$f":"基本!P18","v":0},{"$f":"基本!Q18","v":0},{"$f":"基本!R18","v":0},{"$f":"基本!S18","v":0},{"$f":"基本!T18","v":0},{"$f":"基本!U18","v":0},{"$f":"基本!V18","v":0},{"$f":"基本!W18","v":0},{"$f":"基本!X18","v":0},{"$f":"基本!Y18","v":0},{"$f":"基本!Z18","v":0},{"$f":"基本!AA18","v":0},{"$f":"基本!AB18","v":0},{"$f":"基本!AC18","v":0},{"$f":"基本!AD18","v":0},{"$f":"基本!AE18","v":0},{"$f":"基本!AF18","v":0},{"$f":"基本!AG18","v":0},{"$f":"COUNTIF(C18:AG18,\"準\")","v":0},{"$f":"COUNTIF(C18:AG18,\"深\")","v":0},{"$f":"COUNTIF(C18:AG18,\"遅\")","v":0},{"$f":"COUNTIF(C18:AG18,\"中\")","v":0},{"$f":"COUNTIF(C18:AG18,\"早\")","v":0},{"$f":"COUNTIF(C18:AG18,\"／\")","v":0},{"$f":"COUNTIF(C18:AG18,\"年\")","v":0},{"$f":"COUNTIF(C18:AG18,\"夏\")","v":0},{"$f":"COUNTIF(H18:AG18,\"職免\")","v":0}]
[null,"実施"]
[{"$f":"基本!A20","v":""},"予定",{"$f":"基本!C20","v":0},{"$f":"基本!D20","v":0},{"$f":"基本!E20","v":0},{"$f":"基本!F20","v":0},{"$f":"基本!G20","v":0},{"$f":"基本!H20","v":0},{"$f":"基本!I20","v":0},{"$f":"基本!J20","v":0},{"$f":"基本!K20","v":0},{"$f":"基本!L20","v":0},{"$f":"基本!M20","v":0},{"$f":"基本!N20","v":0},{"$f":"基本!O20","v":0},{"$f":"基本!P20","v":0},{"$f":"基本!Q20","v":0},{"$f":"基本!R20","v":0},{"$f":"基本!S20","v":0},{"$f":"基本!T20","v":0},{"$f":"基本!U20","v":0},{"$f":"基本!V20","v":0},{"$f":"基本!W20","v":0},{"$f":"基本!X20","v":0},{"$f":"基本!Y20","v":0},{"$f":"基本!Z20","v":0},{"$f":"基本!AA20","v":0},{"$f":"基本!AB20","v":0},{"$f":"基本!AC20","v":0},{"$f":"基本!AD20","v":0},{"$f":"基本!AE20","v":0},{"$f":"基本!AF20","v":0},{"$f":"基本!AG20","v":0},{"$f":"COUNTIF(C20:AG20,\"準\")","v":0},{"$f":"COUNTIF(C20:AG20,\"深\")","v":0},{"$f":"COUNTIF(C20:AG20,\"遅\")","v":0},{"$f":"COUNTIF(C20:AG20,\"中\")","v":0},{"$f":"COUNTIF(C20:AG20,\"早\")","v":0},{"$f":"COUNTIF(C20:AG20,\"／\")","v":0},{"$f":"COUNTIF(C20:AG20,\"年\")","v":0},{"$f":"COUNTIF(C20:AG20,\"夏\")","v":0},{"$f":"COUNTIF(H20:AG20,\"職免\")","v":0}]
[null,"実施"]
[{"$f":"基本!A22","v":""},"予定",{"$f":"基本!C22","v":0},{"$f":"基本!D22","v":0},{"$f":"基本!E22","v":0},{"$f":"基本!F22","v":0},{"$f":"基本!G22","v":0},{"$f":"基本!H22","v":0},{"$f":"基本!I22","v":0},{"$f":"基本!J22","v":0},{"$f":"基本!K22","v":0},{"$f":"基本!L22","v":0},{"$f":"基本!M22","v":0},{"$f":"基本!N22","v":0},{"$f":"基本!O22","v":0},{"$f":"基本!P22","v":0},{"$f":"基本!Q22","v":0},{"$f":"基本!R22","v":0},{"$f":"基本!S22","v":0},{"$f":"基本!T22","v":0},{"$f":"基本!U22","v":0},{"$f":"基本!V22","v":0},{"$f":"基本!W22","v":0},{"$f":"基本!X22","v":0},{"$f":"基本!Y22","v":0},{"$f":"基本!Z22","v":0},{"$f":"基本!AA22","v":0},{"$f":"基本!AB22","v":0},{"$f":"基本!AC22","v":0},{"$f":"基本!AD22","v":0},{"$f":"基本!AE22","v":0},{"$f":"基本!AF22","v":0},{"$f":"基本!AG22","v":0},{"$f":"COUNTIF(C22:AG22,\"準\")","v":0},{"$f":"COUNTIF(C22:AG22,\"深\")","v":0},{"$f":"COUNTIF(C22:AG22,\"遅\")","v":0},{"$f":"COUNTIF(C22:AG22,\"中\")","v":0},{"$f":"COUNTIF(C22:AG22,\"早\")","v":0},{"$f":"COUNTIF(C22:AG22,\"／\")","v":0},{"$f":"COUNTIF(C22:AG22,\"年\")","v":0},{"$f":"COUNTIF(C22:AG22,\"夏\")","v":0},{"$f":"COUNTIF(H22:AG22,\"職免\")","v":0}]
[null,"実施"]
[{"$f":"基本!A24","v":""},"予定",{"$f":"基本!C24","v":0},{"$f":"基本!D24","v":0},{"$f":"基本!E24","v":0},{"$f":"基本!F24","v":0},{"$f":"基本!G24","v":0},{"$f":"基本!H24","v":0},{"$f":"基本!I24","v":0},{"$f":"基本!J24","v":0},{"$f":"基本!K24","v":0},{"$f":"基本!L24","v":0},{"$f":"基本!M24","v":0},{"$f":"基本!N24","v":0},{"$f":"基本!O24","v":0},{"$f":"基本!P24","v":0},{"$f":"基本!Q24","v":0},{"$f":"基本!R24","v":0},{"$f":"基本!S24","v":0},{"$f":"基本!T24","v":0},{"$f":"基本!U24","v":0},{"$f":"基本!V24","v":0},{"$f":"基本!W24","v":0},{"$f":"基本!X24","v":0},{"$f":"基本!Y24","v":0},{"$f":"基本!Z24","v":0},{"$f":"基本!AA24","v":0},{"$f":"基本!AB24","v":0},{"$f":"基本!AC24","v":0},{"$f":"基本!AD24","v":0},{"$f":"基本!AE24","v":0},{"$f":"基本!AF24","v":0},{"$f":"基本!AG24","v":0},{"$f":"COUNTIF(C24:AG24,\"準\")","v":0},{"$f":"COUNTIF(C24:AG24,\"深\")","v":0},{"$f":"COUNTIF(C24:AG24,\"遅\")","v":0},{"$f":"COUNTIF(C24:AG24,\"中\")","v":0},{"$f":"COUNTIF(C24:AG24,\"早\")","v":0},{"$f":"COUNTIF(C24:AG24,\"／\")","v":0},{"$f":"COUNTIF(C24:AG24,\"年\")","v":0},{"$f":"COUNTIF(C24:AG24,\"夏\")","v":0},{"$f":"COUNTIF(H24:AG24,\"職免\")","v":0}]
[null,"実施"]
[{"$f":"基本!A26","v":""},"予定",{"$f":"基本!C26","v":0},{"$f":"基本!D26","v":0},{"$f":"基本!E26","v":0},{"$f":"基本!F26","v":0},{"$f":"基本!G26","v":0},{"$f":"基本!H26","v":0},{"$f":"基本!I26","v":0},{"$f":"基本!J26","v":0},{"$f":"基本!K26","v":0},{"$f":"基本!L26","v":0},{"$f":"基本!M26","v":0},{"$f":"基本!N26","v":0},{"$f":"基本!O26","v":0},{"$f":"基本!P26","v":0},{"$f":"基本!Q26","v":0},{"$f":"基本!R26","v":0},{"$f":"基本!S26","v":0},{"$f":"基本!T26","v":0},{"$f":"基本!U26","v":0},{"$f":"基本!V26","v":0},{"$f":"基本!W26","v":0},{"$f":"基本!X26","v":0},{"$f":"基本!Y26","v":0},{"$f":"基本!Z26","v":0},{"$f":"基本!AA26","v":0},{"$f":"基本!AB26","v":0},{"$f":"基本!AC26","v":0},{"$f":"基本!AD26","v":0},{"$f":"基本!AE26","v":0},{"$f":"基本!AF26","v":0},{"$f":"基本!AG26","v":0},{"$f":"COUNTIF(C26:AG26,\"準\")","v":0},{"$f":"COUNTIF(C26:AG26,\"深\")","v":0},{"$f":"COUNTIF(C26:AG26,\"遅\")","v":0},{"$f":"COUNTIF(C26:AG26,\"中\")","v":0},{"$f":"COUNTIF(C26:AG26,\"早\")","v":0},{"$f":"COUNTIF(C26:AG26,\"／\")","v":0},{"$f":"COUNTIF(C26:AG26,\"年\")","v":0},{"$f":"COUNTIF(C26:AG26,\"夏\")","v":0},{"$f":"COUNTIF(H26:AG26,\"職免\")","v":0}]
[null,"実施"]
[{"$f":"基本!A28","v":""},"予定",{"$f":"基本!C28","v":0},{"$f":"基本!D28","v":0},{"$f":"基本!E28","v":0},{"$f":"基本!F28","v":0},{"$f":"基本!G28","v":0},{"$f":"基本!H28","v":0},{"$f":"基本!I28","v":0},{"$f":"基本!J28","v":0},{"$f":"基本!K28","v":0},{"$f":"基本!L28","v":0},{"$f":"基本!M28","v":0},{"$f":"基本!N28","v":0},{"$f":"基本!O28","v":0},{"$f":"基本!P28","v":0},{"$f":"基本!Q28","v":0},{"$f":"基本!R28","v":0},{"$f":"基本!S28","v":0},{"$f":"基本!T28","v":0},{"$f":"基本!U28","v":0},{"$f":"基本!V28","v":0},{"$f":"基本!W28","v":0},{"$f":"基本!X28","v":0},{"$f":"基本!Y28","v":0},{"$f":"基本!Z28","v":0},{"$f":"基本!AA28","v":0},{"$f":"基本!AB28","v":0},{"$f":"基本!AC28","v":0},{"$f":"基本!AD28","v":0},{"$f":"基本!AE28","v":0},{"$f":"基本!AF28","v":0},{"$f":"基本!AG28","v":0},{"$f":"COUNTIF(C28:AG28,\"準\")","v":0},{"$f":"COUNTIF(C28:AG28,\"深\")","v":0},{"$f":"COUNTIF(C28:AG28,\"遅\")","v":0},{"$f":"COUNTIF(C28:AG28,\"中\")","v":0},{"$f":"COUNTIF(C28:AG28,\"早\")","v":0},{"$f":"COUNTIF(C28:AG28,\"／\")","v":0},{"$f":"COUNTIF(C28:AG28,\"年\")","v":0},{"$f":"COUNTIF(C28:AG28,\"夏\")","v":0},{"$f":"COUNTIF(H28:AG28,\"職免\")","v":0}]
[null,"実施"]
[{"$f":"基本!A30","v":""},"予定",{"$f":"基本!C30","v":0},{"$f":"基本!D30","v":0},{"$f":"基本!E30","v":0},{"$f":"基本!F30","v":0},{"$f":"基本!G30","v":0},{"$f":"基本!H30","v":0},{"$f":"基本!I30","v":0},{"$f":"基本!J30","v":0},{"$f":"基本!K30","v":0},{"$f":"基本!L30","v":0},{"$f":"基本!M30","v":0},{"$f":"基本!N30","v":0},{"$f":"基本!O30","v":0},{"$f":"基本!P30","v":0},{"$f":"基本!Q30","v":0},{"$f":"基本!R30","v":0},{"$f":"基本!S30","v":0},{"$f":"基本!T30","v":0},{"$f":"基本!U30","v":0},{"$f":"基本!V30","v":0},{"$f":"基本!W30","v":0},{"$f":"基本!X30","v":0},{"$f":"基本!Y30","v":0},{"$f":"基本!Z30","v":0},{"$f":"基本!AA30","v":0},{"$f":"基本!AB30","v":0},{"$f":"基本!AC30","v":0},{"$f":"基本!AD30","v":0},{"$f":"基本!AE30","v":0},{"$f":"基本!AF30","v":0},{"$f":"基本!AG30","v":0},{"$f":"COUNTIF(C30:AG30,\"準\")","v":0},{"$f":"COUNTIF(C30:AG30,\"深\")","v":0},{"$f":"COUNTIF(C30:AG30,\"遅\")","v":0},{"$f":"COUNTIF(C30:AG30,\"中\")","v":0},{"$f":"COUNTIF(C30:AG30,\"早\")","v":0},{"$f":"COUNTIF(C30:AG30,\"／\")","v":0},{"$f":"COUNTIF(C30:AG30,\"年\")","v":0},{"$f":"COUNTIF(C30:AG30,\"夏\")","v":0},{"$f":"COUNTIF(H30:AG30,\"職免\")","v":0}]
[null,"実施"]
[{"$f":"基本!A32","v":""},"予定",{"$f":"基本!C32","v":0},{"$f":"基本!D32","v":0},{"$f":"基本!E32","v":0},{"$f":"基本!F32","v":0},{"$f":"基本!G32","v":0},{"$f":"基本!H32","v":0},{"$f":"基本!I32","v":0},{"$f":"基本!J32","v":0},{"$f":"基本!K32","v":0},{"$f":"基本!L32","v":0},{"$f":"基本!M32","v":0},{"$f":"基本!N32","v":0},{"$f":"基本!O32","v":0},{"$f":"基本!P32","v":0},{"$f":"基本!Q32","v":0},{"$f":"基本!R32","v":0},{"$f":"基本!S32","v":0},{"$f":"基本!T32","v":0},{"$f":"基本!U32","v":0},{"$f":"基本!V32","v":0},{"$f":"基本!W32","v":0},{"$f":"基本!X32","v":0},{"$f":"基本!Y32","v":0},{"$f":"基本!Z32","v":0},{"$f":"基本!AA32","v":0},{"$f":"基本!AB32","v":0},{"$f":"基本!AC32","v":0},{"$f":"基本!AD32","v":0},{"$f":"基本!AE32","v":0},{"$f":"基本!AF32","v":0},{"$f":"基本!AG32","v":0},{"$f":"COUNTIF(C32:AG32,\"準\")","v":0},{"$f":"COUNTIF(C32:AG32,\"深\")","v":0},{"$f":"COUNTIF(C32:AG32,\"遅\")","v":0},{"$f":"COUNTIF(C32:AG32,\"中\")","v":0},{"$f":"COUNTIF(C32:AG32,\"早\")","v":0},{"$f":"COUNTIF(C32:AG32,\"／\")","v":0},{"$f":"COUNTIF(C32:AG32,\"年\")","v":0},{"$f":"COUNTIF(C32:AG32,\"夏\")","v":0},{"$f":"COUNTIF(H32:AG32,\"職免\")","v":0}]
[null,"実施"]
[{"$f":"基本!A34","v":""},"予定",{"$f":"基本!C34","v":0},{"$f":"基本!D34","v":0},{"$f":"基本!E34","v":0},{"$f":"基本!F34","v":0},{"$f":"基本!G34","v":0},{"$f":"基本!H34","v":0},{"$f":"基本!I34","v":0},{"$f":"基本!J34","v":0},{"$f":"基本!K34","v":0},{"$f":"基本!L34","v":0},{"$f":"基本!M34","v":0},{"$f":"基本!N34","v":0},{"$f":"基本!O34","v":0},{"$f":"基本!P34","v":0},{"$f":"基本!Q34","v":0},{"$f":"基本!R34","v":0},{"$f":"基本!S34","v":0},{"$f":"基本!T34","v":0},{"$f":"基本!U34","v":0},{"$f":"基本!V34","v":0},{"$f":"基本!W34","v":0},{"$f":"基本!X34","v":0},{"$f":"基本!Y34","v":0},{"$f":"基本!Z34","v":0},{"$f":"基本!AA34","v":0},{"$f":"基本!AB34","v":0},{"$f":"基本!AC34","v":0},{"$f":"基本!AD34","v":0},{"$f":"基本!AE34","v":0},{"$f":"基本!AF34","v":0},{"$f":"基本!AG34","v":0},{"$f":"COUNTIF(C34:AG34,\"準\")","v":0},{"$f":"COUNTIF(C34:AG34,\"深\")","v":0},{"$f":"COUNTIF(C34:AG34,\"遅\")","v":0},{"$f":"COUNTIF(C34:AG34,\"中\")","v":0},{"$f":"COUNTIF(C34:AG34,\"早\")","v":0},{"$f":"COUNTIF(C34:AG34,\"／\")","v":0},{"$f":"COUNTIF(C34:AG34,\"年\")","v":0},{"$f":"COUNTIF(C34:AG34,\"夏\")","v":0},{"$f":"COUNTIF(H34:AG34,\"職免\")","v":0}]
[null,"実施"]
[{"$f":"基本!A36","v":""},"予定",{"$f":"基本!C36","v":0},{"$f":"基本!D36","v":0},{"$f":"基本!E36","v":0},{"$f":"基本!F36","v":0},{"$f":"基本!G36","v":0},{"$f":"基本!H36","v":0},{"$f":"基本!I36","v":0},{"$f":"基本!J36","v":0},{"$f":"基本!K36","v":0},{"$f":"基本!L36","v":0},{"$f":"基本!M36","v":0},{"$f":"基本!N36","v":0},{"$f":"基本!O36","v":0},{"$f":"基本!P36","v":0},{"$f":"基本!Q36","v":0},{"$f":"基本!R36","v":0},{"$f":"基本!S36","v":0},{"$f":"基本!T36","v":0},{"$f":"基本!U36","v":0},{"$f":"基本!V36","v":0},{"$f":"基本!W36","v":0},{"$f":"基本!X36","v":0},{"$f":"基本!Y36","v":0},{"$f":"基本!Z36","v":0},{"$f":"基本!AA36","v":0},{"$f":"基本!AB36","v":0},{"$f":"基本!AC36","v":0},{"$f":"基本!AD36","v":0},{"$f":"基本!AE36","v":0},{"$f":"基本!AF36","v":0},{"$f":"基本!AG36","v":0},{"$f":"COUNTIF(C36:AG36,\"準\")","v":0},{"$f":"COUNTIF(C36:AG36,\"深\")","v":0},{"$f":"COUNTIF(C36:AG36,\"遅\")","v":0},{"$f":"COUNTIF(C36:AG36,\"中\")","v":0},{"$f":"COUNTIF(C36:AG36,\"早\")","v":0},{"$f":"COUNTIF(C36:AG36,\"／\")","v":0},{"$f":"COUNTIF(C36:AG36,\"年\")","v":0},{"$f":"COUNTIF(C36:AG36,\"夏\")","v":0},{"$f":"COUNTIF(H36:AG36,\"職免\")","v":0}]
[null,"実施"]
[{"$f":"基本!A38","v":""},"予定",{"$f":"基本!C38","v":0},{"$f":"基本!D38","v":0},{"$f":"基本!E38","v":0},{"$f":"基本!F38","v":0},{"$f":"基本!G38","v":0},{"$f":"基本!H38","v":0},{"$f":"基本!I38","v":0},{"$f":"基本!J38","v":0},{"$f":"基本!K38","v":0},{"$f":"基本!L38","v":0},{"$f":"基本!M38","v":0},{"$f":"基本!N38","v":0},{"$f":"基本!O38","v":0},{"$f":"基本!P38","v":0},{"$f":"基本!Q38","v":0},{"$f":"基本!R38","v":0},{"$f":"基本!S38","v":0},{"$f":"基本!T38","v":0},{"$f":"基本!U38","v":0},{"$f":"基本!V38","v":0},{"$f":"基本!W38","v":0},{"$f":"基本!X38","v":0},{"$f":"基本!Y38","v":0},{"$f":"基本!Z38","v":0},{"$f":"基本!AA38","v":0},{"$f":"基本!AB38","v":0},{"$f":"基本!AC38","v":0},{"$f":"基本!AD38","v":0},{"$f":"基本!AE38","v":0},{"$f":"基本!AF38","v":0},{"$f":"基本!AG38","v":0},{"$f":"COUNTIF(C38:AG38,\"準\")","v":0},{"$f":"COUNTIF(C38:AG38,\"深\")","v":0},{"$f":"COUNTIF(C38:AG38,\"遅\")","v":0},{"$f":"COUNTIF(C38:AG38,\"中\")","v":0},{"$f":"COUNTIF(C38:AG38,\"早\")","v":0},{"$f":"COUNTIF(C38:AG38,\"／\")","v":0},{"$f":"COUNTIF(C38:AG38,\"年\")","v":0},{"$f":"COUNTIF(C38:AG38,\"夏\")","v":0},{"$f":"COUNTIF(H38:AG38,\"職免\")","v":0}]
[null,"実施"]
[{"$f":"基本!A40","v":""},"予定",{"$f":"基本!C40","v":0},{"$f":"基本!D40","v":0},{"$f":"基本!E40","v":0},{"$f":"基本!F40","v":0},{"$f":"基本!G40","v":0},{"$f":"基本!H40","v":0},{"$f":"基本!I40","v":0},{"$f":"基本!J40","v":0},{"$f":"基本!K40","v":0},{"$f":"基本!L40","v":0},{"$f":"基本!M40","v":0},{"$f":"基本!N40","v":0},{"$f":"基本!O40","v":0},{"$f":"基本!P40","v":0},{"$f":"基本!Q40","v":0},{"$f":"基本!R40","v":0},{"$f":"基本!S40","v":0},{"$f":"基本!T40","v":0},{"$f":"基本!U40","v":0},{"$f":"基本!V40","v":0},{"$f":"基本!W40","v":0},{"$f":"基本!X40","v":0},{"$f":"基本!Y40","v":0},{"$f":"基本!Z40","v":0},{"$f":"基本!AA40","v":0},{"$f":"基本!AB40","v":0},{"$f":"基本!AC40","v":0},{"$f":"基本!AD40","v":0},{"$f":"基本!AE40","v":0},{"$f":"基本!AF40","v":0},{"$f":"基本!AG40","v":0},{"$f":"COUNTIF(C40:AG40,\"準\")","v":0},{"$f":"COUNTIF(C40:AG40,\"深\")","v":0},{"$f":"COUNTIF(C40:AG40,\"遅\")","v":0},{"$f":"COUNTIF(C40:AG40,\"中\")","v":0},{"$f":"COUNTIF(C40:AG40,\"早\")","v":0},{"$f":"COUNTIF(C40:AG40,\"／\")","v":0},{"$f":"COUNTIF(C40:AG40,\"年\")","v":0},{"$f":"COUNTIF(C40:AG40,\"夏\")","v":0},{"$f":"COUNTIF(H40:AG40,\"職免\")","v":0}]
[null,"実施"]
[{"$f":"基本!A42","v":""},"予定",{"$f":"基本!C42","v":0},{"$f":"基本!D42","v":0},{"$f":"基本!E42","v":0},{"$f":"基本!F42","v":0},{"$f":"基本!G42","v":0},{"$f":"基本!H42","v":0},{"$f":"基本!I42","v":0},{"$f":"基本!J42","v":0},{"$f":"基本!K42","v":0},{"$f":"基本!L42","v":0},{"$f":"基本!M42","v":0},{"$f":"基本!N42","v":0},{"$f":"基本!O42","v":0},{"$f":"基本!P42","v":0},{"$f":"基本!Q42","v":0},{"$f":"基本!R42","v":0},{"$f":"基本!S42","v":0},{"$f":"基本!T42","v":0},{"$f":"基本!U42","v":0},{"$f":"基本!V42","v":0},{"$f":"基本!W42","v":0},{"$f":"基本!X42","v":0},{"$f":"基本!Y42","v":0},{"$f":"基本!Z42","v":0},{"$f":"基本!AA42","v":0},{"$f":"基本!AB42","v":0},{"$f":"基本!AC42","v":0},{"$f":"基本!AD42","v":0},{"$f":"基本!AE42","v":0},{"$f":"基本!AF42","v":0},{"$f":"基本!AG42","v":0},{"$f":"COUNTIF(C42:AG42,\"準\")","v":0},{"$f":"COUNTIF(C42:AG42,\"深\")","v":0},{"$f":"COUNTIF(C42:AG42,\"遅\")","v":0},{"$f":"COUNTIF(C42:AG42,\"中\")","v":0},{"$f":"COUNTIF(C42:AG42,\"早\")","v":0},{"$f":"COUNTIF(C42:AG42,\"／\")","v":0},{"$f":"COUNTIF(C42:AG42,\"年\")","v":0},{"$f":"COUNTIF(C42:AG42,\"夏\")","v":0},{"$f":"COUNTIF(H42:AG42,\"職免\")","v":0}]
[null,"実施"]
[{"$f":"基本!A44","v":""},"予定",{"$f":"基本!C44","v":0},{"$f":"基本!D44","v":0},{"$f":"基本!E44","v":0},{"$f":"基本!F44","v":0},{"$f":"基本!G44","v":0},{"$f":"基本!H44","v":0},{"$f":"基本!I44","v":0},{"$f":"基本!J44","v":0},{"$f":"基本!K44","v":0},{"$f":"基本!L44","v":0},{"$f":"基本!M44","v":0},{"$f":"基本!N44","v":0},{"$f":"基本!O44","v":0},{"$f":"基本!P44","v":0},{"$f":"基本!Q44","v":0},{"$f":"基本!R44","v":0},{"$f":"基本!S44","v":0},{"$f":"基本!T44","v":0},{"$f":"基本!U44","v":0},{"$f":"基本!V44","v":0},{"$f":"基本!W44","v":0},{"$f":"基本!X44","v":0},{"$f":"基本!Y44","v":0},{"$f":"基本!Z44","v":0},{"$f":"基本!AA44","v":0},{"$f":"基本!AB44","v":0},{"$f":"基本!AC44","v":0},{"$f":"基本!AD44","v":0},{"$f":"基本!AE44","v":0},{"$f":"基本!AF44","v":0},{"$f":"基本!AG44","v":0},{"$f":"COUNTIF(C44:AG44,\"準\")","v":0},{"$f":"COUNTIF(C44:AG44,\"深\")","v":0},{"$f":"COUNTIF(C44:AG44,\"遅\")","v":0},{"$f":"COUNTIF(C44:AG44,\"中\")","v":0},{"$f":"COUNTIF(C44:AG44,\"早\")","v":0},{"$f":"COUNTIF(C44:AG44,\"／\")","v":0},{"$f":"COUNTIF(C44:AG44,\"年\")","v":0},{"$f":"COUNTIF(C44:AG44,\"夏\")","v":0},{"$f":"COUNTIF(H44:AG44,\"職免\")","v":0}]
[null,"実施"]
[{"$f":"基本!A46","v":""},"予定",{"$f":"基本!C46","v":0},{"$f":"基本!D46","v":0},{"$f":"基本!E46","v":0},{"$f":"基本!F46","v":0},{"$f":"基本!G46","v":0},{"$f":"基本!H46","v":0},{"$f":"基本!I46","v":0},{"$f":"基本!J46","v":0},{"$f":"基本!K46","v":0},{"$f":"基本!L46","v":0},{"$f":"基本!M46","v":0},{"$f":"基本!N46","v":0},{"$f":"基本!O46","v":0},{"$f":"基本!P46","v":0},{"$f":"基本!Q46","v":0},{"$f":"基本!R46","v":0},{"$f":"基本!S46","v":0},{"$f":"基本!T46","v":0},{"$f":"基本!U46","v":0},{"$f":"基本!V46","v":0},{"$f":"基本!W46","v":0},{"$f":"基本!X46","v":0},{"$f":"基本!Y46","v":0},{"$f":"基本!Z46","v":0},{"$f":"基本!AA46","v":0},{"$f":"基本!AB46","v":0},{"$f":"基本!AC46","v":0},{"$f":"基本!AD46","v":0},{"$f":"基本!AE46","v":0},{"$f":"基本!AF46","v":0},{"$f":"基本!AG46","v":0},{"$f":"COUNTIF(C46:AG46,\"準\")","v":0},{"$f":"COUNTIF(C46:AG46,\"深\")","v":0},{"$f":"COUNTIF(C46:AG46,\"遅\")","v":0},{"$f":"COUNTIF(C46:AG46,\"中\")","v":0},{"$f":"COUNTIF(C46:AG46,\"早\")","v":0},{"$f":"COUNTIF(C46:AG46,\"／\")","v":0},{"$f":"COUNTIF(C46:AG46,\"年\")","v":0},{"$f":"COUNTIF(C46:AG46,\"夏\")","v":0},{"$f":"COUNTIF(H46:AG46,\"職免\")","v":0}]
[null,"実施"]
[{"$f":"基本!A48","v":""},"予定",{"$f":"基本!C48","v":0},{"$f":"基本!D48","v":0},{"$f":"基本!E48","v":0},{"$f":"基本!F48","v":0},{"$f":"基本!G48","v":0},{"$f":"基本!H48","v":0},{"$f":"基本!I48","v":0},{"$f":"基本!J48","v":0},{"$f":"基本!K48","v":0},{"$f":"基本!L48","v":0},{"$f":"基本!M48","v":0},{"$f":"基本!N48","v":0},{"$f":"基本!O48","v":0},{"$f":"基本!P48","v":0},{"$f":"基本!Q48","v":0},{"$f":"基本!R48","v":0},{"$f":"基本!S48","v":0},{"$f":"基本!T48","v":0},{"$f":"基本!U48","v":0},{"$f":"基本!V48","v":0},{"$f":"基本!W48","v":0},{"$f":"基本!X48","v":0},{"$f":"基本!Y48","v":0},{"$f":"基本!Z48","v":0},{"$f":"基本!AA48","v":0},{"$f":"基本!AB48","v":0},{"$f":"基本!AC48","v":0},{"$f":"基本!AD48","v":0},{"$f":"基本!AE48","v":0},{"$f":"基本!AF48","v":0},{"$f":"基本!AG48","v":0},{"$f":"COUNTIF(C48:AG48,\"準\")","v":0},{"$f":"COUNTIF(C48:AG48,\"深\")","v":0},{"$f":"COUNTIF(C48:AG48,\"遅\")","v":0},{"$f":"COUNTIF(C48:AG48,\"中\")","v":0},{"$f":"COUNTIF(C48:AG48,\"早\")","v":0},{"$f":"COUNTIF(C48:AG48,\"／\")","v":0},{"$f":"COUNTIF(C48:AG48,\"年\")","v":0},{"$f":"COUNTIF(C48:AG48,\"夏\")","v":0},{"$f":"COUNTIF(H48:AG48,\"職免\")","v":0}]
[null,"実施"]
[{"$f":"基本!A50","v":""},"予定",{"$f":"基本!C50","v":0},{"$f":"基本!D50","v":0},{"$f":"基本!E50","v":0},{"$f":"基本!F50","v":0},{"$f":"基本!G50","v":0},{"$f":"基本!H50","v":0},{"$f":"基本!I50","v":0},{"$f":"基本!J50","v":0},{"$f":"基本!K50","v":0},{"$f":"基本!L50","v":0},{"$f":"基本!M50","v":0},{"$f":"基本!N50","v":0},{"$f":"基本!O50","v":0},{"$f":"基本!P50","v":0},{"$f":"基本!Q50","v":0},{"$f":"基本!R50","v":0},{"$f":"基本!S50","v":0},{"$f":"基本!T50","v":0},{"$f":"基本!U50","v":0},{"$f":"基本!V50","v":0},{"$f":"基本!W50","v":0},{"$f":"基本!X50","v":0},{"$f":"基本!Y50","v":0},{"$f":"基本!Z50","v":0},{"$f":"基本!AA50","v":0},{"$f":"基本!AB50","v":0},{"$f":"基本!AC50","v":0},{"$f":"基本!AD50","v":0},{"$f":"基本!AE50","v":0},{"$f":"基本!AF50","v":0},{"$f":"基本!AG50","v":0},{"$f":"COUNTIF(C50:AG50,\"準\")","v":0},{"$f":"COUNTIF(C50:AG50,\"深\")","v":0},{"$f":"COUNTIF(C50:AG50,\"遅\")","v":0},{"$f":"COUNTIF(C50:AG50,\"中\")","v":0},{"$f":"COUNTIF(C50:AG50,\"早\")","v":0},{"$f":"COUNTIF(C50:AG50,\"／\")","v":0},{"$f":"COUNTIF(C50:AG50,\"年\")","v":0},{"$f":"COUNTIF(C50:AG50,\"夏\")","v":0},{"$f":"COUNTIF(H50:AG50,\"職免\")","v":0}]
[null,"実施"]
[{"$f":"基本!A52","v":""},"予定",{"$f":"基本!C52","v":"日"},{"$f":"基本!D52","v":"日"},{"$f":"基本!E52","v":"日"},{"$f":"基本!F52","v":"日"},{"$f":"基本!G52","v":"日"},{"$f":"基本!H52","v":"日"},{"$f":"基本!I52","v":"日"},{"$f":"基本!J52","v":"日"},{"$f":"基本!K52","v":"日"},{"$f":"基本!L52","v":"日"},{"$f":"基本!M52","v":"日"},{"$f":"基本!N52","v":"日"},{"$f":"基本!O52","v":"日"},{"$f":"基本!P52","v":"日"},{"$f":"基本!Q52","v":"日"},{"$f":"基本!R52","v":"日"},{"$f":"基本!S52","v":"日"},{"$f":"基本!T52","v":"日"},{"$f":"基本!U52","v":"日"},{"$f":"基本!V52","v":"日"},{"$f":"基本!W52","v":"日"},{"$f":"基本!X52","v":"日"},{"$f":"基本!Y52","v":"日"},{"$f":"基本!Z52","v":"日"},{"$f":"基本!AA52","v":"日"},{"$f":"基本!AB52","v":"日"},{"$f":"基本!AC52","v":"日"},{"$f":"基本!AD52","v":"日"},{"$f":"基本!AE52","v":"日"},{"$f":"基本!AF52","v":"日"},{"$f":"基本!AG52","v":"日"},{"$f":"COUNTIF(C52:AG52,\"準\")","v":0},{"$f":"COUNTIF(C52:AG52,\"深\")","v":0},{"$f":"COUNTIF(C52:AG52,\"遅\")","v":0},{"$f":"COUNTIF(C52:AG52,\"中\")","v":0},{"$f":"COUNTIF(C52:AG52,\"早\")","v":0},{"$f":"COUNTIF(C52:AG52,\"／\")","v":0},{"$f":"COUNTIF(C52:AG52,\"年\")","v":0},{"$f":"COUNTIF(C52:AG52,\"夏\")","v":0},{"$f":"COUNTIF(H52:AG52,\"職免\")","v":0}]
[null,"実施"]
[{"$f":"基本!A54","v":""},"予定",{"$f":"基本!C54","v":0},{"$f":"基本!D54","v":0},{"$f":"基本!E54","v":0},{"$f":"基本!F54","v":0},{"$f":"基本!G54","v":0},{"$f":"基本!H54","v":0},{"$f":"基本!I54","v":0},{"$f":"基本!J54","v":0},{"$f":"基本!K54","v":0},{"$f":"基本!L54","v":0},{"$f":"基本!M54","v":0},{"$f":"基本!N54","v":0},{"$f":"基本!O54","v":0},{"$f":"基本!P54","v":0},{"$f":"基本!Q54","v":0},{"$f":"基本!R54","v":0},{"$f":"基本!S54","v":0},{"$f":"基本!T54","v":0},{"$f":"基本!U54","v":0},{"$f":"基本!V54","v":0},{"$f":"基本!W54","v":0},{"$f":"基本!X54","v":0},{"$f":"基本!Y54","v":0},{"$f":"基本!Z54","v":0},{"$f":"基本!AA54","v":0},{"$f":"基本!AB54","v":0},{"$f":"基本!AC54","v":0},{"$f":"基本!AD54","v":0},{"$f":"基本!AE54","v":0},{"$f":"基本!AF54","v":0},{"$f":"基本!AG54","v":0},{"$f":"COUNTIF(C54:AG54,\"準\")","v":0},{"$f":"COUNTIF(C54:AG54,\"深\")","v":0},{"$f":"COUNTIF(C54:AG54,\"遅\")","v":0},{"$f":"COUNTIF(C54:AG54,\"中\")","v":0},{"$f":"COUNTIF(C54:AG54,\"早\")","v":0},{"$f":"COUNTIF(C54:AG54,\"／\")","v":0},{"$f":"COUNTIF(C54:AG54,\"年\")","v":0},{"$f":"COUNTIF(C54:AG54,\"夏\")","v":0},{"$f":"COUNTIF(H54:AG54,\"職免\")","v":0}]
[null,"実施"]
[{"$f":"基本!A56","v":""},"予定",{"$f":"基本!C56","v":0},{"$f":"基本!D56","v":0},{"$f":"基本!E56","v":0},{"$f":"基本!F56","v":0},{"$f":"基本!G56","v":0},{"$f":"基本!H56","v":0},{"$f":"基本!I56","v":0},{"$f":"基本!J56","v":0},{"$f":"基本!K56","v":0},{"$f":"基本!L56","v":0},{"$f":"基本!M56","v":0},{"$f":"基本!N56","v":0},{"$f":"基本!O56","v":0},{"$f":"基本!P56","v":0},{"$f":"基本!Q56","v":0},{"$f":"基本!R56","v":0},{"$f":"基本!S56","v":0},{"$f":"基本!T56","v":0},{"$f":"基本!U56","v":0},{"$f":"基本!V56","v":0},{"$f":"基本!W56","v":0},{"$f":"基本!X56","v":0},{"$f":"基本!Y56","v":0},{"$f":"基本!Z56","v":0},{"$f":"基本!AA56","v":0},{"$f":"基本!AB56","v":0},{"$f":"基本!AC56","v":0},{"$f":"基本!AD56","v":0},{"$f":"基本!AE56","v":0},{"$f":"基本!AF56","v":0},{"$f":"基本!AG56","v":0},{"$f":"COUNTIF(C56:AG56,\"準\")","v":0},{"$f":"COUNTIF(C56:AG56,\"深\")","v":0},{"$f":"COUNTIF(C56:AG56,\"遅\")","v":0},{"$f":"COUNTIF(C56:AG56,\"中\")","v":0},{"$f":"COUNTIF(C56:AG56,\"早\")","v":0},{"$f":"COUNTIF(C56:AG56,\"／\")","v":0},{"$f":"COUNTIF(C56:AG56,\"年\")","v":0},{"$f":"COUNTIF(C56:AG56,\"夏\")","v":0},{"$f":"COUNTIF(H56:AG56,\"職免\")","v":0}]
[null,"実施"]
[{"$f":"基本!A58","v":""},"予定",{"$f":"基本!C58","v":0},{"$f":"基本!D58","v":0},{"$f":"基本!E58","v":0},{"$f":"基本!F58","v":0},{"$f":"基本!G58","v":0},{"$f":"基本!H58","v":0},{"$f":"基本!I58","v":0},{"$f":"基本!J58","v":0},{"$f":"基本!K58","v":0},{"$f":"基本!L58","v":0},{"$f":"基本!M58","v":0},{"$f":"基本!N58","v":0},{"$f":"基本!O58","v":0},{"$f":"基本!P58","v":0},{"$f":"基本!Q58","v":0},{"$f":"基本!R58","v":0},{"$f":"基本!S58","v":0},{"$f":"基本!T58","v":0},{"$f":"基本!U58","v":0},{"$f":"基本!V58","v":0},{"$f":"基本!W58","v":0},{"$f":"基本!X58","v":0},{"$f":"基本!Y58","v":0},{"$f":"基本!Z58","v":0},{"$f":"基本!AA58","v":0},{"$f":"基本!AB58","v":0},{"$f":"基本!AC58","v":0},{"$f":"基本!AD58","v":0},{"$f":"基本!AE58","v":0},{"$f":"基本!AF58","v":0},{"$f":"基本!AG58","v":0},{"$f":"COUNTIF(C58:AG58,\"準\")","v":0},{"$f":"COUNTIF(C58:AG58,\"深\")","v":0},{"$f":"COUNTIF(C58:AG58,\"遅\")","v":0},{"$f":"COUNTIF(C58:AG58,\"中\")","v":0},{"$f":"COUNTIF(C58:AG58,\"早\")","v":0},{"$f":"COUNTIF(C58:AG58,\"／\")","v":0},{"$f":"COUNTIF(C58:AG58,\"年\")","v":0},{"$f":"COUNTIF(C58:AG58,\"夏\")","v":0},{"$f":"COUNTIF(H58:AG58,\"職免\")","v":0}]
[null,"実施"]
[{"$f":"基本!A60","v":""},"予定",{"$f":"基本!C60","v":0},{"$f":"基本!D60","v":0},{"$f":"基本!E60","v":0},{"$f":"基本!F60","v":0},{"$f":"基本!G60","v":0},{"$f":"基本!H60","v":0},{"$f":"基本!I60","v":0},{"$f":"基本!J60","v":0},{"$f":"基本!K60","v":0},{"$f":"基本!L60","v":0},{"$f":"基本!M60","v":0},{"$f":"基本!N60","v":0},{"$f":"基本!O60","v":0},{"$f":"基本!P60","v":0},{"$f":"基本!Q60","v":0},{"$f":"基本!R60","v":0},{"$f":"基本!S60","v":0},{"$f":"基本!T60","v":0},{"$f":"基本!U60","v":0},{"$f":"基本!V60","v":0},{"$f":"基本!W60","v":0},{"$f":"基本!X60","v":0},{"$f":"基本!Y60","v":0},{"$f":"基本!Z60","v":0},{"$f":"基本!AA60","v":0},{"$f":"基本!AB60","v":0},{"$f":"基本!AC60","v":0},{"$f":"基本!AD60","v":0},{"$f":"基本!AE60","v":0},{"$f":"基本!AF60","v":0},{"$f":"基本!AG60","v":0},{"$f":"COUNTIF(C60:AG60,\"準\")","v":0},{"$f":"COUNTIF(C60:AG60,\"深\")","v":0},{"$f":"COUNTIF(C60:AG60,\"遅\")","v":0},{"$f":"COUNTIF(C60:AG60,\"中\")","v":0},{"$f":"COUNTIF(C60:AG60,\"早\")","v":0},{"$f":"COUNTIF(C60:AG60,\"／\")","v":0},{"$f":"COUNTIF(C60:AG60,\"年\")","v":0},{"$f":"COUNTIF(C60:AG60,\"夏\")","v":0},{"$f":"COUNTIF(H60:AG60,\"職免\")","v":0}]
[null,"実施"]
[{"$f":"基本!A62","v":""},"予定",{"$f":"基本!C60","v":0},{"$f":"基本!D60","v":0},{"$f":"基本!E60","v":0},{"$f":"基本!F60","v":0},{"$f":"基本!G60","v":0},{"$f":"基本!H60","v":0},{"$f":"基本!I60","v":0},{"$f":"基本!J60","v":0},{"$f":"基本!K60","v":0},{"$f":"基本!L60","v":0},{"$f":"基本!M60","v":0},{"$f":"基本!N60","v":0},{"$f":"基本!O60","v":0},{"$f":"基本!P60","v":0},{"$f":"基本!Q60","v":0},{"$f":"基本!R60","v":0},{"$f":"基本!S60","v":0},{"$f":"基本!T60","v":0},{"$f":"基本!U60","v":0},{"$f":"基本!V60","v":0},{"$f":"基本!W60","v":0},{"$f":"基本!X60","v":0},{"$f":"基本!Y60","v":0},{"$f":"基本!Z60","v":0},{"$f":"基本!AA60","v":0},{"$f":"基本!AB60","v":0},{"$f":"基本!AC60","v":0},{"$f":"基本!AD60","v":0},{"$f":"基本!AE60","v":0},{"$f":"基本!AF60","v":0},{"$f":"基本!AG60","v":0},{"$f":"COUNTIF(C62:AG62,\"準\")","v":0},{"$f":"COUNTIF(C62:AG62,\"深\")","v":0},{"$f":"COUNTIF(C62:AG62,\"遅\")","v":0},{"$f":"COUNTIF(C62:AG62,\"中\")","v":0},{"$f":"COUNTIF(C62:AG62,\"早\")","v":0},{"$f":"COUNTIF(C62:AG62,\"／\")","v":0},{"$f":"COUNTIF(C62:AG62,\"年\")","v":0},{"$f":"COUNTIF(C62:AG62,\"夏\")","v":0},{"$f":"COUNTIF(H62:AG62,\"職免\")","v":0}]
[null,"実施"]
[{"$f":"基本!A64","v":""},"予定",{"$f":"基本!C64","v":0},{"$f":"基本!D64","v":0},{"$f":"基本!E64","v":0},{"$f":"基本!F64","v":0},{"$f":"基本!G64","v":0},{"$f":"基本!H64","v":0},{"$f":"基本!I64","v":0},{"$f":"基本!J64","v":0},{"$f":"基本!K64","v":0},{"$f":"基本!L64","v":0},{"$f":"基本!M64","v":0},{"$f":"基本!N64","v":0},{"$f":"基本!O64","v":0},{"$f":"基本!P64","v":0},{"$f":"基本!Q64","v":0},{"$f":"基本!R64","v":0},{"$f":"基本!S64","v":0},{"$f":"基本!T64","v":0},{"$f":"基本!U64","v":0},{"$f":"基本!V64","v":0},{"$f":"基本!W64","v":0},{"$f":"基本!X64","v":0},{"$f":"基本!Y64","v":0},{"$f":"基本!Z64","v":0},{"$f":"基本!AA64","v":0},{"$f":"基本!AB64","v":0},{"$f":"基本!AC64","v":0},{"$f":"基本!AD64","v":0},{"$f":"基本!AE64","v":0},{"$f":"基本!AF64","v":0},{"$f":"基本!AG64","v":0},{"$f":"COUNTIF(C64:AG64,\"準\")","v":0},{"$f":"COUNTIF(C64:AG64,\"深\")","v":0},{"$f":"COUNTIF(C64:AG64,\"遅\")","v":0},{"$f":"COUNTIF(C64:AG64,\"中\")","v":0},{"$f":"COUNTIF(C64:AG64,\"早\")","v":0},{"$f":"COUNTIF(C64:AG64,\"／\")","v":0},{"$f":"COUNTIF(C64:AG64,\"年\")","v":0},{"$f":"COUNTIF(C64:AG64,\"夏\")","v":0},{"$f":"COUNTIF(H64:AG64,\"職免\")","v":0}]
[null,"実施"]
[null,"日",{"$f":"C4","v":"2025-08-01"},"2025-08-02","2025-08-03","2025-08-04","2025-08-05","2025-08-06","2025-08-07","2025-08-08","2025-08-09","2025-08-10","2025-08-11","2025-08-12","2025-08-13","2025-08-14","2025-08-15","2025-08-16","2025-08-17","2025-08-18","2025-08-19","2025-08-20","2025-08-21","2025-08-22","2025-08-23","2025-08-24","2025-08-25","2025-08-26","2025-08-27","2025-08-28","2025-08-29","2025-08-30","2025-08-31",{"$f":"SUM(AH6:AH65)","v":6},{"$f":"SUM(AI6:AI65)","v":9},0,0,0,15,0,0,0]
[null,"曜",{"$f":"C5","v":45870},45871,45872,45873,45874,45875,45876,45877,45878,45879,45880,45881,45882,45883,45884,45885,45886,45887,45888,45889,45890,45891,45892,45893,45894,45895,45896,45897,45898,45899,45900]
[null,null,{"$f":"IF(基本!C68=\"\",\"\",基本!C68)","v":""},{"$f":"IF(基本!D68=\"\",\"\",基本!D68)","v":""},{"$f":"IF(基本!E68=\"\",\"\",基本!E68)","v":""},{"$f":"IF(基本!F68=\"\",\"\",基本!F68)","v":""},{"$f":"IF(基本!G68=\"\",\"\",基本!G68)","v":""},{"$f":"IF(基本!H68=\"\",\"\",基本!H68)","v":""},{"$f":"IF(基本!I68=\"\",\"\",基本!I68)","v":""},{"$f":"IF(基本!J68=\"\",\"\",基本!J68)","v":""},{"$f":"IF(基本!K68=\"\",\"\",基本!K68)","v":""},{"$f":"IF(基本!L68=\"\",\"\",基本!L68)","v":""},{"$f":"IF(基本!M68=\"\",\"\",基本!M68)","v":""},{"$f":"IF(基本!N68=\"\",\"\",基本!N68)","v":""},{"$f":"IF(基本!O68=\"\",\"\",基本!O68)","v":""},{"$f":"IF(基本!P68=\"\",\"\",基本!P68)","v":""},{"$f":"IF(基本!Q68=\"\",\"\",基本!Q68)","v":""},{"$f":"IF(基本!R68=\"\",\"\",基本!R68)","v":""},{"$f":"IF(基本!S68=\"\",\"\",基本!S68)","v":""},{"$f":"IF(基本!T68=\"\",\"\",基本!T68)","v":""},{"$f":"IF(基本!U68=\"\",\"\",基本!U68)","v":""},{"$f":"IF(基本!V68=\"\",\"\",基本!V68)","v":""},{"$f":"IF(基本!W68=\"\",\"\",基本!W68)","v":""},{"$f":"IF(基本!X68=\"\",\"\",基本!X68)","v":""},{"$f":"IF(基本!Y68=\"\",\"\",基本!Y68)","v":""},{"$f":"IF(基本!Z68=\"\",\"\",基本!Z68)","v":""},{"$f":"IF(基本!AA68=\"\",\"\",基本!AA68)","v":""},{"$f":"IF(基本!AB68=\"\",\"\",基本!AB68)","v":""},{"$f":"IF(基本!AC68=\"\",\"\",基本!AC68)","v":""},{"$f":"IF(基本!AD68=\"\",\"\",基本!AD68)","v":""},{"$f":"IF(基本!AE68=\"\",\"\",基本!AE68)","v":""},{"$f":"IF(基本!AF68=\"\",\"\",基本!AF68)","v":""},{"$f":"IF(基本!AG68=\"\",\"\",基本!AG68)","v":""},null,null,null,{"$f":"SUM(AK6:AK67)","v":0},0,30,0,0,0]
["早出",null,{"$f":"COUNTIF(C6:C65,\"早\")","v":0},{"$f":"COUNTIF(D6:D65,\"早\")","v":0},0,0,0,0,0,0,0,0,0,0,0,0,0,0,0,0,0,0,0,0,0,0,0,0,0,0,0,0,0]
["日勤",null,{"$f":"COUNTIF(C6:C65,\"日\")","v":1},{"$f":"COUNTIF(D6:D65,\"日\")","v":1},1,2,2,2,2,1,3,2,3,1,2,3,4,3,2,2,2,2,2,2,3,2,3,3,1,1,2,2,3]
["準夜",null,{"$f":"COUNTIF(C6:C65,\"準\")","v":0},{"$f":"COUNTIF(D6:D65,\"準\")","v":0},0,0,0,0,0,0,0,0,0,1,0,0,0,0,1,0,1,0,0,0,0,0,0,0,0,1,1,1,0]
["深夜",null,{"$f":"COUNTIF(C6:C65,\"深\")","v":0},{"$f":"COUNTIF(D6:D65,\"深\")","v":0},0,1,1,0,1,0,0,1,0,0,0,1,0,0,0,1,0,0,0,0,0,1,1,1,0,0,0,0,0]
["遅出",null,{"$f":"COUNTIF(C6:C65,\"遅\")","v":0},{"$f":"COUNTIF(D6:D65,\"遅\")","v":0},0,0,0,0,0,0,0,0,0,0,0,0,0,0,0,0,0,0,0,0,0,0,0,0,0,0,0,0,0]
["中遅",null,{"$f":"COUNTIF(C6:C65,\"中\")","v":0},{"$f":"COUNTIF(D6:D65,\"中\")","v":0},0,0,0,0,0,0,0,0,0,0,0,0,0,0,0,0,0,0,0,0,0,0,0,0,0,0,0,0,0]
[]
[null,null,null,null,null,null,null,"日"]
[null,null,null,null,null,null,null,"早"]
[null,null,null,null,null,null,null,"☆"]
[null,null,null,null,null,null,null,"準"]
[null,null,null,null,null,null,null,"出張"]
[null,null,null,null,null,null,null,"■"]
[null,null,null,null,null,null,null,"／"]
[null,null,null,null,null,null,null,"年休"]
[null,null,null,null,null,null,null,"特休"]
[null,null,null,null,null,null,null,"夜×"]
[null,null,null,null,null,null,null,"日・早"]
[]
[]
[]
[]
[]
[]
[]
[]
[]
[]
[]
[]
[]
[]
[null,null,null,null,null,null,null,null,null,null,null,null,null,null,null,null,null,null,null,null,null,null,null,null,null,null,3]
[]
[]
[]
[]
[]
[]
[]
[]
[]
[]
[]
[]
[]
[]
[]
[]
[]
[]
[]
[]
[]
[]
[]
[]
[]
[]
[]
[]
[]
[]
[]
[]
[]
[]
[]
[]
[]
[]
[]
[]
[]
[]
[]
[]
[]
[]
[]
[]
[]
[]
[]
[]
[]
[]
[]
[]
[]
[]
[]
[]
[]
[]
[]
[]
[]
[]
[]
[]
[]
[]
[]
[]
[]
[]
[]
[]
[]
[]
[]
[]
[]
[]
[]
[]
[]
[]
[]
[]
[]
[]
[]
[]
[]
[]
[]
[]
[]
[]
[]
[]
[]
[]
[]
[]
[]
[]
[]
[]
[]
[]
[]
[]
[]
[]
[]
[]
[]
[]
[]
[]
[]
[]
[]
[]
[]
[]
[]
[]
[]
[]
[]
[]
[]
[]
[]
[]
[]
[]
[]
[]
[]
[]
[]
[]
[]
[]
[]
[]
[]
[]
[]
[]
[]
[]
[]
[]
[]
[]
[]
[]
[]
[]
[]
[]
[]
[]
[]
[]
[]
[]
[]
[]
[]
[]
[]
[]
[]
[]
[]
[]
[]
[]
[]
[]
[]
[]
[]
[]
[]
[]
[]
[]
[]
[]
[]
[]
[]
[]
[]
[]
[]
[]
[]
[]
[]
[]
[]
[]
[]
[]
[]
[]
[]
[]
[]
[]
[]
[]
[]
[]
[]
[]
[]
[]
[]
[]
[]
[]
[]
[]
[]
[]
[]
[]
[]
[]
[]
[]
[]
[]
[]
[]
[]
[]
[]
[]
[]
[]
[]
[]
[]
[]
[]
[]
[]
[]
[]
[]
[]
[]
[]
[]
[]
[]
[]
[]
[]
[]
[]
[]
[]
[]
[]
[]
[]
[]
[]
[]
[]
[]
[]
[]
[]
[]
[]
[]
[]
[]
[]
[]
[]
[]
[]
[]
[]
[]
[]
[]
[]
[]
[]
[]
[]
[]
[]
[]
[]
[]
[]
[]
[]
[]
[]
[]
[]
[]
[]
[]
[]
[]
[]
[]
[]
[]
[]
[]
[]
[]
[]
[]
[]
[]
[]
[]
[]
[]
[]
[]
[]
[]
[]
[]
[]
[]
[]
[]
[]
[]
[]
[]
[]
[]
[]
[]
[]
[]
[]
[]
[]
[]
[]
[]
[]
[]
[]
[]
[]
[]
[]
[]
[]
[]
[]
[]
[]
[]
[]
[]
[]
[]
[]
[]
[]
[]
[]
[]
[]
[]
[]
[]
[]
[]
[]
[]
[]
[]
[]
[]
[]
[]
[]
[]
[]
[]
[]
[]
[]
[]
[]
[]
[]
[]
[]
[]
[]
[]
[]
[]
[]
[]
[]
[]
[]
[]
[]
[]
[]
[]
[]
[null,null,null,null,null,null,null,null,null,null,null,null,null,null,null,null,null,null,null,null,null,null,null,null,null,null,null,null,null,null,null,null,null,null,null,null,null,null,null,null,null,null,null,null,null,null,null,null,null,null,null,null,null,null,null,null,null,null,null,null,null,null,null,null,null,null,null,null,null,null,null,null,null,null,null,null,null,null,null,null,null,null,null,null,null,null,null,null,null,null,null,null,null,null,null,null,null,null,null,null,null,null,null,null,null,null,null,null,null,null,null,null,null,null,null,null,null,null,null,null,null,null,null,null,null,null,null,null,null,null,null,null,null,null,null,null,null,null,null,null,null,null,null,null,null,null,null,null,null,null,null,null,null,null,null,null,null,null,null,null,null,null,null,null,4]

{"sheet":"総務事務版","index":3,"n_rows":531,"n_cols":242,"rows_kept":531,"cut":false,"hidden":false,"merged":[[29,0,30,0],[31,0,32,0],[37,0,38,0],[33,0,34,0],[3,42,4,42],[3,43,4,43],[3,38,4,38],[3,35,4,35],[3,33,4,33],[13,0,14,0],[3,41,4,41],[3,40,4,40],[3,39,4,39],[3,36,4,36],[3,37,4,37],[3,34,4,34],[65,0,66,0],[27,0,28,0],[5,0,6,0],[7,0,8,0],[9,0,10,0],[25,0,26,0],[23,0,24,0],[35,0,36,0],[63,0,64,0],[11,0,12,0],[21,0,22,0],[15,0,16,0],[17,0,18,0],[19,0,20,0],[39,0,40,0],[41,0,42,0],[43,0,44,0],[45,0,46,0],[47,0,48,0],[49,0,50,0],[51,0,52,0],[53,0,54,0],[55,0,56,0],[57,0,58,0],[59,0,60,0],[61,0,62,0]]}
[{"$f":"基本!A1","v":45870},{"$f":"A1","v":"2025-08-01"},"月",null,"【　　　　　】勤務表予定表・実施表"]
[]
[]
[null,"日",{"$f":"$A$1","v":"2025-08-01"},{"$f":"$A$1+1","v":"2025-08-02"},{"$f":"$A$1+2","v":"2025-08-03"},{"$f":"$A$1+3","v":"2025-08-04"},{"$f":"$A$1+4","v":"2025-08-05"},{"$f":"$A$1+5","v":"2025-08-06"},{"$f":"$A$1+6","v":"2025-08-07"},{"$f":"$A$1+7","v":"2025-08-08"},{"$f":"$A$1+8","v":"2025-08-09"},{"$f":"$A$1+9","v":"2025-08-10"},{"$f":"$A$1+10","v":"2025-08-11"},{"$f":"$A$1+11","v":"2025-08-12"},{"$f":"$A$1+12","v":"2025-08-13"},{"$f":"$A$1+13","v":"2025-08-14"},{"$f":"$A$1+14","v":"2025-08-15"},{"$f":"$A$1+15","v":"2025-08-16"},{"$f":"$A$1+16","v":"2025-08-17"},{"$f":"$A$1+17","v":"2025-08-18"},{"$f":"$A$1+18","v":"2025-08-19"},{"$f":"$A$1+19","v":"2025-08-20"},{"$f":"$A$1+20","v":"2025-08-21"},{"$f":"$A$1+21","v":"2025-08-22"},{"$f":"$A$1+22","v":"2025-08-23"},{"$f":"$A$1+23","v":"2025-08-24"},{"$f":"$A$1+24","v":"2025-08-25"},{"$f":"$A$1+25","v":"2025-08-26"},{"$f":"$A$1+26","v":"2025-08-27"},{"$f":"$A$1+27","v":"2025-08-28"},{"$f":"IF(DAY($A$1+28)>10,A1+28,\"\")","v":"2025-08-29"},{"$f":"IF(DAY($A$1+29)>10,A1+29,\"\")","v":"2025-08-30"},{"$f":"IF(DAY($A$1+30)>10,A1+30,\"\")","v":"2025-08-31"},"準夜","深夜","遅出","中遅","早出","週休","年休","夏期","職免"]
[null,"曜",{"$f":"C4","v":45870},45871,45872,45873,45874,45875,45876,45877,45878,45879,45880,45881,45882,45883,45884,45885,45886,45887,45888,45889,45890,45891,45892,45893,45894,45895,45896,45897,45898,45899,45900]
[{"$f":"基本!A6","v":"病院　太郎"},"予定","祭日","祭／","祭／","日","日","日直","／","祭／","年／","日","日","師日当","明け","日","日","日","日","日","日","／","当直","*730","日","年／","日","日","／","／","日","日","日",{"$f":"COUNTIF(C6:AG6,\"準\")","v":0},{"$f":"COUNTIF(C6:AG6,\"深\")","v":0},{"$f":"COUNTIF(C6:AG6,\"遅3\")","v":0},{"$f":"COUNTIF(C6:AG6,\"遅1\")","v":0},{"$f":"COUNTIF(C6:AG6,\"早\")","v":0},{"$f":"COUNTIF(C6:AG6,\"／\")","v":4},{"$f":"COUNTIF(C6:AG6,\"年\")","v":0},{"$f":"COUNTIF(C6:AG6,\"夏\")","v":0},{"$f":"COUNTIF(H6:AG6,\"職免\")","v":0}]
[null,"実施","祭/","","","","","","","","","","師会","","","/","タスク","介助","","","","","","","","","","","","","","",""]
[{"$f":"基本!A8","v":"病院　次郎"},"予定","祭／","祭／","祭日","／","深","／","深","祭深","日","／","日","準","*／","日","日","日","準","*準","*／","日","日","日","／","深","深","日","／","／","準","*1230","日",{"$f":"COUNTIF(C8:AG8,\"準\")","v":3},{"$f":"COUNTIF(C8:AG8,\"深\")","v":4},{"$f":"COUNTIF(C8:AG8,\"遅3\")","v":0},{"$f":"COUNTIF(C8:AG8,\"遅1\")","v":0},{"$f":"COUNTIF(C8:AG8,\"早\")","v":0},{"$f":"COUNTIF(C8:AG8,\"／\")","v":6},{"$f":"COUNTIF(C8:AG8,\"年\")","v":0},{"$f":"COUNTIF(C8:AG8,\"夏\")","v":0},{"$f":"COUNTIF(H8:AG8,\"職免\")","v":0}]
[null,"実施","","","祭/","","","研修","","","健学","","","","","","副","学","","","","","","","","","","","","","","",""]
[{"$f":"基本!A10","v":"病院　三郎"},"予定","祭準","*祭／","祭／","深","1230","日","日","祭／","日","深","A免","／","日","深","日","／","0700","深","準","*／","／","／","日","日","日","深","／","準","*／","準","*／",{"$f":"COUNTIF(C10:AG10,\"準\")","v":3},{"$f":"COUNTIF(C10:AG10,\"深\")","v":5},{"$f":"COUNTIF(C10:AG10,\"遅3\")","v":0},{"$f":"COUNTIF(C10:AG10,\"遅1\")","v":0},{"$f":"COUNTIF(C10:AG10,\"早\")","v":0},{"$f":"COUNTIF(C10:AG10,\"／\")","v":5},{"$f":"COUNTIF(C10:AG10,\"年\")","v":0},{"$f":"COUNTIF(C10:AG10,\"夏\")","v":0},{"$f":"COUNTIF(H10:AG10,\"職免\")","v":0},1]
[null,"実施","","","","","教育","","","","検代","","ドッグ","","","","副","","","","","","","","","研修","深X","","","","","",""]
[{"$f":"基本!A12","v":""},"予定",null,null,null,null,null,null,null,null,null,null,null,null,null,null,null,null,null,null,null,null,null,null,null,null,null,null,null,null,null,null,null,{"$f":"COUNTIF(C12:AG12,\"準\")","v":0},{"$f":"COUNTIF(C12:AG12,\"深\")","v":0},{"$f":"COUNTIF(C12:AG12,\"遅3\")","v":0},{"$f":"COUNTIF(C12:AG12,\"遅1\")","v":0},{"$f":"COUNTIF(C12:AG12,\"早\")","v":0},{"$f":"COUNTIF(C12:AG12,\"／\")","v":0},{"$f":"COUNTIF(C12:AG12,\"年\")","v":0},{"$f":"COUNTIF(C12:AG12,\"夏\")","v":0},{"$f":"COUNTIF(H12:AG12,\"職免\")","v":0},3]
[null,"実施"]
[{"$f":"基本!A14","v":""},"予定",null,null,null,null,null,null,null,null,null,null,null,null,null,null,null,null,null,null,null,null,null,null,null,null,null,null,null,null,null,null,null,{"$f":"COUNTIF(C14:AG14,\"準\")","v":0},{"$f":"COUNTIF(C14:AG14,\"深\")","v":0},{"$f":"COUNTIF(C14:AG14,\"遅3\")","v":0},{"$f":"COUNTIF(C14:AG14,\"遅1\")","v":0},{"$f":"COUNTIF(C14:AG14,\"早\")","v":0},{"$f":"COUNTIF(C14:AG14,\"／\")","v":0},{"$f":"COUNTIF(C14:AG14,\"年\")","v":0},{"$f":"COUNTIF(C14:AG14,\"夏\")","v":0},{"$f":"COUNTIF(H14:AG14,\"職免\")","v":0},1]
[null,"実施"]
[{"$f":"基本!A16","v":""},"予定",null,null,null,null,null,null,null,null,null,null,null,null,null,null,null,null,null,null,null,null,null,null,null,null,null,null,null,null,null,null,null,{"$f":"COUNTIF(C16:AG16,\"準\")","v":0},{"$f":"COUNTIF(C16:AG16,\"深\")","v":0},{"$f":"COUNTIF(C16:AG16,\"遅3\")","v":0},{"$f":"COUNTIF(C16:AG16,\"遅1\")","v":0},{"$f":"COUNTIF(C16:AG16,\"早\")","v":0},{"$f":"COUNTIF(C16:AG16,\"／\")","v":0},{"$f":"COUNTIF(C16:AG16,\"年\")","v":0},{"$f":"COUNTIF(C16:AG16,\"夏\")","v":0},{"$f":"COUNTIF(H16:AG16,\"職免\")","v":0},1]
[null,"実施"]
[{"$f":"基本!A18","v":""},"予定",null,null,null,null,null,null,null,null,null,null,null,null,null,null,null,null,null,null,null,null,null,null,null,null,null,null,null,null,null,null,null,{"$f":"COUNTIF(C18:AG18,\"準\")","v":0},{"$f":"COUNTIF(C18:AG18,\"深\")","v":0},{"$f":"COUNTIF(C18:AG18,\"遅3\")","v":0},{"$f":"COUNTIF(C18:AG18,\"遅1\")","v":0},{"$f":"COUNTIF(C18:AG18,\"早\")","v":0},{"$f":"COUNTIF(C18:AG18,\"／\")","v":0},{"$f":"COUNTIF(C18:AG18,\"年\")","v":0},{"$f":"COUNTIF(C18:AG18,\"夏\")","v":0},{"$f":"COUNTIF(H18:AG18,\"職免\")","v":0}]
[null,"実施"]
[{"$f":"基本!A20","v":""},"予定",null,null,null,null,null,null,null,null,null,null,null,null,null,null,null,null,null,null,null,null,null,null,null,null,null,null,null,null,null,null,null,{"$f":"COUNTIF(C20:AG20,\"準\")","v":0},{"$f":"COUNTIF(C20:AG20,\"深\")","v":0},{"$f":"COUNTIF(C20:AG20,\"遅3\")","v":0},{"$f":"COUNTIF(C20:AG20,\"遅1\")","v":0},{"$f":"COUNTIF(C20:AG20,\"早\")","v":0},{"$f":"COUNTIF(C20:AG20,\"／\")","v":0},{"$f":"COUNTIF(C20:AG20,\"年\")","v":0},{"$f":"COUNTIF(C20:AG20,\"夏\")","v":0},{"$f":"COUNTIF(H20:AG20,\"職免\")","v":0},2]
[null,"実施"]
[{"$f":"基本!A22","v":""},"予定",null,null,null,null,null,null,null,null,null,null,null,null,null,null,null,null,null,null,null,null,null,null,null,null,null,null,null,null,null,null,null,{"$f":"COUNTIF(C22:AG22,\"準\")","v":0},{"$f":"COUNTIF(C22:AG22,\"深\")","v":0},{"$f":"COUNTIF(C22:AG22,\"遅3\")","v":0},{"$f":"COUNTIF(C22:AG22,\"遅1\")","v":0},{"$f":"COUNTIF(C22:AG22,\"早\")","v":0},{"$f":"COUNTIF(C22:AG22,\"／\")","v":0},{"$f":"COUNTIF(C22:AG22,\"年\")","v":0},{"$f":"COUNTIF(C22:AG22,\"夏\")","v":0},{"$f":"COUNTIF(H22:AG22,\"職免\")","v":0},1]
[null,"実施"]
[{"$f":"基本!A24","v":""},"予定",null,null,null,null,null,null,null,null,null,null,null,null,null,null,null,null,null,null,null,null,null,null,null,null,null,null,null,null,null,null,null,{"$f":"COUNTIF(C24:AG24,\"準\")","v":0},{"$f":"COUNTIF(C24:AG24,\"深\")","v":0},{"$f":"COUNTIF(C24:AG24,\"遅3\")","v":0},{"$f":"COUNTIF(C24:AG24,\"遅1\")","v":0},{"$f":"COUNTIF(C24:AG24,\"早\")","v":0},{"$f":"COUNTIF(C24:AG24,\"／\")","v":0},{"$f":"COUNTIF(C24:AG24,\"年\")","v":0},{"$f":"COUNTIF(C24:AG24,\"夏\")","v":0},{"$f":"COUNTIF(H24:AG24,\"職免\")","v":0}]
[null,"実施"]
[{"$f":"基本!A26","v":""},"予定",null,null,null,null,null,null,null,null,null,null,null,null,null,null,null,null,null,null,null,null,null,null,null,null,null,null,null,null,null,null,null,{"$f":"COUNTIF(C26:AG26,\"準\")","v":0},{"$f":"COUNTIF(C26:AG26,\"深\")","v":0},{"$f":"COUNTIF(C26:AG26,\"遅3\")","v":0},{"$f":"COUNTIF(C26:AG26,\"遅1\")","v":0},{"$f":"COUNTIF(C26:AG26,\"早\")","v":0},{"$f":"COUNTIF(C26:AG26,\"／\")","v":0},{"$f":"COUNTIF(C26:AG26,\"年\")","v":0},{"$f":"COUNTIF(C26:AG26,\"夏\")","v":0},{"$f":"COUNTIF(H26:AG26,\"職免\")","v":0},1]
[null,"実施"]
[{"$f":"基本!A28","v":""},"予定",null,null,null,null,null,null,null,null,null,null,null,null,null,null,null,null,null,null,null,null,null,null,null,null,null,null,null,null,null,null,null,{"$f":"COUNTIF(C28:AG28,\"準\")","v":0},{"$f":"COUNTIF(C28:AG28,\"深\")","v":0},{"$f":"COUNTIF(C28:AG28,\"遅3\")","v":0},{"$f":"COUNTIF(C28:AG28,\"遅1\")","v":0},{"$f":"COUNTIF(C28:AG28,\"早\")","v":0},{"$f":"COUNTIF(C28:AG28,\"／\")","v":0},{"$f":"COUNTIF(C28:AG28,\"年\")","v":0},{"$f":"COUNTIF(C28:AG28,\"夏\")","v":0},{"$f":"COUNTIF(H28:AG28,\"職免\")","v":0}]
[null,"実施"]
[{"$f":"基本!A30","v":""},"予定",null,null,null,null,null,null,null,null,null,null,null,null,null,null,null,null,null,null,null,null,null,null,null,null,null,null,null,null,null,null,null,{"$f":"COUNTIF(C30:AG30,\"準\")","v":0},{"$f":"COUNTIF(C30:AG30,\"深\")","v":0},{"$f":"COUNTIF(C30:AG30,\"遅3\")","v":0},{"$f":"COUNTIF(C30:AG30,\"遅1\")","v":0},{"$f":"COUNTIF(C30:AG30,\"早\")","v":0},{"$f":"COUNTIF(C30:AG30,\"／\")","v":0},{"$f":"COUNTIF(C30:AG30,\"年\")","v":0},{"$f":"COUNTIF(C30:AG30,\"夏\")","v":0},{"$f":"COUNTIF(H30:AG30,\"職免\")","v":0},1]
[null,"実施"]
[{"$f":"基本!A32","v":""},"予定",null,null,null,null,null,null,null,null,null,null,null,null,null,null,null,null,null,null,null,null,null,null,null,null,null,null,null,null,null,null,null,{"$f":"COUNTIF(C32:AG32,\"準\")","v":0},{"$f":"COUNTIF(C32:AG32,\"深\")","v":0},{"$f":"COUNTIF(C32:AG32,\"遅3\")","v":0},{"$f":"COUNTIF(C32:AG32,\"遅1\")","v":0},{"$f":"COUNTIF(C32:AG32,\"早\")","v":0},{"$f":"COUNTIF(C32:AG32,\"／\")","v":0},{"$f":"COUNTIF(C32:AG32,\"年\")","v":0},{"$f":"COUNTIF(C32:AG32,\"夏\")","v":0},{"$f":"COUNTIF(H32:AG32,\"職免\")","v":0}]
[null,"実施"]
[{"$f":"基本!A34","v":""},"予定",null,null,null,null,null,null,null,null,null,null,null,null,null,null,null,null,null,null,null,null,null,null,null,null,null,null,null,null,null,null,null,{"$f":"COUNTIF(C34:AG34,\"準\")","v":0},{"$f":"COUNTIF(C34:AG34,\"深\")","v":0},{"$f":"COUNTIF(C34:AG34,\"遅3\")","v":0},{"$f":"COUNTIF(C34:AG34,\"遅1\")","v":0},{"$f":"COUNTIF(C34:AG34,\"早\")","v":0},{"$f":"COUNTIF(C34:AG34,\"／\")","v":0},{"$f":"COUNTIF(C34:AG34,\"年\")","v":0},{"$f":"COUNTIF(C34:AG34,\"夏\")","v":0},{"$f":"COUNTIF(H34:AG34,\"職免\")","v":0},1]
[null,"実施"]
[{"$f":"基本!A36","v":""},"予定",null,null,null,null,null,null,null,null,null,null,null,null,null,null,null,null,null,null,null,null,null,null,null,null,null,null,null,null,null,null,null,{"$f":"COUNTIF(C36:AG36,\"準\")","v":0},{"$f":"COUNTIF(C36:AG36,\"深\")","v":0},{"$f":"COUNTIF(C36:AG36,\"遅3\")","v":0},{"$f":"COUNTIF(C36:AG36,\"遅1\")","v":0},{"$f":"COUNTIF(C36:AG36,\"早\")","v":0},{"$f":"COUNTIF(C36:AG36,\"／\")","v":0},{"$f":"COUNTIF(C36:AG36,\"年\")","v":0},{"$f":"COUNTIF(C36:AG36,\"夏\")","v":0},{"$f":"COUNTIF(H36:AG36,\"職免\")","v":0}]
[null,"実施"]
[{"$f":"基本!A38","v":""},"予定",null,null,null,null,null,null,null,null,null,null,null,null,null,null,null,null,null,null,null,null,null,null,null,null,null,null,null,null,null,null,null,{"$f":"COUNTIF(C38:AG38,\"準\")","v":0},{"$f":"COUNTIF(C38:AG38,\"深\")","v":0},{"$f":"COUNTIF(C38:AG38,\"遅3\")","v":0},{"$f":"COUNTIF(C38:AG38,\"遅1\")","v":0},{"$f":"COUNTIF(C38:AG38,\"早\")","v":0},{"$f":"COUNTIF(C38:AG38,\"／\")","v":0},{"$f":"COUNTIF(C38:AG38,\"年\")","v":0},{"$f":"COUNTIF(C38:AG38,\"夏\")","v":0},{"$f":"COUNTIF(H38:AG38,\"職免\")","v":0}]
[null,"実施"]
[{"$f":"基本!A40","v":""},"予定",null,null,null,null,null,null,null,null,null,null,null,null,null,null,null,null,null,null,null,null,null,null,null,null,null,null,null,null,null,null,null,{"$f":"COUNTIF(C40:AG40,\"準\")","v":0},{"$f":"COUNTIF(C40:AG40,\"深\")","v":0},{"$f":"COUNTIF(C40:AG40,\"遅3\")","v":0},{"$f":"COUNTIF(C40:AG40,\"遅1\")","v":0},{"$f":"COUNTIF(C40:AG40,\"早\")","v":0},{"$f":"COUNTIF(C40:AG40,\"／\")","v":0},{"$f":"COUNTIF(C40:AG40,\"年\")","v":0},{"$f":"COUNTIF(C40:AG40,\"夏\")","v":0},{"$f":"COUNTIF(H40:AG40,\"職免\")","v":0}]
[null,"実施"]
[{"$f":"基本!A42","v":""},"予定",null,null,null,null,null,null,null,null,null,null,null,null,null,null,null,null,null,null,null,null,null,null,null,null,null,null,null,null,null,null,null,{"$f":"COUNTIF(C42:AG42,\"準\")","v":0},{"$f":"COUNTIF(C42:AG42,\"深\")","v":0},{"$f":"COUNTIF(C42:AG42,\"遅3\")","v":0},{"$f":"COUNTIF(C42:AG42,\"遅1\")","v":0},{"$f":"COUNTIF(C42:AG42,\"早\")","v":0},{"$f":"COUNTIF(C42:AG42,\"／\")","v":0},{"$f":"COUNTIF(C42:AG42,\"年\")","v":0},{"$f":"COUNTIF(C42:AG42,\"夏\")","v":0},{"$f":"COUNTIF(H42:AG42,\"職免\")","v":0}]
[null,"実施"]
[{"$f":"基本!A44","v":""},"予定",null,null,null,null,null,null,null,null,null,null,null,null,null,null,null,null,null,null,null,null,null,null,null,null,null,null,null,null,null,null,null,{"$f":"COUNTIF(C44:AG44,\"準\")","v":0},{"$f":"COUNTIF(C44:AG44,\"深\")","v":0},{"$f":"COUNTIF(C44:AG44,\"遅3\")","v":0},{"$f":"COUNTIF(C44:AG44,\"遅1\")","v":0},{"$f":"COUNTIF(C44:AG44,\"早\")","v":0},{"$f":"COUNTIF(C44:AG44,\"／\")","v":0},{"$f":"COUNTIF(C44:AG44,\"年\")","v":0},{"$f":"COUNTIF(C44:AG44,\"夏\")","v":0},{"$f":"COUNTIF(H44:AG44,\"職免\")","v":0}]
[null,"実施"]
[{"$f":"基本!A46","v":""},"予定",null,null,null,null,null,null,null,null,null,null,null,null,null,null,null,null,null,null,null,null,null,null,null,null,null,null,null,null,null,null,null,{"$f":"COUNTIF(C46:AG46,\"準\")","v":0},{"$f":"COUNTIF(C46:AG46,\"深\")","v":0},{"$f":"COUNTIF(C46:AG46,\"遅3\")","v":0},{"$f":"COUNTIF(C46:AG46,\"遅1\")","v":0},{"$f":"COUNTIF(C46:AG46,\"早\")","v":0},{"$f":"COUNTIF(C46:AG46,\"／\")","v":0},{"$f":"COUNTIF(C46:AG46,\"年\")","v":0},{"$f":"COUNTIF(C46:AG46,\"夏\")","v":0},{"$f":"COUNTIF(H46:AG46,\"職免\")","v":0}]
[null,"実施"]
[{"$f":"基本!A48","v":""},"予定",null,null,null,null,null,null,null,null,null,null,null,null,null,null,null,null,null,null,null,null,null,null,null,null,null,null,null,null,null,null,null,{"$f":"COUNTIF(C48:AG48,\"準\")","v":0},{"$f":"COUNTIF(C48:AG48,\"深\")","v":0},{"$f":"COUNTIF(C48:AG48,\"遅3\")","v":0},{"$f":"COUNTIF(C48:AG48,\"遅1\")","v":0},{"$f":"COUNTIF(C48:AG48,\"早\")","v":0},{"$f":"COUNTIF(C48:AG48,\"／\")","v":0},{"$f":"COUNTIF(C48:AG48,\"年\")","v":0},{"$f":"COUNTIF(C48:AG48,\"夏\")","v":0},{"$f":"COUNTIF(H48:AG48,\"職免\")","v":0}]
[null,"実施"]
[{"$f":"基本!A50","v":""},"予定",null,null,null,null,null,null,null,null,null,null,null,null,null,null,null,null,null,null,null,null,null,null,null,null,null,null,null,null,null,null,null,{"$f":"COUNTIF(C50:AG50,\"準\")","v":0},{"$f":"COUNTIF(C50:AG50,\"深\")","v":0},{"$f":"COUNTIF(C50:AG50,\"遅3\")","v":0},{"$f":"COUNTIF(C50:AG50,\"遅1\")","v":0},{"$f":"COUNTIF(C50:AG50,\"早\")","v":0},{"$f":"COUNTIF(C50:AG50,\"／\")","v":0},{"$f":"COUNTIF(C50:AG50,\"年\")","v":0},{"$f":"COUNTIF(C50:AG50,\"夏\")","v":0},{"$f":"COUNTIF(H50:AG50,\"職免\")","v":0}]
[null,"実施"]
[{"$f":"基本!A52","v":""},"予定",null,null,null,null,null,null,null,null,null,null,null,null,null,null,null,null,null,null,null,null,null,null,null,null,null,null,null,null,null,null,null,{"$f":"COUNTIF(C52:AG52,\"準\")","v":0},{"$f":"COUNTIF(C52:AG52,\"深\")","v":0},{"$f":"COUNTIF(C52:AG52,\"遅3\")","v":0},{"$f":"COUNTIF(C52:AG52,\"遅1\")","v":0},{"$f":"COUNTIF(C52:AG52,\"早\")","v":0},{"$f":"COUNTIF(C52:AG52,\"／\")","v":0},{"$f":"COUNTIF(C52:AG52,\"年\")","v":0},{"$f":"COUNTIF(C52:AG52,\"夏\")","v":0},{"$f":"COUNTIF(H52:AG52,\"職免\")","v":0}]
[null,"実施","","","","","","","","","","","","","","","","","","","","","","","","","","","","","","",""]
[{"$f":"基本!A54","v":""},"予定",null,null,null,null,null,null,null,null,null,null,null,null,null,null,null,null,null,null,null,null,null,null,null,null,null,null,null,null,null,null,null,{"$f":"COUNTIF(C54:AG54,\"準\")","v":0},{"$f":"COUNTIF(C54:AG54,\"深\")","v":0},{"$f":"COUNTIF(C54:AG54,\"遅3\")","v":0},{"$f":"COUNTIF(C54:AG54,\"遅1\")","v":0},{"$f":"COUNTIF(C54:AG54,\"早\")","v":0},{"$f":"COUNTIF(C54:AG54,\"／\")","v":0},{"$f":"COUNTIF(C54:AG54,\"年\")","v":0},{"$f":"COUNTIF(C54:AG54,\"夏\")","v":0},{"$f":"COUNTIF(H54:AG54,\"職免\")","v":0}]
[null,"実施"]
[{"$f":"基本!A56","v":""},"予定",null,null,null,null,null,null,null,null,null,null,null,null,null,null,null,null,null,null,null,null,null,null,null,null,null,null,null,null,null,null,null,{"$f":"COUNTIF(C56:AG56,\"準\")","v":0},{"$f":"COUNTIF(C56:AG56,\"深\")","v":0},{"$f":"COUNTIF(C56:AG56,\"遅3\")","v":0},{"$f":"COUNTIF(C56:AG56,\"遅1\")","v":0},{"$f":"COUNTIF(C56:AG56,\"早\")","v":0},{"$f":"COUNTIF(C56:AG56,\"／\")","v":0},{"$f":"COUNTIF(C56:AG56,\"年\")","v":0},{"$f":"COUNTIF(C56:AG56,\"夏\")","v":0},{"$f":"COUNTIF(H56:AG56,\"職免\")","v":0}]
[null,"実施"]
[{"$f":"基本!A58","v":""},"予定",null,null,null,null,null,null,null,null,null,null,null,null,null,null,null,null,null,null,null,null,null,null,null,null,null,null,null,null,null,null,null,{"$f":"COUNTIF(C58:AG58,\"準\")","v":0},{"$f":"COUNTIF(C58:AG58,\"深\")","v":0},{"$f":"COUNTIF(C58:AG58,\"遅3\")","v":0},{"$f":"COUNTIF(C58:AG58,\"遅1\")","v":0},{"$f":"COUNTIF(C58:AG58,\"早\")","v":0},{"$f":"COUNTIF(C58:AG58,\"／\")","v":0},{"$f":"COUNTIF(C58:AG58,\"年\")","v":0},{"$f":"COUNTIF(C58:AG58,\"夏\")","v":0},{"$f":"COUNTIF(H58:AG58,\"職免\")","v":0}]
[null,"実施"]
[{"$f":"基本!A60","v":""},"予定",null,null,null,null,null,null,null,null,null,null,null,null,null,null,null,null,null,null,null,null,null,null,null,null,null,null,null,null,null,null,null,{"$f":"COUNTIF(C60:AG60,\"準\")","v":0},{"$f":"COUNTIF(C60:AG60,\"深\")","v":0},{"$f":"COUNTIF(C60:AG60,\"遅3\")","v":0},{"$f":"COUNTIF(C60:AG60,\"遅1\")","v":0},{"$f":"COUNTIF(C60:AG60,\"早\")","v":0},{"$f":"COUNTIF(C60:AG60,\"／\")","v":0},{"$f":"COUNTIF(C60:AG60,\"年\")","v":0},{"$f":"COUNTIF(C60:AG60,\"夏\")","v":0},{"$f":"COUNTIF(H60:AG60,\"職免\")","v":0}]
[null,"実施"]
[{"$f":"基本!A62","v":""},"予定",null,null,null,null,null,null,null,null,null,null,null,null,null,null,null,null,null,null,null,null,null,null,null,null,null,null,null,null,null,null,null,{"$f":"COUNTIF(C62:AG62,\"準\")","v":0},{"$f":"COUNTIF(C62:AG62,\"深\")","v":0},{"$f":"COUNTIF(C62:AG62,\"遅3\")","v":0},{"$f":"COUNTIF(C62:AG62,\"遅1\")","v":0},{"$f":"COUNTIF(C62:AG62,\"早\")","v":0},{"$f":"COUNTIF(C62:AG62,\"／\")","v":0},{"$f":"COUNTIF(C62:AG62,\"年\")","v":0},{"$f":"COUNTIF(C62:AG62,\"夏\")","v":0},{"$f":"COUNTIF(H62:AG62,\"職免\")","v":0}]
[null,"実施"]
[{"$f":"基本!A64","v":""},"予定",null,null,null,null,null,null,null,null,null,null,null,null,null,null,null,null,null,null,null,null,null,null,null,null,null,null,null,null,null,null,null,{"$f":"COUNTIF(C64:AG64,\"準\")","v":0},{"$f":"COUNTIF(C64:AG64,\"深\")","v":0},{"$f":"COUNTIF(C64:AG64,\"遅3\")","v":0},{"$f":"COUNTIF(C64:AG64,\"遅1\")","v":0},{"$f":"COUNTIF(C64:AG64,\"早\")","v":0},{"$f":"COUNTIF(C64:AG64,\"／\")","v":0},{"$f":"COUNTIF(C64:AG64,\"年\")","v":0},{"$f":"COUNTIF(C64:AG64,\"夏\")","v":0},{"$f":"COUNTIF(H64:AG64,\"職免\")","v":0}]
[null,"実施"]
[null,"日",{"$f":"C4","v":"2025-08-01"},"2025-08-02","2025-08-03","2025-08-04","2025-08-05","2025-08-06","2025-08-07","2025-08-08","2025-08-09","2025-08-10","2025-08-11","2025-08-12","2025-08-13","2025-08-14","2025-08-15","2025-08-16","2025-08-17","2025-08-18","2025-08-19","2025-08-20","2025-08-21","2025-08-22","2025-08-23","2025-08-24","2025-08-25","2025-08-26","2025-08-27","2025-08-28","2025-08-29","2025-08-30","2025-08-31",{"$f":"SUM(AH6:AH39)","v":6},9,0,0,0,15,0,0,0]
[null,"曜",{"$f":"C5","v":45870},45871,45872,45873,45874,45875,45876,45877,45878,45879,45880,45881,45882,45883,45884,45885,45886,45887,45888,45889,45890,45891,45892,45893,45894,45895,45896,45897,45898,45899,45900]
[null,null,{"$f":"IF(基本!C68=\"\",\"\",基本!C68)","v":""},{"$f":"IF(基本!D68=\"\",\"\",基本!D68)","v":""},{"$f":"IF(基本!E68=\"\",\"\",基本!E68)","v":""},{"$f":"IF(基本!F68=\"\",\"\",基本!F68)","v":""},{"$f":"IF(基本!G68=\"\",\"\",基本!G68)","v":""},{"$f":"IF(基本!H68=\"\",\"\",基本!H68)","v":""},{"$f":"IF(基本!I68=\"\",\"\",基本!I68)","v":""},{"$f":"IF(基本!J68=\"\",\"\",基本!J68)","v":""},{"$f":"IF(基本!K68=\"\",\"\",基本!K68)","v":""},{"$f":"IF(基本!L68=\"\",\"\",基本!L68)","v":""},{"$f":"IF(基本!M68=\"\",\"\",基本!M68)","v":""},{"$f":"IF(基本!N68=\"\",\"\",基本!N68)","v":""},{"$f":"IF(基本!O68=\"\",\"\",基本!O68)","v":""},{"$f":"IF(基本!P68=\"\",\"\",基本!P68)","v":""},{"$f":"IF(基本!Q68=\"\",\"\",基本!Q68)","v":""},{"$f":"IF(基本!R68=\"\",\"\",基本!R68)","v":""},{"$f":"IF(基本!S68=\"\",\"\",基本!S68)","v":""},{"$f":"IF(基本!T68=\"\",\"\",基本!T68)","v":""},{"$f":"IF(基本!U68=\"\",\"\",基本!U68)","v":""},{"$f":"IF(基本!V68=\"\",\"\",基本!V68)","v":""},{"$f":"IF(基本!W68=\"\",\"\",基本!W68)","v":""},{"$f":"IF(基本!X68=\"\",\"\",基本!X68)","v":""},{"$f":"IF(基本!Y68=\"\",\"\",基本!Y68)","v":""},{"$f":"IF(基本!Z68=\"\",\"\",基本!Z68)","v":""},{"$f":"IF(基本!AA68=\"\",\"\",基本!AA68)","v":""},{"$f":"IF(基本!AB68=\"\",\"\",基本!AB68)","v":""},{"$f":"IF(基本!AC68=\"\",\"\",基本!AC68)","v":""},{"$f":"IF(基本!AD68=\"\",\"\",基本!AD68)","v":""},{"$f":"IF(基本!AE68=\"\",\"\",基本!AE68)","v":""},{"$f":"IF(基本!AF68=\"\",\"\",基本!AF68)","v":""},{"$f":"IF(基本!AG68=\"\",\"\",基本!AG68)","v":""},null,null,null,{"$f":"SUM(AK6:AK67)","v":0},0,30,0,0,0]
["早出",null,{"$f":"COUNTIF(C6:C65,\"早\")","v":0},{"$f":"COUNTIF(D6:D39,\"早\")","v":0},0,0,0,0,0,0,0,0,0,0,0,0,0,0,0,0,0,0,0,0,0,0,0,0,0,0,0,0,0]
["日勤",null,{"$f":"COUNTIF(C6:C67,\"日\")","v":0},{"$f":"COUNTIF(D6:D67,\"日\")","v":0},0,1,1,1,1,0,2,1,2,0,1,2,3,2,1,1,1,1,1,1,2,1,2,2,0,0,1,1,2]
["準夜",null,{"$f":"COUNTIF(C6:C67,\"準\")","v":0},{"$f":"COUNTIF(D6:D67,\"準\")","v":0},0,0,0,0,0,0,0,0,0,1,0,0,0,0,1,0,1,0,0,0,0,0,0,0,0,1,1,1,0]
["深夜",null,{"$f":"COUNTIF(C6:C67,\"深\")","v":0},{"$f":"COUNTIF(D6:D67,\"深\")","v":0},0,1,1,0,1,0,0,1,0,0,0,1,0,0,0,1,0,0,0,0,0,1,1,1,0,0,0,0,0]
["遅出",null,{"$f":"COUNTIF(C6:C67,\"遅3\")","v":0},{"$f":"COUNTIF(D6:D67,\"遅3\")","v":0},0,0,0,0,0,0,0,0,0,0,0,0,0,0,0,0,0,0,0,0,0,0,0,0,0,0,0,0,0]
["中遅",null,{"$f":"COUNTIF(C6:C38,\"遅1\")","v":0},{"$f":"COUNTIF(D6:D38,\"遅1\")","v":0},0,0,0,0,0,0,0,0,0,0,0,0,0,0,0,0,0,0,0,0,0,0,0,0,0,0,0,0,0]
[]
[null,null,null,null,null,null,null,"日"]
[null,null,null,null,null,null,null,"早"]
[null,null,null,null,null,null,null,"☆"]
[null,null,null,null,null,null,null,"準"]
[null,null,null,null,null,null,null,"出張"]
[null,null,null,null,null,null,null,"■"]
[null,null,null,null,null,null,null,"／"]
[null,null,null,null,null,null,null,"年休"]
[null,null,null,null,null,null,null,"特休"]
[null,null,null,null,null,null,null,"夜×"]
[null,null,null,null,null,null,null,"日・早"]
[]
[]
[]
[]
[]
[]
[]
[]
[]
[]
[]
[]
[]
[]
[null,null,null,null,null,null,null,null,null,null,null,null,null,null,null,null,null,null,null,null,null,null,null,null,null,null,3]
[]
[]
[]
[]
[]
[]
[]
[]
[]
[]
[]
[]
[]
[]
[]
[]
[]
[]
[]
[]
[]
[]
[]
[]
[]
[]
[]
[]
[]
[]
[]
[]
[]
[]
[]
[]
[]
[]
[]
[]
[]
[]
[]
[]
[]
[]
[]
[]
[]
[]
[]
[]
[]
[]
[]
[]
[]
[]
[]
[]
[]
[]
[]
[]
[]
[]
[]
[]
[]
[]
[]
[]
[]
[]
[]
[]
[]
[]
[]
[]
[]
[]
[]
[]
[]
[]
[]
[]
[]
[]
[]
[]
[]
[]
[]
[]
[]
[]
[]
[]
[]
[]
[]
[]
[]
[]
[]
[]
[]
[]
[]
[]
[]
[]
[]
[]
[]
[]
[]
[]
[]
[]
[]
[]
[]
[]
[]
[]
[]
[]
[]
[]
[]
[]
[]
[]
[]
[]
[]
[]
[]
[]
[]
[]
[]
[]
[]
[]
[]
[]
[]
[]
[]
[]
[]
[]
[]
[]
[]
[]
[]
[]
[]
[]
[]
[]
[]
[]
[]
[]
[]
[]
[]
[]
[]
[]
[]
[]
[]
[]
[]
[]
[]
[]
[]
[]
[]
[]
[]
[]
[]
[]
[]
[]
[]
[]
[]
[]
[]
[]
[]
[]
[]
[]
[]
[]
[]
[]
[]
[]
[]
[]
[]
[]
[]
[]
[]
[]
[]
[]
[]
[]
[]
[]
[]
[]
[]
[]
[]
[]
[]
[]
[]
[]
[]
[]
[]
[]
[]
[]
[]
[]
[]
[]
[]
[]
[]
[]
[]
[]
[]
[]
[]
[]
[]
[]
[]
[]
[]
[]
[]
[]
[]
[]
[]
[]
[]
[]
[]
[]
[]
[]
[]
[]
[]
[]
[]
[]
[]
[]
[]
[]
[]
[]
[]
[]
[]
[]
[]
[]
[]
[]
[]
[]
[]
[]
[]
[]
[]
[]
[]
[]
[]
[]
[]
[]
[]
[]
[]
[]
[]
[]
[]
[]
[]
[]
[]
[]
[]
[]
[]
[]
[]
[]
[]
[]
[]
[]
[]
[]
[]
[]
[]
[]
[]
[]
[]
[]
[]
[]
[]
[]
[]
[]
[]
[]
[]
[]
[]
[]
[]
[]
[]
[]
[]
[]
[]
[]
[]
[]
[]
[]
[]
[]
[]
[]
[]
[]
[]
[]
[]
[]
[]
[]
[]
[]
[]
[]
[]
[]
[]
[]
[]
[]
[]
[]
[]
[]
[]
[]
[]
[]
[]
[]
[]
[]
[]
[]
[]
[]
[]
[]
[]
[]
[]
[]
[]
[]
[]
[]
[]
[]
[]
[]
[]
[]
[]
[]
[]
[]
[]
[]
[]
[]
[]
[]
[]
[]
[]
[null,null,null,null,null,null,null,null,null,null,null,null,null,null,null,null,null,null,null,null,null,null,null,null,null,null,null,null,null,null,null,null,null,null,null,null,null,null,null,null,null,null,null,null,null,null,null,null,null,null,null,null,null,null,null,null,null,null,null,null,null,null,null,null,null,null,null,null,null,null,null,null,null,null,null,null,null,null,null,null,null,null,null,null,null,null,null,null,null,null,null,null,null,null,null,null,null,null,null,null,null,null,null,null,null,null,null,null,null,null,null,null,null,null,null,null,null,null,null,null,null,null,null,null,null,null,null,null,null,null,null,null,null,null,null,null,null,null,null,null,null,null,null,null,null,null,null,null,null,null,null,null,null,null,null,null,null,null,null,null,null,null,null,null,null,null,null,null,null,null,null,null,null,null,null,null,null,null,null,null,null,null,null,null,null,null,null,null,null,null,null,null,null,null,null,null,null,null,null,null,null,null,null,null,null,null,null,null,null,null,null,null,null,null,null,null,null,null,null,null,null,null,null,null,null,null,null,null,null,null,null,null,null,null,null,null,null,null,null,null,null,4]

{"sheet":"業務割","index":4,"n_rows":37,"n_cols":63,"rows_kept":37,"cut":false,"hidden":true,"merged":[[5,62,5,63],[3,58,3,59],[3,60,3,61],[3,62,3,63],[4,58,4,59],[4,60,4,61],[4,62,4,63],[5,60,5,61],[5,46,5,47],[5,56,5,57],[5,18,5,19],[5,58,5,59],[5,30,5,31],[5,32,5,33],[5,34,5,35],[5,36,5,37],[5,22,5,23],[5,20,5,21],[4,28,4,29],[5,24,5,25],[5,26,5,27],[5,28,5,29],[4,24,4,25],[4,26,4,27],[4,18,4,19],[3,26,3,27],[4,20,4,21],[4,22,4,23],[3,18,3,19],[3,20,3,21],[3,22,3,23],[3,24,3,25],[4,16,4,17],[5,8,5,9],[3,8,3,9],[5,10,5,11],[3,10,3,11],[4,8,4,9],[4,10,4,11],[5,16,5,17],[5,14,5,15],[3,14,3,15],[5,12,5,13],[3,12,3,13],[4,14,4,15],[4,12,4,13],[5,2,5,3],[4,2,4,3],[4,4,4,5],[4,6,4,7],[5,4,5,5],[5,6,5,7],[1,1,1,2],[3,2,3,3],[3,30,3,31],[3,32,3,33],[3,4,3,5],[3,6,3,7],[3,28,3,29],[3,16,3,17],[2,1,2,2],[4,30,4,31],[4,32,4,33],[4,34,4,35],[4,36,4,37],[3,34,3,35],[3,36,3,37],[3,38,3,39],[3,40,3,41],[3,44,3,45],[5,44,5,45],[4,38,4,39],[4,40,4,41],[4,42,4,43],[5,38,5,39],[5,40,5,41],[5,42,5,43],[3,42,3,43],[4,44,4,45],[3,56,3,57],[5,48,5,49],[5,50,5,51],[5,52,5,53],[4,56,4,57],[4,52,4,53],[4,54,4,55],[5,54,5,55],[3,48,3,49],[4,46,4,47],[3,54,3,55],[3,50,3,51],[3,52,3,53],[3,46,3,47],[4,48,4,49],[4,50,4,51]]}
[]
[null,"業務割当表"]
[null,{"$f":"基本!A1","v":"2025-08-01"}]
[null,"日",{"$f":"基本!C4","v":"2025-08-01"},null,{"$f":"基本!D4","v":"2025-08-02"},null,{"$f":"基本!E4","v":"2025-08-03"},null,{"$f":"基本!F4","v":"2025-08-04"},null,{"$f":"基本!G4","v":"2025-08-05"},null,{"$f":"基本!H4","v":"2025-08-06"},null,{"$f":"基本!I4","v":"2025-08-07"},null,{"$f":"基本!J4","v":"2025-08-08"},null,{"$f":"基本!K4","v":"2025-08-09"},null,{"$f":"基本!L4","v":"2025-08-10"},null,{"$f":"基本!M4","v":"2025-08-11"},null,{"$f":"基本!N4","v":"2025-08-12"},null,{"$f":"基本!O4","v":"2025-08-13"},null,{"$f":"基本!P4","v":"2025-08-14"},null,{"$f":"基本!Q4","v":"2025-08-15"},null,{"$f":"基本!R4","v":"2025-08-16"},null,{"$f":"基本!S4","v":"2025-08-17"},null,{"$f":"基本!T4","v":"2025-08-18"},null,{"$f":"基本!U4","v":"2025-08-19"},null,{"$f":"基本!V4","v":"2025-08-20"},null,{"$f":"基本!W4","v":"2025-08-21"},null,{"$f":"基本!X4","v":"2025-08-22"},null,{"$f":"基本!Y4","v":"2025-08-23"},null,{"$f":"基本!Z4","v":"2025-08-24"},null,{"$f":"基本!AA4","v":"2025-08-25"},null,{"$f":"基本!AB4","v":"2025-08-26"},null,{"$f":"基本!AC4","v":"2025-08-27"},null,{"$f":"基本!AD4","v":"2025-08-28"},null,{"$f":"基本!AE4","v":"2025-08-29"},null,{"$f":"基本!AF4","v":"2025-08-30"},null,{"$f":"IF(DAY(基本!$A$1+30)>10,基本!$A$1+30,\"\")","v":"2025-08-31"}]
[null,"曜日",{"$f":"基本!C5","v":45870},null,{"$f":"基本!D5","v":45871},null,{"$f":"基本!E5","v":45872},null,{"$f":"基本!F5","v":45873},null,{"$f":"基本!G5","v":45874},null,{"$f":"基本!H5","v":45875},null,{"$f":"基本!I5","v":45876},null,{"$f":"基本!J5","v":45877},null,{"$f":"基本!K5","v":45878},null,{"$f":"基本!L5","v":45879},null,{"$f":"基本!M5","v":45880},null,{"$f":"基本!N5","v":45881},null,{"$f":"基本!O5","v":45882},null,{"$f":"基本!P5","v":45883},null,{"$f":"基本!Q5","v":45884},null,{"$f":"基本!R5","v":45885},null,{"$f":"基本!S5","v":45886},null,{"$f":"基本!T5","v":45887},null,{"$f":"基本!U5","v":45888},null,{"$f":"基本!V5","v":45889},null,{"$f":"基本!W5","v":45890},null,{"$f":"基本!X5","v":45891},null,{"$f":"基本!Y5","v":45892},null,{"$f":"基本!Z5","v":45893},null,{"$f":"基本!AA5","v":45894},null,{"$f":"基本!AB5","v":45895},null,{"$f":"基本!AC5","v":45896},null,{"$f":"基本!AD5","v":45897},null,{"$f":"基本!AE5","v":45898},null,{"$f":"基本!AF5","v":45899},null,{"$f":"基本!AG5","v":45900}]
[null,null,{"$f":"IF(基本!C68=\"\",\"\",基本!C68)","v":""},null,{"$f":"IF(基本!D68=\"\",\"\",基本!D68)","v":""},null,{"$f":"IF(基本!E68=\"\",\"\",基本!E68)","v":""},null,{"$f":"IF(基本!F68=\"\",\"\",基本!F68)","v":""},null,{"$f":"IF(基本!G68=\"\",\"\",基本!G68)","v":""},null,{"$f":"IF(基本!H68=\"\",\"\",基本!H68)","v":""},null,{"$f":"IF(基本!I68=\"\",\"\",基本!I68)","v":""},null,{"$f":"IF(基本!J68=\"\",\"\",基本!J68)","v":""},null,{"$f":"IF(基本!K68=\"\",\"\",基本!K68)","v":""},null,{"$f":"IF(基本!L68=\"\",\"\",基本!L68)","v":""},null,{"$f":"IF(基本!M68=\"\",\"\",基本!M68)","v":""},null,{"$f":"IF(基本!N68=\"\",\"\",基本!N68)","v":""},null,{"$f":"IF(基本!O68=\"\",\"\",基本!O68)","v":""},null,{"$f":"IF(基本!P68=\"\",\"\",基本!P68)","v":""},null,{"$f":"IF(基本!Q68=\"\",\"\",基本!Q68)","v":""},null,{"$f":"IF(基本!R68=\"\",\"\",基本!R68)","v":""},null,{"$f":"IF(基本!S68=\"\",\"\",基本!S68)","v":""},null,{"$f":"IF(基本!T68=\"\",\"\",基本!T68)","v":""},null,{"$f":"IF(基本!U68=\"\",\"\",基本!U68)","v":""},null,{"$f":"IF(基本!V68=\"\",\"\",基本!V68)","v":""},null,{"$f":"IF(基本!W68=\"\",\"\",基本!W68)","v":""},null,{"$f":"IF(基本!X68=\"\",\"\",基本!X68)","v":""},null,{"$f":"IF(基本!Y68=\"\",\"\",基本!Y68)","v":""},null,{"$f":"IF(基本!Z68=\"\",\"\",基本!Z68)","v":""},null,{"$f":"IF(基本!AA68=\"\",\"\",基本!AA68)","v":""},null,{"$f":"IF(基本!AB68=\"\",\"\",基本!AB68)","v":""},null,{"$f":"IF(基本!AC68=\"\",\"\",基本!AC68)","v":""},null,{"$f":"IF(基本!AD68=\"\",\"\",基本!AD68)","v":""},null,{"$f":"IF(基本!AE68=\"\",\"\",基本!AE68)","v":""},null,{"$f":"IF(基本!AF68=\"\",\"\",基本!AF68)","v":""},null,{"$f":"IF(基本!AG68=\"\",\"\",基本!AG68)","v":""}]
[null,{"$f":"職員一覧!B2","v":"病院　太郎"},{"$f":"基本!C6","v":"祭日"},null,{"$f":"基本!D6","v":"祭／"},null,{"$f":"基本!E6","v":"祭／"},null,{"$f":"基本!F6","v":"日"},null,{"$f":"基本!G6","v":"日"},null,{"$f":"基本!H6","v":"日直"},null,{"$f":"基本!I6","v":"／"},null,{"$f":"基本!J6","v":"祭／"},null,{"$f":"基本!K6","v":"年／"},null,{"$f":"基本!L6","v":"日"},null,{"$f":"基本!M6","v":"日"},null,{"$f":"基本!N6","v":"師日当"},null,{"$f":"基本!O6","v":"明け"},null,{"$f":"基本!P6","v":"日"},null,{"$f":"基本!Q6","v":"日"},null,{"$f":"基本!R6","v":"日"},null,{"$f":"基本!S6","v":"日"},null,{"$f":"基本!T6","v":"日"},null,{"$f":"基本!U6","v":"日"},null,{"$f":"基本!V6","v":"／"},null,{"$f":"基本!W6","v":"当直"},null,{"$f":"基本!X6","v":"*730"},null,{"$f":"基本!Y6","v":"日"},null,{"$f":"基本!Z6","v":"年／"},null,{"$f":"基本!AA6","v":"日"},null,{"$f":"基本!AB6","v":"日"},null,{"$f":"基本!AC6","v":"／"},null,{"$f":"基本!AD6","v":"／"},null,{"$f":"基本!AE6","v":"日"},null,{"$f":"基本!AF6","v":"日"},null,{"$f":"基本!AG6","v":"日"}]
[null,{"$f":"職員一覧!B3","v":"病院　次郎"},{"$f":"基本!C8","v":"祭／"},null,{"$f":"基本!D8","v":"祭／"},null,{"$f":"基本!E8","v":"祭日"},null,{"$f":"基本!F8","v":"／"},null,{"$f":"基本!G8","v":"深"},null,{"$f":"基本!H8","v":"／"},null,{"$f":"基本!I8","v":"深"},null,{"$f":"基本!J8","v":"祭深"},null,{"$f":"基本!K8","v":"日"},null,{"$f":"基本!L8","v":"／"},null,{"$f":"基本!M8","v":"日"},null,{"$f":"基本!N8","v":"準"},null,{"$f":"基本!O8","v":"*／"},null,{"$f":"基本!P8","v":"日"},null,{"$f":"基本!Q8","v":"日"},null,{"$f":"基本!R8","v":"日"},null,{"$f":"基本!S8","v":"準"},null,{"$f":"基本!T8","v":"*準"},null,{"$f":"基本!U8","v":"*／"},null,{"$f":"基本!V8","v":"日"},null,{"$f":"基本!W8","v":"日"},null,{"$f":"基本!X8","v":"日"},null,{"$f":"基本!Y8","v":"／"},null,{"$f":"基本!Z8","v":"深"},null,{"$f":"基本!AA8","v":"深"},null,{"$f":"基本!AB8","v":"日"},null,{"$f":"基本!AC8","v":"／"},null,{"$f":"基本!AD8","v":"／"},null,{"$f":"基本!AE8","v":"準"},null,{"$f":"基本!AF8","v":"*1230"},null,{"$f":"基本!AG8","v":"日"}]
[null,{"$f":"職員一覧!B4","v":"病院　三郎"},{"$f":"基本!C10","v":"祭準"},null,{"$f":"基本!D10","v":"*祭／"},null,{"$f":"基本!E10","v":"祭／"},null,{"$f":"基本!F10","v":"深"},null,{"$f":"基本!G10","v":"1230"},null,{"$f":"基本!H10","v":"日"},null,{"$f":"基本!I10","v":"日"},null,{"$f":"基本!J10","v":"祭／"},null,{"$f":"基本!K10","v":"日"},null,{"$f":"基本!L10","v":"深"},null,{"$f":"基本!M10","v":"A免"},null,{"$f":"基本!N10","v":"／"},null,{"$f":"基本!O10","v":"日"},null,{"$f":"基本!P10","v":"深"},null,{"$f":"基本!Q10","v":"日"},null,{"$f":"基本!R10","v":"／"},null,{"$f":"基本!S10","v":"0700"},null,{"$f":"基本!T10","v":"深"},null,{"$f":"基本!U10","v":"準"},null,{"$f":"基本!V10","v":"*／"},null,{"$f":"基本!W10","v":"／"},null,{"$f":"基本!X10","v":"／"},null,{"$f":"基本!Y10","v":"日"},null,{"$f":"基本!Z10","v":"日"},null,{"$f":"基本!AA10","v":"日"},null,{"$f":"基本!AB10","v":"深"},null,{"$f":"基本!AC10","v":"／"},null,{"$f":"基本!AD10","v":"準"},null,{"$f":"基本!AE10","v":"*／"},null,{"$f":"基本!AF10","v":"準"},null,{"$f":"基本!AG10","v":"*／"}]
[null,{"$f":"職員一覧!B5","v":0},{"$f":"基本!C12","v":0},null,{"$f":"基本!D12","v":0},null,{"$f":"基本!E12","v":0},null,{"$f":"基本!F12","v":0},null,{"$f":"基本!G12","v":0},null,{"$f":"基本!H12","v":0},null,{"$f":"基本!I12","v":0},null,{"$f":"基本!J12","v":0},null,{"$f":"基本!K12","v":0},null,{"$f":"基本!L12","v":0},null,{"$f":"基本!M12","v":0},null,{"$f":"基本!N12","v":0},null,{"$f":"基本!O12","v":0},null,{"$f":"基本!P12","v":0},null,{"$f":"基本!Q12","v":0},null,{"$f":"基本!R12","v":0},null,{"$f":"基本!S12","v":0},null,{"$f":"基本!T12","v":0},null,{"$f":"基本!U12","v":0},null,{"$f":"基本!V12","v":0},null,{"$f":"基本!W12","v":0},null,{"$f":"基本!X12","v":0},null,{"$f":"基本!Y12","v":0},null,{"$f":"基本!Z12","v":0},null,{"$f":"基本!AA12","v":0},null,{"$f":"基本!AB12","v":0},null,{"$f":"基本!AC12","v":0},null,{"$f":"基本!AD12","v":0},null,{"$f":"基本!AE12","v":0},null,{"$f":"基本!AF12","v":0},null,{"$f":"基本!AG12","v":0}]
[null,{"$f":"職員一覧!B6","v":0},{"$f":"基本!C14","v":0},null,{"$f":"基本!D14","v":0},null,{"$f":"基本!E14","v":0},null,{"$f":"基本!F14","v":0},null,{"$f":"基本!G14","v":0},null,{"$f":"基本!H14","v":0},null,{"$f":"基本!I14","v":0},null,{"$f":"基本!J14","v":0},null,{"$f":"基本!K14","v":0},null,{"$f":"基本!L14","v":0},null,{"$f":"基本!M14","v":0},null,{"$f":"基本!N14","v":0},null,{"$f":"基本!O14","v":0},null,{"$f":"基本!P14","v":0},null,{"$f":"基本!Q14","v":0},null,{"$f":"基本!R14","v":0},null,{"$f":"基本!S14","v":0},null,{"$f":"基本!T14","v":0},null,{"$f":"基本!U14","v":0},null,{"$f":"基本!V14","v":0},null,{"$f":"基本!W14","v":0},null,{"$f":"基本!X14","v":0},null,{"$f":"基本!Y14","v":0},null,{"$f":"基本!Z14","v":0},null,{"$f":"基本!AA14","v":0},null,{"$f":"基本!AB14","v":0},null,{"$f":"基本!AC14","v":0},null,{"$f":"基本!AD14","v":0},null,{"$f":"基本!AE14","v":0},null,{"$f":"基本!AF14","v":0},null,{"$f":"基本!AG14","v":0}]
[null,{"$f":"職員一覧!B7","v":0},{"$f":"基本!C16","v":0},null,{"$f":"基本!D16","v":0},null,{"$f":"基本!E16","v":0},null,{"$f":"基本!F16","v":0},null,{"$f":"基本!G16","v":0},null,{"$f":"基本!H16","v":0},null,{"$f":"基本!I16","v":0},null,{"$f":"基本!J16","v":0},null,{"$f":"基本!K16","v":0},null,{"$f":"基本!L16","v":0},null,{"$f":"基本!M16","v":0},null,{"$f":"基本!N16","v":0},null,{"$f":"基本!O16","v":0},null,{"$f":"基本!P16","v":0},null,{"$f":"基本!Q16","v":0},null,{"$f":"基本!R16","v":0},null,{"$f":"基本!S16","v":0},null,{"$f":"基本!T16","v":0},null,{"$f":"基本!U16","v":0},null,{"$f":"基本!V16","v":0},null,{"$f":"基本!W16","v":0},null,{"$f":"基本!X16","v":0},null,{"$f":"基本!Y16","v":0},null,{"$f":"基本!Z16","v":0},null,{"$f":"基本!AA16","v":0},null,{"$f":"基本!AB16","v":0},null,{"$f":"基本!AC16","v":0},null,{"$f":"基本!AD16","v":0},null,{"$f":"基本!AE16","v":0},null,{"$f":"基本!AF16","v":0},null,{"$f":"基本!AG16","v":0}]
[null,{"$f":"職員一覧!B8","v":0},{"$f":"基本!C18","v":0},null,{"$f":"基本!D18","v":0},null,{"$f":"基本!E18","v":0},null,{"$f":"基本!F18","v":0},null,{"$f":"基本!G18","v":0},null,{"$f":"基本!H18","v":0},null,{"$f":"基本!I18","v":0},null,{"$f":"基本!J18","v":0},null,{"$f":"基本!K18","v":0},null,{"$f":"基本!L18","v":0},null,{"$f":"基本!M18","v":0},null,{"$f":"基本!N18","v":0},null,{"$f":"基本!O18","v":0},null,{"$f":"基本!P18","v":0},null,{"$f":"基本!Q18","v":0},null,{"$f":"基本!R18","v":0},null,{"$f":"基本!S18","v":0},null,{"$f":"基本!T18","v":0},null,{"$f":"基本!U18","v":0},null,{"$f":"基本!V18","v":0},null,{"$f":"基本!W18","v":0},null,{"$f":"基本!X18","v":0},null,{"$f":"基本!Y18","v":0},null,{"$f":"基本!Z18","v":0},null,{"$f":"基本!AA18","v":0},null,{"$f":"基本!AB18","v":0},null,{"$f":"基本!AC18","v":0},null,{"$f":"基本!AD18","v":0},null,{"$f":"基本!AE18","v":0},null,{"$f":"基本!AF18","v":0},null,{"$f":"基本!AG18","v":0}]
[null,{"$f":"職員一覧!B9","v":0},{"$f":"基本!C20","v":0},null,{"$f":"基本!D20","v":0},null,{"$f":"基本!E20","v":0},null,{"$f":"基本!F20","v":0},null,{"$f":"基本!G20","v":0},null,{"$f":"基本!H20","v":0},null,{"$f":"基本!I20","v":0},null,{"$f":"基本!J20","v":0},null,{"$f":"基本!K20","v":0},null,{"$f":"基本!L20","v":0},null,{"$f":"基本!M20","v":0},null,{"$f":"基本!N20","v":0},null,{"$f":"基本!O20","v":0},null,{"$f":"基本!P20","v":0},null,{"$f":"基本!Q20","v":0},null,{"$f":"基本!R20","v":0},null,{"$f":"基本!S20","v":0},null,{"$f":"基本!T20","v":0},null,{"$f":"基本!U20","v":0},null,{"$f":"基本!V20","v":0},null,{"$f":"基本!W20","v":0},null,{"$f":"基本!X20","v":0},null,{"$f":"基本!Y20","v":0},null,{"$f":"基本!Z20","v":0},null,{"$f":"基本!AA20","v":0},null,{"$f":"基本!AB20","v":0},null,{"$f":"基本!AC20","v":0},null,{"$f":"基本!AD20","v":0},null,{"$f":"基本!AE20","v":0},null,{"$f":"基本!AF20","v":0},null,{"$f":"基本!AG20","v":0}]
[null,{"$f":"職員一覧!B10","v":0},{"$f":"基本!C22","v":0},null,{"$f":"基本!D22","v":0},null,{"$f":"基本!E22","v":0},null,{"$f":"基本!F22","v":0},null,{"$f":"基本!G22","v":0},null,{"$f":"基本!H22","v":0},null,{"$f":"基本!I22","v":0},null,{"$f":"基本!J22","v":0},null,{"$f":"基本!K22","v":0},null,{"$f":"基本!L22","v":0},null,{"$f":"基本!M22","v":0},null,{"$f":"基本!N22","v":0},null,{"$f":"基本!O22","v":0},null,{"$f":"基本!P22","v":0},null,{"$f":"基本!Q22","v":0},null,{"$f":"基本!R22","v":0},null,{"$f":"基本!S22","v":0},null,{"$f":"基本!T22","v":0},null,{"$f":"基本!U22","v":0},null,{"$f":"基本!V22","v":0},null,{"$f":"基本!W22","v":0},null,{"$f":"基本!X22","v":0},null,{"$f":"基本!Y22","v":0},null,{"$f":"基本!Z22","v":0},null,{"$f":"基本!AA22","v":0},null,{"$f":"基本!AB22","v":0},null,{"$f":"基本!AC22","v":0},null,{"$f":"基本!AD22","v":0},null,{"$f":"基本!AE22","v":0},null,{"$f":"基本!AF22","v":0},null,{"$f":"基本!AG22","v":0}]
[null,{"$f":"職員一覧!B11","v":0},{"$f":"基本!C24","v":0},null,{"$f":"基本!D24","v":0},null,{"$f":"基本!E24","v":0},null,{"$f":"基本!F24","v":0},null,{"$f":"基本!G24","v":0},null,{"$f":"基本!H24","v":0},null,{"$f":"基本!I24","v":0},null,{"$f":"基本!J24","v":0},null,{"$f":"基本!K24","v":0},null,{"$f":"基本!L24","v":0},null,{"$f":"基本!M24","v":0},null,{"$f":"基本!N24","v":0},null,{"$f":"基本!O24","v":0},null,{"$f":"基本!P24","v":0},null,{"$f":"基本!Q24","v":0},null,{"$f":"基本!R24","v":0},null,{"$f":"基本!S24","v":0},null,{"$f":"基本!T24","v":0},null,{"$f":"基本!U24","v":0},null,{"$f":"基本!V24","v":0},null,{"$f":"基本!W24","v":0},null,{"$f":"基本!X24","v":0},null,{"$f":"基本!Y24","v":0},null,{"$f":"基本!Z24","v":0},null,{"$f":"基本!AA24","v":0},null,{"$f":"基本!AB24","v":0},null,{"$f":"基本!AC24","v":0},null,{"$f":"基本!AD24","v":0},null,{"$f":"基本!AE24","v":0},null,{"$f":"基本!AF24","v":0},null,{"$f":"基本!AG24","v":0}]
[null,{"$f":"職員一覧!B12","v":0},{"$f":"基本!C26","v":0},null,{"$f":"基本!D26","v":0},null,{"$f":"基本!E26","v":0},null,{"$f":"基本!F26","v":0},null,{"$f":"基本!G26","v":0},null,{"$f":"基本!H26","v":0},null,{"$f":"基本!I26","v":0},null,{"$f":"基本!J26","v":0},null,{"$f":"基本!K26","v":0},null,{"$f":"基本!L26","v":0},null,{"$f":"基本!M26","v":0},null,{"$f":"基本!N26","v":0},null,{"$f":"基本!O26","v":0},null,{"$f":"基本!P26","v":0},null,{"$f":"基本!Q26","v":0},null,{"$f":"基本!R26","v":0},null,{"$f":"基本!S26","v":0},null,{"$f":"基本!T26","v":0},null,{"$f":"基本!U26","v":0},null,{"$f":"基本!V26","v":0},null,{"$f":"基本!W26","v":0},null,{"$f":"基本!X26","v":0},null,{"$f":"基本!Y26","v":0},null,{"$f":"基本!Z26","v":0},null,{"$f":"基本!AA26","v":0},null,{"$f":"基本!AB26","v":0},null,{"$f":"基本!AC26","v":0},null,{"$f":"基本!AD26","v":0},null,{"$f":"基本!AE26","v":0},null,{"$f":"基本!AF26","v":0},null,{"$f":"基本!AG26","v":0}]
[null,{"$f":"職員一覧!B13","v":0},{"$f":"基本!C28","v":0},null,{"$f":"基本!D28","v":0},null,{"$f":"基本!E28","v":0},null,{"$f":"基本!F28","v":0},null,{"$f":"基本!G28","v":0},null,{"$f":"基本!H28","v":0},null,{"$f":"基本!I28","v":0},null,{"$f":"基本!J28","v":0},null,{"$f":"基本!K28","v":0},null,{"$f":"基本!L28","v":0},null,{"$f":"基本!M28","v":0},null,{"$f":"基本!N28","v":0},null,{"$f":"基本!O28","v":0},null,{"$f":"基本!P28","v":0},null,{"$f":"基本!Q28","v":0},null,{"$f":"基本!R28","v":0},null,{"$f":"基本!S28","v":0},null,{"$f":"基本!T28","v":0},null,{"$f":"基本!U28","v":0},null,{"$f":"基本!V28","v":0},null,{"$f":"基本!W28","v":0},null,{"$f":"基本!X28","v":0},null,{"$f":"基本!Y28","v":0},null,{"$f":"基本!Z28","v":0},null,{"$f":"基本!AA28","v":0},null,{"$f":"基本!AB28","v":0},null,{"$f":"基本!AC28","v":0},null,{"$f":"基本!AD28","v":0},null,{"$f":"基本!AE28","v":0},null,{"$f":"基本!AF28","v":0},null,{"$f":"基本!AG28","v":0}]
[null,{"$f":"職員一覧!B14","v":0},{"$f":"基本!C30","v":0},null,{"$f":"基本!D30","v":0},null,{"$f":"基本!E30","v":0},null,{"$f":"基本!F30","v":0},null,{"$f":"基本!G30","v":0},null,{"$f":"基本!H30","v":0},null,{"$f":"基本!I30","v":0},null,{"$f":"基本!J30","v":0},null,{"$f":"基本!K30","v":0},null,{"$f":"基本!L30","v":0},null,{"$f":"基本!M30","v":0},null,{"$f":"基本!N30","v":0},null,{"$f":"基本!O30","v":0},null,{"$f":"基本!P30","v":0},null,{"$f":"基本!Q30","v":0},null,{"$f":"基本!R30","v":0},null,{"$f":"基本!S30","v":0},null,{"$f":"基本!T30","v":0},null,{"$f":"基本!U30","v":0},null,{"$f":"基本!V30","v":0},null,{"$f":"基本!W30","v":0},null,{"$f":"基本!X30","v":0},null,{"$f":"基本!Y30","v":0},null,{"$f":"基本!Z30","v":0},null,{"$f":"基本!AA30","v":0},null,{"$f":"基本!AB30","v":0},null,{"$f":"基本!AC30","v":0},null,{"$f":"基本!AD30","v":0},null,{"$f":"基本!AE30","v":0},null,{"$f":"基本!AF30","v":0},null,{"$f":"基本!AG30","v":0}]
[null,{"$f":"職員一覧!B15","v":0},{"$f":"基本!C32","v":0},null,{"$f":"基本!D32","v":0},null,{"$f":"基本!E32","v":0},null,{"$f":"基本!F32","v":0},null,{"$f":"基本!G32","v":0},null,{"$f":"基本!H32","v":0},null,{"$f":"基本!I32","v":0},null,{"$f":"基本!J32","v":0},null,{"$f":"基本!K32","v":0},null,{"$f":"基本!L32","v":0},null,{"$f":"基本!M32","v":0},null,{"$f":"基本!N32","v":0},null,{"$f":"基本!O32","v":0},null,{"$f":"基本!P32","v":0},null,{"$f":"基本!Q32","v":0},null,{"$f":"基本!R32","v":0},null,{"$f":"基本!S32","v":0},null,{"$f":"基本!T32","v":0},null,{"$f":"基本!U32","v":0},null,{"$f":"基本!V32","v":0},null,{"$f":"基本!W32","v":0},null,{"$f":"基本!X32","v":0},null,{"$f":"基本!Y32","v":0},null,{"$f":"基本!Z32","v":0},null,{"$f":"基本!AA32","v":0},null,{"$f":"基本!AB32","v":0},null,{"$f":"基本!AC32","v":0},null,{"$f":"基本!AD32","v":0},null,{"$f":"基本!AE32","v":0},null,{"$f":"基本!AF32","v":0},null,{"$f":"基本!AG32","v":0}]
[null,{"$f":"職員一覧!B16","v":0},{"$f":"基本!C34","v":0},null,{"$f":"基本!D34","v":0},null,{"$f":"基本!E34","v":0},null,{"$f":"基本!F34","v":0},null,{"$f":"基本!G34","v":0},null,{"$f":"基本!H34","v":0},null,{"$f":"基本!I34","v":0},null,{"$f":"基本!J34","v":0},null,{"$f":"基本!K34","v":0},null,{"$f":"基本!L34","v":0},null,{"$f":"基本!M34","v":0},null,{"$f":"基本!N34","v":0},null,{"$f":"基本!O34","v":0},null,{"$f":"基本!P34","v":0},null,{"$f":"基本!Q34","v":0},null,{"$f":"基本!R34","v":0},null,{"$f":"基本!S34","v":0},null,{"$f":"基本!T34","v":0},null,{"$f":"基本!U34","v":0},null,{"$f":"基本!V34","v":0},null,{"$f":"基本!W34","v":0},null,{"$f":"基本!X34","v":0},null,{"$f":"基本!Y34","v":0},null,{"$f":"基本!Z34","v":0},null,{"$f":"基本!AA34","v":0},null,{"$f":"基本!AB34","v":0},null,{"$f":"基本!AC34","v":0},null,{"$f":"基本!AD34","v":0},null,{"$f":"基本!AE34","v":0},null,{"$f":"基本!AF34","v":0},null,{"$f":"基本!AG34","v":0}]
[null,{"$f":"職員一覧!B17","v":0},{"$f":"基本!C36","v":0},null,{"$f":"基本!D36","v":0},null,{"$f":"基本!E36","v":0},null,{"$f":"基本!F36","v":0},null,{"$f":"基本!G36","v":0},null,{"$f":"基本!H36","v":0},null,{"$f":"基本!I36","v":0},null,{"$f":"基本!J36","v":0},null,{"$f":"基本!K36","v":0},null,{"$f":"基本!L36","v":0},null,{"$f":"基本!M36","v":0},null,{"$f":"基本!N36","v":0},null,{"$f":"基本!O36","v":0},null,{"$f":"基本!P36","v":0},null,{"$f":"基本!Q36","v":0},null,{"$f":"基本!R36","v":0},null,{"$f":"基本!S36","v":0},null,{"$f":"基本!T36","v":0},null,{"$f":"基本!U36","v":0},null,{"$f":"基本!V36","v":0},null,{"$f":"基本!W36","v":0},null,{"$f":"基本!X36","v":0},null,{"$f":"基本!Y36","v":0},null,{"$f":"基本!Z36","v":0},null,{"$f":"基本!AA36","v":0},null,{"$f":"基本!AB36","v":0},null,{"$f":"基本!AC36","v":0},null,{"$f":"基本!AD36","v":0},null,{"$f":"基本!AE36","v":0},null,{"$f":"基本!AF36","v":0},null,{"$f":"基本!AG36","v":0}]
[null,{"$f":"職員一覧!B18","v":0},{"$f":"基本!C38","v":0},null,{"$f":"基本!D38","v":0},null,{"$f":"基本!E38","v":0},null,{"$f":"基本!F38","v":0},null,{"$f":"基本!G38","v":0},null,{"$f":"基本!H38","v":0},null,{"$f":"基本!I38","v":0},null,{"$f":"基本!J38","v":0},null,{"$f":"基本!K38","v":0},null,{"$f":"基本!L38","v":0},null,{"$f":"基本!M38","v":0},null,{"$f":"基本!N38","v":0},null,{"$f":"基本!O38","v":0},null,{"$f":"基本!P38","v":0},null,{"$f":"基本!Q38","v":0},null,{"$f":"基本!R38","v":0},null,{"$f":"基本!S38","v":0},null,{"$f":"基本!T38","v":0},null,{"$f":"基本!U38","v":0},null,{"$f":"基本!V38","v":0},null,{"$f":"基本!W38","v":0},null,{"$f":"基本!X38","v":0},null,{"$f":"基本!Y38","v":0},null,{"$f":"基本!Z38","v":0},null,{"$f":"基本!AA38","v":0},null,{"$f":"基本!AB38","v":0},null,{"$f":"基本!AC38","v":0},null,{"$f":"基本!AD38","v":0},null,{"$f":"基本!AE38","v":0},null,{"$f":"基本!AF38","v":0},null,{"$f":"基本!AG38","v":0}]
[null,{"$f":"職員一覧!B19","v":0},{"$f":"基本!C40","v":0},null,{"$f":"基本!D40","v":0},null,{"$f":"基本!E40","v":0},null,{"$f":"基本!F40","v":0},null,{"$f":"基本!G40","v":0},null,{"$f":"基本!H40","v":0},null,{"$f":"基本!I40","v":0},null,{"$f":"基本!J40","v":0},null,{"$f":"基本!K40","v":0},null,{"$f":"基本!L40","v":0},null,{"$f":"基本!M40","v":0},null,{"$f":"基本!N40","v":0},null,{"$f":"基本!O40","v":0},null,{"$f":"基本!P40","v":0},null,{"$f":"基本!Q40","v":0},null,{"$f":"基本!R40","v":0},null,{"$f":"基本!S40","v":0},null,{"$f":"基本!T40","v":0},null,{"$f":"基本!U40","v":0},null,{"$f":"基本!V40","v":0},null,{"$f":"基本!W40","v":0},null,{"$f":"基本!X40","v":0},null,{"$f":"基本!Y40","v":0},null,{"$f":"基本!Z40","v":0},null,{"$f":"基本!AA40","v":0},null,{"$f":"基本!AB40","v":0},null,{"$f":"基本!AC40","v":0},null,{"$f":"基本!AD40","v":0},null,{"$f":"基本!AE40","v":0},null,{"$f":"基本!AF40","v":0},null,{"$f":"基本!AG40","v":0}]
[null,{"$f":"職員一覧!B20","v":0},{"$f":"基本!C42","v":0},null,{"$f":"基本!D42","v":0},null,{"$f":"基本!E42","v":0},null,{"$f":"基本!F42","v":0},null,{"$f":"基本!G42","v":0},null,{"$f":"基本!H42","v":0},null,{"$f":"基本!I42","v":0},null,{"$f":"基本!J42","v":0},null,{"$f":"基本!K42","v":0},null,{"$f":"基本!L42","v":0},null,{"$f":"基本!M42","v":0},null,{"$f":"基本!N42","v":0},null,{"$f":"基本!O42","v":0},null,{"$f":"基本!P42","v":0},null,{"$f":"基本!Q42","v":0},null,{"$f":"基本!R42","v":0},null,{"$f":"基本!S42","v":0},null,{"$f":"基本!T42","v":0},null,{"$f":"基本!U42","v":0},null,{"$f":"基本!V42","v":0},null,{"$f":"基本!W42","v":0},null,{"$f":"基本!X42","v":0},null,{"$f":"基本!Y42","v":0},null,{"$f":"基本!Z42","v":0},null,{"$f":"基本!AA42","v":0},null,{"$f":"基本!AB42","v":0},null,{"$f":"基本!AC42","v":0},null,{"$f":"基本!AD42","v":0},null,{"$f":"基本!AE42","v":0},null,{"$f":"基本!AF42","v":0},null,{"$f":"基本!AG42","v":0}]
[null,{"$f":"職員一覧!B21","v":0},{"$f":"基本!C44","v":0},null,{"$f":"基本!D44","v":0},null,{"$f":"基本!E44","v":0},null,{"$f":"基本!F44","v":0},null,{"$f":"基本!G44","v":0},null,{"$f":"基本!H44","v":0},null,{"$f":"基本!I44","v":0},null,{"$f":"基本!J44","v":0},null,{"$f":"基本!K44","v":0},null,{"$f":"基本!L44","v":0},null,{"$f":"基本!M44","v":0},null,{"$f":"基本!N44","v":0},null,{"$f":"基本!O44","v":0},null,{"$f":"基本!P44","v":0},null,{"$f":"基本!Q44","v":0},null,{"$f":"基本!R44","v":0},null,{"$f":"基本!S44","v":0},null,{"$f":"基本!T44","v":0},null,{"$f":"基本!U44","v":0},null,{"$f":"基本!V44","v":0},null,{"$f":"基本!W44","v":0},null,{"$f":"基本!X44","v":0},null,{"$f":"基本!Y44","v":0},null,{"$f":"基本!Z44","v":0},null,{"$f":"基本!AA44","v":0},null,{"$f":"基本!AB44","v":0},null,{"$f":"基本!AC44","v":0},null,{"$f":"基本!AD44","v":0},null,{"$f":"基本!AE44","v":0},null,{"$f":"基本!AF44","v":0},null,{"$f":"基本!AG44","v":0}]
[null,{"$f":"職員一覧!B22","v":0},{"$f":"基本!C46","v":0},null,{"$f":"基本!D46","v":0},null,{"$f":"基本!E46","v":0},null,{"$f":"基本!F46","v":0},null,{"$f":"基本!G46","v":0},null,{"$f":"基本!H46","v":0},null,{"$f":"基本!I46","v":0},null,{"$f":"基本!J46","v":0},null,{"$f":"基本!K46","v":0},null,{"$f":"基本!L46","v":0},null,{"$f":"基本!M46","v":0},null,{"$f":"基本!N46","v":0},null,{"$f":"基本!O46","v":0},null,{"$f":"基本!P46","v":0},null,{"$f":"基本!Q46","v":0},null,{"$f":"基本!R46","v":0},null,{"$f":"基本!S46","v":0},null,{"$f":"基本!T46","v":0},null,{"$f":"基本!U46","v":0},null,{"$f":"基本!V46","v":0},null,{"$f":"基本!W46","v":0},null,{"$f":"基本!X46","v":0},null,{"$f":"基本!Y46","v":0},null,{"$f":"基本!Z46","v":0},null,{"$f":"基本!AA46","v":0},null,{"$f":"基本!AB46","v":0},null,{"$f":"基本!AC46","v":0},null,{"$f":"基本!AD46","v":0},null,{"$f":"基本!AE46","v":0},null,{"$f":"基本!AF46","v":0},null,{"$f":"基本!AG46","v":0}]
[null,{"$f":"職員一覧!B23","v":0},{"$f":"基本!C48","v":0},null,{"$f":"基本!D48","v":0},null,{"$f":"基本!E48","v":0},null,{"$f":"基本!F48","v":0},null,{"$f":"基本!G48","v":0},null,{"$f":"基本!H48","v":0},null,{"$f":"基本!I48","v":0},null,{"$f":"基本!J48","v":0},null,{"$f":"基本!K48","v":0},null,{"$f":"基本!L48","v":0},null,{"$f":"基本!M48","v":0},null,{"$f":"基本!N48","v":0},null,{"$f":"基本!O48","v":0},null,{"$f":"基本!P48","v":0},null,{"$f":"基本!Q48","v":0},null,{"$f":"基本!R48","v":0},null,{"$f":"基本!S48","v":0},null,{"$f":"基本!T48","v":0},null,{"$f":"基本!U48","v":0},null,{"$f":"基本!V48","v":0},null,{"$f":"基本!W48","v":0},null,{"$f":"基本!X48","v":0},null,{"$f":"基本!Y48","v":0},null,{"$f":"基本!Z48","v":0},null,{"$f":"基本!AA48","v":0},null,{"$f":"基本!AB48","v":0},null,{"$f":"基本!AC48","v":0},null,{"$f":"基本!AD48","v":0},null,{"$f":"基本!AE48","v":0},null,{"$f":"基本!AF48","v":0},null,{"$f":"基本!AG48","v":0}]
[null,{"$f":"職員一覧!B24","v":0},{"$f":"基本!C50","v":0},null,{"$f":"基本!D50","v":0},null,{"$f":"基本!E50","v":0},null,{"$f":"基本!F50","v":0},null,{"$f":"基本!G50","v":0},null,{"$f":"基本!H50","v":0},null,{"$f":"基本!I50","v":0},null,{"$f":"基本!J50","v":0},null,{"$f":"基本!K50","v":0},null,{"$f":"基本!L50","v":0},null,{"$f":"基本!M50","v":0},null,{"$f":"基本!N50","v":0},null,{"$f":"基本!O50","v":0},null,{"$f":"基本!P50","v":0},null,{"$f":"基本!Q50","v":0},null,{"$f":"基本!R50","v":0},null,{"$f":"基本!S50","v":0},null,{"$f":"基本!T50","v":0},null,{"$f":"基本!U50","v":0},null,{"$f":"基本!V50","v":0},null,{"$f":"基本!W50","v":0},null,{"$f":"基本!X50","v":0},null,{"$f":"基本!Y50","v":0},null,{"$f":"基本!Z50","v":0},null,{"$f":"基本!AA50","v":0},null,{"$f":"基本!AB50","v":0},null,{"$f":"基本!AC50","v":0},null,{"$f":"基本!AD50","v":0},null,{"$f":"基本!AE50","v":0},null,{"$f":"基本!AF50","v":0},null,{"$f":"基本!AG50","v":0}]
[null,{"$f":"職員一覧!B25","v":0},{"$f":"基本!C52","v":"日"},null,{"$f":"基本!D52","v":"日"},null,{"$f":"基本!E52","v":"日"},null,{"$f":"基本!F52","v":"日"},null,{"$f":"基本!G52","v":"日"},null,{"$f":"基本!H52","v":"日"},null,{"$f":"基本!I52","v":"日"},null,{"$f":"基本!J52","v":"日"},null,{"$f":"基本!K52","v":"日"},null,{"$f":"基本!L52","v":"日"},null,{"$f":"基本!M52","v":"日"},null,{"$f":"基本!N52","v":"日"},null,{"$f":"基本!O52","v":"日"},null,{"$f":"基本!P52","v":"日"},null,{"$f":"基本!Q52","v":"日"},null,{"$f":"基本!R52","v":"日"},null,{"$f":"基本!S52","v":"日"},null,{"$f":"基本!T52","v":"日"},null,{"$f":"基本!U52","v":"日"},null,{"$f":"基本!V52","v":"日"},null,{"$f":"基本!W52","v":"日"},null,{"$f":"基本!X52","v":"日"},null,{"$f":"基本!Y52","v":"日"},null,{"$f":"基本!Z52","v":"日"},null,{"$f":"基本!AA52","v":"日"},null,{"$f":"基本!AB52","v":"日"},null,{"$f":"基本!AC52","v":"日"},null,{"$f":"基本!AD52","v":"日"},null,{"$f":"基本!AE52","v":"日"},null,{"$f":"基本!AF52","v":"日"},null,{"$f":"基本!AG52","v":"日"}]
[null,{"$f":"職員一覧!B26","v":0},{"$f":"基本!C54","v":0},null,{"$f":"基本!D54","v":0},null,{"$f":"基本!E54","v":0},null,{"$f":"基本!F54","v":0},null,{"$f":"基本!G54","v":0},null,{"$f":"基本!H54","v":0},null,{"$f":"基本!I54","v":0},null,{"$f":"基本!J54","v":0},null,{"$f":"基本!K54","v":0},null,{"$f":"基本!L54","v":0},null,{"$f":"基本!M54","v":0},null,{"$f":"基本!N54","v":0},null,{"$f":"基本!O54","v":0},null,{"$f":"基本!P54","v":0},null,{"$f":"基本!Q54","v":0},null,{"$f":"基本!R54","v":0},null,{"$f":"基本!S54","v":0},null,{"$f":"基本!T54","v":0},null,{"$f":"基本!U54","v":0},null,{"$f":"基本!V54","v":0},null,{"$f":"基本!W54","v":0},null,{"$f":"基本!X54","v":0},null,{"$f":"基本!Y54","v":0},null,{"$f":"基本!Z54","v":0},null,{"$f":"基本!AA54","v":0},null,{"$f":"基本!AB54","v":0},null,{"$f":"基本!AC54","v":0},null,{"$f":"基本!AD54","v":0},null,{"$f":"基本!AE54","v":0},null,{"$f":"基本!AF54","v":0},null,{"$f":"基本!AG54","v":0}]
[null,{"$f":"職員一覧!B27","v":0},{"$f":"基本!C56","v":0},null,{"$f":"基本!D56","v":0},null,{"$f":"基本!E56","v":0},null,{"$f":"基本!F56","v":0},null,{"$f":"基本!G56","v":0},null,{"$f":"基本!H56","v":0},null,{"$f":"基本!I56","v":0},null,{"$f":"基本!J56","v":0},null,{"$f":"基本!K56","v":0},null,{"$f":"基本!L56","v":0},null,{"$f":"基本!M56","v":0},null,{"$f":"基本!N56","v":0},null,{"$f":"基本!O56","v":0},null,{"$f":"基本!P56","v":0},null,{"$f":"基本!Q56","v":0},null,{"$f":"基本!R56","v":0},null,{"$f":"基本!S56","v":0},null,{"$f":"基本!T56","v":0},null,{"$f":"基本!U56","v":0},null,{"$f":"基本!V56","v":0},null,{"$f":"基本!W56","v":0},null,{"$f":"基本!X56","v":0},null,{"$f":"基本!Y56","v":0},null,{"$f":"基本!Z56","v":0},null,{"$f":"基本!AA56","v":0},null,{"$f":"基本!AB56","v":0},null,{"$f":"基本!AC56","v":0},null,{"$f":"基本!AD56","v":0},null,{"$f":"基本!AE56","v":0},null,{"$f":"基本!AF56","v":0},null,{"$f":"基本!AG56","v":0}]
[null,{"$f":"職員一覧!B28","v":0},{"$f":"基本!C58","v":0},null,{"$f":"基本!D58","v":0},null,{"$f":"基本!E58","v":0},null,{"$f":"基本!F58","v":0},null,{"$f":"基本!G58","v":0},null,{"$f":"基本!H58","v":0},null,{"$f":"基本!I58","v":0},null,{"$f":"基本!J58","v":0},null,{"$f":"基本!K58","v":0},null,{"$f":"基本!L58","v":0},null,{"$f":"基本!M58","v":0},null,{"$f":"基本!N58","v":0},null,{"$f":"基本!O58","v":0},null,{"$f":"基本!P58","v":0},null,{"$f":"基本!Q58","v":0},null,{"$f":"基本!R58","v":0},null,{"$f":"基本!S58","v":0},null,{"$f":"基本!T58","v":0},null,{"$f":"基本!U58","v":0},null,{"$f":"基本!V58","v":0},null,{"$f":"基本!W58","v":0},null,{"$f":"基本!X58","v":0},null,{"$f":"基本!Y58","v":0},null,{"$f":"基本!Z58","v":0},null,{"$f":"基本!AA58","v":0},null,{"$f":"基本!AB58","v":0},null,{"$f":"基本!AC58","v":0},null,{"$f":"基本!AD58","v":0},null,{"$f":"基本!AE58","v":0},null,{"$f":"基本!AF58","v":0},null,{"$f":"基本!AG58","v":0}]
[null,{"$f":"職員一覧!B29","v":0},{"$f":"基本!C60","v":0},null,{"$f":"基本!D60","v":0},null,{"$f":"基本!E60","v":0},null,{"$f":"基本!F60","v":0},null,{"$f":"基本!G60","v":0},null,{"$f":"基本!H60","v":0},null,{"$f":"基本!I60","v":0},null,{"$f":"基本!J60","v":0},null,{"$f":"基本!K60","v":0},null,{"$f":"基本!L60","v":0},null,{"$f":"基本!M60","v":0},null,{"$f":"基本!N60","v":0},null,{"$f":"基本!O60","v":0},null,{"$f":"基本!P60","v":0},null,{"$f":"基本!Q60","v":0},null,{"$f":"基本!R60","v":0},null,{"$f":"基本!S60","v":0},null,{"$f":"基本!T60","v":0},null,{"$f":"基本!U60","v":0},null,{"$f":"基本!V60","v":0},null,{"$f":"基本!W60","v":0},null,{"$f":"基本!X60","v":0},null,{"$f":"基本!Y60","v":0},null,{"$f":"基本!Z60","v":0},null,{"$f":"基本!AA60","v":0},null,{"$f":"基本!AB60","v":0},null,{"$f":"基本!AC60","v":0},null,{"$f":"基本!AD60","v":0},null,{"$f":"基本!AE60","v":0},null,{"$f":"基本!AF60","v":0},null,{"$f":"基本!AG60","v":0}]
[null,{"$f":"職員一覧!B30","v":0},{"$f":"基本!C62","v":0},null,{"$f":"基本!D62","v":0},null,{"$f":"基本!E62","v":0},null,{"$f":"基本!F62","v":0},null,{"$f":"基本!G62","v":0},null,{"$f":"基本!H62","v":0},null,{"$f":"基本!I62","v":0},null,{"$f":"基本!J62","v":0},null,{"$f":"基本!K62","v":0},null,{"$f":"基本!L62","v":0},null,{"$f":"基本!M62","v":0},null,{"$f":"基本!N62","v":0},null,{"$f":"基本!O62","v":0},null,{"$f":"基本!P62","v":0},null,{"$f":"基本!Q62","v":0},null,{"$f":"基本!R62","v":0},null,{"$f":"基本!S62","v":0},null,{"$f":"基本!T62","v":0},null,{"$f":"基本!U62","v":0},null,{"$f":"基本!V62","v":0},null,{"$f":"基本!W62","v":0},null,{"$f":"基本!X62","v":0},null,{"$f":"基本!Y62","v":0},null,{"$f":"基本!Z62","v":0},null,{"$f":"基本!AA62","v":0},null,{"$f":"基本!AB62","v":0},null,{"$f":"基本!AC62","v":0},null,{"$f":"基本!AD62","v":0},null,{"$f":"基本!AE62","v":0},null,{"$f":"基本!AF62","v":0},null,{"$f":"基本!AG62","v":0}]
[null,{"$f":"職員一覧!B31","v":0},{"$f":"基本!C64","v":0},null,{"$f":"基本!D64","v":0},null,{"$f":"基本!E64","v":0},null,{"$f":"基本!F64","v":0},null,{"$f":"基本!G64","v":0},null,{"$f":"基本!H64","v":0},null,{"$f":"基本!I64","v":0},null,{"$f":"基本!J64","v":0},null,{"$f":"基本!K64","v":0},null,{"$f":"基本!L64","v":0},null,{"$f":"基本!M64","v":0},null,{"$f":"基本!N64","v":0},null,{"$f":"基本!O64","v":0},null,{"$f":"基本!P64","v":0},null,{"$f":"基本!Q64","v":0},null,{"$f":"基本!R64","v":0},null,{"$f":"基本!S64","v":0},null,{"$f":"基本!T64","v":0},null,{"$f":"基本!U64","v":0},null,{"$f":"基本!V64","v":0},null,{"$f":"基本!W64","v":0},null,{"$f":"基本!X64","v":0},null,{"$f":"基本!Y64","v":0},null,{"$f":"基本!Z64","v":0},null,{"$f":"基本!AA64","v":0},null,{"$f":"基本!AB64","v":0},null,{"$f":"基本!AC64","v":0},null,{"$f":"基本!AD64","v":0},null,{"$f":"基本!AE64","v":0},null,{"$f":"基本!AF64","v":0},null,{"$f":"基本!AG64","v":0}]
[null,null,{"$f":"COUNTIF(C7:C36,\"日\")","v":1},null,{"$f":"COUNTIF(E7:E36,\"日\")","v":1},null,{"$f":"COUNTIF(G7:G36,\"日\")","v":1},null,{"$f":"COUNTIF(I7:I36,\"日\")","v":2},null,{"$f":"COUNTIF(K7:K36,\"日\")","v":2},null,{"$f":"COUNTIF(M7:M36,\"日\")","v":2},null,{"$f":"COUNTIF(O7:O36,\"日\")","v":2},null,{"$f":"COUNTIF(Q7:Q36,\"日\")","v":1},null,{"$f":"COUNTIF(S7:S36,\"日\")","v":3},null,{"$f":"COUNTIF(U7:U36,\"日\")","v":2},null,{"$f":"COUNTIF(W7:W36,\"日\")","v":3},null,{"$f":"COUNTIF(Y7:Y36,\"日\")","v":1},null,{"$f":"COUNTIF(AA7:AA36,\"日\")","v":2},null,{"$f":"COUNTIF(AC7:AC36,\"日\")","v":3},null,{"$f":"COUNTIF(AE7:AE36,\"日\")","v":4},null,{"$f":"COUNTIF(AG7:AG36,\"日\")","v":3},null,{"$f":"COUNTIF(AI7:AI36,\"日\")","v":2},null,{"$f":"COUNTIF(AK7:AK36,\"日\")","v":2},null,{"$f":"COUNTIF(AM7:AM36,\"日\")","v":2},null,{"$f":"COUNTIF(AO7:AO36,\"日\")","v":2},null,{"$f":"COUNTIF(AQ7:AQ36,\"日\")","v":2},null,{"$f":"COUNTIF(AS7:AS36,\"日\")","v":2},null,{"$f":"COUNTIF(AU7:AU36,\"日\")","v":3},null,{"$f":"COUNTIF(AW7:AW36,\"日\")","v":2},null,{"$f":"COUNTIF(AY7:AY36,\"日\")","v":3},null,{"$f":"COUNTIF(BA7:BA36,\"日\")","v":3},null,{"$f":"COUNTIF(BC7:BC36,\"日\")","v":1},null,{"$f":"COUNTIF(BE7:BE36,\"日\")","v":1},null,{"$f":"COUNTIF(BG7:BG36,\"日\")","v":2},null,{"$f":"COUNTIF(BI7:BI36,\"日\")","v":2},null,{"$f":"COUNTIF(BK7:BK36,\"日\")","v":3}]

{"sheet":"CSV出力用","index":5,"n_rows":116,"n_cols":110,"rows_kept":116,"cut":false,"hidden":false,"merged":[[103,107,104,107],[91,107,92,107],[93,107,94,107],[95,107,96,107],[97,107,98,107],[101,107,102,107],[99,107,100,107],[31,107,32,107],[33,107,34,107],[35,107,36,107],[37,107,38,107],[75,107,76,107],[71,107,72,107],[73,107,74,107],[51,107,52,107],[53,107,54,107],[55,107,56,107],[81,107,82,107],[83,107,84,107],[85,107,86,107],[87,107,88,107],[79,107,80,107],[89,107,90,107],[19,107,20,107],[21,107,22,107],[23,107,24,107],[25,107,26,107],[59,107,60,107],[77,107,78,107],[63,107,64,107],[65,107,66,107],[67,107,68,107],[69,107,70,107],[61,107,62,107],[39,107,40,107],[41,107,42,107],[43,107,44,107],[45,107,46,107],[27,107,28,107],[29,107,30,107],[57,107,58,107],[47,107,48,107],[49,107,50,107],[3,107,4,107],[5,107,6,107],[7,107,8,107],[9,107,10,107],[11,107,12,107],[13,107,14,107],[15,107,16,107],[17,107,18,107],[0,4,0,19],[1,102,1,103],[3,98,4,98],[3,99,4,99],[1,30,1,31],[1,33,1,97],[1,99,1,100],[1,27,1,28],[3,103,4,103],[3,104,4,104],[3,105,4,105],[3,106,4,106],[5,0,6,0],[7,0,8,0],[3,100,4,100],[3,101,4,101],[3,102,4,102],[3,0,4,0],[3,97,4,97],[5,1,6,1],[7,1,8,1],[17,0,18,0],[19,0,20,0],[21,0,22,0],[17,1,18,1],[19,1,20,1],[21,1,22,1],[23,0,24,0],[9,0,10,0],[11,0,12,0],[13,0,14,0],[15,0,16,0],[23,1,24,1],[9,1,10,1],[11,1,12,1],[13,1,14,1],[15,1,16,1],[81,0,82,0],[33,0,34,0],[35,0,36,0],[37,0,38,0],[39,0,40,0],[25,0,26,0],[27,0,28,0],[29,0,30,0],[31,0,32,0],[63,0,64,0],[65,0,66,0],[67,0,68,0],[69,0,70,0],[71,0,72,0],[73,0,74,0],[75,0,76,0],[77,0,78,0],[55,0,56,0],[63,1,64,1],[49,1,50,1],[51,1,52,1],[55,1,56,1],[53,1,54,1],[61,1,62,1],[114,0,115,0],[108,0,109,0],[110,0,111,0],[112,0,113,0],[106,0,107,0],[101,0,102,0],[101,1,102,1],[97,0,98,0],[97,1,98,1],[99,0,100,0],[99,1,100,1],[103,0,104,0],[103,1,104,1],[57,0,58,0],[61,0,62,0],[79,0,80,0],[85,0,86,0],[51,0,52,0],[71,1,72,1],[65,1,66,1],[67,1,68,1],[69,1,70,1],[79,1,80,1],[73,1,74,1],[75,1,76,1],[77,1,78,1],[85,1,86,1],[81,1,82,1],[93,1,94,1],[87,1,88,1],[83,1,84,1],[95,0,96,0],[95,1,96,1],[89,0,90,0],[89,1,90,1],[91,0,92,0],[91,1,92,1],[93,0,94,0],[87,0,88,0],[83,0,84,0],[25,1,26,1],[27,1,28,1],[29,1,30,1],[57,1,58,1],[59,0,60,0],[59,1,60,1],[31,1,32,1],[33,1,34,1],[35,1,36,1],[49,0,50,0],[41,0,42,0],[43,0,44,0],[37,1,38,1],[39,1,40,1],[41,1,42,1],[43,1,44,1],[45,1,46,1],[47,1,48,1],[45,0,46,0],[47,0,48,0],[53,0,54,0]]}
[{"$f":"基本!A1","v":45870},null,{"$f":"A1","v":"2025-08-01"},"月","勤務予定・実施表（）"]
[null,null,null,null,null,null,null,null,null,null,null,null,null,null,null,null,null,null,null,null,null,null,null,null,null,null,null,null,null,null,null,null,null,null,null,null,null,null,null,null,null,null,null,null,null,null,null,null,null,null,null,null,null,null,null,null,null,null,null,null,null,null,null,null,null,null,null,null,null,null,null,null,null,null,null,null,null,null,null,null,null,null,null,null,null,null,null,null,null,null,null,null,null,null,null,null,null,null,null,null,null,null,null,null,null,null,null,null,null,"マスタ管理欄"]
[null,null,null,null,null,null,null,null,null,null,null,null,null,null,null,null,null,null,null,null,null,null,null,null,null,null,null,null,null,null,null,null,null,null,null,null,null,null,null,null,null,null,null,null,null,null,null,null,null,null,null,null,null,null,null,null,null,null,null,null,null,null,null,null,null,null,null,null,null,null,null,null,null,null,null,null,null,null,null,null,null,null,null,null,null,null,null,null,null,null,null,null,null,null,null,null,null,"準","深","遅","早","／","年","特","夏","無","無"]
["職員氏名",null,"日",{"$f":"A1","v":"2025-08-01"},{"$f":"A1+1","v":"2025-08-02"},{"$f":"A1+2","v":"2025-08-03"},{"$f":"A1+3","v":"2025-08-04"},{"$f":"A1+4","v":"2025-08-05"},{"$f":"A1+5","v":"2025-08-06"},{"$f":"A1+6","v":"2025-08-07"},{"$f":"A1+7","v":"2025-08-08"},{"$f":"A1+8","v":"2025-08-09"},{"$f":"A1+9","v":"2025-08-10"},{"$f":"A1+10","v":"2025-08-11"},{"$f":"A1+11","v":"2025-08-12"},{"$f":"A1+12","v":"2025-08-13"},{"$f":"A1+13","v":"2025-08-14"},{"$f":"A1+14","v":"2025-08-15"},{"$f":"A1+15","v":"2025-08-16"},{"$f":"A1+16","v":"2025-08-17"},{"$f":"A1+17","v":"2025-08-18"},{"$f":"A1+18","v":"2025-08-19"},{"$f":"A1+19","v":"2025-08-20"},{"$f":"A1+20","v":"2025-08-21"},{"$f":"A1+21","v":"2025-08-22"},{"$f":"A1+22","v":"2025-08-23"},{"$f":"A1+23","v":"2025-08-24"},{"$f":"A1+24","v":"2025-08-25"},{"$f":"A1+25","v":"2025-08-26"},{"$f":"A1+26","v":"2025-08-27"},{"$f":"A1+27","v":"2025-08-28"},{"$f":"IF(DAY(A1+28)>10,A1+28,\"\")","v":"2025-08-29"},{"$f":"IF(DAY(A1+29)>10,A1+29,\"\")","v":"2025-08-30"},{"$f":"IF(DAY(A1+30)>10,A1+30,\"\")","v":"2025-08-31"},1,2,3,4,5,6,7,8,9,10,11,12,13,14,15,16,17,18,19,20,21,22,23,24,25,26,27,28,29,30,31,null,1,2,3,4,5,6,7,8,9,10,11,12,13,14,15,16,17,18,19,20,21,22,23,24,25,26,27,28,29,30,31,"準夜","深夜","遅出","早出","週休","年休","特休","夏期",null,null,"業補"]
[null,null,"曜",{"$f":"D4","v":45870},{"$f":"E4","v":45871},45872,45873,45874,45875,45876,45877,45878,45879,45880,45881,45882,45883,45884,45885,45886,45887,45888,45889,45890,45891,45892,45893,45894,45895,45896,45897,45898,45899,45900]
[{"$f":"IF(LEN(職員一覧!B2)<>0,職員一覧!B2,\"\")","v":"病院　太郎"},{"$f":"IF(LEN(職員一覧!C2)<>0,職員一覧!C2,\"\")","v":"000001"},"予定","日","／","／","日","夏／","夏／","日","日","／","師直","祭／","日","日","日","日","／","／","日","日","師日当","0730","日","／","／","師日当","0730","日","日","日","／","／",{"$f":"IF(ISERROR(VLOOKUP(D6,勤務シフト一覧!$B$4:$C$106,2,FALSE)),\"\",VLOOKUP(D6,勤務シフト一覧!$B$4:$C$106,2,FALSE))","v":"日"},{"$f":"IF(ISERROR(VLOOKUP(E6,勤務シフト一覧!$B$4:$C$106,2,FALSE)),\"\",VLOOKUP(E6,勤務シフト一覧!$B$4:$C$106,2,FALSE))","v":"／"},{"$f":"IF(ISERROR(VLOOKUP(F6,勤務シフト一覧!$B$4:$C$106,2,FALSE)),\"\",VLOOKUP(F6,勤務シフト一覧!$B$4:$C$106,2,FALSE))","v":"／"},{"$f":"IF(ISERROR(VLOOKUP(G6,勤務シフト一覧!$B$4:$C$106,2,FALSE)),\"\",VLOOKUP(G6,勤務シフト一覧!$B$4:$C$106,2,FALSE))","v":"日"},{"$f":"IF(ISERROR(VLOOKUP(H6,勤務シフト一覧!$B$4:$C$106,2,FALSE)),\"\",VLOOKUP(H6,勤務シフト一覧!$B$4:$C$106,2,FALSE))","v":"夏／"},{"$f":"IF(ISERROR(VLOOKUP(I6,勤務シフト一覧!$B$4:$C$106,2,FALSE)),\"\",VLOOKUP(I6,勤務シフト一覧!$B$4:$C$106,2,FALSE))","v":"夏／"},{"$f":"IF(ISERROR(VLOOKUP(J6,勤務シフト一覧!$B$4:$C$106,2,FALSE)),\"\",VLOOKUP(J6,勤務シフト一覧!$B$4:$C$106,2,FALSE))","v":"日"},{"$f":"IF(ISERROR(VLOOKUP(K6,勤務シフト一覧!$B$4:$C$106,2,FALSE)),\"\",VLOOKUP(K6,勤務シフト一覧!$B$4:$C$106,2,FALSE))","v":"日"},{"$f":"IF(ISERROR(VLOOKUP(L6,勤務シフト一覧!$B$4:$C$106,2,FALSE)),\"\",VLOOKUP(L6,勤務シフト一覧!$B$4:$C$106,2,FALSE))","v":"／"},{"$f":"IF(ISERROR(VLOOKUP(M6,勤務シフト一覧!$B$4:$C$106,2,FALSE)),\"\",VLOOKUP(M6,勤務シフト一覧!$B$4:$C$106,2,FALSE))","v":"師直"},{"$f":"IF(ISERROR(VLOOKUP(N6,勤務シフト一覧!$B$4:$C$106,2,FALSE)),\"\",VLOOKUP(N6,勤務シフト一覧!$B$4:$C$106,2,FALSE))","v":"祭／"},{"$f":"IF(ISERROR(VLOOKUP(O6,勤務シフト一覧!$B$4:$C$106,2,FALSE)),\"\",VLOOKUP(O6,勤務シフト一覧!$B$4:$C$106,2,FALSE))","v":"日"},{"$f":"IF(ISERROR(VLOOKUP(P6,勤務シフト一覧!$B$4:$C$106,2,FALSE)),\"\",VLOOKUP(P6,勤務シフト一覧!$B$4:$C$106,2,FALSE))","v":"日"},{"$f":"IF(ISERROR(VLOOKUP(Q6,勤務シフト一覧!$B$4:$C$106,2,FALSE)),\"\",VLOOKUP(Q6,勤務シフト一覧!$B$4:$C$106,2,FALSE))","v":"日"},{"$f":"IF(ISERROR(VLOOKUP(R6,勤務シフト一覧!$B$4:$C$106,2,FALSE)),\"\",VLOOKUP(R6,勤務シフト一覧!$B$4:$C$106,2,FALSE))","v":"日"},{"$f":"IF(ISERROR(VLOOKUP(S6,勤務シフト一覧!$B$4:$C$106,2,FALSE)),\"\",VLOOKUP(S6,勤務シフト一覧!$B$4:$C$106,2,FALSE))","v":"／"},{"$f":"IF(ISERROR(VLOOKUP(T6,勤務シフト一覧!$B$4:$C$106,2,FALSE)),\"\",VLOOKUP(T6,勤務シフト一覧!$B$4:$C$106,2,FALSE))","v":"／"},{"$f":"IF(ISERROR(VLOOKUP(U6,勤務シフト一覧!$B$4:$C$106,2,FALSE)),\"\",VLOOKUP(U6,勤務シフト一覧!$B$4:$C$106,2,FALSE))","v":"日"},{"$f":"IF(ISERROR(VLOOKUP(V6,勤務シフト一覧!$B$4:$C$106,2,FALSE)),\"\",VLOOKUP(V6,勤務シフト一覧!$B$4:$C$106,2,FALSE))","v":"日"},{"$f":"IF(ISERROR(VLOOKUP(W6,勤務シフト一覧!$B$4:$C$106,2,FALSE)),\"\",VLOOKUP(W6,勤務シフト一覧!$B$4:$C$106,2,FALSE))","v":"師日当"},{"$f":"IF(ISERROR(VLOOKUP(X6,勤務シフト一覧!$B$4:$C$106,2,FALSE)),\"\",VLOOKUP(X6,勤務シフト一覧!$B$4:$C$106,2,FALSE))","v":"0730"},{"$f":"IF(ISERROR(VLOOKUP(Y6,勤務シフト一覧!$B$4:$C$106,2,FALSE)),\"\",VLOOKUP(Y6,勤務シフト一覧!$B$4:$C$106,2,FALSE))","v":"日"},{"$f":"IF(ISERROR(VLOOKUP(Z6,勤務シフト一覧!$B$4:$C$106,2,FALSE)),\"\",VLOOKUP(Z6,勤務シフト一覧!$B$4:$C$106,2,FALSE))","v":"／"},{"$f":"IF(ISERROR(VLOOKUP(AA6,勤務シフト一覧!$B$4:$C$106,2,FALSE)),\"\",VLOOKUP(AA6,勤務シフト一覧!$B$4:$C$106,2,FALSE))","v":"／"},{"$f":"IF(ISERROR(VLOOKUP(AB6,勤務シフト一覧!$B$4:$C$106,2,FALSE)),\"\",VLOOKUP(AB6,勤務シフト一覧!$B$4:$C$106,2,FALSE))","v":"師日当"},{"$f":"IF(ISERROR(VLOOKUP(AC6,勤務シフト一覧!$B$4:$C$106,2,FALSE)),\"\",VLOOKUP(AC6,勤務シフト一覧!$B$4:$C$106,2,FALSE))","v":"0730"},{"$f":"IF(ISERROR(VLOOKUP(AD6,勤務シフト一覧!$B$4:$C$106,2,FALSE)),\"\",VLOOKUP(AD6,勤務シフト一覧!$B$4:$C$106,2,FALSE))","v":"日"},{"$f":"IF(ISERROR(VLOOKUP(AE6,勤務シフト一覧!$B$4:$C$106,2,FALSE)),\"\",VLOOKUP(AE6,勤務シフト一覧!$B$4:$C$106,2,FALSE))","v":"日"},{"$f":"IF(ISERROR(VLOOKUP(AF6,勤務シフト一覧!$B$4:$C$106,2,FALSE)),\"\",VLOOKUP(AF6,勤務シフト一覧!$B$4:$C$106,2,FALSE))","v":"日"},{"$f":"IF(ISERROR(VLOOKUP(AG6,勤務シフト一覧!$B$4:$C$106,2,FALSE)),\"\",VLOOKUP(AG6,勤務シフト一覧!$B$4:$C$106,2,FALSE))","v":"／"},{"$f":"IF(ISERROR(VLOOKUP(AH6,勤務シフト一覧!$B$4:$C$106,2,FALSE)),\"\",VLOOKUP(AH6,勤務シフト一覧!$B$4:$C$106,2,FALSE))","v":"／"},null,{"$f":"IF(ISERROR(VLOOKUP(D6,勤務シフト一覧!$B$4:$D$106,3,FALSE)),\"\",VLOOKUP(D6,勤務シフト一覧!$B$4:$D$106,3,FALSE))","v":"A"},{"$f":"IF(ISERROR(VLOOKUP(E6,勤務シフト一覧!$B$4:$D$106,3,FALSE)),\"\",VLOOKUP(E6,勤務シフト一覧!$B$4:$D$106,3,FALSE))","v":2},{"$f":"IF(ISERROR(VLOOKUP(F6,勤務シフト一覧!$B$4:$D$106,3,FALSE)),\"\",VLOOKUP(F6,勤務シフト一覧!$B$4:$D$106,3,FALSE))","v":2},{"$f":"IF(ISERROR(VLOOKUP(G6,勤務シフト一覧!$B$4:$D$106,3,FALSE)),\"\",VLOOKUP(G6,勤務シフト一覧!$B$4:$D$106,3,FALSE))","v":"A"},{"$f":"IF(ISERROR(VLOOKUP(H6,勤務シフト一覧!$B$4:$D$106,3,FALSE)),\"\",VLOOKUP(H6,勤務シフト一覧!$B$4:$D$106,3,FALSE))","v":"A"},{"$f":"IF(ISERROR(VLOOKUP(I6,勤務シフト一覧!$B$4:$D$106,3,FALSE)),\"\",VLOOKUP(I6,勤務シフト一覧!$B$4:$D$106,3,FALSE))","v":"A"},{"$f":"IF(ISERROR(VLOOKUP(J6,勤務シフト一覧!$B$4:$D$106,3,FALSE)),\"\",VLOOKUP(J6,勤務シフト一覧!$B$4:$D$106,3,FALSE))","v":"A"},{"$f":"IF(ISERROR(VLOOKUP(K6,勤務シフト一覧!$B$4:$D$106,3,FALSE)),\"\",VLOOKUP(K6,勤務シフト一覧!$B$4:$D$106,3,FALSE))","v":"A"},{"$f":"IF(ISERROR(VLOOKUP(L6,勤務シフト一覧!$B$4:$D$106,3,FALSE)),\"\",VLOOKUP(L6,勤務シフト一覧!$B$4:$D$106,3,FALSE))","v":2},{"$f":"IF(ISERROR(VLOOKUP(M6,勤務シフト一覧!$B$4:$D$106,3,FALSE)),\"\",VLOOKUP(M6,勤務シフト一覧!$B$4:$D$106,3,FALSE))","v":2},{"$f":"IF(ISERROR(VLOOKUP(N6,勤務シフト一覧!$B$4:$D$106,3,FALSE)),\"\",VLOOKUP(N6,勤務シフト一覧!$B$4:$D$106,3,FALSE))","v":1},{"$f":"IF(ISERROR(VLOOKUP(O6,勤務シフト一覧!$B$4:$D$106,3,FALSE)),\"\",VLOOKUP(O6,勤務シフト一覧!$B$4:$D$106,3,FALSE))","v":"A"},{"$f":"IF(ISERROR(VLOOKUP(P6,勤務シフト一覧!$B$4:$D$106,3,FALSE)),\"\",VLOOKUP(P6,勤務シフト一覧!$B$4:$D$106,3,FALSE))","v":"A"},{"$f":"IF(ISERROR(VLOOKUP(Q6,勤務シフト一覧!$B$4:$D$106,3,FALSE)),\"\",VLOOKUP(Q6,勤務シフト一覧!$B$4:$D$106,3,FALSE))","v":"A"},{"$f":"IF(ISERROR(VLOOKUP(R6,勤務シフト一覧!$B$4:$D$106,3,FALSE)),\"\",VLOOKUP(R6,勤務シフト一覧!$B$4:$D$106,3,FALSE))","v":"A"},{"$f":"IF(ISERROR(VLOOKUP(S6,勤務シフト一覧!$B$4:$D$106,3,FALSE)),\"\",VLOOKUP(S6,勤務シフト一覧!$B$4:$D$106,3,FALSE))","v":2},{"$f":"IF(ISERROR(VLOOKUP(T6,勤務シフト一覧!$B$4:$D$106,3,FALSE)),\"\",VLOOKUP(T6,勤務シフト一覧!$B$4:$D$106,3,FALSE))","v":2},{"$f":"IF(ISERROR(VLOOKUP(U6,勤務シフト一覧!$B$4:$D$106,3,FALSE)),\"\",VLOOKUP(U6,勤務シフト一覧!$B$4:$D$106,3,FALSE))","v":"A"},{"$f":"IF(ISERROR(VLOOKUP(V6,勤務シフト一覧!$B$4:$D$106,3,FALSE)),\"\",VLOOKUP(V6,勤務シフト一覧!$B$4:$D$106,3,FALSE))","v":"A"},{"$f":"IF(ISERROR(VLOOKUP(W6,勤務シフト一覧!$B$4:$D$106,3,FALSE)),\"\",VLOOKUP(W6,勤務シフト一覧!$B$4:$D$106,3,FALSE))","v":"A15"},{"$f":"IF(ISERROR(VLOOKUP(X6,勤務シフト一覧!$B$4:$D$106,3,FALSE)),\"\",VLOOKUP(X6,勤務シフト一覧!$B$4:$D$106,3,FALSE))","v":"A16"},{"$f":"IF(ISERROR(VLOOKUP(Y6,勤務シフト一覧!$B$4:$D$106,3,FALSE)),\"\",VLOOKUP(Y6,勤務シフト一覧!$B$4:$D$106,3,FALSE))","v":"A"},{"$f":"IF(ISERROR(VLOOKUP(Z6,勤務シフト一覧!$B$4:$D$106,3,FALSE)),\"\",VLOOKUP(Z6,勤務シフト一覧!$B$4:$D$106,3,FALSE))","v":2},{"$f":"IF(ISERROR(VLOOKUP(AA6,勤務シフト一覧!$B$4:$D$106,3,FALSE)),\"\",VLOOKUP(AA6,勤務シフト一覧!$B$4:$D$106,3,FALSE))","v":2},{"$f":"IF(ISERROR(VLOOKUP(AB6,勤務シフト一覧!$B$4:$D$106,3,FALSE)),\"\",VLOOKUP(AB6,勤務シフト一覧!$B$4:$D$106,3,FALSE))","v":"A15"},{"$f":"IF(ISERROR(VLOOKUP(AC6,勤務シフト一覧!$B$4:$D$106,3,FALSE)),\"\",VLOOKUP(AC6,勤務シフト一覧!$B$4:$D$106,3,FALSE))","v":"A16"},{"$f":"IF(ISERROR(VLOOKUP(AD6,勤務シフト一覧!$B$4:$D$106,3,FALSE)),\"\",VLOOKUP(AD6,勤務シフト一覧!$B$4:$D$106,3,FALSE))","v":"A"},{"$f":"IF(ISERROR(VLOOKUP(AE6,勤務シフト一覧!$B$4:$D$106,3,FALSE)),\"\",VLOOKUP(AE6,勤務シフト一覧!$B$4:$D$106,3,FALSE))","v":"A"},{"$f":"IF(ISERROR(VLOOKUP(AF6,勤務シフト一覧!$B$4:$D$106,3,FALSE)),\"\",VLOOKUP(AF6,勤務シフト一覧!$B$4:$D$106,3,FALSE))","v":"A"},{"$f":"IF(ISERROR(VLOOKUP(AG6,勤務シフト一覧!$B$4:$D$106,3,FALSE)),\"\",VLOOKUP(AG6,勤務シフト一覧!$B$4:$D$106,3,FALSE))","v":2},{"$f":"IF(ISERROR(VLOOKUP(AH6,勤務シフト一覧!$B$4:$D$106,3,FALSE)),\"\",VLOOKUP(AH6,勤務シフト一覧!$B$4:$D$106,3,FALSE))","v":2},{"$f":"COUNTIF(AI6:BM6,$CT$3)","v":0},{"$f":"COUNTIF(AI6:BM6,$CU$3)","v":0},{"$f":"COUNTIF(AI6:BM6,$CV$3)","v":0},{"$f":"COUNTIF(AI6:BM6,$CW$3)","v":0},{"$f":"COUNTIF(AI6:BM6,$CX$3)","v":9},{"$f":"COUNTIF(AI6:BM6,$CY$3)","v":0},{"$f":"COUNTIF(AI6:BM6,$CZ$3)","v":0},{"$f":"COUNTIF(AI6:BM6,$DA$3)","v":0},{"$f":"COUNTIF(AI6:BM6,$DB$3)","v":0},{"$f":"COUNTIF(AI6:BM6,$DC$3)","v":0},{"$f":"IF(LEN(職員一覧!D2)<>0,職員一覧!D2,\"\")","v":""},null,{"$f":"IF(勤務シフト一覧!$D4<>0,IF(勤務シフト一覧!$B4<> 0,勤務シフト一覧!$B4,\"\"),\"\")","v":"日"}]
[null,null,"実施","","","","","","","","","",""," 明け","","","","","","","","","","","","","","","","","","","","",{"$f":"IF(ISERROR(VLOOKUP(D7,勤務シフト一覧!$B$4:$C$106,2,FALSE)),\"\",VLOOKUP(D7,勤務シフト一覧!$B$4:$C$106,2,FALSE))","v":""},{"$f":"IF(ISERROR(VLOOKUP(E7,勤務シフト一覧!$B$4:$C$106,2,FALSE)),\"\",VLOOKUP(E7,勤務シフト一覧!$B$4:$C$106,2,FALSE))","v":""},{"$f":"IF(ISERROR(VLOOKUP(F7,勤務シフト一覧!$B$4:$C$106,2,FALSE)),\"\",VLOOKUP(F7,勤務シフト一覧!$B$4:$C$106,2,FALSE))","v":""},{"$f":"IF(ISERROR(VLOOKUP(G7,勤務シフト一覧!$B$4:$C$106,2,FALSE)),\"\",VLOOKUP(G7,勤務シフト一覧!$B$4:$C$106,2,FALSE))","v":""},{"$f":"IF(ISERROR(VLOOKUP(H7,勤務シフト一覧!$B$4:$C$106,2,FALSE)),\"\",VLOOKUP(H7,勤務シフト一覧!$B$4:$C$106,2,FALSE))","v":""},{"$f":"IF(ISERROR(VLOOKUP(I7,勤務シフト一覧!$B$4:$C$106,2,FALSE)),\"\",VLOOKUP(I7,勤務シフト一覧!$B$4:$C$106,2,FALSE))","v":""},{"$f":"IF(ISERROR(VLOOKUP(J7,勤務シフト一覧!$B$4:$C$106,2,FALSE)),\"\",VLOOKUP(J7,勤務シフト一覧!$B$4:$C$106,2,FALSE))","v":""},{"$f":"IF(ISERROR(VLOOKUP(K7,勤務シフト一覧!$B$4:$C$106,2,FALSE)),\"\",VLOOKUP(K7,勤務シフト一覧!$B$4:$C$106,2,FALSE))","v":""},{"$f":"IF(ISERROR(VLOOKUP(L7,勤務シフト一覧!$B$4:$C$106,2,FALSE)),\"\",VLOOKUP(L7,勤務シフト一覧!$B$4:$C$106,2,FALSE))","v":""},{"$f":"IF(ISERROR(VLOOKUP(M7,勤務シフト一覧!$B$4:$C$106,2,FALSE)),\"\",VLOOKUP(M7,勤務シフト一覧!$B$4:$C$106,2,FALSE))","v":""},{"$f":"IF(ISERROR(VLOOKUP(N7,勤務シフト一覧!$B$4:$C$106,2,FALSE)),\"\",VLOOKUP(N7,勤務シフト一覧!$B$4:$C$106,2,FALSE))","v":""},{"$f":"IF(ISERROR(VLOOKUP(O7,勤務シフト一覧!$B$4:$C$106,2,FALSE)),\"\",VLOOKUP(O7,勤務シフト一覧!$B$4:$C$106,2,FALSE))","v":""},{"$f":"IF(ISERROR(VLOOKUP(P7,勤務シフト一覧!$B$4:$C$106,2,FALSE)),\"\",VLOOKUP(P7,勤務シフト一覧!$B$4:$C$106,2,FALSE))","v":""},{"$f":"IF(ISERROR(VLOOKUP(Q7,勤務シフト一覧!$B$4:$C$106,2,FALSE)),\"\",VLOOKUP(Q7,勤務シフト一覧!$B$4:$C$106,2,FALSE))","v":""},{"$f":"IF(ISERROR(VLOOKUP(R7,勤務シフト一覧!$B$4:$C$106,2,FALSE)),\"\",VLOOKUP(R7,勤務シフト一覧!$B$4:$C$106,2,FALSE))","v":""},{"$f":"IF(ISERROR(VLOOKUP(S7,勤務シフト一覧!$B$4:$C$106,2,FALSE)),\"\",VLOOKUP(S7,勤務シフト一覧!$B$4:$C$106,2,FALSE))","v":""},{"$f":"IF(ISERROR(VLOOKUP(T7,勤務シフト一覧!$B$4:$C$106,2,FALSE)),\"\",VLOOKUP(T7,勤務シフト一覧!$B$4:$C$106,2,FALSE))","v":""},{"$f":"IF(ISERROR(VLOOKUP(U7,勤務シフト一覧!$B$4:$C$106,2,FALSE)),\"\",VLOOKUP(U7,勤務シフト一覧!$B$4:$C$106,2,FALSE))","v":""},{"$f":"IF(ISERROR(VLOOKUP(V7,勤務シフト一覧!$B$4:$C$106,2,FALSE)),\"\",VLOOKUP(V7,勤務シフト一覧!$B$4:$C$106,2,FALSE))","v":""},{"$f":"IF(ISERROR(VLOOKUP(W7,勤務シフト一覧!$B$4:$C$106,2,FALSE)),\"\",VLOOKUP(W7,勤務シフト一覧!$B$4:$C$106,2,FALSE))","v":""},{"$f":"IF(ISERROR(VLOOKUP(X7,勤務シフト一覧!$B$4:$C$106,2,FALSE)),\"\",VLOOKUP(X7,勤務シフト一覧!$B$4:$C$106,2,FALSE))","v":""},{"$f":"IF(ISERROR(VLOOKUP(Y7,勤務シフト一覧!$B$4:$C$106,2,FALSE)),\"\",VLOOKUP(Y7,勤務シフト一覧!$B$4:$C$106,2,FALSE))","v":""},{"$f":"IF(ISERROR(VLOOKUP(Z7,勤務シフト一覧!$B$4:$C$106,2,FALSE)),\"\",VLOOKUP(Z7,勤務シフト一覧!$B$4:$C$106,2,FALSE))","v":""},{"$f":"IF(ISERROR(VLOOKUP(AA7,勤務シフト一覧!$B$4:$C$106,2,FALSE)),\"\",VLOOKUP(AA7,勤務シフト一覧!$B$4:$C$106,2,FALSE))","v":""},{"$f":"IF(ISERROR(VLOOKUP(AB7,勤務シフト一覧!$B$4:$C$106,2,FALSE)),\"\",VLOOKUP(AB7,勤務シフト一覧!$B$4:$C$106,2,FALSE))","v":""},{"$f":"IF(ISERROR(VLOOKUP(AC7,勤務シフト一覧!$B$4:$C$106,2,FALSE)),\"\",VLOOKUP(AC7,勤務シフト一覧!$B$4:$C$106,2,FALSE))","v":""},{"$f":"IF(ISERROR(VLOOKUP(AD7,勤務シフト一覧!$B$4:$C$106,2,FALSE)),\"\",VLOOKUP(AD7,勤務シフト一覧!$B$4:$C$106,2,FALSE))","v":""},{"$f":"IF(ISERROR(VLOOKUP(AE7,勤務シフト一覧!$B$4:$C$106,2,FALSE)),\"\",VLOOKUP(AE7,勤務シフト一覧!$B$4:$C$106,2,FALSE))","v":""},{"$f":"IF(ISERROR(VLOOKUP(AF7,勤務シフト一覧!$B$4:$C$106,2,FALSE)),\"\",VLOOKUP(AF7,勤務シフト一覧!$B$4:$C$106,2,FALSE))","v":""},{"$f":"IF(ISERROR(VLOOKUP(AG7,勤務シフト一覧!$B$4:$C$106,2,FALSE)),\"\",VLOOKUP(AG7,勤務シフト一覧!$B$4:$C$106,2,FALSE))","v":""},{"$f":"IF(ISERROR(VLOOKUP(AH7,勤務シフト一覧!$B$4:$C$106,2,FALSE)),\"\",VLOOKUP(AH7,勤務シフト一覧!$B$4:$C$106,2,FALSE))","v":""},null,{"$f":"IF(ISERROR(VLOOKUP(D7,勤務シフト一覧!$B$4:$D$106,3,FALSE)),\"\",VLOOKUP(D7,勤務シフト一覧!$B$4:$D$106,3,FALSE))","v":""},{"$f":"IF(ISERROR(VLOOKUP(E7,勤務シフト一覧!$B$4:$D$106,3,FALSE)),\"\",VLOOKUP(E7,勤務シフト一覧!$B$4:$D$106,3,FALSE))","v":""},{"$f":"IF(ISERROR(VLOOKUP(F7,勤務シフト一覧!$B$4:$D$106,3,FALSE)),\"\",VLOOKUP(F7,勤務シフト一覧!$B$4:$D$106,3,FALSE))","v":""},{"$f":"IF(ISERROR(VLOOKUP(G7,勤務シフト一覧!$B$4:$D$106,3,FALSE)),\"\",VLOOKUP(G7,勤務シフト一覧!$B$4:$D$106,3,FALSE))","v":""},{"$f":"IF(ISERROR(VLOOKUP(H7,勤務シフト一覧!$B$4:$D$106,3,FALSE)),\"\",VLOOKUP(H7,勤務シフト一覧!$B$4:$D$106,3,FALSE))","v":""},{"$f":"IF(ISERROR(VLOOKUP(I7,勤務シフト一覧!$B$4:$D$106,3,FALSE)),\"\",VLOOKUP(I7,勤務シフト一覧!$B$4:$D$106,3,FALSE))","v":""},{"$f":"IF(ISERROR(VLOOKUP(J7,勤務シフト一覧!$B$4:$D$106,3,FALSE)),\"\",VLOOKUP(J7,勤務シフト一覧!$B$4:$D$106,3,FALSE))","v":""},{"$f":"IF(ISERROR(VLOOKUP(K7,勤務シフト一覧!$B$4:$D$106,3,FALSE)),\"\",VLOOKUP(K7,勤務シフト一覧!$B$4:$D$106,3,FALSE))","v":""},{"$f":"IF(ISERROR(VLOOKUP(L7,勤務シフト一覧!$B$4:$D$106,3,FALSE)),\"\",VLOOKUP(L7,勤務シフト一覧!$B$4:$D$106,3,FALSE))","v":""},{"$f":"IF(ISERROR(VLOOKUP(M7,勤務シフト一覧!$B$4:$D$106,3,FALSE)),\"\",VLOOKUP(M7,勤務シフト一覧!$B$4:$D$106,3,FALSE))","v":""},{"$f":"IF(ISERROR(VLOOKUP(N7,勤務シフト一覧!$B$4:$D$106,3,FALSE)),\"\",VLOOKUP(N7,勤務シフト一覧!$B$4:$D$106,3,FALSE))","v":""},{"$f":"IF(ISERROR(VLOOKUP(O7,勤務シフト一覧!$B$4:$D$106,3,FALSE)),\"\",VLOOKUP(O7,勤務シフト一覧!$B$4:$D$106,3,FALSE))","v":""},{"$f":"IF(ISERROR(VLOOKUP(P7,勤務シフト一覧!$B$4:$D$106,3,FALSE)),\"\",VLOOKUP(P7,勤務シフト一覧!$B$4:$D$106,3,FALSE))","v":""},{"$f":"IF(ISERROR(VLOOKUP(Q7,勤務シフト一覧!$B$4:$D$106,3,FALSE)),\"\",VLOOKUP(Q7,勤務シフト一覧!$B$4:$D$106,3,FALSE))","v":""},{"$f":"IF(ISERROR(VLOOKUP(R7,勤務シフト一覧!$B$4:$D$106,3,FALSE)),\"\",VLOOKUP(R7,勤務シフト一覧!$B$4:$D$106,3,FALSE))","v":""},{"$f":"IF(ISERROR(VLOOKUP(S7,勤務シフト一覧!$B$4:$D$106,3,FALSE)),\"\",VLOOKUP(S7,勤務シフト一覧!$B$4:$D$106,3,FALSE))","v":""},{"$f":"IF(ISERROR(VLOOKUP(T7,勤務シフト一覧!$B$4:$D$106,3,FALSE)),\"\",VLOOKUP(T7,勤務シフト一覧!$B$4:$D$106,3,FALSE))","v":""},{"$f":"IF(ISERROR(VLOOKUP(U7,勤務シフト一覧!$B$4:$D$106,3,FALSE)),\"\",VLOOKUP(U7,勤務シフト一覧!$B$4:$D$106,3,FALSE))","v":""},{"$f":"IF(ISERROR(VLOOKUP(V7,勤務シフト一覧!$B$4:$D$106,3,FALSE)),\"\",VLOOKUP(V7,勤務シフト一覧!$B$4:$D$106,3,FALSE))","v":""},{"$f":"IF(ISERROR(VLOOKUP(W7,勤務シフト一覧!$B$4:$D$106,3,FALSE)),\"\",VLOOKUP(W7,勤務シフト一覧!$B$4:$D$106,3,FALSE))","v":""},{"$f":"IF(ISERROR(VLOOKUP(X7,勤務シフト一覧!$B$4:$D$106,3,FALSE)),\"\",VLOOKUP(X7,勤務シフト一覧!$B$4:$D$106,3,FALSE))","v":""},{"$f":"IF(ISERROR(VLOOKUP(Y7,勤務シフト一覧!$B$4:$D$106,3,FALSE)),\"\",VLOOKUP(Y7,勤務シフト一覧!$B$4:$D$106,3,FALSE))","v":""},{"$f":"IF(ISERROR(VLOOKUP(Z7,勤務シフト一覧!$B$4:$D$106,3,FALSE)),\"\",VLOOKUP(Z7,勤務シフト一覧!$B$4:$D$106,3,FALSE))","v":""},{"$f":"IF(ISERROR(VLOOKUP(AA7,勤務シフト一覧!$B$4:$D$106,3,FALSE)),\"\",VLOOKUP(AA7,勤務シフト一覧!$B$4:$D$106,3,FALSE))","v":""},{"$f":"IF(ISERROR(VLOOKUP(AB7,勤務シフト一覧!$B$4:$D$106,3,FALSE)),\"\",VLOOKUP(AB7,勤務シフト一覧!$B$4:$D$106,3,FALSE))","v":""},{"$f":"IF(ISERROR(VLOOKUP(AC7,勤務シフト一覧!$B$4:$D$106,3,FALSE)),\"\",VLOOKUP(AC7,勤務シフト一覧!$B$4:$D$106,3,FALSE))","v":""},{"$f":"IF(ISERROR(VLOOKUP(AD7,勤務シフト一覧!$B$4:$D$106,3,FALSE)),\"\",VLOOKUP(AD7,勤務シフト一覧!$B$4:$D$106,3,FALSE))","v":""},{"$f":"IF(ISERROR(VLOOKUP(AE7,勤務シフト一覧!$B$4:$D$106,3,FALSE)),\"\",VLOOKUP(AE7,勤務シフト一覧!$B$4:$D$106,3,FALSE))","v":""},{"$f":"IF(ISERROR(VLOOKUP(AF7,勤務シフト一覧!$B$4:$D$106,3,FALSE)),\"\",VLOOKUP(AF7,勤務シフト一覧!$B$4:$D$106,3,FALSE))","v":""},{"$f":"IF(ISERROR(VLOOKUP(AG7,勤務シフト一覧!$B$4:$D$106,3,FALSE)),\"\",VLOOKUP(AG7,勤務シフト一覧!$B$4:$D$106,3,FALSE))","v":""},{"$f":"IF(ISERROR(VLOOKUP(AH7,勤務シフト一覧!$B$4:$D$106,3,FALSE)),\"\",VLOOKUP(AH7,勤務シフト一覧!$B$4:$D$106,3,FALSE))","v":""},{"$f":"COUNTIF(AI7:BM7,$CT$3)","v":0},{"$f":"COUNTIF(AI7:BM7,$CU$3)","v":0},{"$f":"COUNTIF(AI7:BM7,$CV$3)","v":0},{"$f":"COUNTIF(AI7:BM7,$CW$3)","v":0},{"$f":"COUNTIF(AI7:BM7,$CX$3)","v":0},{"$f":"COUNTIF(AI7:BM7,$CY$3)","v":0},{"$f":"COUNTIF(AI7:BM7,$CZ$3)","v":0},{"$f":"COUNTIF(AI7:BM7,$DA$3)","v":0},{"$f":"COUNTIF(AI7:BM7,$DB$3)","v":0},{"$f":"COUNTIF(AI7:BM7,$DC$3)","v":0},null,null,{"$f":"IF(勤務シフト一覧!$D5<>0,IF(勤務シフト一覧!$B5<> 0,勤務シフト一覧!$B5,\"\"),\"\")","v":"準"}]
[{"$f":"IF(LEN(職員一覧!B3)<>0,職員一覧!B3,\"\")","v":"病院　次郎"},{"$f":"IF(LEN(職員一覧!C3)<>0,職員一覧!C3,\"\")","v":"000002"},"予定","*／","／","日","深","1230","／","準","*／","1230","準","*祭／","日","日","日","深","／","0700","日","深","準","*／","夏／","日","深","準","*／","日","／","準","*／","／",{"$f":"IF(ISERROR(VLOOKUP(D8,勤務シフト一覧!$B$4:$C$106,2,FALSE)),\"\",VLOOKUP(D8,勤務シフト一覧!$B$4:$C$106,2,FALSE))","v":"／"},{"$f":"IF(ISERROR(VLOOKUP(E8,勤務シフト一覧!$B$4:$C$106,2,FALSE)),\"\",VLOOKUP(E8,勤務シフト一覧!$B$4:$C$106,2,FALSE))","v":"／"},{"$f":"IF(ISERROR(VLOOKUP(F8,勤務シフト一覧!$B$4:$C$106,2,FALSE)),\"\",VLOOKUP(F8,勤務シフト一覧!$B$4:$C$106,2,FALSE))","v":"日"},{"$f":"IF(ISERROR(VLOOKUP(G8,勤務シフト一覧!$B$4:$C$106,2,FALSE)),\"\",VLOOKUP(G8,勤務シフト一覧!$B$4:$C$106,2,FALSE))","v":"深"},{"$f":"IF(ISERROR(VLOOKUP(H8,勤務シフト一覧!$B$4:$C$106,2,FALSE)),\"\",VLOOKUP(H8,勤務シフト一覧!$B$4:$C$106,2,FALSE))","v":"1230"},{"$f":"IF(ISERROR(VLOOKUP(I8,勤務シフト一覧!$B$4:$C$106,2,FALSE)),\"\",VLOOKUP(I8,勤務シフト一覧!$B$4:$C$106,2,FALSE))","v":"／"},{"$f":"IF(ISERROR(VLOOKUP(J8,勤務シフト一覧!$B$4:$C$106,2,FALSE)),\"\",VLOOKUP(J8,勤務シフト一覧!$B$4:$C$106,2,FALSE))","v":"準"},{"$f":"IF(ISERROR(VLOOKUP(K8,勤務シフト一覧!$B$4:$C$106,2,FALSE)),\"\",VLOOKUP(K8,勤務シフト一覧!$B$4:$C$106,2,FALSE))","v":"／"},{"$f":"IF(ISERROR(VLOOKUP(L8,勤務シフト一覧!$B$4:$C$106,2,FALSE)),\"\",VLOOKUP(L8,勤務シフト一覧!$B$4:$C$106,2,FALSE))","v":"1230"},{"$f":"IF(ISERROR(VLOOKUP(M8,勤務シフト一覧!$B$4:$C$106,2,FALSE)),\"\",VLOOKUP(M8,勤務シフト一覧!$B$4:$C$106,2,FALSE))","v":"準"},{"$f":"IF(ISERROR(VLOOKUP(N8,勤務シフト一覧!$B$4:$C$106,2,FALSE)),\"\",VLOOKUP(N8,勤務シフト一覧!$B$4:$C$106,2,FALSE))","v":"祭／"},{"$f":"IF(ISERROR(VLOOKUP(O8,勤務シフト一覧!$B$4:$C$106,2,FALSE)),\"\",VLOOKUP(O8,勤務シフト一覧!$B$4:$C$106,2,FALSE))","v":"日"},{"$f":"IF(ISERROR(VLOOKUP(P8,勤務シフト一覧!$B$4:$C$106,2,FALSE)),\"\",VLOOKUP(P8,勤務シフト一覧!$B$4:$C$106,2,FALSE))","v":"日"},{"$f":"IF(ISERROR(VLOOKUP(Q8,勤務シフト一覧!$B$4:$C$106,2,FALSE)),\"\",VLOOKUP(Q8,勤務シフト一覧!$B$4:$C$106,2,FALSE))","v":"日"},{"$f":"IF(ISERROR(VLOOKUP(R8,勤務シフト一覧!$B$4:$C$106,2,FALSE)),\"\",VLOOKUP(R8,勤務シフト一覧!$B$4:$C$106,2,FALSE))","v":"深"},{"$f":"IF(ISERROR(VLOOKUP(S8,勤務シフト一覧!$B$4:$C$106,2,FALSE)),\"\",VLOOKUP(S8,勤務シフト一覧!$B$4:$C$106,2,FALSE))","v":"／"},{"$f":"IF(ISERROR(VLOOKUP(T8,勤務シフト一覧!$B$4:$C$106,2,FALSE)),\"\",VLOOKUP(T8,勤務シフト一覧!$B$4:$C$106,2,FALSE))","v":"0700"},{"$f":"IF(ISERROR(VLOOKUP(U8,勤務シフト一覧!$B$4:$C$106,2,FALSE)),\"\",VLOOKUP(U8,勤務シフト一覧!$B$4:$C$106,2,FALSE))","v":"日"},{"$f":"IF(ISERROR(VLOOKUP(V8,勤務シフト一覧!$B$4:$C$106,2,FALSE)),\"\",VLOOKUP(V8,勤務シフト一覧!$B$4:$C$106,2,FALSE))","v":"深"},{"$f":"IF(ISERROR(VLOOKUP(W8,勤務シフト一覧!$B$4:$C$106,2,FALSE)),\"\",VLOOKUP(W8,勤務シフト一覧!$B$4:$C$106,2,FALSE))","v":"準"},{"$f":"IF(ISERROR(VLOOKUP(X8,勤務シフト一覧!$B$4:$C$106,2,FALSE)),\"\",VLOOKUP(X8,勤務シフト一覧!$B$4:$C$106,2,FALSE))","v":"／"},{"$f":"IF(ISERROR(VLOOKUP(Y8,勤務シフト一覧!$B$4:$C$106,2,FALSE)),\"\",VLOOKUP(Y8,勤務シフト一覧!$B$4:$C$106,2,FALSE))","v":"夏／"},{"$f":"IF(ISERROR(VLOOKUP(Z8,勤務シフト一覧!$B$4:$C$106,2,FALSE)),\"\",VLOOKUP(Z8,勤務シフト一覧!$B$4:$C$106,2,FALSE))","v":"日"},{"$f":"IF(ISERROR(VLOOKUP(AA8,勤務シフト一覧!$B$4:$C$106,2,FALSE)),\"\",VLOOKUP(AA8,勤務シフト一覧!$B$4:$C$106,2,FALSE))","v":"深"},{"$f":"IF(ISERROR(VLOOKUP(AB8,勤務シフト一覧!$B$4:$C$106,2,FALSE)),\"\",VLOOKUP(AB8,勤務シフト一覧!$B$4:$C$106,2,FALSE))","v":"準"},{"$f":"IF(ISERROR(VLOOKUP(AC8,勤務シフト一覧!$B$4:$C$106,2,FALSE)),\"\",VLOOKUP(AC8,勤務シフト一覧!$B$4:$C$106,2,FALSE))","v":"／"},{"$f":"IF(ISERROR(VLOOKUP(AD8,勤務シフト一覧!$B$4:$C$106,2,FALSE)),\"\",VLOOKUP(AD8,勤務シフト一覧!$B$4:$C$106,2,FALSE))","v":"日"},{"$f":"IF(ISERROR(VLOOKUP(AE8,勤務シフト一覧!$B$4:$C$106,2,FALSE)),\"\",VLOOKUP(AE8,勤務シフト一覧!$B$4:$C$106,2,FALSE))","v":"／"},{"$f":"IF(ISERROR(VLOOKUP(AF8,勤務シフト一覧!$B$4:$C$106,2,FALSE)),\"\",VLOOKUP(AF8,勤務シフト一覧!$B$4:$C$106,2,FALSE))","v":"準"},{"$f":"IF(ISERROR(VLOOKUP(AG8,勤務シフト一覧!$B$4:$C$106,2,FALSE)),\"\",VLOOKUP(AG8,勤務シフト一覧!$B$4:$C$106,2,FALSE))","v":"／"},{"$f":"IF(ISERROR(VLOOKUP(AH8,勤務シフト一覧!$B$4:$C$106,2,FALSE)),\"\",VLOOKUP(AH8,勤務シフト一覧!$B$4:$C$106,2,FALSE))","v":"／"},null,{"$f":"IF(ISERROR(VLOOKUP(D8,勤務シフト一覧!$B$4:$D$106,3,FALSE)),\"\",VLOOKUP(D8,勤務シフト一覧!$B$4:$D$106,3,FALSE))","v":2},{"$f":"IF(ISERROR(VLOOKUP(E8,勤務シフト一覧!$B$4:$D$106,3,FALSE)),\"\",VLOOKUP(E8,勤務シフト一覧!$B$4:$D$106,3,FALSE))","v":2},{"$f":"IF(ISERROR(VLOOKUP(F8,勤務シフト一覧!$B$4:$D$106,3,FALSE)),\"\",VLOOKUP(F8,勤務シフト一覧!$B$4:$D$106,3,FALSE))","v":"A"},{"$f":"IF(ISERROR(VLOOKUP(G8,勤務シフト一覧!$B$4:$D$106,3,FALSE)),\"\",VLOOKUP(G8,勤務シフト一覧!$B$4:$D$106,3,FALSE))","v":"AS1"},{"$f":"IF(ISERROR(VLOOKUP(H8,勤務シフト一覧!$B$4:$D$106,3,FALSE)),\"\",VLOOKUP(H8,勤務シフト一覧!$B$4:$D$106,3,FALSE))","v":"A7"},{"$f":"IF(ISERROR(VLOOKUP(I8,勤務シフト一覧!$B$4:$D$106,3,FALSE)),\"\",VLOOKUP(I8,勤務シフト一覧!$B$4:$D$106,3,FALSE))","v":2},{"$f":"IF(ISERROR(VLOOKUP(J8,勤務シフト一覧!$B$4:$D$106,3,FALSE)),\"\",VLOOKUP(J8,勤務シフト一覧!$B$4:$D$106,3,FALSE))","v":"AJ"},{"$f":"IF(ISERROR(VLOOKUP(K8,勤務シフト一覧!$B$4:$D$106,3,FALSE)),\"\",VLOOKUP(K8,勤務シフト一覧!$B$4:$D$106,3,FALSE))","v":2},{"$f":"IF(ISERROR(VLOOKUP(L8,勤務シフト一覧!$B$4:$D$106,3,FALSE)),\"\",VLOOKUP(L8,勤務シフト一覧!$B$4:$D$106,3,FALSE))","v":"A7"},{"$f":"IF(ISERROR(VLOOKUP(M8,勤務シフト一覧!$B$4:$D$106,3,FALSE)),\"\",VLOOKUP(M8,勤務シフト一覧!$B$4:$D$106,3,FALSE))","v":"AJ"},{"$f":"IF(ISERROR(VLOOKUP(N8,勤務シフト一覧!$B$4:$D$106,3,FALSE)),\"\",VLOOKUP(N8,勤務シフト一覧!$B$4:$D$106,3,FALSE))","v":1},{"$f":"IF(ISERROR(VLOOKUP(O8,勤務シフト一覧!$B$4:$D$106,3,FALSE)),\"\",VLOOKUP(O8,勤務シフト一覧!$B$4:$D$106,3,FALSE))","v":"A"},{"$f":"IF(ISERROR(VLOOKUP(P8,勤務シフト一覧!$B$4:$D$106,3,FALSE)),\"\",VLOOKUP(P8,勤務シフト一覧!$B$4:$D$106,3,FALSE))","v":"A"},{"$f":"IF(ISERROR(VLOOKUP(Q8,勤務シフト一覧!$B$4:$D$106,3,FALSE)),\"\",VLOOKUP(Q8,勤務シフト一覧!$B$4:$D$106,3,FALSE))","v":"A"},{"$f":"IF(ISERROR(VLOOKUP(R8,勤務シフト一覧!$B$4:$D$106,3,FALSE)),\"\",VLOOKUP(R8,勤務シフト一覧!$B$4:$D$106,3,FALSE))","v":"AS1"},{"$f":"IF(ISERROR(VLOOKUP(S8,勤務シフト一覧!$B$4:$D$106,3,FALSE)),\"\",VLOOKUP(S8,勤務シフト一覧!$B$4:$D$106,3,FALSE))","v":2},{"$f":"IF(ISERROR(VLOOKUP(T8,勤務シフト一覧!$B$4:$D$106,3,FALSE)),\"\",VLOOKUP(T8,勤務シフト一覧!$B$4:$D$106,3,FALSE))","v":"A5"},{"$f":"IF(ISERROR(VLOOKUP(U8,勤務シフト一覧!$B$4:$D$106,3,FALSE)),\"\",VLOOKUP(U8,勤務シフト一覧!$B$4:$D$106,3,FALSE))","v":"A"},{"$f":"IF(ISERROR(VLOOKUP(V8,勤務シフト一覧!$B$4:$D$106,3,FALSE)),\"\",VLOOKUP(V8,勤務シフト一覧!$B$4:$D$106,3,FALSE))","v":"AS1"},{"$f":"IF(ISERROR(VLOOKUP(W8,勤務シフト一覧!$B$4:$D$106,3,FALSE)),\"\",VLOOKUP(W8,勤務シフト一覧!$B$4:$D$106,3,FALSE))","v":"AJ"},{"$f":"IF(ISERROR(VLOOKUP(X8,勤務シフト一覧!$B$4:$D$106,3,FALSE)),\"\",VLOOKUP(X8,勤務シフト一覧!$B$4:$D$106,3,FALSE))","v":2},{"$f":"IF(ISERROR(VLOOKUP(Y8,勤務シフト一覧!$B$4:$D$106,3,FALSE)),\"\",VLOOKUP(Y8,勤務シフト一覧!$B$4:$D$106,3,FALSE))","v":"A"},{"$f":"IF(ISERROR(VLOOKUP(Z8,勤務シフト一覧!$B$4:$D$106,3,FALSE)),\"\",VLOOKUP(Z8,勤務シフト一覧!$B$4:$D$106,3,FALSE))","v":"A"},{"$f":"IF(ISERROR(VLOOKUP(AA8,勤務シフト一覧!$B$4:$D$106,3,FALSE)),\"\",VLOOKUP(AA8,勤務シフト一覧!$B$4:$D$106,3,FALSE))","v":"AS1"},{"$f":"IF(ISERROR(VLOOKUP(AB8,勤務シフト一覧!$B$4:$D$106,3,FALSE)),\"\",VLOOKUP(AB8,勤務シフト一覧!$B$4:$D$106,3,FALSE))","v":"AJ"},{"$f":"IF(ISERROR(VLOOKUP(AC8,勤務シフト一覧!$B$4:$D$106,3,FALSE)),\"\",VLOOKUP(AC8,勤務シフト一覧!$B$4:$D$106,3,FALSE))","v":2},{"$f":"IF(ISERROR(VLOOKUP(AD8,勤務シフト一覧!$B$4:$D$106,3,FALSE)),\"\",VLOOKUP(AD8,勤務シフト一覧!$B$4:$D$106,3,FALSE))","v":"A"},{"$f":"IF(ISERROR(VLOOKUP(AE8,勤務シフト一覧!$B$4:$D$106,3,FALSE)),\"\",VLOOKUP(AE8,勤務シフト一覧!$B$4:$D$106,3,FALSE))","v":2},{"$f":"IF(ISERROR(VLOOKUP(AF8,勤務シフト一覧!$B$4:$D$106,3,FALSE)),\"\",VLOOKUP(AF8,勤務シフト一覧!$B$4:$D$106,3,FALSE))","v":"AJ"},{"$f":"IF(ISERROR(VLOOKUP(AG8,勤務シフト一覧!$B$4:$D$106,3,FALSE)),\"\",VLOOKUP(AG8,勤務シフト一覧!$B$4:$D$106,3,FALSE))","v":2},{"$f":"IF(ISERROR(VLOOKUP(AH8,勤務シフト一覧!$B$4:$D$106,3,FALSE)),\"\",VLOOKUP(AH8,勤務シフト一覧!$B$4:$D$106,3,FALSE))","v":2},{"$f":"COUNTIF(AI8:BM8,$CT$3)","v":5},{"$f":"COUNTIF(AI8:BM8,$CU$3)","v":4},{"$f":"COUNTIF(AI8:BM8,$CV$3)","v":0},{"$f":"COUNTIF(AI8:BM8,$CW$3)","v":0},{"$f":"COUNTIF(AI8:BM8,$CX$3)","v":10},{"$f":"COUNTIF(AI8:BM8,$CY$3)","v":0},{"$f":"COUNTIF(AI8:BM8,$CZ$3)","v":0},{"$f":"COUNTIF(AI8:BM8,$DA$3)","v":0},{"$f":"COUNTIF(AI8:BM8,$DB$3)","v":0},{"$f":"COUNTIF(AI8:BM8,$DC$3)","v":0},{"$f":"IF(LEN(職員一覧!D3)<>0,職員一覧!D3,\"\")","v":""},null,{"$f":"IF(勤務シフト一覧!$D6<>0,IF(勤務シフト一覧!$B6<> 0,勤務シフト一覧!$B6,\"\"),\"\")","v":"深"}]
[null,null,"実施","","","","","","","","","","","","","","","","","","","","","","","","","","","応援","","","","",{"$f":"IF(ISERROR(VLOOKUP(D9,勤務シフト一覧!$B$4:$C$106,2,FALSE)),\"\",VLOOKUP(D9,勤務シフト一覧!$B$4:$C$106,2,FALSE))","v":""},{"$f":"IF(ISERROR(VLOOKUP(E9,勤務シフト一覧!$B$4:$C$106,2,FALSE)),\"\",VLOOKUP(E9,勤務シフト一覧!$B$4:$C$106,2,FALSE))","v":""},{"$f":"IF(ISERROR(VLOOKUP(F9,勤務シフト一覧!$B$4:$C$106,2,FALSE)),\"\",VLOOKUP(F9,勤務シフト一覧!$B$4:$C$106,2,FALSE))","v":""},{"$f":"IF(ISERROR(VLOOKUP(G9,勤務シフト一覧!$B$4:$C$106,2,FALSE)),\"\",VLOOKUP(G9,勤務シフト一覧!$B$4:$C$106,2,FALSE))","v":""},{"$f":"IF(ISERROR(VLOOKUP(H9,勤務シフト一覧!$B$4:$C$106,2,FALSE)),\"\",VLOOKUP(H9,勤務シフト一覧!$B$4:$C$106,2,FALSE))","v":""},{"$f":"IF(ISERROR(VLOOKUP(I9,勤務シフト一覧!$B$4:$C$106,2,FALSE)),\"\",VLOOKUP(I9,勤務シフト一覧!$B$4:$C$106,2,FALSE))","v":""},{"$f":"IF(ISERROR(VLOOKUP(J9,勤務シフト一覧!$B$4:$C$106,2,FALSE)),\"\",VLOOKUP(J9,勤務シフト一覧!$B$4:$C$106,2,FALSE))","v":""},{"$f":"IF(ISERROR(VLOOKUP(K9,勤務シフト一覧!$B$4:$C$106,2,FALSE)),\"\",VLOOKUP(K9,勤務シフト一覧!$B$4:$C$106,2,FALSE))","v":""},{"$f":"IF(ISERROR(VLOOKUP(L9,勤務シフト一覧!$B$4:$C$106,2,FALSE)),\"\",VLOOKUP(L9,勤務シフト一覧!$B$4:$C$106,2,FALSE))","v":""},{"$f":"IF(ISERROR(VLOOKUP(M9,勤務シフト一覧!$B$4:$C$106,2,FALSE)),\"\",VLOOKUP(M9,勤務シフト一覧!$B$4:$C$106,2,FALSE))","v":""},{"$f":"IF(ISERROR(VLOOKUP(N9,勤務シフト一覧!$B$4:$C$106,2,FALSE)),\"\",VLOOKUP(N9,勤務シフト一覧!$B$4:$C$106,2,FALSE))","v":""},{"$f":"IF(ISERROR(VLOOKUP(O9,勤務シフト一覧!$B$4:$C$106,2,FALSE)),\"\",VLOOKUP(O9,勤務シフト一覧!$B$4:$C$106,2,FALSE))","v":""},{"$f":"IF(ISERROR(VLOOKUP(P9,勤務シフト一覧!$B$4:$C$106,2,FALSE)),\"\",VLOOKUP(P9,勤務シフト一覧!$B$4:$C$106,2,FALSE))","v":""},{"$f":"IF(ISERROR(VLOOKUP(Q9,勤務シフト一覧!$B$4:$C$106,2,FALSE)),\"\",VLOOKUP(Q9,勤務シフト一覧!$B$4:$C$106,2,FALSE))","v":""},{"$f":"IF(ISERROR(VLOOKUP(R9,勤務シフト一覧!$B$4:$C$106,2,FALSE)),\"\",VLOOKUP(R9,勤務シフト一覧!$B$4:$C$106,2,FALSE))","v":""},{"$f":"IF(ISERROR(VLOOKUP(S9,勤務シフト一覧!$B$4:$C$106,2,FALSE)),\"\",VLOOKUP(S9,勤務シフト一覧!$B$4:$C$106,2,FALSE))","v":""},{"$f":"IF(ISERROR(VLOOKUP(T9,勤務シフト一覧!$B$4:$C$106,2,FALSE)),\"\",VLOOKUP(T9,勤務シフト一覧!$B$4:$C$106,2,FALSE))","v":""},{"$f":"IF(ISERROR(VLOOKUP(U9,勤務シフト一覧!$B$4:$C$106,2,FALSE)),\"\",VLOOKUP(U9,勤務シフト一覧!$B$4:$C$106,2,FALSE))","v":""},{"$f":"IF(ISERROR(VLOOKUP(V9,勤務シフト一覧!$B$4:$C$106,2,FALSE)),\"\",VLOOKUP(V9,勤務シフト一覧!$B$4:$C$106,2,FALSE))","v":""},{"$f":"IF(ISERROR(VLOOKUP(W9,勤務シフト一覧!$B$4:$C$106,2,FALSE)),\"\",VLOOKUP(W9,勤務シフト一覧!$B$4:$C$106,2,FALSE))","v":""},{"$f":"IF(ISERROR(VLOOKUP(X9,勤務シフト一覧!$B$4:$C$106,2,FALSE)),\"\",VLOOKUP(X9,勤務シフト一覧!$B$4:$C$106,2,FALSE))","v":""},{"$f":"IF(ISERROR(VLOOKUP(Y9,勤務シフト一覧!$B$4:$C$106,2,FALSE)),\"\",VLOOKUP(Y9,勤務シフト一覧!$B$4:$C$106,2,FALSE))","v":""},{"$f":"IF(ISERROR(VLOOKUP(Z9,勤務シフト一覧!$B$4:$C$106,2,FALSE)),\"\",VLOOKUP(Z9,勤務シフト一覧!$B$4:$C$106,2,FALSE))","v":""},{"$f":"IF(ISERROR(VLOOKUP(AA9,勤務シフト一覧!$B$4:$C$106,2,FALSE)),\"\",VLOOKUP(AA9,勤務シフト一覧!$B$4:$C$106,2,FALSE))","v":""},{"$f":"IF(ISERROR(VLOOKUP(AB9,勤務シフト一覧!$B$4:$C$106,2,FALSE)),\"\",VLOOKUP(AB9,勤務シフト一覧!$B$4:$C$106,2,FALSE))","v":""},{"$f":"IF(ISERROR(VLOOKUP(AC9,勤務シフト一覧!$B$4:$C$106,2,FALSE)),\"\",VLOOKUP(AC9,勤務シフト一覧!$B$4:$C$106,2,FALSE))","v":""},{"$f":"IF(ISERROR(VLOOKUP(AD9,勤務シフト一覧!$B$4:$C$106,2,FALSE)),\"\",VLOOKUP(AD9,勤務シフト一覧!$B$4:$C$106,2,FALSE))","v":""},{"$f":"IF(ISERROR(VLOOKUP(AE9,勤務シフト一覧!$B$4:$C$106,2,FALSE)),\"\",VLOOKUP(AE9,勤務シフト一覧!$B$4:$C$106,2,FALSE))","v":""},{"$f":"IF(ISERROR(VLOOKUP(AF9,勤務シフト一覧!$B$4:$C$106,2,FALSE)),\"\",VLOOKUP(AF9,勤務シフト一覧!$B$4:$C$106,2,FALSE))","v":""},{"$f":"IF(ISERROR(VLOOKUP(AG9,勤務シフト一覧!$B$4:$C$106,2,FALSE)),\"\",VLOOKUP(AG9,勤務シフト一覧!$B$4:$C$106,2,FALSE))","v":""},{"$f":"IF(ISERROR(VLOOKUP(AH9,勤務シフト一覧!$B$4:$C$106,2,FALSE)),\"\",VLOOKUP(AH9,勤務シフト一覧!$B$4:$C$106,2,FALSE))","v":""},null,{"$f":"IF(ISERROR(VLOOKUP(D9,勤務シフト一覧!$B$4:$D$106,3,FALSE)),\"\",VLOOKUP(D9,勤務シフト一覧!$B$4:$D$106,3,FALSE))","v":""},{"$f":"IF(ISERROR(VLOOKUP(E9,勤務シフト一覧!$B$4:$D$106,3,FALSE)),\"\",VLOOKUP(E9,勤務シフト一覧!$B$4:$D$106,3,FALSE))","v":""},{"$f":"IF(ISERROR(VLOOKUP(F9,勤務シフト一覧!$B$4:$D$106,3,FALSE)),\"\",VLOOKUP(F9,勤務シフト一覧!$B$4:$D$106,3,FALSE))","v":""},{"$f":"IF(ISERROR(VLOOKUP(G9,勤務シフト一覧!$B$4:$D$106,3,FALSE)),\"\",VLOOKUP(G9,勤務シフト一覧!$B$4:$D$106,3,FALSE))","v":""},{"$f":"IF(ISERROR(VLOOKUP(H9,勤務シフト一覧!$B$4:$D$106,3,FALSE)),\"\",VLOOKUP(H9,勤務シフト一覧!$B$4:$D$106,3,FALSE))","v":""},{"$f":"IF(ISERROR(VLOOKUP(I9,勤務シフト一覧!$B$4:$D$106,3,FALSE)),\"\",VLOOKUP(I9,勤務シフト一覧!$B$4:$D$106,3,FALSE))","v":""},{"$f":"IF(ISERROR(VLOOKUP(J9,勤務シフト一覧!$B$4:$D$106,3,FALSE)),\"\",VLOOKUP(J9,勤務シフト一覧!$B$4:$D$106,3,FALSE))","v":""},{"$f":"IF(ISERROR(VLOOKUP(K9,勤務シフト一覧!$B$4:$D$106,3,FALSE)),\"\",VLOOKUP(K9,勤務シフト一覧!$B$4:$D$106,3,FALSE))","v":""},{"$f":"IF(ISERROR(VLOOKUP(L9,勤務シフト一覧!$B$4:$D$106,3,FALSE)),\"\",VLOOKUP(L9,勤務シフト一覧!$B$4:$D$106,3,FALSE))","v":""},{"$f":"IF(ISERROR(VLOOKUP(M9,勤務シフト一覧!$B$4:$D$106,3,FALSE)),\"\",VLOOKUP(M9,勤務シフト一覧!$B$4:$D$106,3,FALSE))","v":""},{"$f":"IF(ISERROR(VLOOKUP(N9,勤務シフト一覧!$B$4:$D$106,3,FALSE)),\"\",VLOOKUP(N9,勤務シフト一覧!$B$4:$D$106,3,FALSE))","v":""},{"$f":"IF(ISERROR(VLOOKUP(O9,勤務シフト一覧!$B$4:$D$106,3,FALSE)),\"\",VLOOKUP(O9,勤務シフト一覧!$B$4:$D$106,3,FALSE))","v":""},{"$f":"IF(ISERROR(VLOOKUP(P9,勤務シフト一覧!$B$4:$D$106,3,FALSE)),\"\",VLOOKUP(P9,勤務シフト一覧!$B$4:$D$106,3,FALSE))","v":""},{"$f":"IF(ISERROR(VLOOKUP(Q9,勤務シフト一覧!$B$4:$D$106,3,FALSE)),\"\",VLOOKUP(Q9,勤務シフト一覧!$B$4:$D$106,3,FALSE))","v":""},{"$f":"IF(ISERROR(VLOOKUP(R9,勤務シフト一覧!$B$4:$D$106,3,FALSE)),\"\",VLOOKUP(R9,勤務シフト一覧!$B$4:$D$106,3,FALSE))","v":""},{"$f":"IF(ISERROR(VLOOKUP(S9,勤務シフト一覧!$B$4:$D$106,3,FALSE)),\"\",VLOOKUP(S9,勤務シフト一覧!$B$4:$D$106,3,FALSE))","v":""},{"$f":"IF(ISERROR(VLOOKUP(T9,勤務シフト一覧!$B$4:$D$106,3,FALSE)),\"\",VLOOKUP(T9,勤務シフト一覧!$B$4:$D$106,3,FALSE))","v":""},{"$f":"IF(ISERROR(VLOOKUP(U9,勤務シフト一覧!$B$4:$D$106,3,FALSE)),\"\",VLOOKUP(U9,勤務シフト一覧!$B$4:$D$106,3,FALSE))","v":""},{"$f":"IF(ISERROR(VLOOKUP(V9,勤務シフト一覧!$B$4:$D$106,3,FALSE)),\"\",VLOOKUP(V9,勤務シフト一覧!$B$4:$D$106,3,FALSE))","v":""},{"$f":"IF(ISERROR(VLOOKUP(W9,勤務シフト一覧!$B$4:$D$106,3,FALSE)),\"\",VLOOKUP(W9,勤務シフト一覧!$B$4:$D$106,3,FALSE))","v":""},{"$f":"IF(ISERROR(VLOOKUP(X9,勤務シフト一覧!$B$4:$D$106,3,FALSE)),\"\",VLOOKUP(X9,勤務シフト一覧!$B$4:$D$106,3,FALSE))","v":""},{"$f":"IF(ISERROR(VLOOKUP(Y9,勤務シフト一覧!$B$4:$D$106,3,FALSE)),\"\",VLOOKUP(Y9,勤務シフト一覧!$B$4:$D$106,3,FALSE))","v":""},{"$f":"IF(ISERROR(VLOOKUP(Z9,勤務シフト一覧!$B$4:$D$106,3,FALSE)),\"\",VLOOKUP(Z9,勤務シフト一覧!$B$4:$D$106,3,FALSE))","v":""},{"$f":"IF(ISERROR(VLOOKUP(AA9,勤務シフト一覧!$B$4:$D$106,3,FALSE)),\"\",VLOOKUP(AA9,勤務シフト一覧!$B$4:$D$106,3,FALSE))","v":""},{"$f":"IF(ISERROR(VLOOKUP(AB9,勤務シフト一覧!$B$4:$D$106,3,FALSE)),\"\",VLOOKUP(AB9,勤務シフト一覧!$B$4:$D$106,3,FALSE))","v":""},{"$f":"IF(ISERROR(VLOOKUP(AC9,勤務シフト一覧!$B$4:$D$106,3,FALSE)),\"\",VLOOKUP(AC9,勤務シフト一覧!$B$4:$D$106,3,FALSE))","v":""},{"$f":"IF(ISERROR(VLOOKUP(AD9,勤務シフト一覧!$B$4:$D$106,3,FALSE)),\"\",VLOOKUP(AD9,勤務シフト一覧!$B$4:$D$106,3,FALSE))","v":""},{"$f":"IF(ISERROR(VLOOKUP(AE9,勤務シフト一覧!$B$4:$D$106,3,FALSE)),\"\",VLOOKUP(AE9,勤務シフト一覧!$B$4:$D$106,3,FALSE))","v":""},{"$f":"IF(ISERROR(VLOOKUP(AF9,勤務シフト一覧!$B$4:$D$106,3,FALSE)),\"\",VLOOKUP(AF9,勤務シフト一覧!$B$4:$D$106,3,FALSE))","v":""},{"$f":"IF(ISERROR(VLOOKUP(AG9,勤務シフト一覧!$B$4:$D$106,3,FALSE)),\"\",VLOOKUP(AG9,勤務シフト一覧!$B$4:$D$106,3,FALSE))","v":""},{"$f":"IF(ISERROR(VLOOKUP(AH9,勤務シフト一覧!$B$4:$D$106,3,FALSE)),\"\",VLOOKUP(AH9,勤務シフト一覧!$B$4:$D$106,3,FALSE))","v":""},{"$f":"COUNTIF(AI9:BM9,$CT$3)","v":0},{"$f":"COUNTIF(AI9:BM9,$CU$3)","v":0},{"$f":"COUNTIF(AI9:BM9,$CV$3)","v":0},{"$f":"COUNTIF(AI9:BM9,$CW$3)","v":0},{"$f":"COUNTIF(AI9:BM9,$CX$3)","v":0},{"$f":"COUNTIF(AI9:BM9,$CY$3)","v":0},{"$f":"COUNTIF(AI9:BM9,$CZ$3)","v":0},{"$f":"COUNTIF(AI9:BM9,$DA$3)","v":0},{"$f":"COUNTIF(AI9:BM9,$DB$3)","v":0},{"$f":"COUNTIF(AI9:BM9,$DC$3)","v":0},null,null,{"$f":"IF(勤務シフト一覧!$D7<>0,IF(勤務シフト一覧!$B7<> 0,勤務シフト一覧!$B7,\"\"),\"\")","v":"／"}]
[{"$f":"IF(LEN(職員一覧!B4)<>0,職員一覧!B4,\"\")","v":"病院　三郎"},{"$f":"IF(LEN(職員一覧!C4)<>0,職員一覧!C4,\"\")","v":"000003"},"予定","／","／","日","深","日","日","／","日","日","深","祭準","*／","夏／","日","深","準","*／","／","日","日","深","準","*／","日","深","／","日","1230","／","／","日",{"$f":"IF(ISERROR(VLOOKUP(D10,勤務シフト一覧!$B$4:$C$106,2,FALSE)),\"\",VLOOKUP(D10,勤務シフト一覧!$B$4:$C$106,2,FALSE))","v":"／"},{"$f":"IF(ISERROR(VLOOKUP(E10,勤務シフト一覧!$B$4:$C$106,2,FALSE)),\"\",VLOOKUP(E10,勤務シフト一覧!$B$4:$C$106,2,FALSE))","v":"／"},{"$f":"IF(ISERROR(VLOOKUP(F10,勤務シフト一覧!$B$4:$C$106,2,FALSE)),\"\",VLOOKUP(F10,勤務シフト一覧!$B$4:$C$106,2,FALSE))","v":"日"},{"$f":"IF(ISERROR(VLOOKUP(G10,勤務シフト一覧!$B$4:$C$106,2,FALSE)),\"\",VLOOKUP(G10,勤務シフト一覧!$B$4:$C$106,2,FALSE))","v":"深"},{"$f":"IF(ISERROR(VLOOKUP(H10,勤務シフト一覧!$B$4:$C$106,2,FALSE)),\"\",VLOOKUP(H10,勤務シフト一覧!$B$4:$C$106,2,FALSE))","v":"日"},{"$f":"IF(ISERROR(VLOOKUP(I10,勤務シフト一覧!$B$4:$C$106,2,FALSE)),\"\",VLOOKUP(I10,勤務シフト一覧!$B$4:$C$106,2,FALSE))","v":"日"},{"$f":"IF(ISERROR(VLOOKUP(J10,勤務シフト一覧!$B$4:$C$106,2,FALSE)),\"\",VLOOKUP(J10,勤務シフト一覧!$B$4:$C$106,2,FALSE))","v":"／"},{"$f":"IF(ISERROR(VLOOKUP(K10,勤務シフト一覧!$B$4:$C$106,2,FALSE)),\"\",VLOOKUP(K10,勤務シフト一覧!$B$4:$C$106,2,FALSE))","v":"日"},{"$f":"IF(ISERROR(VLOOKUP(L10,勤務シフト一覧!$B$4:$C$106,2,FALSE)),\"\",VLOOKUP(L10,勤務シフト一覧!$B$4:$C$106,2,FALSE))","v":"日"},{"$f":"IF(ISERROR(VLOOKUP(M10,勤務シフト一覧!$B$4:$C$106,2,FALSE)),\"\",VLOOKUP(M10,勤務シフト一覧!$B$4:$C$106,2,FALSE))","v":"深"},{"$f":"IF(ISERROR(VLOOKUP(N10,勤務シフト一覧!$B$4:$C$106,2,FALSE)),\"\",VLOOKUP(N10,勤務シフト一覧!$B$4:$C$106,2,FALSE))","v":"祭準"},{"$f":"IF(ISERROR(VLOOKUP(O10,勤務シフト一覧!$B$4:$C$106,2,FALSE)),\"\",VLOOKUP(O10,勤務シフト一覧!$B$4:$C$106,2,FALSE))","v":"／"},{"$f":"IF(ISERROR(VLOOKUP(P10,勤務シフト一覧!$B$4:$C$106,2,FALSE)),\"\",VLOOKUP(P10,勤務シフト一覧!$B$4:$C$106,2,FALSE))","v":"夏／"},{"$f":"IF(ISERROR(VLOOKUP(Q10,勤務シフト一覧!$B$4:$C$106,2,FALSE)),\"\",VLOOKUP(Q10,勤務シフト一覧!$B$4:$C$106,2,FALSE))","v":"日"},{"$f":"IF(ISERROR(VLOOKUP(R10,勤務シフト一覧!$B$4:$C$106,2,FALSE)),\"\",VLOOKUP(R10,勤務シフト一覧!$B$4:$C$106,2,FALSE))","v":"深"},{"$f":"IF(ISERROR(VLOOKUP(S10,勤務シフト一覧!$B$4:$C$106,2,FALSE)),\"\",VLOOKUP(S10,勤務シフト一覧!$B$4:$C$106,2,FALSE))","v":"準"},{"$f":"IF(ISERROR(VLOOKUP(T10,勤務シフト一覧!$B$4:$C$106,2,FALSE)),\"\",VLOOKUP(T10,勤務シフト一覧!$B$4:$C$106,2,FALSE))","v":"／"},{"$f":"IF(ISERROR(VLOOKUP(U10,勤務シフト一覧!$B$4:$C$106,2,FALSE)),\"\",VLOOKUP(U10,勤務シフト一覧!$B$4:$C$106,2,FALSE))","v":"／"},{"$f":"IF(ISERROR(VLOOKUP(V10,勤務シフト一覧!$B$4:$C$106,2,FALSE)),\"\",VLOOKUP(V10,勤務シフト一覧!$B$4:$C$106,2,FALSE))","v":"日"},{"$f":"IF(ISERROR(VLOOKUP(W10,勤務シフト一覧!$B$4:$C$106,2,FALSE)),\"\",VLOOKUP(W10,勤務シフト一覧!$B$4:$C$106,2,FALSE))","v":"日"},{"$f":"IF(ISERROR(VLOOKUP(X10,勤務シフト一覧!$B$4:$C$106,2,FALSE)),\"\",VLOOKUP(X10,勤務シフト一覧!$B$4:$C$106,2,FALSE))","v":"深"},{"$f":"IF(ISERROR(VLOOKUP(Y10,勤務シフト一覧!$B$4:$C$106,2,FALSE)),\"\",VLOOKUP(Y10,勤務シフト一覧!$B$4:$C$106,2,FALSE))","v":"準"},{"$f":"IF(ISERROR(VLOOKUP(Z10,勤務シフト一覧!$B$4:$C$106,2,FALSE)),\"\",VLOOKUP(Z10,勤務シフト一覧!$B$4:$C$106,2,FALSE))","v":"／"},{"$f":"IF(ISERROR(VLOOKUP(AA10,勤務シフト一覧!$B$4:$C$106,2,FALSE)),\"\",VLOOKUP(AA10,勤務シフト一覧!$B$4:$C$106,2,FALSE))","v":"日"},{"$f":"IF(ISERROR(VLOOKUP(AB10,勤務シフト一覧!$B$4:$C$106,2,FALSE)),\"\",VLOOKUP(AB10,勤務シフト一覧!$B$4:$C$106,2,FALSE))","v":"深"},{"$f":"IF(ISERROR(VLOOKUP(AC10,勤務シフト一覧!$B$4:$C$106,2,FALSE)),\"\",VLOOKUP(AC10,勤務シフト一覧!$B$4:$C$106,2,FALSE))","v":"／"},{"$f":"IF(ISERROR(VLOOKUP(AD10,勤務シフト一覧!$B$4:$C$106,2,FALSE)),\"\",VLOOKUP(AD10,勤務シフト一覧!$B$4:$C$106,2,FALSE))","v":"日"},{"$f":"IF(ISERROR(VLOOKUP(AE10,勤務シフト一覧!$B$4:$C$106,2,FALSE)),\"\",VLOOKUP(AE10,勤務シフト一覧!$B$4:$C$106,2,FALSE))","v":"1230"},{"$f":"IF(ISERROR(VLOOKUP(AF10,勤務シフト一覧!$B$4:$C$106,2,FALSE)),\"\",VLOOKUP(AF10,勤務シフト一覧!$B$4:$C$106,2,FALSE))","v":"／"},{"$f":"IF(ISERROR(VLOOKUP(AG10,勤務シフト一覧!$B$4:$C$106,2,FALSE)),\"\",VLOOKUP(AG10,勤務シフト一覧!$B$4:$C$106,2,FALSE))","v":"／"},{"$f":"IF(ISERROR(VLOOKUP(AH10,勤務シフト一覧!$B$4:$C$106,2,FALSE)),\"\",VLOOKUP(AH10,勤務シフト一覧!$B$4:$C$106,2,FALSE))","v":"日"},null,{"$f":"IF(ISERROR(VLOOKUP(D10,勤務シフト一覧!$B$4:$D$106,3,FALSE)),\"\",VLOOKUP(D10,勤務シフト一覧!$B$4:$D$106,3,FALSE))","v":2},{"$f":"IF(ISERROR(VLOOKUP(E10,勤務シフト一覧!$B$4:$D$106,3,FALSE)),\"\",VLOOKUP(E10,勤務シフト一覧!$B$4:$D$106,3,FALSE))","v":2},{"$f":"IF(ISERROR(VLOOKUP(F10,勤務シフト一覧!$B$4:$D$106,3,FALSE)),\"\",VLOOKUP(F10,勤務シフト一覧!$B$4:$D$106,3,FALSE))","v":"A"},{"$f":"IF(ISERROR(VLOOKUP(G10,勤務シフト一覧!$B$4:$D$106,3,FALSE)),\"\",VLOOKUP(G10,勤務シフト一覧!$B$4:$D$106,3,FALSE))","v":"AS1"},{"$f":"IF(ISERROR(VLOOKUP(H10,勤務シフト一覧!$B$4:$D$106,3,FALSE)),\"\",VLOOKUP(H10,勤務シフト一覧!$B$4:$D$106,3,FALSE))","v":"A"},{"$f":"IF(ISERROR(VLOOKUP(I10,勤務シフト一覧!$B$4:$D$106,3,FALSE)),\"\",VLOOKUP(I10,勤務シフト一覧!$B$4:$D$106,3,FALSE))","v":"A"},{"$f":"IF(ISERROR(VLOOKUP(J10,勤務シフト一覧!$B$4:$D$106,3,FALSE)),\"\",VLOOKUP(J10,勤務シフト一覧!$B$4:$D$106,3,FALSE))","v":2},{"$f":"IF(ISERROR(VLOOKUP(K10,勤務シフト一覧!$B$4:$D$106,3,FALSE)),\"\",VLOOKUP(K10,勤務シフト一覧!$B$4:$D$106,3,FALSE))","v":"A"},{"$f":"IF(ISERROR(VLOOKUP(L10,勤務シフト一覧!$B$4:$D$106,3,FALSE)),\"\",VLOOKUP(L10,勤務シフト一覧!$B$4:$D$106,3,FALSE))","v":"A"},{"$f":"IF(ISERROR(VLOOKUP(M10,勤務シフト一覧!$B$4:$D$106,3,FALSE)),\"\",VLOOKUP(M10,勤務シフト一覧!$B$4:$D$106,3,FALSE))","v":"AS1"},{"$f":"IF(ISERROR(VLOOKUP(N10,勤務シフト一覧!$B$4:$D$106,3,FALSE)),\"\",VLOOKUP(N10,勤務シフト一覧!$B$4:$D$106,3,FALSE))","v":"KJ"},{"$f":"IF(ISERROR(VLOOKUP(O10,勤務シフト一覧!$B$4:$D$106,3,FALSE)),\"\",VLOOKUP(O10,勤務シフト一覧!$B$4:$D$106,3,FALSE))","v":2},{"$f":"IF(ISERROR(VLOOKUP(P10,勤務シフト一覧!$B$4:$D$106,3,FALSE)),\"\",VLOOKUP(P10,勤務シフト一覧!$B$4:$D$106,3,FALSE))","v":"A"},{"$f":"IF(ISERROR(VLOOKUP(Q10,勤務シフト一覧!$B$4:$D$106,3,FALSE)),\"\",VLOOKUP(Q10,勤務シフト一覧!$B$4:$D$106,3,FALSE))","v":"A"},{"$f":"IF(ISERROR(VLOOKUP(R10,勤務シフト一覧!$B$4:$D$106,3,FALSE)),\"\",VLOOKUP(R10,勤務シフト一覧!$B$4:$D$106,3,FALSE))","v":"AS1"},{"$f":"IF(ISERROR(VLOOKUP(S10,勤務シフト一覧!$B$4:$D$106,3,FALSE)),\"\",VLOOKUP(S10,勤務シフト一覧!$B$4:$D$106,3,FALSE))","v":"AJ"},{"$f":"IF(ISERROR(VLOOKUP(T10,勤務シフト一覧!$B$4:$D$106,3,FALSE)),\"\",VLOOKUP(T10,勤務シフト一覧!$B$4:$D$106,3,FALSE))","v":2},{"$f":"IF(ISERROR(VLOOKUP(U10,勤務シフト一覧!$B$4:$D$106,3,FALSE)),\"\",VLOOKUP(U10,勤務シフト一覧!$B$4:$D$106,3,FALSE))","v":2},{"$f":"IF(ISERROR(VLOOKUP(V10,勤務シフト一覧!$B$4:$D$106,3,FALSE)),\"\",VLOOKUP(V10,勤務シフト一覧!$B$4:$D$106,3,FALSE))","v":"A"},{"$f":"IF(ISERROR(VLOOKUP(W10,勤務シフト一覧!$B$4:$D$106,3,FALSE)),\"\",VLOOKUP(W10,勤務シフト一覧!$B$4:$D$106,3,FALSE))","v":"A"},{"$f":"IF(ISERROR(VLOOKUP(X10,勤務シフト一覧!$B$4:$D$106,3,FALSE)),\"\",VLOOKUP(X10,勤務シフト一覧!$B$4:$D$106,3,FALSE))","v":"AS1"},{"$f":"IF(ISERROR(VLOOKUP(Y10,勤務シフト一覧!$B$4:$D$106,3,FALSE)),\"\",VLOOKUP(Y10,勤務シフト一覧!$B$4:$D$106,3,FALSE))","v":"AJ"},{"$f":"IF(ISERROR(VLOOKUP(Z10,勤務シフト一覧!$B$4:$D$106,3,FALSE)),\"\",VLOOKUP(Z10,勤務シフト一覧!$B$4:$D$106,3,FALSE))","v":2},{"$f":"IF(ISERROR(VLOOKUP(AA10,勤務シフト一覧!$B$4:$D$106,3,FALSE)),\"\",VLOOKUP(AA10,勤務シフト一覧!$B$4:$D$106,3,FALSE))","v":"A"},{"$f":"IF(ISERROR(VLOOKUP(AB10,勤務シフト一覧!$B$4:$D$106,3,FALSE)),\"\",VLOOKUP(AB10,勤務シフト一覧!$B$4:$D$106,3,FALSE))","v":"AS1"},{"$f":"IF(ISERROR(VLOOKUP(AC10,勤務シフト一覧!$B$4:$D$106,3,FALSE)),\"\",VLOOKUP(AC10,勤務シフト一覧!$B$4:$D$106,3,FALSE))","v":2},{"$f":"IF(ISERROR(VLOOKUP(AD10,勤務シフト一覧!$B$4:$D$106,3,FALSE)),\"\",VLOOKUP(AD10,勤務シフト一覧!$B$4:$D$106,3,FALSE))","v":"A"},{"$f":"IF(ISERROR(VLOOKUP(AE10,勤務シフト一覧!$B$4:$D$106,3,FALSE)),\"\",VLOOKUP(AE10,勤務シフト一覧!$B$4:$D$106,3,FALSE))","v":"A7"},{"$f":"IF(ISERROR(VLOOKUP(AF10,勤務シフト一覧!$B$4:$D$106,3,FALSE)),\"\",VLOOKUP(AF10,勤務シフト一覧!$B$4:$D$106,3,FALSE))","v":2},{"$f":"IF(ISERROR(VLOOKUP(AG10,勤務シフト一覧!$B$4:$D$106,3,FALSE)),\"\",VLOOKUP(AG10,勤務シフト一覧!$B$4:$D$106,3,FALSE))","v":2},{"$f":"IF(ISERROR(VLOOKUP(AH10,勤務シフト一覧!$B$4:$D$106,3,FALSE)),\"\",VLOOKUP(AH10,勤務シフト一覧!$B$4:$D$106,3,FALSE))","v":"A"},{"$f":"COUNTIF(AI10:BM10,$CT$3)","v":2},{"$f":"COUNTIF(AI10:BM10,$CU$3)","v":5},{"$f":"COUNTIF(AI10:BM10,$CV$3)","v":0},{"$f":"COUNTIF(AI10:BM10,$CW$3)","v":0},{"$f":"COUNTIF(AI10:BM10,$CX$3)","v":10},{"$f":"COUNTIF(AI10:BM10,$CY$3)","v":0},{"$f":"COUNTIF(AI10:BM10,$CZ$3)","v":0},{"$f":"COUNTIF(AI10:BM10,$DA$3)","v":0},{"$f":"COUNTIF(AI10:BM10,$DB$3)","v":0},{"$f":"COUNTIF(AI10:BM10,$DC$3)","v":0},{"$f":"IF(LEN(職員一覧!D4)<>0,職員一覧!D4,\"\")","v":"○"},null,{"$f":"IF(勤務シフト一覧!$D8<>0,IF(勤務シフト一覧!$B8<> 0,勤務シフト一覧!$B8,\"\"),\"\")","v":"指／"}]
[null,null,"実施","","","","","","","","","","","","","","","","","","","","","","","","","","","","","","","",{"$f":"IF(ISERROR(VLOOKUP(D11,勤務シフト一覧!$B$4:$C$106,2,FALSE)),\"\",VLOOKUP(D11,勤務シフト一覧!$B$4:$C$106,2,FALSE))","v":""},{"$f":"IF(ISERROR(VLOOKUP(E11,勤務シフト一覧!$B$4:$C$106,2,FALSE)),\"\",VLOOKUP(E11,勤務シフト一覧!$B$4:$C$106,2,FALSE))","v":""},{"$f":"IF(ISERROR(VLOOKUP(F11,勤務シフト一覧!$B$4:$C$106,2,FALSE)),\"\",VLOOKUP(F11,勤務シフト一覧!$B$4:$C$106,2,FALSE))","v":""},{"$f":"IF(ISERROR(VLOOKUP(G11,勤務シフト一覧!$B$4:$C$106,2,FALSE)),\"\",VLOOKUP(G11,勤務シフト一覧!$B$4:$C$106,2,FALSE))","v":""},{"$f":"IF(ISERROR(VLOOKUP(H11,勤務シフト一覧!$B$4:$C$106,2,FALSE)),\"\",VLOOKUP(H11,勤務シフト一覧!$B$4:$C$106,2,FALSE))","v":""},{"$f":"IF(ISERROR(VLOOKUP(I11,勤務シフト一覧!$B$4:$C$106,2,FALSE)),\"\",VLOOKUP(I11,勤務シフト一覧!$B$4:$C$106,2,FALSE))","v":""},{"$f":"IF(ISERROR(VLOOKUP(J11,勤務シフト一覧!$B$4:$C$106,2,FALSE)),\"\",VLOOKUP(J11,勤務シフト一覧!$B$4:$C$106,2,FALSE))","v":""},{"$f":"IF(ISERROR(VLOOKUP(K11,勤務シフト一覧!$B$4:$C$106,2,FALSE)),\"\",VLOOKUP(K11,勤務シフト一覧!$B$4:$C$106,2,FALSE))","v":""},{"$f":"IF(ISERROR(VLOOKUP(L11,勤務シフト一覧!$B$4:$C$106,2,FALSE)),\"\",VLOOKUP(L11,勤務シフト一覧!$B$4:$C$106,2,FALSE))","v":""},{"$f":"IF(ISERROR(VLOOKUP(M11,勤務シフト一覧!$B$4:$C$106,2,FALSE)),\"\",VLOOKUP(M11,勤務シフト一覧!$B$4:$C$106,2,FALSE))","v":""},{"$f":"IF(ISERROR(VLOOKUP(N11,勤務シフト一覧!$B$4:$C$106,2,FALSE)),\"\",VLOOKUP(N11,勤務シフト一覧!$B$4:$C$106,2,FALSE))","v":""},{"$f":"IF(ISERROR(VLOOKUP(O11,勤務シフト一覧!$B$4:$C$106,2,FALSE)),\"\",VLOOKUP(O11,勤務シフト一覧!$B$4:$C$106,2,FALSE))","v":""},{"$f":"IF(ISERROR(VLOOKUP(P11,勤務シフト一覧!$B$4:$C$106,2,FALSE)),\"\",VLOOKUP(P11,勤務シフト一覧!$B$4:$C$106,2,FALSE))","v":""},{"$f":"IF(ISERROR(VLOOKUP(Q11,勤務シフト一覧!$B$4:$C$106,2,FALSE)),\"\",VLOOKUP(Q11,勤務シフト一覧!$B$4:$C$106,2,FALSE))","v":""},{"$f":"IF(ISERROR(VLOOKUP(R11,勤務シフト一覧!$B$4:$C$106,2,FALSE)),\"\",VLOOKUP(R11,勤務シフト一覧!$B$4:$C$106,2,FALSE))","v":""},{"$f":"IF(ISERROR(VLOOKUP(S11,勤務シフト一覧!$B$4:$C$106,2,FALSE)),\"\",VLOOKUP(S11,勤務シフト一覧!$B$4:$C$106,2,FALSE))","v":""},{"$f":"IF(ISERROR(VLOOKUP(T11,勤務シフト一覧!$B$4:$C$106,2,FALSE)),\"\",VLOOKUP(T11,勤務シフト一覧!$B$4:$C$106,2,FALSE))","v":""},{"$f":"IF(ISERROR(VLOOKUP(U11,勤務シフト一覧!$B$4:$C$106,2,FALSE)),\"\",VLOOKUP(U11,勤務シフト一覧!$B$4:$C$106,2,FALSE))","v":""},{"$f":"IF(ISERROR(VLOOKUP(V11,勤務シフト一覧!$B$4:$C$106,2,FALSE)),\"\",VLOOKUP(V11,勤務シフト一覧!$B$4:$C$106,2,FALSE))","v":""},{"$f":"IF(ISERROR(VLOOKUP(W11,勤務シフト一覧!$B$4:$C$106,2,FALSE)),\"\",VLOOKUP(W11,勤務シフト一覧!$B$4:$C$106,2,FALSE))","v":""},{"$f":"IF(ISERROR(VLOOKUP(X11,勤務シフト一覧!$B$4:$C$106,2,FALSE)),\"\",VLOOKUP(X11,勤務シフト一覧!$B$4:$C$106,2,FALSE))","v":""},{"$f":"IF(ISERROR(VLOOKUP(Y11,勤務シフト一覧!$B$4:$C$106,2,FALSE)),\"\",VLOOKUP(Y11,勤務シフト一覧!$B$4:$C$106,2,FALSE))","v":""},{"$f":"IF(ISERROR(VLOOKUP(Z11,勤務シフト一覧!$B$4:$C$106,2,FALSE)),\"\",VLOOKUP(Z11,勤務シフト一覧!$B$4:$C$106,2,FALSE))","v":""},{"$f":"IF(ISERROR(VLOOKUP(AA11,勤務シフト一覧!$B$4:$C$106,2,FALSE)),\"\",VLOOKUP(AA11,勤務シフト一覧!$B$4:$C$106,2,FALSE))","v":""},{"$f":"IF(ISERROR(VLOOKUP(AB11,勤務シフト一覧!$B$4:$C$106,2,FALSE)),\"\",VLOOKUP(AB11,勤務シフト一覧!$B$4:$C$106,2,FALSE))","v":""},{"$f":"IF(ISERROR(VLOOKUP(AC11,勤務シフト一覧!$B$4:$C$106,2,FALSE)),\"\",VLOOKUP(AC11,勤務シフト一覧!$B$4:$C$106,2,FALSE))","v":""},{"$f":"IF(ISERROR(VLOOKUP(AD11,勤務シフト一覧!$B$4:$C$106,2,FALSE)),\"\",VLOOKUP(AD11,勤務シフト一覧!$B$4:$C$106,2,FALSE))","v":""},{"$f":"IF(ISERROR(VLOOKUP(AE11,勤務シフト一覧!$B$4:$C$106,2,FALSE)),\"\",VLOOKUP(AE11,勤務シフト一覧!$B$4:$C$106,2,FALSE))","v":""},{"$f":"IF(ISERROR(VLOOKUP(AF11,勤務シフト一覧!$B$4:$C$106,2,FALSE)),\"\",VLOOKUP(AF11,勤務シフト一覧!$B$4:$C$106,2,FALSE))","v":""},{"$f":"IF(ISERROR(VLOOKUP(AG11,勤務シフト一覧!$B$4:$C$106,2,FALSE)),\"\",VLOOKUP(AG11,勤務シフト一覧!$B$4:$C$106,2,FALSE))","v":""},{"$f":"IF(ISERROR(VLOOKUP(AH11,勤務シフト一覧!$B$4:$C$106,2,FALSE)),\"\",VLOOKUP(AH11,勤務シフト一覧!$B$4:$C$106,2,FALSE))","v":""},null,{"$f":"IF(ISERROR(VLOOKUP(D11,勤務シフト一覧!$B$4:$D$106,3,FALSE)),\"\",VLOOKUP(D11,勤務シフト一覧!$B$4:$D$106,3,FALSE))","v":""},{"$f":"IF(ISERROR(VLOOKUP(E11,勤務シフト一覧!$B$4:$D$106,3,FALSE)),\"\",VLOOKUP(E11,勤務シフト一覧!$B$4:$D$106,3,FALSE))","v":""},{"$f":"IF(ISERROR(VLOOKUP(F11,勤務シフト一覧!$B$4:$D$106,3,FALSE)),\"\",VLOOKUP(F11,勤務シフト一覧!$B$4:$D$106,3,FALSE))","v":""},{"$f":"IF(ISERROR(VLOOKUP(G11,勤務シフト一覧!$B$4:$D$106,3,FALSE)),\"\",VLOOKUP(G11,勤務シフト一覧!$B$4:$D$106,3,FALSE))","v":""},{"$f":"IF(ISERROR(VLOOKUP(H11,勤務シフト一覧!$B$4:$D$106,3,FALSE)),\"\",VLOOKUP(H11,勤務シフト一覧!$B$4:$D$106,3,FALSE))","v":""},{"$f":"IF(ISERROR(VLOOKUP(I11,勤務シフト一覧!$B$4:$D$106,3,FALSE)),\"\",VLOOKUP(I11,勤務シフト一覧!$B$4:$D$106,3,FALSE))","v":""},{"$f":"IF(ISERROR(VLOOKUP(J11,勤務シフト一覧!$B$4:$D$106,3,FALSE)),\"\",VLOOKUP(J11,勤務シフト一覧!$B$4:$D$106,3,FALSE))","v":""},{"$f":"IF(ISERROR(VLOOKUP(K11,勤務シフト一覧!$B$4:$D$106,3,FALSE)),\"\",VLOOKUP(K11,勤務シフト一覧!$B$4:$D$106,3,FALSE))","v":""},{"$f":"IF(ISERROR(VLOOKUP(L11,勤務シフト一覧!$B$4:$D$106,3,FALSE)),\"\",VLOOKUP(L11,勤務シフト一覧!$B$4:$D$106,3,FALSE))","v":""},{"$f":"IF(ISERROR(VLOOKUP(M11,勤務シフト一覧!$B$4:$D$106,3,FALSE)),\"\",VLOOKUP(M11,勤務シフト一覧!$B$4:$D$106,3,FALSE))","v":""},{"$f":"IF(ISERROR(VLOOKUP(N11,勤務シフト一覧!$B$4:$D$106,3,FALSE)),\"\",VLOOKUP(N11,勤務シフト一覧!$B$4:$D$106,3,FALSE))","v":""},{"$f":"IF(ISERROR(VLOOKUP(O11,勤務シフト一覧!$B$4:$D$106,3,FALSE)),\"\",VLOOKUP(O11,勤務シフト一覧!$B$4:$D$106,3,FALSE))","v":""},{"$f":"IF(ISERROR(VLOOKUP(P11,勤務シフト一覧!$B$4:$D$106,3,FALSE)),\"\",VLOOKUP(P11,勤務シフト一覧!$B$4:$D$106,3,FALSE))","v":""},{"$f":"IF(ISERROR(VLOOKUP(Q11,勤務シフト一覧!$B$4:$D$106,3,FALSE)),\"\",VLOOKUP(Q11,勤務シフト一覧!$B$4:$D$106,3,FALSE))","v":""},{"$f":"IF(ISERROR(VLOOKUP(R11,勤務シフト一覧!$B$4:$D$106,3,FALSE)),\"\",VLOOKUP(R11,勤務シフト一覧!$B$4:$D$106,3,FALSE))","v":""},{"$f":"IF(ISERROR(VLOOKUP(S11,勤務シフト一覧!$B$4:$D$106,3,FALSE)),\"\",VLOOKUP(S11,勤務シフト一覧!$B$4:$D$106,3,FALSE))","v":""},{"$f":"IF(ISERROR(VLOOKUP(T11,勤務シフト一覧!$B$4:$D$106,3,FALSE)),\"\",VLOOKUP(T11,勤務シフト一覧!$B$4:$D$106,3,FALSE))","v":""},{"$f":"IF(ISERROR(VLOOKUP(U11,勤務シフト一覧!$B$4:$D$106,3,FALSE)),\"\",VLOOKUP(U11,勤務シフト一覧!$B$4:$D$106,3,FALSE))","v":""},{"$f":"IF(ISERROR(VLOOKUP(V11,勤務シフト一覧!$B$4:$D$106,3,FALSE)),\"\",VLOOKUP(V11,勤務シフト一覧!$B$4:$D$106,3,FALSE))","v":""},{"$f":"IF(ISERROR(VLOOKUP(W11,勤務シフト一覧!$B$4:$D$106,3,FALSE)),\"\",VLOOKUP(W11,勤務シフト一覧!$B$4:$D$106,3,FALSE))","v":""},{"$f":"IF(ISERROR(VLOOKUP(X11,勤務シフト一覧!$B$4:$D$106,3,FALSE)),\"\",VLOOKUP(X11,勤務シフト一覧!$B$4:$D$106,3,FALSE))","v":""},{"$f":"IF(ISERROR(VLOOKUP(Y11,勤務シフト一覧!$B$4:$D$106,3,FALSE)),\"\",VLOOKUP(Y11,勤務シフト一覧!$B$4:$D$106,3,FALSE))","v":""},{"$f":"IF(ISERROR(VLOOKUP(Z11,勤務シフト一覧!$B$4:$D$106,3,FALSE)),\"\",VLOOKUP(Z11,勤務シフト一覧!$B$4:$D$106,3,FALSE))","v":""},{"$f":"IF(ISERROR(VLOOKUP(AA11,勤務シフト一覧!$B$4:$D$106,3,FALSE)),\"\",VLOOKUP(AA11,勤務シフト一覧!$B$4:$D$106,3,FALSE))","v":""},{"$f":"IF(ISERROR(VLOOKUP(AB11,勤務シフト一覧!$B$4:$D$106,3,FALSE)),\"\",VLOOKUP(AB11,勤務シフト一覧!$B$4:$D$106,3,FALSE))","v":""},{"$f":"IF(ISERROR(VLOOKUP(AC11,勤務シフト一覧!$B$4:$D$106,3,FALSE)),\"\",VLOOKUP(AC11,勤務シフト一覧!$B$4:$D$106,3,FALSE))","v":""},{"$f":"IF(ISERROR(VLOOKUP(AD11,勤務シフト一覧!$B$4:$D$106,3,FALSE)),\"\",VLOOKUP(AD11,勤務シフト一覧!$B$4:$D$106,3,FALSE))","v":""},{"$f":"IF(ISERROR(VLOOKUP(AE11,勤務シフト一覧!$B$4:$D$106,3,FALSE)),\"\",VLOOKUP(AE11,勤務シフト一覧!$B$4:$D$106,3,FALSE))","v":""},{"$f":"IF(ISERROR(VLOOKUP(AF11,勤務シフト一覧!$B$4:$D$106,3,FALSE)),\"\",VLOOKUP(AF11,勤務シフト一覧!$B$4:$D$106,3,FALSE))","v":""},{"$f":"IF(ISERROR(VLOOKUP(AG11,勤務シフト一覧!$B$4:$D$106,3,FALSE)),\"\",VLOOKUP(AG11,勤務シフト一覧!$B$4:$D$106,3,FALSE))","v":""},{"$f":"IF(ISERROR(VLOOKUP(AH11,勤務シフト一覧!$B$4:$D$106,3,FALSE)),\"\",VLOOKUP(AH11,勤務シフト一覧!$B$4:$D$106,3,FALSE))","v":""},0,0,0,0,0,0,0,0,0,0,null,null,{"$f":"IF(勤務シフト一覧!$D11<>0,IF(勤務シフト一覧!$B11<> 0,勤務シフト一覧!$B11,\"\"),\"\")","v":"0600"}]
[{"$f":"IF(LEN(職員一覧!B5)<>0,職員一覧!B5,\"\")","v":""},{"$f":"IF(LEN(職員一覧!C5)<>0,職員一覧!C5,\"\")","v":""},"予定",null,null,null,null,null,null,null,null,null,null,null,null,null,null,null,null,null,null,null,null,null,null,null,null,null,null,null,null,null,null,null,{"$f":"IF(ISERROR(VLOOKUP(D12,勤務シフト一覧!$B$4:$C$106,2,FALSE)),\"\",VLOOKUP(D12,勤務シフト一覧!$B$4:$C$106,2,FALSE))","v":""},{"$f":"IF(ISERROR(VLOOKUP(E12,勤務シフト一覧!$B$4:$C$106,2,FALSE)),\"\",VLOOKUP(E12,勤務シフト一覧!$B$4:$C$106,2,FALSE))","v":""},{"$f":"IF(ISERROR(VLOOKUP(F12,勤務シフト一覧!$B$4:$C$106,2,FALSE)),\"\",VLOOKUP(F12,勤務シフト一覧!$B$4:$C$106,2,FALSE))","v":""},{"$f":"IF(ISERROR(VLOOKUP(G12,勤務シフト一覧!$B$4:$C$106,2,FALSE)),\"\",VLOOKUP(G12,勤務シフト一覧!$B$4:$C$106,2,FALSE))","v":""},{"$f":"IF(ISERROR(VLOOKUP(H12,勤務シフト一覧!$B$4:$C$106,2,FALSE)),\"\",VLOOKUP(H12,勤務シフト一覧!$B$4:$C$106,2,FALSE))","v":""},{"$f":"IF(ISERROR(VLOOKUP(I12,勤務シフト一覧!$B$4:$C$106,2,FALSE)),\"\",VLOOKUP(I12,勤務シフト一覧!$B$4:$C$106,2,FALSE))","v":""},{"$f":"IF(ISERROR(VLOOKUP(J12,勤務シフト一覧!$B$4:$C$106,2,FALSE)),\"\",VLOOKUP(J12,勤務シフト一覧!$B$4:$C$106,2,FALSE))","v":""},{"$f":"IF(ISERROR(VLOOKUP(K12,勤務シフト一覧!$B$4:$C$106,2,FALSE)),\"\",VLOOKUP(K12,勤務シフト一覧!$B$4:$C$106,2,FALSE))","v":""},{"$f":"IF(ISERROR(VLOOKUP(L12,勤務シフト一覧!$B$4:$C$106,2,FALSE)),\"\",VLOOKUP(L12,勤務シフト一覧!$B$4:$C$106,2,FALSE))","v":""},{"$f":"IF(ISERROR(VLOOKUP(M12,勤務シフト一覧!$B$4:$C$106,2,FALSE)),\"\",VLOOKUP(M12,勤務シフト一覧!$B$4:$C$106,2,FALSE))","v":""},{"$f":"IF(ISERROR(VLOOKUP(N12,勤務シフト一覧!$B$4:$C$106,2,FALSE)),\"\",VLOOKUP(N12,勤務シフト一覧!$B$4:$C$106,2,FALSE))","v":""},{"$f":"IF(ISERROR(VLOOKUP(O12,勤務シフト一覧!$B$4:$C$106,2,FALSE)),\"\",VLOOKUP(O12,勤務シフト一覧!$B$4:$C$106,2,FALSE))","v":""},{"$f":"IF(ISERROR(VLOOKUP(P12,勤務シフト一覧!$B$4:$C$106,2,FALSE)),\"\",VLOOKUP(P12,勤務シフト一覧!$B$4:$C$106,2,FALSE))","v":""},{"$f":"IF(ISERROR(VLOOKUP(Q12,勤務シフト一覧!$B$4:$C$106,2,FALSE)),\"\",VLOOKUP(Q12,勤務シフト一覧!$B$4:$C$106,2,FALSE))","v":""},{"$f":"IF(ISERROR(VLOOKUP(R12,勤務シフト一覧!$B$4:$C$106,2,FALSE)),\"\",VLOOKUP(R12,勤務シフト一覧!$B$4:$C$106,2,FALSE))","v":""},{"$f":"IF(ISERROR(VLOOKUP(S12,勤務シフト一覧!$B$4:$C$106,2,FALSE)),\"\",VLOOKUP(S12,勤務シフト一覧!$B$4:$C$106,2,FALSE))","v":""},{"$f":"IF(ISERROR(VLOOKUP(T12,勤務シフト一覧!$B$4:$C$106,2,FALSE)),\"\",VLOOKUP(T12,勤務シフト一覧!$B$4:$C$106,2,FALSE))","v":""},{"$f":"IF(ISERROR(VLOOKUP(U12,勤務シフト一覧!$B$4:$C$106,2,FALSE)),\"\",VLOOKUP(U12,勤務シフト一覧!$B$4:$C$106,2,FALSE))","v":""},{"$f":"IF(ISERROR(VLOOKUP(V12,勤務シフト一覧!$B$4:$C$106,2,FALSE)),\"\",VLOOKUP(V12,勤務シフト一覧!$B$4:$C$106,2,FALSE))","v":""},{"$f":"IF(ISERROR(VLOOKUP(W12,勤務シフト一覧!$B$4:$C$106,2,FALSE)),\"\",VLOOKUP(W12,勤務シフト一覧!$B$4:$C$106,2,FALSE))","v":""},{"$f":"IF(ISERROR(VLOOKUP(X12,勤務シフト一覧!$B$4:$C$106,2,FALSE)),\"\",VLOOKUP(X12,勤務シフト一覧!$B$4:$C$106,2,FALSE))","v":""},{"$f":"IF(ISERROR(VLOOKUP(Y12,勤務シフト一覧!$B$4:$C$106,2,FALSE)),\"\",VLOOKUP(Y12,勤務シフト一覧!$B$4:$C$106,2,FALSE))","v":""},{"$f":"IF(ISERROR(VLOOKUP(Z12,勤務シフト一覧!$B$4:$C$106,2,FALSE)),\"\",VLOOKUP(Z12,勤務シフト一覧!$B$4:$C$106,2,FALSE))","v":""},{"$f":"IF(ISERROR(VLOOKUP(AA12,勤務シフト一覧!$B$4:$C$106,2,FALSE)),\"\",VLOOKUP(AA12,勤務シフト一覧!$B$4:$C$106,2,FALSE))","v":""},{"$f":"IF(ISERROR(VLOOKUP(AB12,勤務シフト一覧!$B$4:$C$106,2,FALSE)),\"\",VLOOKUP(AB12,勤務シフト一覧!$B$4:$C$106,2,FALSE))","v":""},{"$f":"IF(ISERROR(VLOOKUP(AC12,勤務シフト一覧!$B$4:$C$106,2,FALSE)),\"\",VLOOKUP(AC12,勤務シフト一覧!$B$4:$C$106,2,FALSE))","v":""},{"$f":"IF(ISERROR(VLOOKUP(AD12,勤務シフト一覧!$B$4:$C$106,2,FALSE)),\"\",VLOOKUP(AD12,勤務シフト一覧!$B$4:$C$106,2,FALSE))","v":""},{"$f":"IF(ISERROR(VLOOKUP(AE12,勤務シフト一覧!$B$4:$C$106,2,FALSE)),\"\",VLOOKUP(AE12,勤務シフト一覧!$B$4:$C$106,2,FALSE))","v":""},{"$f":"IF(ISERROR(VLOOKUP(AF12,勤務シフト一覧!$B$4:$C$106,2,FALSE)),\"\",VLOOKUP(AF12,勤務シフト一覧!$B$4:$C$106,2,FALSE))","v":""},{"$f":"IF(ISERROR(VLOOKUP(AG12,勤務シフト一覧!$B$4:$C$106,2,FALSE)),\"\",VLOOKUP(AG12,勤務シフト一覧!$B$4:$C$106,2,FALSE))","v":""},{"$f":"IF(ISERROR(VLOOKUP(AH12,勤務シフト一覧!$B$4:$C$106,2,FALSE)),\"\",VLOOKUP(AH12,勤務シフト一覧!$B$4:$C$106,2,FALSE))","v":""},null,{"$f":"IF(ISERROR(VLOOKUP(D12,勤務シフト一覧!$B$4:$D$106,3,FALSE)),\"\",VLOOKUP(D12,勤務シフト一覧!$B$4:$D$106,3,FALSE))","v":""},{"$f":"IF(ISERROR(VLOOKUP(E12,勤務シフト一覧!$B$4:$D$106,3,FALSE)),\"\",VLOOKUP(E12,勤務シフト一覧!$B$4:$D$106,3,FALSE))","v":""},{"$f":"IF(ISERROR(VLOOKUP(F12,勤務シフト一覧!$B$4:$D$106,3,FALSE)),\"\",VLOOKUP(F12,勤務シフト一覧!$B$4:$D$106,3,FALSE))","v":""},{"$f":"IF(ISERROR(VLOOKUP(G12,勤務シフト一覧!$B$4:$D$106,3,FALSE)),\"\",VLOOKUP(G12,勤務シフト一覧!$B$4:$D$106,3,FALSE))","v":""},{"$f":"IF(ISERROR(VLOOKUP(H12,勤務シフト一覧!$B$4:$D$106,3,FALSE)),\"\",VLOOKUP(H12,勤務シフト一覧!$B$4:$D$106,3,FALSE))","v":""},{"$f":"IF(ISERROR(VLOOKUP(I12,勤務シフト一覧!$B$4:$D$106,3,FALSE)),\"\",VLOOKUP(I12,勤務シフト一覧!$B$4:$D$106,3,FALSE))","v":""},{"$f":"IF(ISERROR(VLOOKUP(J12,勤務シフト一覧!$B$4:$D$106,3,FALSE)),\"\",VLOOKUP(J12,勤務シフト一覧!$B$4:$D$106,3,FALSE))","v":""},{"$f":"IF(ISERROR(VLOOKUP(K12,勤務シフト一覧!$B$4:$D$106,3,FALSE)),\"\",VLOOKUP(K12,勤務シフト一覧!$B$4:$D$106,3,FALSE))","v":""},{"$f":"IF(ISERROR(VLOOKUP(L12,勤務シフト一覧!$B$4:$D$106,3,FALSE)),\"\",VLOOKUP(L12,勤務シフト一覧!$B$4:$D$106,3,FALSE))","v":""},{"$f":"IF(ISERROR(VLOOKUP(M12,勤務シフト一覧!$B$4:$D$106,3,FALSE)),\"\",VLOOKUP(M12,勤務シフト一覧!$B$4:$D$106,3,FALSE))","v":""},{"$f":"IF(ISERROR(VLOOKUP(N12,勤務シフト一覧!$B$4:$D$106,3,FALSE)),\"\",VLOOKUP(N12,勤務シフト一覧!$B$4:$D$106,3,FALSE))","v":""},{"$f":"IF(ISERROR(VLOOKUP(O12,勤務シフト一覧!$B$4:$D$106,3,FALSE)),\"\",VLOOKUP(O12,勤務シフト一覧!$B$4:$D$106,3,FALSE))","v":""},{"$f":"IF(ISERROR(VLOOKUP(P12,勤務シフト一覧!$B$4:$D$106,3,FALSE)),\"\",VLOOKUP(P12,勤務シフト一覧!$B$4:$D$106,3,FALSE))","v":""},{"$f":"IF(ISERROR(VLOOKUP(Q12,勤務シフト一覧!$B$4:$D$106,3,FALSE)),\"\",VLOOKUP(Q12,勤務シフト一覧!$B$4:$D$106,3,FALSE))","v":""},{"$f":"IF(ISERROR(VLOOKUP(R12,勤務シフト一覧!$B$4:$D$106,3,FALSE)),\"\",VLOOKUP(R12,勤務シフト一覧!$B$4:$D$106,3,FALSE))","v":""},{"$f":"IF(ISERROR(VLOOKUP(S12,勤務シフト一覧!$B$4:$D$106,3,FALSE)),\"\",VLOOKUP(S12,勤務シフト一覧!$B$4:$D$106,3,FALSE))","v":""},{"$f":"IF(ISERROR(VLOOKUP(T12,勤務シフト一覧!$B$4:$D$106,3,FALSE)),\"\",VLOOKUP(T12,勤務シフト一覧!$B$4:$D$106,3,FALSE))","v":""},{"$f":"IF(ISERROR(VLOOKUP(U12,勤務シフト一覧!$B$4:$D$106,3,FALSE)),\"\",VLOOKUP(U12,勤務シフト一覧!$B$4:$D$106,3,FALSE))","v":""},{"$f":"IF(ISERROR(VLOOKUP(V12,勤務シフト一覧!$B$4:$D$106,3,FALSE)),\"\",VLOOKUP(V12,勤務シフト一覧!$B$4:$D$106,3,FALSE))","v":""},{"$f":"IF(ISERROR(VLOOKUP(W12,勤務シフト一覧!$B$4:$D$106,3,FALSE)),\"\",VLOOKUP(W12,勤務シフト一覧!$B$4:$D$106,3,FALSE))","v":""},{"$f":"IF(ISERROR(VLOOKUP(X12,勤務シフト一覧!$B$4:$D$106,3,FALSE)),\"\",VLOOKUP(X12,勤務シフト一覧!$B$4:$D$106,3,FALSE))","v":""},{"$f":"IF(ISERROR(VLOOKUP(Y12,勤務シフト一覧!$B$4:$D$106,3,FALSE)),\"\",VLOOKUP(Y12,勤務シフト一覧!$B$4:$D$106,3,FALSE))","v":""},{"$f":"IF(ISERROR(VLOOKUP(Z12,勤務シフト一覧!$B$4:$D$106,3,FALSE)),\"\",VLOOKUP(Z12,勤務シフト一覧!$B$4:$D$106,3,FALSE))","v":""},{"$f":"IF(ISERROR(VLOOKUP(AA12,勤務シフト一覧!$B$4:$D$106,3,FALSE)),\"\",VLOOKUP(AA12,勤務シフト一覧!$B$4:$D$106,3,FALSE))","v":""},{"$f":"IF(ISERROR(VLOOKUP(AB12,勤務シフト一覧!$B$4:$D$106,3,FALSE)),\"\",VLOOKUP(AB12,勤務シフト一覧!$B$4:$D$106,3,FALSE))","v":""},{"$f":"IF(ISERROR(VLOOKUP(AC12,勤務シフト一覧!$B$4:$D$106,3,FALSE)),\"\",VLOOKUP(AC12,勤務シフト一覧!$B$4:$D$106,3,FALSE))","v":""},{"$f":"IF(ISERROR(VLOOKUP(AD12,勤務シフト一覧!$B$4:$D$106,3,FALSE)),\"\",VLOOKUP(AD12,勤務シフト一覧!$B$4:$D$106,3,FALSE))","v":""},{"$f":"IF(ISERROR(VLOOKUP(AE12,勤務シフト一覧!$B$4:$D$106,3,FALSE)),\"\",VLOOKUP(AE12,勤務シフト一覧!$B$4:$D$106,3,FALSE))","v":""},{"$f":"IF(ISERROR(VLOOKUP(AF12,勤務シフト一覧!$B$4:$D$106,3,FALSE)),\"\",VLOOKUP(AF12,勤務シフト一覧!$B$4:$D$106,3,FALSE))","v":""},{"$f":"IF(ISERROR(VLOOKUP(AG12,勤務シフト一覧!$B$4:$D$106,3,FALSE)),\"\",VLOOKUP(AG12,勤務シフト一覧!$B$4:$D$106,3,FALSE))","v":""},{"$f":"IF(ISERROR(VLOOKUP(AH12,勤務シフト一覧!$B$4:$D$106,3,FALSE)),\"\",VLOOKUP(AH12,勤務シフト一覧!$B$4:$D$106,3,FALSE))","v":""},0,0,0,0,0,0,0,0,0,0,{"$f":"IF(LEN(職員一覧!D5)<>0,職員一覧!D5,\"\")","v":""},null,{"$f":"IF(勤務シフト一覧!$D12<>0,IF(勤務シフト一覧!$B12<> 0,勤務シフト一覧!$B12,\"\"),\"\")","v":"0700"}]
[null,null,"実施",null,null,null,null,null,null,null,null,null,null,null,null,null,null,null,null,null,null,null,null,null,null,null,null,null,null,null,null,null,null,null,{"$f":"IF(ISERROR(VLOOKUP(D13,勤務シフト一覧!$B$4:$C$106,2,FALSE)),\"\",VLOOKUP(D13,勤務シフト一覧!$B$4:$C$106,2,FALSE))","v":""},{"$f":"IF(ISERROR(VLOOKUP(E13,勤務シフト一覧!$B$4:$C$106,2,FALSE)),\"\",VLOOKUP(E13,勤務シフト一覧!$B$4:$C$106,2,FALSE))","v":""},{"$f":"IF(ISERROR(VLOOKUP(F13,勤務シフト一覧!$B$4:$C$106,2,FALSE)),\"\",VLOOKUP(F13,勤務シフト一覧!$B$4:$C$106,2,FALSE))","v":""},{"$f":"IF(ISERROR(VLOOKUP(G13,勤務シフト一覧!$B$4:$C$106,2,FALSE)),\"\",VLOOKUP(G13,勤務シフト一覧!$B$4:$C$106,2,FALSE))","v":""},{"$f":"IF(ISERROR(VLOOKUP(H13,勤務シフト一覧!$B$4:$C$106,2,FALSE)),\"\",VLOOKUP(H13,勤務シフト一覧!$B$4:$C$106,2,FALSE))","v":""},{"$f":"IF(ISERROR(VLOOKUP(I13,勤務シフト一覧!$B$4:$C$106,2,FALSE)),\"\",VLOOKUP(I13,勤務シフト一覧!$B$4:$C$106,2,FALSE))","v":""},{"$f":"IF(ISERROR(VLOOKUP(J13,勤務シフト一覧!$B$4:$C$106,2,FALSE)),\"\",VLOOKUP(J13,勤務シフト一覧!$B$4:$C$106,2,FALSE))","v":""},{"$f":"IF(ISERROR(VLOOKUP(K13,勤務シフト一覧!$B$4:$C$106,2,FALSE)),\"\",VLOOKUP(K13,勤務シフト一覧!$B$4:$C$106,2,FALSE))","v":""},{"$f":"IF(ISERROR(VLOOKUP(L13,勤務シフト一覧!$B$4:$C$106,2,FALSE)),\"\",VLOOKUP(L13,勤務シフト一覧!$B$4:$C$106,2,FALSE))","v":""},{"$f":"IF(ISERROR(VLOOKUP(M13,勤務シフト一覧!$B$4:$C$106,2,FALSE)),\"\",VLOOKUP(M13,勤務シフト一覧!$B$4:$C$106,2,FALSE))","v":""},{"$f":"IF(ISERROR(VLOOKUP(N13,勤務シフト一覧!$B$4:$C$106,2,FALSE)),\"\",VLOOKUP(N13,勤務シフト一覧!$B$4:$C$106,2,FALSE))","v":""},{"$f":"IF(ISERROR(VLOOKUP(O13,勤務シフト一覧!$B$4:$C$106,2,FALSE)),\"\",VLOOKUP(O13,勤務シフト一覧!$B$4:$C$106,2,FALSE))","v":""},{"$f":"IF(ISERROR(VLOOKUP(P13,勤務シフト一覧!$B$4:$C$106,2,FALSE)),\"\",VLOOKUP(P13,勤務シフト一覧!$B$4:$C$106,2,FALSE))","v":""},{"$f":"IF(ISERROR(VLOOKUP(Q13,勤務シフト一覧!$B$4:$C$106,2,FALSE)),\"\",VLOOKUP(Q13,勤務シフト一覧!$B$4:$C$106,2,FALSE))","v":""},{"$f":"IF(ISERROR(VLOOKUP(R13,勤務シフト一覧!$B$4:$C$106,2,FALSE)),\"\",VLOOKUP(R13,勤務シフト一覧!$B$4:$C$106,2,FALSE))","v":""},{"$f":"IF(ISERROR(VLOOKUP(S13,勤務シフト一覧!$B$4:$C$106,2,FALSE)),\"\",VLOOKUP(S13,勤務シフト一覧!$B$4:$C$106,2,FALSE))","v":""},{"$f":"IF(ISERROR(VLOOKUP(T13,勤務シフト一覧!$B$4:$C$106,2,FALSE)),\"\",VLOOKUP(T13,勤務シフト一覧!$B$4:$C$106,2,FALSE))","v":""},{"$f":"IF(ISERROR(VLOOKUP(U13,勤務シフト一覧!$B$4:$C$106,2,FALSE)),\"\",VLOOKUP(U13,勤務シフト一覧!$B$4:$C$106,2,FALSE))","v":""},{"$f":"IF(ISERROR(VLOOKUP(V13,勤務シフト一覧!$B$4:$C$106,2,FALSE)),\"\",VLOOKUP(V13,勤務シフト一覧!$B$4:$C$106,2,FALSE))","v":""},{"$f":"IF(ISERROR(VLOOKUP(W13,勤務シフト一覧!$B$4:$C$106,2,FALSE)),\"\",VLOOKUP(W13,勤務シフト一覧!$B$4:$C$106,2,FALSE))","v":""},{"$f":"IF(ISERROR(VLOOKUP(X13,勤務シフト一覧!$B$4:$C$106,2,FALSE)),\"\",VLOOKUP(X13,勤務シフト一覧!$B$4:$C$106,2,FALSE))","v":""},{"$f":"IF(ISERROR(VLOOKUP(Y13,勤務シフト一覧!$B$4:$C$106,2,FALSE)),\"\",VLOOKUP(Y13,勤務シフト一覧!$B$4:$C$106,2,FALSE))","v":""},{"$f":"IF(ISERROR(VLOOKUP(Z13,勤務シフト一覧!$B$4:$C$106,2,FALSE)),\"\",VLOOKUP(Z13,勤務シフト一覧!$B$4:$C$106,2,FALSE))","v":""},{"$f":"IF(ISERROR(VLOOKUP(AA13,勤務シフト一覧!$B$4:$C$106,2,FALSE)),\"\",VLOOKUP(AA13,勤務シフト一覧!$B$4:$C$106,2,FALSE))","v":""},{"$f":"IF(ISERROR(VLOOKUP(AB13,勤務シフト一覧!$B$4:$C$106,2,FALSE)),\"\",VLOOKUP(AB13,勤務シフト一覧!$B$4:$C$106,2,FALSE))","v":""},{"$f":"IF(ISERROR(VLOOKUP(AC13,勤務シフト一覧!$B$4:$C$106,2,FALSE)),\"\",VLOOKUP(AC13,勤務シフト一覧!$B$4:$C$106,2,FALSE))","v":""},{"$f":"IF(ISERROR(VLOOKUP(AD13,勤務シフト一覧!$B$4:$C$106,2,FALSE)),\"\",VLOOKUP(AD13,勤務シフト一覧!$B$4:$C$106,2,FALSE))","v":""},{"$f":"IF(ISERROR(VLOOKUP(AE13,勤務シフト一覧!$B$4:$C$106,2,FALSE)),\"\",VLOOKUP(AE13,勤務シフト一覧!$B$4:$C$106,2,FALSE))","v":""},{"$f":"IF(ISERROR(VLOOKUP(AF13,勤務シフト一覧!$B$4:$C$106,2,FALSE)),\"\",VLOOKUP(AF13,勤務シフト一覧!$B$4:$C$106,2,FALSE))","v":""},{"$f":"IF(ISERROR(VLOOKUP(AG13,勤務シフト一覧!$B$4:$C$106,2,FALSE)),\"\",VLOOKUP(AG13,勤務シフト一覧!$B$4:$C$106,2,FALSE))","v":""},{"$f":"IF(ISERROR(VLOOKUP(AH13,勤務シフト一覧!$B$4:$C$106,2,FALSE)),\"\",VLOOKUP(AH13,勤務シフト一覧!$B$4:$C$106,2,FALSE))","v":""},null,{"$f":"IF(ISERROR(VLOOKUP(D13,勤務シフト一覧!$B$4:$D$106,3,FALSE)),\"\",VLOOKUP(D13,勤務シフト一覧!$B$4:$D$106,3,FALSE))","v":""},{"$f":"IF(ISERROR(VLOOKUP(E13,勤務シフト一覧!$B$4:$D$106,3,FALSE)),\"\",VLOOKUP(E13,勤務シフト一覧!$B$4:$D$106,3,FALSE))","v":""},{"$f":"IF(ISERROR(VLOOKUP(F13,勤務シフト一覧!$B$4:$D$106,3,FALSE)),\"\",VLOOKUP(F13,勤務シフト一覧!$B$4:$D$106,3,FALSE))","v":""},{"$f":"IF(ISERROR(VLOOKUP(G13,勤務シフト一覧!$B$4:$D$106,3,FALSE)),\"\",VLOOKUP(G13,勤務シフト一覧!$B$4:$D$106,3,FALSE))","v":""},{"$f":"IF(ISERROR(VLOOKUP(H13,勤務シフト一覧!$B$4:$D$106,3,FALSE)),\"\",VLOOKUP(H13,勤務シフト一覧!$B$4:$D$106,3,FALSE))","v":""},{"$f":"IF(ISERROR(VLOOKUP(I13,勤務シフト一覧!$B$4:$D$106,3,FALSE)),\"\",VLOOKUP(I13,勤務シフト一覧!$B$4:$D$106,3,FALSE))","v":""},{"$f":"IF(ISERROR(VLOOKUP(J13,勤務シフト一覧!$B$4:$D$106,3,FALSE)),\"\",VLOOKUP(J13,勤務シフト一覧!$B$4:$D$106,3,FALSE))","v":""},{"$f":"IF(ISERROR(VLOOKUP(K13,勤務シフト一覧!$B$4:$D$106,3,FALSE)),\"\",VLOOKUP(K13,勤務シフト一覧!$B$4:$D$106,3,FALSE))","v":""},{"$f":"IF(ISERROR(VLOOKUP(L13,勤務シフト一覧!$B$4:$D$106,3,FALSE)),\"\",VLOOKUP(L13,勤務シフト一覧!$B$4:$D$106,3,FALSE))","v":""},{"$f":"IF(ISERROR(VLOOKUP(M13,勤務シフト一覧!$B$4:$D$106,3,FALSE)),\"\",VLOOKUP(M13,勤務シフト一覧!$B$4:$D$106,3,FALSE))","v":""},{"$f":"IF(ISERROR(VLOOKUP(N13,勤務シフト一覧!$B$4:$D$106,3,FALSE)),\"\",VLOOKUP(N13,勤務シフト一覧!$B$4:$D$106,3,FALSE))","v":""},{"$f":"IF(ISERROR(VLOOKUP(O13,勤務シフト一覧!$B$4:$D$106,3,FALSE)),\"\",VLOOKUP(O13,勤務シフト一覧!$B$4:$D$106,3,FALSE))","v":""},{"$f":"IF(ISERROR(VLOOKUP(P13,勤務シフト一覧!$B$4:$D$106,3,FALSE)),\"\",VLOOKUP(P13,勤務シフト一覧!$B$4:$D$106,3,FALSE))","v":""},{"$f":"IF(ISERROR(VLOOKUP(Q13,勤務シフト一覧!$B$4:$D$106,3,FALSE)),\"\",VLOOKUP(Q13,勤務シフト一覧!$B$4:$D$106,3,FALSE))","v":""},{"$f":"IF(ISERROR(VLOOKUP(R13,勤務シフト一覧!$B$4:$D$106,3,FALSE)),\"\",VLOOKUP(R13,勤務シフト一覧!$B$4:$D$106,3,FALSE))","v":""},{"$f":"IF(ISERROR(VLOOKUP(S13,勤務シフト一覧!$B$4:$D$106,3,FALSE)),\"\",VLOOKUP(S13,勤務シフト一覧!$B$4:$D$106,3,FALSE))","v":""},{"$f":"IF(ISERROR(VLOOKUP(T13,勤務シフト一覧!$B$4:$D$106,3,FALSE)),\"\",VLOOKUP(T13,勤務シフト一覧!$B$4:$D$106,3,FALSE))","v":""},{"$f":"IF(ISERROR(VLOOKUP(U13,勤務シフト一覧!$B$4:$D$106,3,FALSE)),\"\",VLOOKUP(U13,勤務シフト一覧!$B$4:$D$106,3,FALSE))","v":""},{"$f":"IF(ISERROR(VLOOKUP(V13,勤務シフト一覧!$B$4:$D$106,3,FALSE)),\"\",VLOOKUP(V13,勤務シフト一覧!$B$4:$D$106,3,FALSE))","v":""},{"$f":"IF(ISERROR(VLOOKUP(W13,勤務シフト一覧!$B$4:$D$106,3,FALSE)),\"\",VLOOKUP(W13,勤務シフト一覧!$B$4:$D$106,3,FALSE))","v":""},{"$f":"IF(ISERROR(VLOOKUP(X13,勤務シフト一覧!$B$4:$D$106,3,FALSE)),\"\",VLOOKUP(X13,勤務シフト一覧!$B$4:$D$106,3,FALSE))","v":""},{"$f":"IF(ISERROR(VLOOKUP(Y13,勤務シフト一覧!$B$4:$D$106,3,FALSE)),\"\",VLOOKUP(Y13,勤務シフト一覧!$B$4:$D$106,3,FALSE))","v":""},{"$f":"IF(ISERROR(VLOOKUP(Z13,勤務シフト一覧!$B$4:$D$106,3,FALSE)),\"\",VLOOKUP(Z13,勤務シフト一覧!$B$4:$D$106,3,FALSE))","v":""},{"$f":"IF(ISERROR(VLOOKUP(AA13,勤務シフト一覧!$B$4:$D$106,3,FALSE)),\"\",VLOOKUP(AA13,勤務シフト一覧!$B$4:$D$106,3,FALSE))","v":""},{"$f":"IF(ISERROR(VLOOKUP(AB13,勤務シフト一覧!$B$4:$D$106,3,FALSE)),\"\",VLOOKUP(AB13,勤務シフト一覧!$B$4:$D$106,3,FALSE))","v":""},{"$f":"IF(ISERROR(VLOOKUP(AC13,勤務シフト一覧!$B$4:$D$106,3,FALSE)),\"\",VLOOKUP(AC13,勤務シフト一覧!$B$4:$D$106,3,FALSE))","v":""},{"$f":"IF(ISERROR(VLOOKUP(AD13,勤務シフト一覧!$B$4:$D$106,3,FALSE)),\"\",VLOOKUP(AD13,勤務シフト一覧!$B$4:$D$106,3,FALSE))","v":""},{"$f":"IF(ISERROR(VLOOKUP(AE13,勤務シフト一覧!$B$4:$D$106,3,FALSE)),\"\",VLOOKUP(AE13,勤務シフト一覧!$B$4:$D$106,3,FALSE))","v":""},{"$f":"IF(ISERROR(VLOOKUP(AF13,勤務シフト一覧!$B$4:$D$106,3,FALSE)),\"\",VLOOKUP(AF13,勤務シフト一覧!$B$4:$D$106,3,FALSE))","v":""},{"$f":"IF(ISERROR(VLOOKUP(AG13,勤務シフト一覧!$B$4:$D$106,3,FALSE)),\"\",VLOOKUP(AG13,勤務シフト一覧!$B$4:$D$106,3,FALSE))","v":""},{"$f":"IF(ISERROR(VLOOKUP(AH13,勤務シフト一覧!$B$4:$D$106,3,FALSE)),\"\",VLOOKUP(AH13,勤務シフト一覧!$B$4:$D$106,3,FALSE))","v":""},0,0,0,0,0,0,0,0,0,0,null,null,{"$f":"IF(勤務シフト一覧!$D13<>0,IF(勤務シフト一覧!$B13<> 0,勤務シフト一覧!$B13,\"\"),\"\")","v":"1000"}]
[{"$f":"IF(LEN(職員一覧!B6)<>0,職員一覧!B6,\"\")","v":""},{"$f":"IF(LEN(職員一覧!C6)<>0,職員一覧!C6,\"\")","v":""},"予定",null,null,null,null,null,null,null,null,null,null,null,null,null,null,null,null,null,null,null,null,null,null,null,null,null,null,null,null,null,null,null,{"$f":"IF(ISERROR(VLOOKUP(D14,勤務シフト一覧!$B$4:$C$106,2,FALSE)),\"\",VLOOKUP(D14,勤務シフト一覧!$B$4:$C$106,2,FALSE))","v":""},{"$f":"IF(ISERROR(VLOOKUP(E14,勤務シフト一覧!$B$4:$C$106,2,FALSE)),\"\",VLOOKUP(E14,勤務シフト一覧!$B$4:$C$106,2,FALSE))","v":""},{"$f":"IF(ISERROR(VLOOKUP(F14,勤務シフト一覧!$B$4:$C$106,2,FALSE)),\"\",VLOOKUP(F14,勤務シフト一覧!$B$4:$C$106,2,FALSE))","v":""},{"$f":"IF(ISERROR(VLOOKUP(G14,勤務シフト一覧!$B$4:$C$106,2,FALSE)),\"\",VLOOKUP(G14,勤務シフト一覧!$B$4:$C$106,2,FALSE))","v":""},{"$f":"IF(ISERROR(VLOOKUP(H14,勤務シフト一覧!$B$4:$C$106,2,FALSE)),\"\",VLOOKUP(H14,勤務シフト一覧!$B$4:$C$106,2,FALSE))","v":""},{"$f":"IF(ISERROR(VLOOKUP(I14,勤務シフト一覧!$B$4:$C$106,2,FALSE)),\"\",VLOOKUP(I14,勤務シフト一覧!$B$4:$C$106,2,FALSE))","v":""},{"$f":"IF(ISERROR(VLOOKUP(J14,勤務シフト一覧!$B$4:$C$106,2,FALSE)),\"\",VLOOKUP(J14,勤務シフト一覧!$B$4:$C$106,2,FALSE))","v":""},{"$f":"IF(ISERROR(VLOOKUP(K14,勤務シフト一覧!$B$4:$C$106,2,FALSE)),\"\",VLOOKUP(K14,勤務シフト一覧!$B$4:$C$106,2,FALSE))","v":""},{"$f":"IF(ISERROR(VLOOKUP(L14,勤務シフト一覧!$B$4:$C$106,2,FALSE)),\"\",VLOOKUP(L14,勤務シフト一覧!$B$4:$C$106,2,FALSE))","v":""},{"$f":"IF(ISERROR(VLOOKUP(M14,勤務シフト一覧!$B$4:$C$106,2,FALSE)),\"\",VLOOKUP(M14,勤務シフト一覧!$B$4:$C$106,2,FALSE))","v":""},{"$f":"IF(ISERROR(VLOOKUP(N14,勤務シフト一覧!$B$4:$C$106,2,FALSE)),\"\",VLOOKUP(N14,勤務シフト一覧!$B$4:$C$106,2,FALSE))","v":""},{"$f":"IF(ISERROR(VLOOKUP(O14,勤務シフト一覧!$B$4:$C$106,2,FALSE)),\"\",VLOOKUP(O14,勤務シフト一覧!$B$4:$C$106,2,FALSE))","v":""},{"$f":"IF(ISERROR(VLOOKUP(P14,勤務シフト一覧!$B$4:$C$106,2,FALSE)),\"\",VLOOKUP(P14,勤務シフト一覧!$B$4:$C$106,2,FALSE))","v":""},{"$f":"IF(ISERROR(VLOOKUP(Q14,勤務シフト一覧!$B$4:$C$106,2,FALSE)),\"\",VLOOKUP(Q14,勤務シフト一覧!$B$4:$C$106,2,FALSE))","v":""},{"$f":"IF(ISERROR(VLOOKUP(R14,勤務シフト一覧!$B$4:$C$106,2,FALSE)),\"\",VLOOKUP(R14,勤務シフト一覧!$B$4:$C$106,2,FALSE))","v":""},{"$f":"IF(ISERROR(VLOOKUP(S14,勤務シフト一覧!$B$4:$C$106,2,FALSE)),\"\",VLOOKUP(S14,勤務シフト一覧!$B$4:$C$106,2,FALSE))","v":""},{"$f":"IF(ISERROR(VLOOKUP(T14,勤務シフト一覧!$B$4:$C$106,2,FALSE)),\"\",VLOOKUP(T14,勤務シフト一覧!$B$4:$C$106,2,FALSE))","v":""},{"$f":"IF(ISERROR(VLOOKUP(U14,勤務シフト一覧!$B$4:$C$106,2,FALSE)),\"\",VLOOKUP(U14,勤務シフト一覧!$B$4:$C$106,2,FALSE))","v":""},{"$f":"IF(ISERROR(VLOOKUP(V14,勤務シフト一覧!$B$4:$C$106,2,FALSE)),\"\",VLOOKUP(V14,勤務シフト一覧!$B$4:$C$106,2,FALSE))","v":""},{"$f":"IF(ISERROR(VLOOKUP(W14,勤務シフト一覧!$B$4:$C$106,2,FALSE)),\"\",VLOOKUP(W14,勤務シフト一覧!$B$4:$C$106,2,FALSE))","v":""},{"$f":"IF(ISERROR(VLOOKUP(X14,勤務シフト一覧!$B$4:$C$106,2,FALSE)),\"\",VLOOKUP(X14,勤務シフト一覧!$B$4:$C$106,2,FALSE))","v":""},{"$f":"IF(ISERROR(VLOOKUP(Y14,勤務シフト一覧!$B$4:$C$106,2,FALSE)),\"\",VLOOKUP(Y14,勤務シフト一覧!$B$4:$C$106,2,FALSE))","v":""},{"$f":"IF(ISERROR(VLOOKUP(Z14,勤務シフト一覧!$B$4:$C$106,2,FALSE)),\"\",VLOOKUP(Z14,勤務シフト一覧!$B$4:$C$106,2,FALSE))","v":""},{"$f":"IF(ISERROR(VLOOKUP(AA14,勤務シフト一覧!$B$4:$C$106,2,FALSE)),\"\",VLOOKUP(AA14,勤務シフト一覧!$B$4:$C$106,2,FALSE))","v":""},{"$f":"IF(ISERROR(VLOOKUP(AB14,勤務シフト一覧!$B$4:$C$106,2,FALSE)),\"\",VLOOKUP(AB14,勤務シフト一覧!$B$4:$C$106,2,FALSE))","v":""},{"$f":"IF(ISERROR(VLOOKUP(AC14,勤務シフト一覧!$B$4:$C$106,2,FALSE)),\"\",VLOOKUP(AC14,勤務シフト一覧!$B$4:$C$106,2,FALSE))","v":""},{"$f":"IF(ISERROR(VLOOKUP(AD14,勤務シフト一覧!$B$4:$C$106,2,FALSE)),\"\",VLOOKUP(AD14,勤務シフト一覧!$B$4:$C$106,2,FALSE))","v":""},{"$f":"IF(ISERROR(VLOOKUP(AE14,勤務シフト一覧!$B$4:$C$106,2,FALSE)),\"\",VLOOKUP(AE14,勤務シフト一覧!$B$4:$C$106,2,FALSE))","v":""},{"$f":"IF(ISERROR(VLOOKUP(AF14,勤務シフト一覧!$B$4:$C$106,2,FALSE)),\"\",VLOOKUP(AF14,勤務シフト一覧!$B$4:$C$106,2,FALSE))","v":""},{"$f":"IF(ISERROR(VLOOKUP(AG14,勤務シフト一覧!$B$4:$C$106,2,FALSE)),\"\",VLOOKUP(AG14,勤務シフト一覧!$B$4:$C$106,2,FALSE))","v":""},{"$f":"IF(ISERROR(VLOOKUP(AH14,勤務シフト一覧!$B$4:$C$106,2,FALSE)),\"\",VLOOKUP(AH14,勤務シフト一覧!$B$4:$C$106,2,FALSE))","v":""},null,{"$f":"IF(ISERROR(VLOOKUP(D14,勤務シフト一覧!$B$4:$D$106,3,FALSE)),\"\",VLOOKUP(D14,勤務シフト一覧!$B$4:$D$106,3,FALSE))","v":""},{"$f":"IF(ISERROR(VLOOKUP(E14,勤務シフト一覧!$B$4:$D$106,3,FALSE)),\"\",VLOOKUP(E14,勤務シフト一覧!$B$4:$D$106,3,FALSE))","v":""},{"$f":"IF(ISERROR(VLOOKUP(F14,勤務シフト一覧!$B$4:$D$106,3,FALSE)),\"\",VLOOKUP(F14,勤務シフト一覧!$B$4:$D$106,3,FALSE))","v":""},{"$f":"IF(ISERROR(VLOOKUP(G14,勤務シフト一覧!$B$4:$D$106,3,FALSE)),\"\",VLOOKUP(G14,勤務シフト一覧!$B$4:$D$106,3,FALSE))","v":""},{"$f":"IF(ISERROR(VLOOKUP(H14,勤務シフト一覧!$B$4:$D$106,3,FALSE)),\"\",VLOOKUP(H14,勤務シフト一覧!$B$4:$D$106,3,FALSE))","v":""},{"$f":"IF(ISERROR(VLOOKUP(I14,勤務シフト一覧!$B$4:$D$106,3,FALSE)),\"\",VLOOKUP(I14,勤務シフト一覧!$B$4:$D$106,3,FALSE))","v":""},{"$f":"IF(ISERROR(VLOOKUP(J14,勤務シフト一覧!$B$4:$D$106,3,FALSE)),\"\",VLOOKUP(J14,勤務シフト一覧!$B$4:$D$106,3,FALSE))","v":""},{"$f":"IF(ISERROR(VLOOKUP(K14,勤務シフト一覧!$B$4:$D$106,3,FALSE)),\"\",VLOOKUP(K14,勤務シフト一覧!$B$4:$D$106,3,FALSE))","v":""},{"$f":"IF(ISERROR(VLOOKUP(L14,勤務シフト一覧!$B$4:$D$106,3,FALSE)),\"\",VLOOKUP(L14,勤務シフト一覧!$B$4:$D$106,3,FALSE))","v":""},{"$f":"IF(ISERROR(VLOOKUP(M14,勤務シフト一覧!$B$4:$D$106,3,FALSE)),\"\",VLOOKUP(M14,勤務シフト一覧!$B$4:$D$106,3,FALSE))","v":""},{"$f":"IF(ISERROR(VLOOKUP(N14,勤務シフト一覧!$B$4:$D$106,3,FALSE)),\"\",VLOOKUP(N14,勤務シフト一覧!$B$4:$D$106,3,FALSE))","v":""},{"$f":"IF(ISERROR(VLOOKUP(O14,勤務シフト一覧!$B$4:$D$106,3,FALSE)),\"\",VLOOKUP(O14,勤務シフト一覧!$B$4:$D$106,3,FALSE))","v":""},{"$f":"IF(ISERROR(VLOOKUP(P14,勤務シフト一覧!$B$4:$D$106,3,FALSE)),\"\",VLOOKUP(P14,勤務シフト一覧!$B$4:$D$106,3,FALSE))","v":""},{"$f":"IF(ISERROR(VLOOKUP(Q14,勤務シフト一覧!$B$4:$D$106,3,FALSE)),\"\",VLOOKUP(Q14,勤務シフト一覧!$B$4:$D$106,3,FALSE))","v":""},{"$f":"IF(ISERROR(VLOOKUP(R14,勤務シフト一覧!$B$4:$D$106,3,FALSE)),\"\",VLOOKUP(R14,勤務シフト一覧!$B$4:$D$106,3,FALSE))","v":""},{"$f":"IF(ISERROR(VLOOKUP(S14,勤務シフト一覧!$B$4:$D$106,3,FALSE)),\"\",VLOOKUP(S14,勤務シフト一覧!$B$4:$D$106,3,FALSE))","v":""},{"$f":"IF(ISERROR(VLOOKUP(T14,勤務シフト一覧!$B$4:$D$106,3,FALSE)),\"\",VLOOKUP(T14,勤務シフト一覧!$B$4:$D$106,3,FALSE))","v":""},{"$f":"IF(ISERROR(VLOOKUP(U14,勤務シフト一覧!$B$4:$D$106,3,FALSE)),\"\",VLOOKUP(U14,勤務シフト一覧!$B$4:$D$106,3,FALSE))","v":""},{"$f":"IF(ISERROR(VLOOKUP(V14,勤務シフト一覧!$B$4:$D$106,3,FALSE)),\"\",VLOOKUP(V14,勤務シフト一覧!$B$4:$D$106,3,FALSE))","v":""},{"$f":"IF(ISERROR(VLOOKUP(W14,勤務シフト一覧!$B$4:$D$106,3,FALSE)),\"\",VLOOKUP(W14,勤務シフト一覧!$B$4:$D$106,3,FALSE))","v":""},{"$f":"IF(ISERROR(VLOOKUP(X14,勤務シフト一覧!$B$4:$D$106,3,FALSE)),\"\",VLOOKUP(X14,勤務シフト一覧!$B$4:$D$106,3,FALSE))","v":""},{"$f":"IF(ISERROR(VLOOKUP(Y14,勤務シフト一覧!$B$4:$D$106,3,FALSE)),\"\",VLOOKUP(Y14,勤務シフト一覧!$B$4:$D$106,3,FALSE))","v":""},{"$f":"IF(ISERROR(VLOOKUP(Z14,勤務シフト一覧!$B$4:$D$106,3,FALSE)),\"\",VLOOKUP(Z14,勤務シフト一覧!$B$4:$D$106,3,FALSE))","v":""},{"$f":"IF(ISERROR(VLOOKUP(AA14,勤務シフト一覧!$B$4:$D$106,3,FALSE)),\"\",VLOOKUP(AA14,勤務シフト一覧!$B$4:$D$106,3,FALSE))","v":""},{"$f":"IF(ISERROR(VLOOKUP(AB14,勤務シフト一覧!$B$4:$D$106,3,FALSE)),\"\",VLOOKUP(AB14,勤務シフト一覧!$B$4:$D$106,3,FALSE))","v":""},{"$f":"IF(ISERROR(VLOOKUP(AC14,勤務シフト一覧!$B$4:$D$106,3,FALSE)),\"\",VLOOKUP(AC14,勤務シフト一覧!$B$4:$D$106,3,FALSE))","v":""},{"$f":"IF(ISERROR(VLOOKUP(AD14,勤務シフト一覧!$B$4:$D$106,3,FALSE)),\"\",VLOOKUP(AD14,勤務シフト一覧!$B$4:$D$106,3,FALSE))","v":""},{"$f":"IF(ISERROR(VLOOKUP(AE14,勤務シフト一覧!$B$4:$D$106,3,FALSE)),\"\",VLOOKUP(AE14,勤務シフト一覧!$B$4:$D$106,3,FALSE))","v":""},{"$f":"IF(ISERROR(VLOOKUP(AF14,勤務シフト一覧!$B$4:$D$106,3,FALSE)),\"\",VLOOKUP(AF14,勤務シフト一覧!$B$4:$D$106,3,FALSE))","v":""},{"$f":"IF(ISERROR(VLOOKUP(AG14,勤務シフト一覧!$B$4:$D$106,3,FALSE)),\"\",VLOOKUP(AG14,勤務シフト一覧!$B$4:$D$106,3,FALSE))","v":""},{"$f":"IF(ISERROR(VLOOKUP(AH14,勤務シフト一覧!$B$4:$D$106,3,FALSE)),\"\",VLOOKUP(AH14,勤務シフト一覧!$B$4:$D$106,3,FALSE))","v":""},0,0,0,0,0,0,0,0,0,0,{"$f":"IF(LEN(職員一覧!D6)<>0,職員一覧!D6,\"\")","v":""},null,{"$f":"IF(勤務シフト一覧!$D14<>0,IF(勤務シフト一覧!$B14<> 0,勤務シフト一覧!$B14,\"\"),\"\")","v":"1230"}]
[null,null,"実施",null,null,null,null,null,null,null,null,null,null,null,null,null,null,null,null,null,null,null,null,null,null,null,null,null,null,null,null,null,null,null,{"$f":"IF(ISERROR(VLOOKUP(D15,勤務シフト一覧!$B$4:$C$106,2,FALSE)),\"\",VLOOKUP(D15,勤務シフト一覧!$B$4:$C$106,2,FALSE))","v":""},{"$f":"IF(ISERROR(VLOOKUP(E15,勤務シフト一覧!$B$4:$C$106,2,FALSE)),\"\",VLOOKUP(E15,勤務シフト一覧!$B$4:$C$106,2,FALSE))","v":""},{"$f":"IF(ISERROR(VLOOKUP(F15,勤務シフト一覧!$B$4:$C$106,2,FALSE)),\"\",VLOOKUP(F15,勤務シフト一覧!$B$4:$C$106,2,FALSE))","v":""},{"$f":"IF(ISERROR(VLOOKUP(G15,勤務シフト一覧!$B$4:$C$106,2,FALSE)),\"\",VLOOKUP(G15,勤務シフト一覧!$B$4:$C$106,2,FALSE))","v":""},{"$f":"IF(ISERROR(VLOOKUP(H15,勤務シフト一覧!$B$4:$C$106,2,FALSE)),\"\",VLOOKUP(H15,勤務シフト一覧!$B$4:$C$106,2,FALSE))","v":""},{"$f":"IF(ISERROR(VLOOKUP(I15,勤務シフト一覧!$B$4:$C$106,2,FALSE)),\"\",VLOOKUP(I15,勤務シフト一覧!$B$4:$C$106,2,FALSE))","v":""},{"$f":"IF(ISERROR(VLOOKUP(J15,勤務シフト一覧!$B$4:$C$106,2,FALSE)),\"\",VLOOKUP(J15,勤務シフト一覧!$B$4:$C$106,2,FALSE))","v":""},{"$f":"IF(ISERROR(VLOOKUP(K15,勤務シフト一覧!$B$4:$C$106,2,FALSE)),\"\",VLOOKUP(K15,勤務シフト一覧!$B$4:$C$106,2,FALSE))","v":""},{"$f":"IF(ISERROR(VLOOKUP(L15,勤務シフト一覧!$B$4:$C$106,2,FALSE)),\"\",VLOOKUP(L15,勤務シフト一覧!$B$4:$C$106,2,FALSE))","v":""},{"$f":"IF(ISERROR(VLOOKUP(M15,勤務シフト一覧!$B$4:$C$106,2,FALSE)),\"\",VLOOKUP(M15,勤務シフト一覧!$B$4:$C$106,2,FALSE))","v":""},{"$f":"IF(ISERROR(VLOOKUP(N15,勤務シフト一覧!$B$4:$C$106,2,FALSE)),\"\",VLOOKUP(N15,勤務シフト一覧!$B$4:$C$106,2,FALSE))","v":""},{"$f":"IF(ISERROR(VLOOKUP(O15,勤務シフト一覧!$B$4:$C$106,2,FALSE)),\"\",VLOOKUP(O15,勤務シフト一覧!$B$4:$C$106,2,FALSE))","v":""},{"$f":"IF(ISERROR(VLOOKUP(P15,勤務シフト一覧!$B$4:$C$106,2,FALSE)),\"\",VLOOKUP(P15,勤務シフト一覧!$B$4:$C$106,2,FALSE))","v":""},{"$f":"IF(ISERROR(VLOOKUP(Q15,勤務シフト一覧!$B$4:$C$106,2,FALSE)),\"\",VLOOKUP(Q15,勤務シフト一覧!$B$4:$C$106,2,FALSE))","v":""},{"$f":"IF(ISERROR(VLOOKUP(R15,勤務シフト一覧!$B$4:$C$106,2,FALSE)),\"\",VLOOKUP(R15,勤務シフト一覧!$B$4:$C$106,2,FALSE))","v":""},{"$f":"IF(ISERROR(VLOOKUP(S15,勤務シフト一覧!$B$4:$C$106,2,FALSE)),\"\",VLOOKUP(S15,勤務シフト一覧!$B$4:$C$106,2,FALSE))","v":""},{"$f":"IF(ISERROR(VLOOKUP(T15,勤務シフト一覧!$B$4:$C$106,2,FALSE)),\"\",VLOOKUP(T15,勤務シフト一覧!$B$4:$C$106,2,FALSE))","v":""},{"$f":"IF(ISERROR(VLOOKUP(U15,勤務シフト一覧!$B$4:$C$106,2,FALSE)),\"\",VLOOKUP(U15,勤務シフト一覧!$B$4:$C$106,2,FALSE))","v":""},{"$f":"IF(ISERROR(VLOOKUP(V15,勤務シフト一覧!$B$4:$C$106,2,FALSE)),\"\",VLOOKUP(V15,勤務シフト一覧!$B$4:$C$106,2,FALSE))","v":""},{"$f":"IF(ISERROR(VLOOKUP(W15,勤務シフト一覧!$B$4:$C$106,2,FALSE)),\"\",VLOOKUP(W15,勤務シフト一覧!$B$4:$C$106,2,FALSE))","v":""},{"$f":"IF(ISERROR(VLOOKUP(X15,勤務シフト一覧!$B$4:$C$106,2,FALSE)),\"\",VLOOKUP(X15,勤務シフト一覧!$B$4:$C$106,2,FALSE))","v":""},{"$f":"IF(ISERROR(VLOOKUP(Y15,勤務シフト一覧!$B$4:$C$106,2,FALSE)),\"\",VLOOKUP(Y15,勤務シフト一覧!$B$4:$C$106,2,FALSE))","v":""},{"$f":"IF(ISERROR(VLOOKUP(Z15,勤務シフト一覧!$B$4:$C$106,2,FALSE)),\"\",VLOOKUP(Z15,勤務シフト一覧!$B$4:$C$106,2,FALSE))","v":""},{"$f":"IF(ISERROR(VLOOKUP(AA15,勤務シフト一覧!$B$4:$C$106,2,FALSE)),\"\",VLOOKUP(AA15,勤務シフト一覧!$B$4:$C$106,2,FALSE))","v":""},{"$f":"IF(ISERROR(VLOOKUP(AB15,勤務シフト一覧!$B$4:$C$106,2,FALSE)),\"\",VLOOKUP(AB15,勤務シフト一覧!$B$4:$C$106,2,FALSE))","v":""},{"$f":"IF(ISERROR(VLOOKUP(AC15,勤務シフト一覧!$B$4:$C$106,2,FALSE)),\"\",VLOOKUP(AC15,勤務シフト一覧!$B$4:$C$106,2,FALSE))","v":""},{"$f":"IF(ISERROR(VLOOKUP(AD15,勤務シフト一覧!$B$4:$C$106,2,FALSE)),\"\",VLOOKUP(AD15,勤務シフト一覧!$B$4:$C$106,2,FALSE))","v":""},{"$f":"IF(ISERROR(VLOOKUP(AE15,勤務シフト一覧!$B$4:$C$106,2,FALSE)),\"\",VLOOKUP(AE15,勤務シフト一覧!$B$4:$C$106,2,FALSE))","v":""},{"$f":"IF(ISERROR(VLOOKUP(AF15,勤務シフト一覧!$B$4:$C$106,2,FALSE)),\"\",VLOOKUP(AF15,勤務シフト一覧!$B$4:$C$106,2,FALSE))","v":""},{"$f":"IF(ISERROR(VLOOKUP(AG15,勤務シフト一覧!$B$4:$C$106,2,FALSE)),\"\",VLOOKUP(AG15,勤務シフト一覧!$B$4:$C$106,2,FALSE))","v":""},{"$f":"IF(ISERROR(VLOOKUP(AH15,勤務シフト一覧!$B$4:$C$106,2,FALSE)),\"\",VLOOKUP(AH15,勤務シフト一覧!$B$4:$C$106,2,FALSE))","v":""},null,{"$f":"IF(ISERROR(VLOOKUP(D15,勤務シフト一覧!$B$4:$D$106,3,FALSE)),\"\",VLOOKUP(D15,勤務シフト一覧!$B$4:$D$106,3,FALSE))","v":""},{"$f":"IF(ISERROR(VLOOKUP(E15,勤務シフト一覧!$B$4:$D$106,3,FALSE)),\"\",VLOOKUP(E15,勤務シフト一覧!$B$4:$D$106,3,FALSE))","v":""},{"$f":"IF(ISERROR(VLOOKUP(F15,勤務シフト一覧!$B$4:$D$106,3,FALSE)),\"\",VLOOKUP(F15,勤務シフト一覧!$B$4:$D$106,3,FALSE))","v":""},{"$f":"IF(ISERROR(VLOOKUP(G15,勤務シフト一覧!$B$4:$D$106,3,FALSE)),\"\",VLOOKUP(G15,勤務シフト一覧!$B$4:$D$106,3,FALSE))","v":""},{"$f":"IF(ISERROR(VLOOKUP(H15,勤務シフト一覧!$B$4:$D$106,3,FALSE)),\"\",VLOOKUP(H15,勤務シフト一覧!$B$4:$D$106,3,FALSE))","v":""},{"$f":"IF(ISERROR(VLOOKUP(I15,勤務シフト一覧!$B$4:$D$106,3,FALSE)),\"\",VLOOKUP(I15,勤務シフト一覧!$B$4:$D$106,3,FALSE))","v":""},{"$f":"IF(ISERROR(VLOOKUP(J15,勤務シフト一覧!$B$4:$D$106,3,FALSE)),\"\",VLOOKUP(J15,勤務シフト一覧!$B$4:$D$106,3,FALSE))","v":""},{"$f":"IF(ISERROR(VLOOKUP(K15,勤務シフト一覧!$B$4:$D$106,3,FALSE)),\"\",VLOOKUP(K15,勤務シフト一覧!$B$4:$D$106,3,FALSE))","v":""},{"$f":"IF(ISERROR(VLOOKUP(L15,勤務シフト一覧!$B$4:$D$106,3,FALSE)),\"\",VLOOKUP(L15,勤務シフト一覧!$B$4:$D$106,3,FALSE))","v":""},{"$f":"IF(ISERROR(VLOOKUP(M15,勤務シフト一覧!$B$4:$D$106,3,FALSE)),\"\",VLOOKUP(M15,勤務シフト一覧!$B$4:$D$106,3,FALSE))","v":""},{"$f":"IF(ISERROR(VLOOKUP(N15,勤務シフト一覧!$B$4:$D$106,3,FALSE)),\"\",VLOOKUP(N15,勤務シフト一覧!$B$4:$D$106,3,FALSE))","v":""},{"$f":"IF(ISERROR(VLOOKUP(O15,勤務シフト一覧!$B$4:$D$106,3,FALSE)),\"\",VLOOKUP(O15,勤務シフト一覧!$B$4:$D$106,3,FALSE))","v":""},{"$f":"IF(ISERROR(VLOOKUP(P15,勤務シフト一覧!$B$4:$D$106,3,FALSE)),\"\",VLOOKUP(P15,勤務シフト一覧!$B$4:$D$106,3,FALSE))","v":""},{"$f":"IF(ISERROR(VLOOKUP(Q15,勤務シフト一覧!$B$4:$D$106,3,FALSE)),\"\",VLOOKUP(Q15,勤務シフト一覧!$B$4:$D$106,3,FALSE))","v":""},{"$f":"IF(ISERROR(VLOOKUP(R15,勤務シフト一覧!$B$4:$D$106,3,FALSE)),\"\",VLOOKUP(R15,勤務シフト一覧!$B$4:$D$106,3,FALSE))","v":""},{"$f":"IF(ISERROR(VLOOKUP(S15,勤務シフト一覧!$B$4:$D$106,3,FALSE)),\"\",VLOOKUP(S15,勤務シフト一覧!$B$4:$D$106,3,FALSE))","v":""},{"$f":"IF(ISERROR(VLOOKUP(T15,勤務シフト一覧!$B$4:$D$106,3,FALSE)),\"\",VLOOKUP(T15,勤務シフト一覧!$B$4:$D$106,3,FALSE))","v":""},{"$f":"IF(ISERROR(VLOOKUP(U15,勤務シフト一覧!$B$4:$D$106,3,FALSE)),\"\",VLOOKUP(U15,勤務シフト一覧!$B$4:$D$106,3,FALSE))","v":""},{"$f":"IF(ISERROR(VLOOKUP(V15,勤務シフト一覧!$B$4:$D$106,3,FALSE)),\"\",VLOOKUP(V15,勤務シフト一覧!$B$4:$D$106,3,FALSE))","v":""},{"$f":"IF(ISERROR(VLOOKUP(W15,勤務シフト一覧!$B$4:$D$106,3,FALSE)),\"\",VLOOKUP(W15,勤務シフト一覧!$B$4:$D$106,3,FALSE))","v":""},{"$f":"IF(ISERROR(VLOOKUP(X15,勤務シフト一覧!$B$4:$D$106,3,FALSE)),\"\",VLOOKUP(X15,勤務シフト一覧!$B$4:$D$106,3,FALSE))","v":""},{"$f":"IF(ISERROR(VLOOKUP(Y15,勤務シフト一覧!$B$4:$D$106,3,FALSE)),\"\",VLOOKUP(Y15,勤務シフト一覧!$B$4:$D$106,3,FALSE))","v":""},{"$f":"IF(ISERROR(VLOOKUP(Z15,勤務シフト一覧!$B$4:$D$106,3,FALSE)),\"\",VLOOKUP(Z15,勤務シフト一覧!$B$4:$D$106,3,FALSE))","v":""},{"$f":"IF(ISERROR(VLOOKUP(AA15,勤務シフト一覧!$B$4:$D$106,3,FALSE)),\"\",VLOOKUP(AA15,勤務シフト一覧!$B$4:$D$106,3,FALSE))","v":""},{"$f":"IF(ISERROR(VLOOKUP(AB15,勤務シフト一覧!$B$4:$D$106,3,FALSE)),\"\",VLOOKUP(AB15,勤務シフト一覧!$B$4:$D$106,3,FALSE))","v":""},{"$f":"IF(ISERROR(VLOOKUP(AC15,勤務シフト一覧!$B$4:$D$106,3,FALSE)),\"\",VLOOKUP(AC15,勤務シフト一覧!$B$4:$D$106,3,FALSE))","v":""},{"$f":"IF(ISERROR(VLOOKUP(AD15,勤務シフト一覧!$B$4:$D$106,3,FALSE)),\"\",VLOOKUP(AD15,勤務シフト一覧!$B$4:$D$106,3,FALSE))","v":""},{"$f":"IF(ISERROR(VLOOKUP(AE15,勤務シフト一覧!$B$4:$D$106,3,FALSE)),\"\",VLOOKUP(AE15,勤務シフト一覧!$B$4:$D$106,3,FALSE))","v":""},{"$f":"IF(ISERROR(VLOOKUP(AF15,勤務シフト一覧!$B$4:$D$106,3,FALSE)),\"\",VLOOKUP(AF15,勤務シフト一覧!$B$4:$D$106,3,FALSE))","v":""},{"$f":"IF(ISERROR(VLOOKUP(AG15,勤務シフト一覧!$B$4:$D$106,3,FALSE)),\"\",VLOOKUP(AG15,勤務シフト一覧!$B$4:$D$106,3,FALSE))","v":""},{"$f":"IF(ISERROR(VLOOKUP(AH15,勤務シフト一覧!$B$4:$D$106,3,FALSE)),\"\",VLOOKUP(AH15,勤務シフト一覧!$B$4:$D$106,3,FALSE))","v":""},0,0,0,0,0,0,0,0,0,0,null,null,{"$f":"IF(勤務シフト一覧!$D15<>0,IF(勤務シフト一覧!$B15<> 0,勤務シフト一覧!$B15,\"\"),\"\")","v":"師日当"}]
[{"$f":"IF(LEN(職員一覧!B7)<>0,職員一覧!B7,\"\")","v":""},{"$f":"IF(LEN(職員一覧!C7)<>0,職員一覧!C7,\"\")","v":""},"予定",null,null,null,null,null,null,null,null,null,null,null,null,null,null,null,null,null,null,null,null,null,null,null,null,null,null,null,null,null,null,null,{"$f":"IF(ISERROR(VLOOKUP(D16,勤務シフト一覧!$B$4:$C$106,2,FALSE)),\"\",VLOOKUP(D16,勤務シフト一覧!$B$4:$C$106,2,FALSE))","v":""},{"$f":"IF(ISERROR(VLOOKUP(E16,勤務シフト一覧!$B$4:$C$106,2,FALSE)),\"\",VLOOKUP(E16,勤務シフト一覧!$B$4:$C$106,2,FALSE))","v":""},{"$f":"IF(ISERROR(VLOOKUP(F16,勤務シフト一覧!$B$4:$C$106,2,FALSE)),\"\",VLOOKUP(F16,勤務シフト一覧!$B$4:$C$106,2,FALSE))","v":""},{"$f":"IF(ISERROR(VLOOKUP(G16,勤務シフト一覧!$B$4:$C$106,2,FALSE)),\"\",VLOOKUP(G16,勤務シフト一覧!$B$4:$C$106,2,FALSE))","v":""},{"$f":"IF(ISERROR(VLOOKUP(H16,勤務シフト一覧!$B$4:$C$106,2,FALSE)),\"\",VLOOKUP(H16,勤務シフト一覧!$B$4:$C$106,2,FALSE))","v":""},{"$f":"IF(ISERROR(VLOOKUP(I16,勤務シフト一覧!$B$4:$C$106,2,FALSE)),\"\",VLOOKUP(I16,勤務シフト一覧!$B$4:$C$106,2,FALSE))","v":""},{"$f":"IF(ISERROR(VLOOKUP(J16,勤務シフト一覧!$B$4:$C$106,2,FALSE)),\"\",VLOOKUP(J16,勤務シフト一覧!$B$4:$C$106,2,FALSE))","v":""},{"$f":"IF(ISERROR(VLOOKUP(K16,勤務シフト一覧!$B$4:$C$106,2,FALSE)),\"\",VLOOKUP(K16,勤務シフト一覧!$B$4:$C$106,2,FALSE))","v":""},{"$f":"IF(ISERROR(VLOOKUP(L16,勤務シフト一覧!$B$4:$C$106,2,FALSE)),\"\",VLOOKUP(L16,勤務シフト一覧!$B$4:$C$106,2,FALSE))","v":""},{"$f":"IF(ISERROR(VLOOKUP(M16,勤務シフト一覧!$B$4:$C$106,2,FALSE)),\"\",VLOOKUP(M16,勤務シフト一覧!$B$4:$C$106,2,FALSE))","v":""},{"$f":"IF(ISERROR(VLOOKUP(N16,勤務シフト一覧!$B$4:$C$106,2,FALSE)),\"\",VLOOKUP(N16,勤務シフト一覧!$B$4:$C$106,2,FALSE))","v":""},{"$f":"IF(ISERROR(VLOOKUP(O16,勤務シフト一覧!$B$4:$C$106,2,FALSE)),\"\",VLOOKUP(O16,勤務シフト一覧!$B$4:$C$106,2,FALSE))","v":""},{"$f":"IF(ISERROR(VLOOKUP(P16,勤務シフト一覧!$B$4:$C$106,2,FALSE)),\"\",VLOOKUP(P16,勤務シフト一覧!$B$4:$C$106,2,FALSE))","v":""},{"$f":"IF(ISERROR(VLOOKUP(Q16,勤務シフト一覧!$B$4:$C$106,2,FALSE)),\"\",VLOOKUP(Q16,勤務シフト一覧!$B$4:$C$106,2,FALSE))","v":""},{"$f":"IF(ISERROR(VLOOKUP(R16,勤務シフト一覧!$B$4:$C$106,2,FALSE)),\"\",VLOOKUP(R16,勤務シフト一覧!$B$4:$C$106,2,FALSE))","v":""},{"$f":"IF(ISERROR(VLOOKUP(S16,勤務シフト一覧!$B$4:$C$106,2,FALSE)),\"\",VLOOKUP(S16,勤務シフト一覧!$B$4:$C$106,2,FALSE))","v":""},{"$f":"IF(ISERROR(VLOOKUP(T16,勤務シフト一覧!$B$4:$C$106,2,FALSE)),\"\",VLOOKUP(T16,勤務シフト一覧!$B$4:$C$106,2,FALSE))","v":""},{"$f":"IF(ISERROR(VLOOKUP(U16,勤務シフト一覧!$B$4:$C$106,2,FALSE)),\"\",VLOOKUP(U16,勤務シフト一覧!$B$4:$C$106,2,FALSE))","v":""},{"$f":"IF(ISERROR(VLOOKUP(V16,勤務シフト一覧!$B$4:$C$106,2,FALSE)),\"\",VLOOKUP(V16,勤務シフト一覧!$B$4:$C$106,2,FALSE))","v":""},{"$f":"IF(ISERROR(VLOOKUP(W16,勤務シフト一覧!$B$4:$C$106,2,FALSE)),\"\",VLOOKUP(W16,勤務シフト一覧!$B$4:$C$106,2,FALSE))","v":""},{"$f":"IF(ISERROR(VLOOKUP(X16,勤務シフト一覧!$B$4:$C$106,2,FALSE)),\"\",VLOOKUP(X16,勤務シフト一覧!$B$4:$C$106,2,FALSE))","v":""},{"$f":"IF(ISERROR(VLOOKUP(Y16,勤務シフト一覧!$B$4:$C$106,2,FALSE)),\"\",VLOOKUP(Y16,勤務シフト一覧!$B$4:$C$106,2,FALSE))","v":""},{"$f":"IF(ISERROR(VLOOKUP(Z16,勤務シフト一覧!$B$4:$C$106,2,FALSE)),\"\",VLOOKUP(Z16,勤務シフト一覧!$B$4:$C$106,2,FALSE))","v":""},{"$f":"IF(ISERROR(VLOOKUP(AA16,勤務シフト一覧!$B$4:$C$106,2,FALSE)),\"\",VLOOKUP(AA16,勤務シフト一覧!$B$4:$C$106,2,FALSE))","v":""},{"$f":"IF(ISERROR(VLOOKUP(AB16,勤務シフト一覧!$B$4:$C$106,2,FALSE)),\"\",VLOOKUP(AB16,勤務シフト一覧!$B$4:$C$106,2,FALSE))","v":""},{"$f":"IF(ISERROR(VLOOKUP(AC16,勤務シフト一覧!$B$4:$C$106,2,FALSE)),\"\",VLOOKUP(AC16,勤務シフト一覧!$B$4:$C$106,2,FALSE))","v":""},{"$f":"IF(ISERROR(VLOOKUP(AD16,勤務シフト一覧!$B$4:$C$106,2,FALSE)),\"\",VLOOKUP(AD16,勤務シフト一覧!$B$4:$C$106,2,FALSE))","v":""},{"$f":"IF(ISERROR(VLOOKUP(AE16,勤務シフト一覧!$B$4:$C$106,2,FALSE)),\"\",VLOOKUP(AE16,勤務シフト一覧!$B$4:$C$106,2,FALSE))","v":""},{"$f":"IF(ISERROR(VLOOKUP(AF16,勤務シフト一覧!$B$4:$C$106,2,FALSE)),\"\",VLOOKUP(AF16,勤務シフト一覧!$B$4:$C$106,2,FALSE))","v":""},{"$f":"IF(ISERROR(VLOOKUP(AG16,勤務シフト一覧!$B$4:$C$106,2,FALSE)),\"\",VLOOKUP(AG16,勤務シフト一覧!$B$4:$C$106,2,FALSE))","v":""},{"$f":"IF(ISERROR(VLOOKUP(AH16,勤務シフト一覧!$B$4:$C$106,2,FALSE)),\"\",VLOOKUP(AH16,勤務シフト一覧!$B$4:$C$106,2,FALSE))","v":""},null,{"$f":"IF(ISERROR(VLOOKUP(D16,勤務シフト一覧!$B$4:$D$106,3,FALSE)),\"\",VLOOKUP(D16,勤務シフト一覧!$B$4:$D$106,3,FALSE))","v":""},{"$f":"IF(ISERROR(VLOOKUP(E16,勤務シフト一覧!$B$4:$D$106,3,FALSE)),\"\",VLOOKUP(E16,勤務シフト一覧!$B$4:$D$106,3,FALSE))","v":""},{"$f":"IF(ISERROR(VLOOKUP(F16,勤務シフト一覧!$B$4:$D$106,3,FALSE)),\"\",VLOOKUP(F16,勤務シフト一覧!$B$4:$D$106,3,FALSE))","v":""},{"$f":"IF(ISERROR(VLOOKUP(G16,勤務シフト一覧!$B$4:$D$106,3,FALSE)),\"\",VLOOKUP(G16,勤務シフト一覧!$B$4:$D$106,3,FALSE))","v":""},{"$f":"IF(ISERROR(VLOOKUP(H16,勤務シフト一覧!$B$4:$D$106,3,FALSE)),\"\",VLOOKUP(H16,勤務シフト一覧!$B$4:$D$106,3,FALSE))","v":""},{"$f":"IF(ISERROR(VLOOKUP(I16,勤務シフト一覧!$B$4:$D$106,3,FALSE)),\"\",VLOOKUP(I16,勤務シフト一覧!$B$4:$D$106,3,FALSE))","v":""},{"$f":"IF(ISERROR(VLOOKUP(J16,勤務シフト一覧!$B$4:$D$106,3,FALSE)),\"\",VLOOKUP(J16,勤務シフト一覧!$B$4:$D$106,3,FALSE))","v":""},{"$f":"IF(ISERROR(VLOOKUP(K16,勤務シフト一覧!$B$4:$D$106,3,FALSE)),\"\",VLOOKUP(K16,勤務シフト一覧!$B$4:$D$106,3,FALSE))","v":""},{"$f":"IF(ISERROR(VLOOKUP(L16,勤務シフト一覧!$B$4:$D$106,3,FALSE)),\"\",VLOOKUP(L16,勤務シフト一覧!$B$4:$D$106,3,FALSE))","v":""},{"$f":"IF(ISERROR(VLOOKUP(M16,勤務シフト一覧!$B$4:$D$106,3,FALSE)),\"\",VLOOKUP(M16,勤務シフト一覧!$B$4:$D$106,3,FALSE))","v":""},{"$f":"IF(ISERROR(VLOOKUP(N16,勤務シフト一覧!$B$4:$D$106,3,FALSE)),\"\",VLOOKUP(N16,勤務シフト一覧!$B$4:$D$106,3,FALSE))","v":""},{"$f":"IF(ISERROR(VLOOKUP(O16,勤務シフト一覧!$B$4:$D$106,3,FALSE)),\"\",VLOOKUP(O16,勤務シフト一覧!$B$4:$D$106,3,FALSE))","v":""},{"$f":"IF(ISERROR(VLOOKUP(P16,勤務シフト一覧!$B$4:$D$106,3,FALSE)),\"\",VLOOKUP(P16,勤務シフト一覧!$B$4:$D$106,3,FALSE))","v":""},{"$f":"IF(ISERROR(VLOOKUP(Q16,勤務シフト一覧!$B$4:$D$106,3,FALSE)),\"\",VLOOKUP(Q16,勤務シフト一覧!$B$4:$D$106,3,FALSE))","v":""},{"$f":"IF(ISERROR(VLOOKUP(R16,勤務シフト一覧!$B$4:$D$106,3,FALSE)),\"\",VLOOKUP(R16,勤務シフト一覧!$B$4:$D$106,3,FALSE))","v":""},{"$f":"IF(ISERROR(VLOOKUP(S16,勤務シフト一覧!$B$4:$D$106,3,FALSE)),\"\",VLOOKUP(S16,勤務シフト一覧!$B$4:$D$106,3,FALSE))","v":""},{"$f":"IF(ISERROR(VLOOKUP(T16,勤務シフト一覧!$B$4:$D$106,3,FALSE)),\"\",VLOOKUP(T16,勤務シフト一覧!$B$4:$D$106,3,FALSE))","v":""},{"$f":"IF(ISERROR(VLOOKUP(U16,勤務シフト一覧!$B$4:$D$106,3,FALSE)),\"\",VLOOKUP(U16,勤務シフト一覧!$B$4:$D$106,3,FALSE))","v":""},{"$f":"IF(ISERROR(VLOOKUP(V16,勤務シフト一覧!$B$4:$D$106,3,FALSE)),\"\",VLOOKUP(V16,勤務シフト一覧!$B$4:$D$106,3,FALSE))","v":""},{"$f":"IF(ISERROR(VLOOKUP(W16,勤務シフト一覧!$B$4:$D$106,3,FALSE)),\"\",VLOOKUP(W16,勤務シフト一覧!$B$4:$D$106,3,FALSE))","v":""},{"$f":"IF(ISERROR(VLOOKUP(X16,勤務シフト一覧!$B$4:$D$106,3,FALSE)),\"\",VLOOKUP(X16,勤務シフト一覧!$B$4:$D$106,3,FALSE))","v":""},{"$f":"IF(ISERROR(VLOOKUP(Y16,勤務シフト一覧!$B$4:$D$106,3,FALSE)),\"\",VLOOKUP(Y16,勤務シフト一覧!$B$4:$D$106,3,FALSE))","v":""},{"$f":"IF(ISERROR(VLOOKUP(Z16,勤務シフト一覧!$B$4:$D$106,3,FALSE)),\"\",VLOOKUP(Z16,勤務シフト一覧!$B$4:$D$106,3,FALSE))","v":""},{"$f":"IF(ISERROR(VLOOKUP(AA16,勤務シフト一覧!$B$4:$D$106,3,FALSE)),\"\",VLOOKUP(AA16,勤務シフト一覧!$B$4:$D$106,3,FALSE))","v":""},{"$f":"IF(ISERROR(VLOOKUP(AB16,勤務シフト一覧!$B$4:$D$106,3,FALSE)),\"\",VLOOKUP(AB16,勤務シフト一覧!$B$4:$D$106,3,FALSE))","v":""},{"$f":"IF(ISERROR(VLOOKUP(AC16,勤務シフト一覧!$B$4:$D$106,3,FALSE)),\"\",VLOOKUP(AC16,勤務シフト一覧!$B$4:$D$106,3,FALSE))","v":""},{"$f":"IF(ISERROR(VLOOKUP(AD16,勤務シフト一覧!$B$4:$D$106,3,FALSE)),\"\",VLOOKUP(AD16,勤務シフト一覧!$B$4:$D$106,3,FALSE))","v":""},{"$f":"IF(ISERROR(VLOOKUP(AE16,勤務シフト一覧!$B$4:$D$106,3,FALSE)),\"\",VLOOKUP(AE16,勤務シフト一覧!$B$4:$D$106,3,FALSE))","v":""},{"$f":"IF(ISERROR(VLOOKUP(AF16,勤務シフト一覧!$B$4:$D$106,3,FALSE)),\"\",VLOOKUP(AF16,勤務シフト一覧!$B$4:$D$106,3,FALSE))","v":""},{"$f":"IF(ISERROR(VLOOKUP(AG16,勤務シフト一覧!$B$4:$D$106,3,FALSE)),\"\",VLOOKUP(AG16,勤務シフト一覧!$B$4:$D$106,3,FALSE))","v":""},{"$f":"IF(ISERROR(VLOOKUP(AH16,勤務シフト一覧!$B$4:$D$106,3,FALSE)),\"\",VLOOKUP(AH16,勤務シフト一覧!$B$4:$D$106,3,FALSE))","v":""},0,0,0,0,0,0,0,0,0,0,{"$f":"IF(LEN(職員一覧!D7)<>0,職員一覧!D7,\"\")","v":""},null,{"$f":"IF(勤務シフト一覧!$D16<>0,IF(勤務シフト一覧!$B16<> 0,勤務シフト一覧!$B16,\"\"),\"\")","v":"師直"}]
[null,null,"実施",null,null,null,null,null,null,null,null,null,null,null,null,null,null,null,null,null,null,null,null,null,null,null,null,null,null,null,null,null,null,null,{"$f":"IF(ISERROR(VLOOKUP(D17,勤務シフト一覧!$B$4:$C$106,2,FALSE)),\"\",VLOOKUP(D17,勤務シフト一覧!$B$4:$C$106,2,FALSE))","v":""},{"$f":"IF(ISERROR(VLOOKUP(E17,勤務シフト一覧!$B$4:$C$106,2,FALSE)),\"\",VLOOKUP(E17,勤務シフト一覧!$B$4:$C$106,2,FALSE))","v":""},{"$f":"IF(ISERROR(VLOOKUP(F17,勤務シフト一覧!$B$4:$C$106,2,FALSE)),\"\",VLOOKUP(F17,勤務シフト一覧!$B$4:$C$106,2,FALSE))","v":""},{"$f":"IF(ISERROR(VLOOKUP(G17,勤務シフト一覧!$B$4:$C$106,2,FALSE)),\"\",VLOOKUP(G17,勤務シフト一覧!$B$4:$C$106,2,FALSE))","v":""},{"$f":"IF(ISERROR(VLOOKUP(H17,勤務シフト一覧!$B$4:$C$106,2,FALSE)),\"\",VLOOKUP(H17,勤務シフト一覧!$B$4:$C$106,2,FALSE))","v":""},{"$f":"IF(ISERROR(VLOOKUP(I17,勤務シフト一覧!$B$4:$C$106,2,FALSE)),\"\",VLOOKUP(I17,勤務シフト一覧!$B$4:$C$106,2,FALSE))","v":""},{"$f":"IF(ISERROR(VLOOKUP(J17,勤務シフト一覧!$B$4:$C$106,2,FALSE)),\"\",VLOOKUP(J17,勤務シフト一覧!$B$4:$C$106,2,FALSE))","v":""},{"$f":"IF(ISERROR(VLOOKUP(K17,勤務シフト一覧!$B$4:$C$106,2,FALSE)),\"\",VLOOKUP(K17,勤務シフト一覧!$B$4:$C$106,2,FALSE))","v":""},{"$f":"IF(ISERROR(VLOOKUP(L17,勤務シフト一覧!$B$4:$C$106,2,FALSE)),\"\",VLOOKUP(L17,勤務シフト一覧!$B$4:$C$106,2,FALSE))","v":""},{"$f":"IF(ISERROR(VLOOKUP(M17,勤務シフト一覧!$B$4:$C$106,2,FALSE)),\"\",VLOOKUP(M17,勤務シフト一覧!$B$4:$C$106,2,FALSE))","v":""},{"$f":"IF(ISERROR(VLOOKUP(N17,勤務シフト一覧!$B$4:$C$106,2,FALSE)),\"\",VLOOKUP(N17,勤務シフト一覧!$B$4:$C$106,2,FALSE))","v":""},{"$f":"IF(ISERROR(VLOOKUP(O17,勤務シフト一覧!$B$4:$C$106,2,FALSE)),\"\",VLOOKUP(O17,勤務シフト一覧!$B$4:$C$106,2,FALSE))","v":""},{"$f":"IF(ISERROR(VLOOKUP(P17,勤務シフト一覧!$B$4:$C$106,2,FALSE)),\"\",VLOOKUP(P17,勤務シフト一覧!$B$4:$C$106,2,FALSE))","v":""},{"$f":"IF(ISERROR(VLOOKUP(Q17,勤務シフト一覧!$B$4:$C$106,2,FALSE)),\"\",VLOOKUP(Q17,勤務シフト一覧!$B$4:$C$106,2,FALSE))","v":""},{"$f":"IF(ISERROR(VLOOKUP(R17,勤務シフト一覧!$B$4:$C$106,2,FALSE)),\"\",VLOOKUP(R17,勤務シフト一覧!$B$4:$C$106,2,FALSE))","v":""},{"$f":"IF(ISERROR(VLOOKUP(S17,勤務シフト一覧!$B$4:$C$106,2,FALSE)),\"\",VLOOKUP(S17,勤務シフト一覧!$B$4:$C$106,2,FALSE))","v":""},{"$f":"IF(ISERROR(VLOOKUP(T17,勤務シフト一覧!$B$4:$C$106,2,FALSE)),\"\",VLOOKUP(T17,勤務シフト一覧!$B$4:$C$106,2,FALSE))","v":""},{"$f":"IF(ISERROR(VLOOKUP(U17,勤務シフト一覧!$B$4:$C$106,2,FALSE)),\"\",VLOOKUP(U17,勤務シフト一覧!$B$4:$C$106,2,FALSE))","v":""},{"$f":"IF(ISERROR(VLOOKUP(V17,勤務シフト一覧!$B$4:$C$106,2,FALSE)),\"\",VLOOKUP(V17,勤務シフト一覧!$B$4:$C$106,2,FALSE))","v":""},{"$f":"IF(ISERROR(VLOOKUP(W17,勤務シフト一覧!$B$4:$C$106,2,FALSE)),\"\",VLOOKUP(W17,勤務シフト一覧!$B$4:$C$106,2,FALSE))","v":""},{"$f":"IF(ISERROR(VLOOKUP(X17,勤務シフト一覧!$B$4:$C$106,2,FALSE)),\"\",VLOOKUP(X17,勤務シフト一覧!$B$4:$C$106,2,FALSE))","v":""},{"$f":"IF(ISERROR(VLOOKUP(Y17,勤務シフト一覧!$B$4:$C$106,2,FALSE)),\"\",VLOOKUP(Y17,勤務シフト一覧!$B$4:$C$106,2,FALSE))","v":""},{"$f":"IF(ISERROR(VLOOKUP(Z17,勤務シフト一覧!$B$4:$C$106,2,FALSE)),\"\",VLOOKUP(Z17,勤務シフト一覧!$B$4:$C$106,2,FALSE))","v":""},{"$f":"IF(ISERROR(VLOOKUP(AA17,勤務シフト一覧!$B$4:$C$106,2,FALSE)),\"\",VLOOKUP(AA17,勤務シフト一覧!$B$4:$C$106,2,FALSE))","v":""},{"$f":"IF(ISERROR(VLOOKUP(AB17,勤務シフト一覧!$B$4:$C$106,2,FALSE)),\"\",VLOOKUP(AB17,勤務シフト一覧!$B$4:$C$106,2,FALSE))","v":""},{"$f":"IF(ISERROR(VLOOKUP(AC17,勤務シフト一覧!$B$4:$C$106,2,FALSE)),\"\",VLOOKUP(AC17,勤務シフト一覧!$B$4:$C$106,2,FALSE))","v":""},{"$f":"IF(ISERROR(VLOOKUP(AD17,勤務シフト一覧!$B$4:$C$106,2,FALSE)),\"\",VLOOKUP(AD17,勤務シフト一覧!$B$4:$C$106,2,FALSE))","v":""},{"$f":"IF(ISERROR(VLOOKUP(AE17,勤務シフト一覧!$B$4:$C$106,2,FALSE)),\"\",VLOOKUP(AE17,勤務シフト一覧!$B$4:$C$106,2,FALSE))","v":""},{"$f":"IF(ISERROR(VLOOKUP(AF17,勤務シフト一覧!$B$4:$C$106,2,FALSE)),\"\",VLOOKUP(AF17,勤務シフト一覧!$B$4:$C$106,2,FALSE))","v":""},{"$f":"IF(ISERROR(VLOOKUP(AG17,勤務シフト一覧!$B$4:$C$106,2,FALSE)),\"\",VLOOKUP(AG17,勤務シフト一覧!$B$4:$C$106,2,FALSE))","v":""},{"$f":"IF(ISERROR(VLOOKUP(AH17,勤務シフト一覧!$B$4:$C$106,2,FALSE)),\"\",VLOOKUP(AH17,勤務シフト一覧!$B$4:$C$106,2,FALSE))","v":""},null,{"$f":"IF(ISERROR(VLOOKUP(D17,勤務シフト一覧!$B$4:$D$106,3,FALSE)),\"\",VLOOKUP(D17,勤務シフト一覧!$B$4:$D$106,3,FALSE))","v":""},{"$f":"IF(ISERROR(VLOOKUP(E17,勤務シフト一覧!$B$4:$D$106,3,FALSE)),\"\",VLOOKUP(E17,勤務シフト一覧!$B$4:$D$106,3,FALSE))","v":""},{"$f":"IF(ISERROR(VLOOKUP(F17,勤務シフト一覧!$B$4:$D$106,3,FALSE)),\"\",VLOOKUP(F17,勤務シフト一覧!$B$4:$D$106,3,FALSE))","v":""},{"$f":"IF(ISERROR(VLOOKUP(G17,勤務シフト一覧!$B$4:$D$106,3,FALSE)),\"\",VLOOKUP(G17,勤務シフト一覧!$B$4:$D$106,3,FALSE))","v":""},{"$f":"IF(ISERROR(VLOOKUP(H17,勤務シフト一覧!$B$4:$D$106,3,FALSE)),\"\",VLOOKUP(H17,勤務シフト一覧!$B$4:$D$106,3,FALSE))","v":""},{"$f":"IF(ISERROR(VLOOKUP(I17,勤務シフト一覧!$B$4:$D$106,3,FALSE)),\"\",VLOOKUP(I17,勤務シフト一覧!$B$4:$D$106,3,FALSE))","v":""},{"$f":"IF(ISERROR(VLOOKUP(J17,勤務シフト一覧!$B$4:$D$106,3,FALSE)),\"\",VLOOKUP(J17,勤務シフト一覧!$B$4:$D$106,3,FALSE))","v":""},{"$f":"IF(ISERROR(VLOOKUP(K17,勤務シフト一覧!$B$4:$D$106,3,FALSE)),\"\",VLOOKUP(K17,勤務シフト一覧!$B$4:$D$106,3,FALSE))","v":""},{"$f":"IF(ISERROR(VLOOKUP(L17,勤務シフト一覧!$B$4:$D$106,3,FALSE)),\"\",VLOOKUP(L17,勤務シフト一覧!$B$4:$D$106,3,FALSE))","v":""},{"$f":"IF(ISERROR(VLOOKUP(M17,勤務シフト一覧!$B$4:$D$106,3,FALSE)),\"\",VLOOKUP(M17,勤務シフト一覧!$B$4:$D$106,3,FALSE))","v":""},{"$f":"IF(ISERROR(VLOOKUP(N17,勤務シフト一覧!$B$4:$D$106,3,FALSE)),\"\",VLOOKUP(N17,勤務シフト一覧!$B$4:$D$106,3,FALSE))","v":""},{"$f":"IF(ISERROR(VLOOKUP(O17,勤務シフト一覧!$B$4:$D$106,3,FALSE)),\"\",VLOOKUP(O17,勤務シフト一覧!$B$4:$D$106,3,FALSE))","v":""},{"$f":"IF(ISERROR(VLOOKUP(P17,勤務シフト一覧!$B$4:$D$106,3,FALSE)),\"\",VLOOKUP(P17,勤務シフト一覧!$B$4:$D$106,3,FALSE))","v":""},{"$f":"IF(ISERROR(VLOOKUP(Q17,勤務シフト一覧!$B$4:$D$106,3,FALSE)),\"\",VLOOKUP(Q17,勤務シフト一覧!$B$4:$D$106,3,FALSE))","v":""},{"$f":"IF(ISERROR(VLOOKUP(R17,勤務シフト一覧!$B$4:$D$106,3,FALSE)),\"\",VLOOKUP(R17,勤務シフト一覧!$B$4:$D$106,3,FALSE))","v":""},{"$f":"IF(ISERROR(VLOOKUP(S17,勤務シフト一覧!$B$4:$D$106,3,FALSE)),\"\",VLOOKUP(S17,勤務シフト一覧!$B$4:$D$106,3,FALSE))","v":""},{"$f":"IF(ISERROR(VLOOKUP(T17,勤務シフト一覧!$B$4:$D$106,3,FALSE)),\"\",VLOOKUP(T17,勤務シフト一覧!$B$4:$D$106,3,FALSE))","v":""},{"$f":"IF(ISERROR(VLOOKUP(U17,勤務シフト一覧!$B$4:$D$106,3,FALSE)),\"\",VLOOKUP(U17,勤務シフト一覧!$B$4:$D$106,3,FALSE))","v":""},{"$f":"IF(ISERROR(VLOOKUP(V17,勤務シフト一覧!$B$4:$D$106,3,FALSE)),\"\",VLOOKUP(V17,勤務シフト一覧!$B$4:$D$106,3,FALSE))","v":""},{"$f":"IF(ISERROR(VLOOKUP(W17,勤務シフト一覧!$B$4:$D$106,3,FALSE)),\"\",VLOOKUP(W17,勤務シフト一覧!$B$4:$D$106,3,FALSE))","v":""},{"$f":"IF(ISERROR(VLOOKUP(X17,勤務シフト一覧!$B$4:$D$106,3,FALSE)),\"\",VLOOKUP(X17,勤務シフト一覧!$B$4:$D$106,3,FALSE))","v":""},{"$f":"IF(ISERROR(VLOOKUP(Y17,勤務シフト一覧!$B$4:$D$106,3,FALSE)),\"\",VLOOKUP(Y17,勤務シフト一覧!$B$4:$D$106,3,FALSE))","v":""},{"$f":"IF(ISERROR(VLOOKUP(Z17,勤務シフト一覧!$B$4:$D$106,3,FALSE)),\"\",VLOOKUP(Z17,勤務シフト一覧!$B$4:$D$106,3,FALSE))","v":""},{"$f":"IF(ISERROR(VLOOKUP(AA17,勤務シフト一覧!$B$4:$D$106,3,FALSE)),\"\",VLOOKUP(AA17,勤務シフト一覧!$B$4:$D$106,3,FALSE))","v":""},{"$f":"IF(ISERROR(VLOOKUP(AB17,勤務シフト一覧!$B$4:$D$106,3,FALSE)),\"\",VLOOKUP(AB17,勤務シフト一覧!$B$4:$D$106,3,FALSE))","v":""},{"$f":"IF(ISERROR(VLOOKUP(AC17,勤務シフト一覧!$B$4:$D$106,3,FALSE)),\"\",VLOOKUP(AC17,勤務シフト一覧!$B$4:$D$106,3,FALSE))","v":""},{"$f":"IF(ISERROR(VLOOKUP(AD17,勤務シフト一覧!$B$4:$D$106,3,FALSE)),\"\",VLOOKUP(AD17,勤務シフト一覧!$B$4:$D$106,3,FALSE))","v":""},{"$f":"IF(ISERROR(VLOOKUP(AE17,勤務シフト一覧!$B$4:$D$106,3,FALSE)),\"\",VLOOKUP(AE17,勤務シフト一覧!$B$4:$D$106,3,FALSE))","v":""},{"$f":"IF(ISERROR(VLOOKUP(AF17,勤務シフト一覧!$B$4:$D$106,3,FALSE)),\"\",VLOOKUP(AF17,勤務シフト一覧!$B$4:$D$106,3,FALSE))","v":""},{"$f":"IF(ISERROR(VLOOKUP(AG17,勤務シフト一覧!$B$4:$D$106,3,FALSE)),\"\",VLOOKUP(AG17,勤務シフト一覧!$B$4:$D$106,3,FALSE))","v":""},{"$f":"IF(ISERROR(VLOOKUP(AH17,勤務シフト一覧!$B$4:$D$106,3,FALSE)),\"\",VLOOKUP(AH17,勤務シフト一覧!$B$4:$D$106,3,FALSE))","v":""},0,0,0,0,0,0,0,0,0,0,null,null,{"$f":"IF(勤務シフト一覧!$D17<>0,IF(勤務シフト一覧!$B17<> 0,勤務シフト一覧!$B17,\"\"),\"\")","v":"日直"}]
[{"$f":"IF(LEN(職員一覧!B8)<>0,職員一覧!B8,\"\")","v":""},{"$f":"IF(LEN(職員一覧!C8)<>0,職員一覧!C8,\"\")","v":""},"予定",null,null,null,null,null,null,null,null,null,null,null,null,null,null,null,null,null,null,null,null,null,null,null,null,null,null,null,null,null,null,null,{"$f":"IF(ISERROR(VLOOKUP(D18,勤務シフト一覧!$B$4:$C$106,2,FALSE)),\"\",VLOOKUP(D18,勤務シフト一覧!$B$4:$C$106,2,FALSE))","v":""},{"$f":"IF(ISERROR(VLOOKUP(E18,勤務シフト一覧!$B$4:$C$106,2,FALSE)),\"\",VLOOKUP(E18,勤務シフト一覧!$B$4:$C$106,2,FALSE))","v":""},{"$f":"IF(ISERROR(VLOOKUP(F18,勤務シフト一覧!$B$4:$C$106,2,FALSE)),\"\",VLOOKUP(F18,勤務シフト一覧!$B$4:$C$106,2,FALSE))","v":""},{"$f":"IF(ISERROR(VLOOKUP(G18,勤務シフト一覧!$B$4:$C$106,2,FALSE)),\"\",VLOOKUP(G18,勤務シフト一覧!$B$4:$C$106,2,FALSE))","v":""},{"$f":"IF(ISERROR(VLOOKUP(H18,勤務シフト一覧!$B$4:$C$106,2,FALSE)),\"\",VLOOKUP(H18,勤務シフト一覧!$B$4:$C$106,2,FALSE))","v":""},{"$f":"IF(ISERROR(VLOOKUP(I18,勤務シフト一覧!$B$4:$C$106,2,FALSE)),\"\",VLOOKUP(I18,勤務シフト一覧!$B$4:$C$106,2,FALSE))","v":""},{"$f":"IF(ISERROR(VLOOKUP(J18,勤務シフト一覧!$B$4:$C$106,2,FALSE)),\"\",VLOOKUP(J18,勤務シフト一覧!$B$4:$C$106,2,FALSE))","v":""},{"$f":"IF(ISERROR(VLOOKUP(K18,勤務シフト一覧!$B$4:$C$106,2,FALSE)),\"\",VLOOKUP(K18,勤務シフト一覧!$B$4:$C$106,2,FALSE))","v":""},{"$f":"IF(ISERROR(VLOOKUP(L18,勤務シフト一覧!$B$4:$C$106,2,FALSE)),\"\",VLOOKUP(L18,勤務シフト一覧!$B$4:$C$106,2,FALSE))","v":""},{"$f":"IF(ISERROR(VLOOKUP(M18,勤務シフト一覧!$B$4:$C$106,2,FALSE)),\"\",VLOOKUP(M18,勤務シフト一覧!$B$4:$C$106,2,FALSE))","v":""},{"$f":"IF(ISERROR(VLOOKUP(N18,勤務シフト一覧!$B$4:$C$106,2,FALSE)),\"\",VLOOKUP(N18,勤務シフト一覧!$B$4:$C$106,2,FALSE))","v":""},{"$f":"IF(ISERROR(VLOOKUP(O18,勤務シフト一覧!$B$4:$C$106,2,FALSE)),\"\",VLOOKUP(O18,勤務シフト一覧!$B$4:$C$106,2,FALSE))","v":""},{"$f":"IF(ISERROR(VLOOKUP(P18,勤務シフト一覧!$B$4:$C$106,2,FALSE)),\"\",VLOOKUP(P18,勤務シフト一覧!$B$4:$C$106,2,FALSE))","v":""},{"$f":"IF(ISERROR(VLOOKUP(Q18,勤務シフト一覧!$B$4:$C$106,2,FALSE)),\"\",VLOOKUP(Q18,勤務シフト一覧!$B$4:$C$106,2,FALSE))","v":""},{"$f":"IF(ISERROR(VLOOKUP(R18,勤務シフト一覧!$B$4:$C$106,2,FALSE)),\"\",VLOOKUP(R18,勤務シフト一覧!$B$4:$C$106,2,FALSE))","v":""},{"$f":"IF(ISERROR(VLOOKUP(S18,勤務シフト一覧!$B$4:$C$106,2,FALSE)),\"\",VLOOKUP(S18,勤務シフト一覧!$B$4:$C$106,2,FALSE))","v":""},{"$f":"IF(ISERROR(VLOOKUP(T18,勤務シフト一覧!$B$4:$C$106,2,FALSE)),\"\",VLOOKUP(T18,勤務シフト一覧!$B$4:$C$106,2,FALSE))","v":""},{"$f":"IF(ISERROR(VLOOKUP(U18,勤務シフト一覧!$B$4:$C$106,2,FALSE)),\"\",VLOOKUP(U18,勤務シフト一覧!$B$4:$C$106,2,FALSE))","v":""},{"$f":"IF(ISERROR(VLOOKUP(V18,勤務シフト一覧!$B$4:$C$106,2,FALSE)),\"\",VLOOKUP(V18,勤務シフト一覧!$B$4:$C$106,2,FALSE))","v":""},{"$f":"IF(ISERROR(VLOOKUP(W18,勤務シフト一覧!$B$4:$C$106,2,FALSE)),\"\",VLOOKUP(W18,勤務シフト一覧!$B$4:$C$106,2,FALSE))","v":""},{"$f":"IF(ISERROR(VLOOKUP(X18,勤務シフト一覧!$B$4:$C$106,2,FALSE)),\"\",VLOOKUP(X18,勤務シフト一覧!$B$4:$C$106,2,FALSE))","v":""},{"$f":"IF(ISERROR(VLOOKUP(Y18,勤務シフト一覧!$B$4:$C$106,2,FALSE)),\"\",VLOOKUP(Y18,勤務シフト一覧!$B$4:$C$106,2,FALSE))","v":""},{"$f":"IF(ISERROR(VLOOKUP(Z18,勤務シフト一覧!$B$4:$C$106,2,FALSE)),\"\",VLOOKUP(Z18,勤務シフト一覧!$B$4:$C$106,2,FALSE))","v":""},{"$f":"IF(ISERROR(VLOOKUP(AA18,勤務シフト一覧!$B$4:$C$106,2,FALSE)),\"\",VLOOKUP(AA18,勤務シフト一覧!$B$4:$C$106,2,FALSE))","v":""},{"$f":"IF(ISERROR(VLOOKUP(AB18,勤務シフト一覧!$B$4:$C$106,2,FALSE)),\"\",VLOOKUP(AB18,勤務シフト一覧!$B$4:$C$106,2,FALSE))","v":""},{"$f":"IF(ISERROR(VLOOKUP(AC18,勤務シフト一覧!$B$4:$C$106,2,FALSE)),\"\",VLOOKUP(AC18,勤務シフト一覧!$B$4:$C$106,2,FALSE))","v":""},{"$f":"IF(ISERROR(VLOOKUP(AD18,勤務シフト一覧!$B$4:$C$106,2,FALSE)),\"\",VLOOKUP(AD18,勤務シフト一覧!$B$4:$C$106,2,FALSE))","v":""},{"$f":"IF(ISERROR(VLOOKUP(AE18,勤務シフト一覧!$B$4:$C$106,2,FALSE)),\"\",VLOOKUP(AE18,勤務シフト一覧!$B$4:$C$106,2,FALSE))","v":""},{"$f":"IF(ISERROR(VLOOKUP(AF18,勤務シフト一覧!$B$4:$C$106,2,FALSE)),\"\",VLOOKUP(AF18,勤務シフト一覧!$B$4:$C$106,2,FALSE))","v":""},{"$f":"IF(ISERROR(VLOOKUP(AG18,勤務シフト一覧!$B$4:$C$106,2,FALSE)),\"\",VLOOKUP(AG18,勤務シフト一覧!$B$4:$C$106,2,FALSE))","v":""},{"$f":"IF(ISERROR(VLOOKUP(AH18,勤務シフト一覧!$B$4:$C$106,2,FALSE)),\"\",VLOOKUP(AH18,勤務シフト一覧!$B$4:$C$106,2,FALSE))","v":""},null,{"$f":"IF(ISERROR(VLOOKUP(D18,勤務シフト一覧!$B$4:$D$106,3,FALSE)),\"\",VLOOKUP(D18,勤務シフト一覧!$B$4:$D$106,3,FALSE))","v":""},{"$f":"IF(ISERROR(VLOOKUP(E18,勤務シフト一覧!$B$4:$D$106,3,FALSE)),\"\",VLOOKUP(E18,勤務シフト一覧!$B$4:$D$106,3,FALSE))","v":""},{"$f":"IF(ISERROR(VLOOKUP(F18,勤務シフト一覧!$B$4:$D$106,3,FALSE)),\"\",VLOOKUP(F18,勤務シフト一覧!$B$4:$D$106,3,FALSE))","v":""},{"$f":"IF(ISERROR(VLOOKUP(G18,勤務シフト一覧!$B$4:$D$106,3,FALSE)),\"\",VLOOKUP(G18,勤務シフト一覧!$B$4:$D$106,3,FALSE))","v":""},{"$f":"IF(ISERROR(VLOOKUP(H18,勤務シフト一覧!$B$4:$D$106,3,FALSE)),\"\",VLOOKUP(H18,勤務シフト一覧!$B$4:$D$106,3,FALSE))","v":""},{"$f":"IF(ISERROR(VLOOKUP(I18,勤務シフト一覧!$B$4:$D$106,3,FALSE)),\"\",VLOOKUP(I18,勤務シフト一覧!$B$4:$D$106,3,FALSE))","v":""},{"$f":"IF(ISERROR(VLOOKUP(J18,勤務シフト一覧!$B$4:$D$106,3,FALSE)),\"\",VLOOKUP(J18,勤務シフト一覧!$B$4:$D$106,3,FALSE))","v":""},{"$f":"IF(ISERROR(VLOOKUP(K18,勤務シフト一覧!$B$4:$D$106,3,FALSE)),\"\",VLOOKUP(K18,勤務シフト一覧!$B$4:$D$106,3,FALSE))","v":""},{"$f":"IF(ISERROR(VLOOKUP(L18,勤務シフト一覧!$B$4:$D$106,3,FALSE)),\"\",VLOOKUP(L18,勤務シフト一覧!$B$4:$D$106,3,FALSE))","v":""},{"$f":"IF(ISERROR(VLOOKUP(M18,勤務シフト一覧!$B$4:$D$106,3,FALSE)),\"\",VLOOKUP(M18,勤務シフト一覧!$B$4:$D$106,3,FALSE))","v":""},{"$f":"IF(ISERROR(VLOOKUP(N18,勤務シフト一覧!$B$4:$D$106,3,FALSE)),\"\",VLOOKUP(N18,勤務シフト一覧!$B$4:$D$106,3,FALSE))","v":""},{"$f":"IF(ISERROR(VLOOKUP(O18,勤務シフト一覧!$B$4:$D$106,3,FALSE)),\"\",VLOOKUP(O18,勤務シフト一覧!$B$4:$D$106,3,FALSE))","v":""},{"$f":"IF(ISERROR(VLOOKUP(P18,勤務シフト一覧!$B$4:$D$106,3,FALSE)),\"\",VLOOKUP(P18,勤務シフト一覧!$B$4:$D$106,3,FALSE))","v":""},{"$f":"IF(ISERROR(VLOOKUP(Q18,勤務シフト一覧!$B$4:$D$106,3,FALSE)),\"\",VLOOKUP(Q18,勤務シフト一覧!$B$4:$D$106,3,FALSE))","v":""},{"$f":"IF(ISERROR(VLOOKUP(R18,勤務シフト一覧!$B$4:$D$106,3,FALSE)),\"\",VLOOKUP(R18,勤務シフト一覧!$B$4:$D$106,3,FALSE))","v":""},{"$f":"IF(ISERROR(VLOOKUP(S18,勤務シフト一覧!$B$4:$D$106,3,FALSE)),\"\",VLOOKUP(S18,勤務シフト一覧!$B$4:$D$106,3,FALSE))","v":""},{"$f":"IF(ISERROR(VLOOKUP(T18,勤務シフト一覧!$B$4:$D$106,3,FALSE)),\"\",VLOOKUP(T18,勤務シフト一覧!$B$4:$D$106,3,FALSE))","v":""},{"$f":"IF(ISERROR(VLOOKUP(U18,勤務シフト一覧!$B$4:$D$106,3,FALSE)),\"\",VLOOKUP(U18,勤務シフト一覧!$B$4:$D$106,3,FALSE))","v":""},{"$f":"IF(ISERROR(VLOOKUP(V18,勤務シフト一覧!$B$4:$D$106,3,FALSE)),\"\",VLOOKUP(V18,勤務シフト一覧!$B$4:$D$106,3,FALSE))","v":""},{"$f":"IF(ISERROR(VLOOKUP(W18,勤務シフト一覧!$B$4:$D$106,3,FALSE)),\"\",VLOOKUP(W18,勤務シフト一覧!$B$4:$D$106,3,FALSE))","v":""},{"$f":"IF(ISERROR(VLOOKUP(X18,勤務シフト一覧!$B$4:$D$106,3,FALSE)),\"\",VLOOKUP(X18,勤務シフト一覧!$B$4:$D$106,3,FALSE))","v":""},{"$f":"IF(ISERROR(VLOOKUP(Y18,勤務シフト一覧!$B$4:$D$106,3,FALSE)),\"\",VLOOKUP(Y18,勤務シフト一覧!$B$4:$D$106,3,FALSE))","v":""},{"$f":"IF(ISERROR(VLOOKUP(Z18,勤務シフト一覧!$B$4:$D$106,3,FALSE)),\"\",VLOOKUP(Z18,勤務シフト一覧!$B$4:$D$106,3,FALSE))","v":""},{"$f":"IF(ISERROR(VLOOKUP(AA18,勤務シフト一覧!$B$4:$D$106,3,FALSE)),\"\",VLOOKUP(AA18,勤務シフト一覧!$B$4:$D$106,3,FALSE))","v":""},{"$f":"IF(ISERROR(VLOOKUP(AB18,勤務シフト一覧!$B$4:$D$106,3,FALSE)),\"\",VLOOKUP(AB18,勤務シフト一覧!$B$4:$D$106,3,FALSE))","v":""},{"$f":"IF(ISERROR(VLOOKUP(AC18,勤務シフト一覧!$B$4:$D$106,3,FALSE)),\"\",VLOOKUP(AC18,勤務シフト一覧!$B$4:$D$106,3,FALSE))","v":""},{"$f":"IF(ISERROR(VLOOKUP(AD18,勤務シフト一覧!$B$4:$D$106,3,FALSE)),\"\",VLOOKUP(AD18,勤務シフト一覧!$B$4:$D$106,3,FALSE))","v":""},{"$f":"IF(ISERROR(VLOOKUP(AE18,勤務シフト一覧!$B$4:$D$106,3,FALSE)),\"\",VLOOKUP(AE18,勤務シフト一覧!$B$4:$D$106,3,FALSE))","v":""},{"$f":"IF(ISERROR(VLOOKUP(AF18,勤務シフト一覧!$B$4:$D$106,3,FALSE)),\"\",VLOOKUP(AF18,勤務シフト一覧!$B$4:$D$106,3,FALSE))","v":""},{"$f":"IF(ISERROR(VLOOKUP(AG18,勤務シフト一覧!$B$4:$D$106,3,FALSE)),\"\",VLOOKUP(AG18,勤務シフト一覧!$B$4:$D$106,3,FALSE))","v":""},{"$f":"IF(ISERROR(VLOOKUP(AH18,勤務シフト一覧!$B$4:$D$106,3,FALSE)),\"\",VLOOKUP(AH18,勤務シフト一覧!$B$4:$D$106,3,FALSE))","v":""},0,0,0,0,0,0,0,0,0,0,{"$f":"IF(LEN(職員一覧!D8)<>0,職員一覧!D8,\"\")","v":""},null,{"$f":"IF(勤務シフト一覧!$D18<>0,IF(勤務シフト一覧!$B18<> 0,勤務シフト一覧!$B18,\"\"),\"\")","v":"当直"}]
[null,null,"実施",null,null,null,null,null,null,null,null,null,null,null,null,null,null,null,null,null,null,null,null,null,null,null,null,null,null,null,null,null,null,null,{"$f":"IF(ISERROR(VLOOKUP(D19,勤務シフト一覧!$B$4:$C$106,2,FALSE)),\"\",VLOOKUP(D19,勤務シフト一覧!$B$4:$C$106,2,FALSE))","v":""},{"$f":"IF(ISERROR(VLOOKUP(E19,勤務シフト一覧!$B$4:$C$106,2,FALSE)),\"\",VLOOKUP(E19,勤務シフト一覧!$B$4:$C$106,2,FALSE))","v":""},{"$f":"IF(ISERROR(VLOOKUP(F19,勤務シフト一覧!$B$4:$C$106,2,FALSE)),\"\",VLOOKUP(F19,勤務シフト一覧!$B$4:$C$106,2,FALSE))","v":""},{"$f":"IF(ISERROR(VLOOKUP(G19,勤務シフト一覧!$B$4:$C$106,2,FALSE)),\"\",VLOOKUP(G19,勤務シフト一覧!$B$4:$C$106,2,FALSE))","v":""},{"$f":"IF(ISERROR(VLOOKUP(H19,勤務シフト一覧!$B$4:$C$106,2,FALSE)),\"\",VLOOKUP(H19,勤務シフト一覧!$B$4:$C$106,2,FALSE))","v":""},{"$f":"IF(ISERROR(VLOOKUP(I19,勤務シフト一覧!$B$4:$C$106,2,FALSE)),\"\",VLOOKUP(I19,勤務シフト一覧!$B$4:$C$106,2,FALSE))","v":""},{"$f":"IF(ISERROR(VLOOKUP(J19,勤務シフト一覧!$B$4:$C$106,2,FALSE)),\"\",VLOOKUP(J19,勤務シフト一覧!$B$4:$C$106,2,FALSE))","v":""},{"$f":"IF(ISERROR(VLOOKUP(K19,勤務シフト一覧!$B$4:$C$106,2,FALSE)),\"\",VLOOKUP(K19,勤務シフト一覧!$B$4:$C$106,2,FALSE))","v":""},{"$f":"IF(ISERROR(VLOOKUP(L19,勤務シフト一覧!$B$4:$C$106,2,FALSE)),\"\",VLOOKUP(L19,勤務シフト一覧!$B$4:$C$106,2,FALSE))","v":""},{"$f":"IF(ISERROR(VLOOKUP(M19,勤務シフト一覧!$B$4:$C$106,2,FALSE)),\"\",VLOOKUP(M19,勤務シフト一覧!$B$4:$C$106,2,FALSE))","v":""},{"$f":"IF(ISERROR(VLOOKUP(N19,勤務シフト一覧!$B$4:$C$106,2,FALSE)),\"\",VLOOKUP(N19,勤務シフト一覧!$B$4:$C$106,2,FALSE))","v":""},{"$f":"IF(ISERROR(VLOOKUP(O19,勤務シフト一覧!$B$4:$C$106,2,FALSE)),\"\",VLOOKUP(O19,勤務シフト一覧!$B$4:$C$106,2,FALSE))","v":""},{"$f":"IF(ISERROR(VLOOKUP(P19,勤務シフト一覧!$B$4:$C$106,2,FALSE)),\"\",VLOOKUP(P19,勤務シフト一覧!$B$4:$C$106,2,FALSE))","v":""},{"$f":"IF(ISERROR(VLOOKUP(Q19,勤務シフト一覧!$B$4:$C$106,2,FALSE)),\"\",VLOOKUP(Q19,勤務シフト一覧!$B$4:$C$106,2,FALSE))","v":""},{"$f":"IF(ISERROR(VLOOKUP(R19,勤務シフト一覧!$B$4:$C$106,2,FALSE)),\"\",VLOOKUP(R19,勤務シフト一覧!$B$4:$C$106,2,FALSE))","v":""},{"$f":"IF(ISERROR(VLOOKUP(S19,勤務シフト一覧!$B$4:$C$106,2,FALSE)),\"\",VLOOKUP(S19,勤務シフト一覧!$B$4:$C$106,2,FALSE))","v":""},{"$f":"IF(ISERROR(VLOOKUP(T19,勤務シフト一覧!$B$4:$C$106,2,FALSE)),\"\",VLOOKUP(T19,勤務シフト一覧!$B$4:$C$106,2,FALSE))","v":""},{"$f":"IF(ISERROR(VLOOKUP(U19,勤務シフト一覧!$B$4:$C$106,2,FALSE)),\"\",VLOOKUP(U19,勤務シフト一覧!$B$4:$C$106,2,FALSE))","v":""},{"$f":"IF(ISERROR(VLOOKUP(V19,勤務シフト一覧!$B$4:$C$106,2,FALSE)),\"\",VLOOKUP(V19,勤務シフト一覧!$B$4:$C$106,2,FALSE))","v":""},{"$f":"IF(ISERROR(VLOOKUP(W19,勤務シフト一覧!$B$4:$C$106,2,FALSE)),\"\",VLOOKUP(W19,勤務シフト一覧!$B$4:$C$106,2,FALSE))","v":""},{"$f":"IF(ISERROR(VLOOKUP(X19,勤務シフト一覧!$B$4:$C$106,2,FALSE)),\"\",VLOOKUP(X19,勤務シフト一覧!$B$4:$C$106,2,FALSE))","v":""},{"$f":"IF(ISERROR(VLOOKUP(Y19,勤務シフト一覧!$B$4:$C$106,2,FALSE)),\"\",VLOOKUP(Y19,勤務シフト一覧!$B$4:$C$106,2,FALSE))","v":""},{"$f":"IF(ISERROR(VLOOKUP(Z19,勤務シフト一覧!$B$4:$C$106,2,FALSE)),\"\",VLOOKUP(Z19,勤務シフト一覧!$B$4:$C$106,2,FALSE))","v":""},{"$f":"IF(ISERROR(VLOOKUP(AA19,勤務シフト一覧!$B$4:$C$106,2,FALSE)),\"\",VLOOKUP(AA19,勤務シフト一覧!$B$4:$C$106,2,FALSE))","v":""},{"$f":"IF(ISERROR(VLOOKUP(AB19,勤務シフト一覧!$B$4:$C$106,2,FALSE)),\"\",VLOOKUP(AB19,勤務シフト一覧!$B$4:$C$106,2,FALSE))","v":""},{"$f":"IF(ISERROR(VLOOKUP(AC19,勤務シフト一覧!$B$4:$C$106,2,FALSE)),\"\",VLOOKUP(AC19,勤務シフト一覧!$B$4:$C$106,2,FALSE))","v":""},{"$f":"IF(ISERROR(VLOOKUP(AD19,勤務シフト一覧!$B$4:$C$106,2,FALSE)),\"\",VLOOKUP(AD19,勤務シフト一覧!$B$4:$C$106,2,FALSE))","v":""},{"$f":"IF(ISERROR(VLOOKUP(AE19,勤務シフト一覧!$B$4:$C$106,2,FALSE)),\"\",VLOOKUP(AE19,勤務シフト一覧!$B$4:$C$106,2,FALSE))","v":""},{"$f":"IF(ISERROR(VLOOKUP(AF19,勤務シフト一覧!$B$4:$C$106,2,FALSE)),\"\",VLOOKUP(AF19,勤務シフト一覧!$B$4:$C$106,2,FALSE))","v":""},{"$f":"IF(ISERROR(VLOOKUP(AG19,勤務シフト一覧!$B$4:$C$106,2,FALSE)),\"\",VLOOKUP(AG19,勤務シフト一覧!$B$4:$C$106,2,FALSE))","v":""},{"$f":"IF(ISERROR(VLOOKUP(AH19,勤務シフト一覧!$B$4:$C$106,2,FALSE)),\"\",VLOOKUP(AH19,勤務シフト一覧!$B$4:$C$106,2,FALSE))","v":""},null,{"$f":"IF(ISERROR(VLOOKUP(D19,勤務シフト一覧!$B$4:$D$106,3,FALSE)),\"\",VLOOKUP(D19,勤務シフト一覧!$B$4:$D$106,3,FALSE))","v":""},{"$f":"IF(ISERROR(VLOOKUP(E19,勤務シフト一覧!$B$4:$D$106,3,FALSE)),\"\",VLOOKUP(E19,勤務シフト一覧!$B$4:$D$106,3,FALSE))","v":""},{"$f":"IF(ISERROR(VLOOKUP(F19,勤務シフト一覧!$B$4:$D$106,3,FALSE)),\"\",VLOOKUP(F19,勤務シフト一覧!$B$4:$D$106,3,FALSE))","v":""},{"$f":"IF(ISERROR(VLOOKUP(G19,勤務シフト一覧!$B$4:$D$106,3,FALSE)),\"\",VLOOKUP(G19,勤務シフト一覧!$B$4:$D$106,3,FALSE))","v":""},{"$f":"IF(ISERROR(VLOOKUP(H19,勤務シフト一覧!$B$4:$D$106,3,FALSE)),\"\",VLOOKUP(H19,勤務シフト一覧!$B$4:$D$106,3,FALSE))","v":""},{"$f":"IF(ISERROR(VLOOKUP(I19,勤務シフト一覧!$B$4:$D$106,3,FALSE)),\"\",VLOOKUP(I19,勤務シフト一覧!$B$4:$D$106,3,FALSE))","v":""},{"$f":"IF(ISERROR(VLOOKUP(J19,勤務シフト一覧!$B$4:$D$106,3,FALSE)),\"\",VLOOKUP(J19,勤務シフト一覧!$B$4:$D$106,3,FALSE))","v":""},{"$f":"IF(ISERROR(VLOOKUP(K19,勤務シフト一覧!$B$4:$D$106,3,FALSE)),\"\",VLOOKUP(K19,勤務シフト一覧!$B$4:$D$106,3,FALSE))","v":""},{"$f":"IF(ISERROR(VLOOKUP(L19,勤務シフト一覧!$B$4:$D$106,3,FALSE)),\"\",VLOOKUP(L19,勤務シフト一覧!$B$4:$D$106,3,FALSE))","v":""},{"$f":"IF(ISERROR(VLOOKUP(M19,勤務シフト一覧!$B$4:$D$106,3,FALSE)),\"\",VLOOKUP(M19,勤務シフト一覧!$B$4:$D$106,3,FALSE))","v":""},{"$f":"IF(ISERROR(VLOOKUP(N19,勤務シフト一覧!$B$4:$D$106,3,FALSE)),\"\",VLOOKUP(N19,勤務シフト一覧!$B$4:$D$106,3,FALSE))","v":""},{"$f":"IF(ISERROR(VLOOKUP(O19,勤務シフト一覧!$B$4:$D$106,3,FALSE)),\"\",VLOOKUP(O19,勤務シフト一覧!$B$4:$D$106,3,FALSE))","v":""},{"$f":"IF(ISERROR(VLOOKUP(P19,勤務シフト一覧!$B$4:$D$106,3,FALSE)),\"\",VLOOKUP(P19,勤務シフト一覧!$B$4:$D$106,3,FALSE))","v":""},{"$f":"IF(ISERROR(VLOOKUP(Q19,勤務シフト一覧!$B$4:$D$106,3,FALSE)),\"\",VLOOKUP(Q19,勤務シフト一覧!$B$4:$D$106,3,FALSE))","v":""},{"$f":"IF(ISERROR(VLOOKUP(R19,勤務シフト一覧!$B$4:$D$106,3,FALSE)),\"\",VLOOKUP(R19,勤務シフト一覧!$B$4:$D$106,3,FALSE))","v":""},{"$f":"IF(ISERROR(VLOOKUP(S19,勤務シフト一覧!$B$4:$D$106,3,FALSE)),\"\",VLOOKUP(S19,勤務シフト一覧!$B$4:$D$106,3,FALSE))","v":""},{"$f":"IF(ISERROR(VLOOKUP(T19,勤務シフト一覧!$B$4:$D$106,3,FALSE)),\"\",VLOOKUP(T19,勤務シフト一覧!$B$4:$D$106,3,FALSE))","v":""},{"$f":"IF(ISERROR(VLOOKUP(U19,勤務シフト一覧!$B$4:$D$106,3,FALSE)),\"\",VLOOKUP(U19,勤務シフト一覧!$B$4:$D$106,3,FALSE))","v":""},{"$f":"IF(ISERROR(VLOOKUP(V19,勤務シフト一覧!$B$4:$D$106,3,FALSE)),\"\",VLOOKUP(V19,勤務シフト一覧!$B$4:$D$106,3,FALSE))","v":""},{"$f":"IF(ISERROR(VLOOKUP(W19,勤務シフト一覧!$B$4:$D$106,3,FALSE)),\"\",VLOOKUP(W19,勤務シフト一覧!$B$4:$D$106,3,FALSE))","v":""},{"$f":"IF(ISERROR(VLOOKUP(X19,勤務シフト一覧!$B$4:$D$106,3,FALSE)),\"\",VLOOKUP(X19,勤務シフト一覧!$B$4:$D$106,3,FALSE))","v":""},{"$f":"IF(ISERROR(VLOOKUP(Y19,勤務シフト一覧!$B$4:$D$106,3,FALSE)),\"\",VLOOKUP(Y19,勤務シフト一覧!$B$4:$D$106,3,FALSE))","v":""},{"$f":"IF(ISERROR(VLOOKUP(Z19,勤務シフト一覧!$B$4:$D$106,3,FALSE)),\"\",VLOOKUP(Z19,勤務シフト一覧!$B$4:$D$106,3,FALSE))","v":""},{"$f":"IF(ISERROR(VLOOKUP(AA19,勤務シフト一覧!$B$4:$D$106,3,FALSE)),\"\",VLOOKUP(AA19,勤務シフト一覧!$B$4:$D$106,3,FALSE))","v":""},{"$f":"IF(ISERROR(VLOOKUP(AB19,勤務シフト一覧!$B$4:$D$106,3,FALSE)),\"\",VLOOKUP(AB19,勤務シフト一覧!$B$4:$D$106,3,FALSE))","v":""},{"$f":"IF(ISERROR(VLOOKUP(AC19,勤務シフト一覧!$B$4:$D$106,3,FALSE)),\"\",VLOOKUP(AC19,勤務シフト一覧!$B$4:$D$106,3,FALSE))","v":""},{"$f":"IF(ISERROR(VLOOKUP(AD19,勤務シフト一覧!$B$4:$D$106,3,FALSE)),\"\",VLOOKUP(AD19,勤務シフト一覧!$B$4:$D$106,3,FALSE))","v":""},{"$f":"IF(ISERROR(VLOOKUP(AE19,勤務シフト一覧!$B$4:$D$106,3,FALSE)),\"\",VLOOKUP(AE19,勤務シフト一覧!$B$4:$D$106,3,FALSE))","v":""},{"$f":"IF(ISERROR(VLOOKUP(AF19,勤務シフト一覧!$B$4:$D$106,3,FALSE)),\"\",VLOOKUP(AF19,勤務シフト一覧!$B$4:$D$106,3,FALSE))","v":""},{"$f":"IF(ISERROR(VLOOKUP(AG19,勤務シフト一覧!$B$4:$D$106,3,FALSE)),\"\",VLOOKUP(AG19,勤務シフト一覧!$B$4:$D$106,3,FALSE))","v":""},{"$f":"IF(ISERROR(VLOOKUP(AH19,勤務シフト一覧!$B$4:$D$106,3,FALSE)),\"\",VLOOKUP(AH19,勤務シフト一覧!$B$4:$D$106,3,FALSE))","v":""},0,0,0,0,0,0,0,0,0,0,null,null,{"$f":"IF(勤務シフト一覧!$D19<>0,IF(勤務シフト一覧!$B19<> 0,勤務シフト一覧!$B19,\"\"),\"\")","v":"0730"}]
[{"$f":"IF(LEN(職員一覧!B9)<>0,職員一覧!B9,\"\")","v":""},{"$f":"IF(LEN(職員一覧!C9)<>0,職員一覧!C9,\"\")","v":""},"予定",null,null,null,null,null,null,null,null,null,null,null,null,null,null,null,null,null,null,null,null,null,null,null,null,null,null,null,null,null,null,null,{"$f":"IF(ISERROR(VLOOKUP(D20,勤務シフト一覧!$B$4:$C$106,2,FALSE)),\"\",VLOOKUP(D20,勤務シフト一覧!$B$4:$C$106,2,FALSE))","v":""},{"$f":"IF(ISERROR(VLOOKUP(E20,勤務シフト一覧!$B$4:$C$106,2,FALSE)),\"\",VLOOKUP(E20,勤務シフト一覧!$B$4:$C$106,2,FALSE))","v":""},{"$f":"IF(ISERROR(VLOOKUP(F20,勤務シフト一覧!$B$4:$C$106,2,FALSE)),\"\",VLOOKUP(F20,勤務シフト一覧!$B$4:$C$106,2,FALSE))","v":""},{"$f":"IF(ISERROR(VLOOKUP(G20,勤務シフト一覧!$B$4:$C$106,2,FALSE)),\"\",VLOOKUP(G20,勤務シフト一覧!$B$4:$C$106,2,FALSE))","v":""},{"$f":"IF(ISERROR(VLOOKUP(H20,勤務シフト一覧!$B$4:$C$106,2,FALSE)),\"\",VLOOKUP(H20,勤務シフト一覧!$B$4:$C$106,2,FALSE))","v":""},{"$f":"IF(ISERROR(VLOOKUP(I20,勤務シフト一覧!$B$4:$C$106,2,FALSE)),\"\",VLOOKUP(I20,勤務シフト一覧!$B$4:$C$106,2,FALSE))","v":""},{"$f":"IF(ISERROR(VLOOKUP(J20,勤務シフト一覧!$B$4:$C$106,2,FALSE)),\"\",VLOOKUP(J20,勤務シフト一覧!$B$4:$C$106,2,FALSE))","v":""},{"$f":"IF(ISERROR(VLOOKUP(K20,勤務シフト一覧!$B$4:$C$106,2,FALSE)),\"\",VLOOKUP(K20,勤務シフト一覧!$B$4:$C$106,2,FALSE))","v":""},{"$f":"IF(ISERROR(VLOOKUP(L20,勤務シフト一覧!$B$4:$C$106,2,FALSE)),\"\",VLOOKUP(L20,勤務シフト一覧!$B$4:$C$106,2,FALSE))","v":""},{"$f":"IF(ISERROR(VLOOKUP(M20,勤務シフト一覧!$B$4:$C$106,2,FALSE)),\"\",VLOOKUP(M20,勤務シフト一覧!$B$4:$C$106,2,FALSE))","v":""},{"$f":"IF(ISERROR(VLOOKUP(N20,勤務シフト一覧!$B$4:$C$106,2,FALSE)),\"\",VLOOKUP(N20,勤務シフト一覧!$B$4:$C$106,2,FALSE))","v":""},{"$f":"IF(ISERROR(VLOOKUP(O20,勤務シフト一覧!$B$4:$C$106,2,FALSE)),\"\",VLOOKUP(O20,勤務シフト一覧!$B$4:$C$106,2,FALSE))","v":""},{"$f":"IF(ISERROR(VLOOKUP(P20,勤務シフト一覧!$B$4:$C$106,2,FALSE)),\"\",VLOOKUP(P20,勤務シフト一覧!$B$4:$C$106,2,FALSE))","v":""},{"$f":"IF(ISERROR(VLOOKUP(Q20,勤務シフト一覧!$B$4:$C$106,2,FALSE)),\"\",VLOOKUP(Q20,勤務シフト一覧!$B$4:$C$106,2,FALSE))","v":""},{"$f":"IF(ISERROR(VLOOKUP(R20,勤務シフト一覧!$B$4:$C$106,2,FALSE)),\"\",VLOOKUP(R20,勤務シフト一覧!$B$4:$C$106,2,FALSE))","v":""},{"$f":"IF(ISERROR(VLOOKUP(S20,勤務シフト一覧!$B$4:$C$106,2,FALSE)),\"\",VLOOKUP(S20,勤務シフト一覧!$B$4:$C$106,2,FALSE))","v":""},{"$f":"IF(ISERROR(VLOOKUP(T20,勤務シフト一覧!$B$4:$C$106,2,FALSE)),\"\",VLOOKUP(T20,勤務シフト一覧!$B$4:$C$106,2,FALSE))","v":""},{"$f":"IF(ISERROR(VLOOKUP(U20,勤務シフト一覧!$B$4:$C$106,2,FALSE)),\"\",VLOOKUP(U20,勤務シフト一覧!$B$4:$C$106,2,FALSE))","v":""},{"$f":"IF(ISERROR(VLOOKUP(V20,勤務シフト一覧!$B$4:$C$106,2,FALSE)),\"\",VLOOKUP(V20,勤務シフト一覧!$B$4:$C$106,2,FALSE))","v":""},{"$f":"IF(ISERROR(VLOOKUP(W20,勤務シフト一覧!$B$4:$C$106,2,FALSE)),\"\",VLOOKUP(W20,勤務シフト一覧!$B$4:$C$106,2,FALSE))","v":""},{"$f":"IF(ISERROR(VLOOKUP(X20,勤務シフト一覧!$B$4:$C$106,2,FALSE)),\"\",VLOOKUP(X20,勤務シフト一覧!$B$4:$C$106,2,FALSE))","v":""},{"$f":"IF(ISERROR(VLOOKUP(Y20,勤務シフト一覧!$B$4:$C$106,2,FALSE)),\"\",VLOOKUP(Y20,勤務シフト一覧!$B$4:$C$106,2,FALSE))","v":""},{"$f":"IF(ISERROR(VLOOKUP(Z20,勤務シフト一覧!$B$4:$C$106,2,FALSE)),\"\",VLOOKUP(Z20,勤務シフト一覧!$B$4:$C$106,2,FALSE))","v":""},{"$f":"IF(ISERROR(VLOOKUP(AA20,勤務シフト一覧!$B$4:$C$106,2,FALSE)),\"\",VLOOKUP(AA20,勤務シフト一覧!$B$4:$C$106,2,FALSE))","v":""},{"$f":"IF(ISERROR(VLOOKUP(AB20,勤務シフト一覧!$B$4:$C$106,2,FALSE)),\"\",VLOOKUP(AB20,勤務シフト一覧!$B$4:$C$106,2,FALSE))","v":""},{"$f":"IF(ISERROR(VLOOKUP(AC20,勤務シフト一覧!$B$4:$C$106,2,FALSE)),\"\",VLOOKUP(AC20,勤務シフト一覧!$B$4:$C$106,2,FALSE))","v":""},{"$f":"IF(ISERROR(VLOOKUP(AD20,勤務シフト一覧!$B$4:$C$106,2,FALSE)),\"\",VLOOKUP(AD20,勤務シフト一覧!$B$4:$C$106,2,FALSE))","v":""},{"$f":"IF(ISERROR(VLOOKUP(AE20,勤務シフト一覧!$B$4:$C$106,2,FALSE)),\"\",VLOOKUP(AE20,勤務シフト一覧!$B$4:$C$106,2,FALSE))","v":""},{"$f":"IF(ISERROR(VLOOKUP(AF20,勤務シフト一覧!$B$4:$C$106,2,FALSE)),\"\",VLOOKUP(AF20,勤務シフト一覧!$B$4:$C$106,2,FALSE))","v":""},{"$f":"IF(ISERROR(VLOOKUP(AG20,勤務シフト一覧!$B$4:$C$106,2,FALSE)),\"\",VLOOKUP(AG20,勤務シフト一覧!$B$4:$C$106,2,FALSE))","v":""},{"$f":"IF(ISERROR(VLOOKUP(AH20,勤務シフト一覧!$B$4:$C$106,2,FALSE)),\"\",VLOOKUP(AH20,勤務シフト一覧!$B$4:$C$106,2,FALSE))","v":""},null,{"$f":"IF(ISERROR(VLOOKUP(D20,勤務シフト一覧!$B$4:$D$106,3,FALSE)),\"\",VLOOKUP(D20,勤務シフト一覧!$B$4:$D$106,3,FALSE))","v":""},{"$f":"IF(ISERROR(VLOOKUP(E20,勤務シフト一覧!$B$4:$D$106,3,FALSE)),\"\",VLOOKUP(E20,勤務シフト一覧!$B$4:$D$106,3,FALSE))","v":""},{"$f":"IF(ISERROR(VLOOKUP(F20,勤務シフト一覧!$B$4:$D$106,3,FALSE)),\"\",VLOOKUP(F20,勤務シフト一覧!$B$4:$D$106,3,FALSE))","v":""},{"$f":"IF(ISERROR(VLOOKUP(G20,勤務シフト一覧!$B$4:$D$106,3,FALSE)),\"\",VLOOKUP(G20,勤務シフト一覧!$B$4:$D$106,3,FALSE))","v":""},{"$f":"IF(ISERROR(VLOOKUP(H20,勤務シフト一覧!$B$4:$D$106,3,FALSE)),\"\",VLOOKUP(H20,勤務シフト一覧!$B$4:$D$106,3,FALSE))","v":""},{"$f":"IF(ISERROR(VLOOKUP(I20,勤務シフト一覧!$B$4:$D$106,3,FALSE)),\"\",VLOOKUP(I20,勤務シフト一覧!$B$4:$D$106,3,FALSE))","v":""},{"$f":"IF(ISERROR(VLOOKUP(J20,勤務シフト一覧!$B$4:$D$106,3,FALSE)),\"\",VLOOKUP(J20,勤務シフト一覧!$B$4:$D$106,3,FALSE))","v":""},{"$f":"IF(ISERROR(VLOOKUP(K20,勤務シフト一覧!$B$4:$D$106,3,FALSE)),\"\",VLOOKUP(K20,勤務シフト一覧!$B$4:$D$106,3,FALSE))","v":""},{"$f":"IF(ISERROR(VLOOKUP(L20,勤務シフト一覧!$B$4:$D$106,3,FALSE)),\"\",VLOOKUP(L20,勤務シフト一覧!$B$4:$D$106,3,FALSE))","v":""},{"$f":"IF(ISERROR(VLOOKUP(M20,勤務シフト一覧!$B$4:$D$106,3,FALSE)),\"\",VLOOKUP(M20,勤務シフト一覧!$B$4:$D$106,3,FALSE))","v":""},{"$f":"IF(ISERROR(VLOOKUP(N20,勤務シフト一覧!$B$4:$D$106,3,FALSE)),\"\",VLOOKUP(N20,勤務シフト一覧!$B$4:$D$106,3,FALSE))","v":""},{"$f":"IF(ISERROR(VLOOKUP(O20,勤務シフト一覧!$B$4:$D$106,3,FALSE)),\"\",VLOOKUP(O20,勤務シフト一覧!$B$4:$D$106,3,FALSE))","v":""},{"$f":"IF(ISERROR(VLOOKUP(P20,勤務シフト一覧!$B$4:$D$106,3,FALSE)),\"\",VLOOKUP(P20,勤務シフト一覧!$B$4:$D$106,3,FALSE))","v":""},{"$f":"IF(ISERROR(VLOOKUP(Q20,勤務シフト一覧!$B$4:$D$106,3,FALSE)),\"\",VLOOKUP(Q20,勤務シフト一覧!$B$4:$D$106,3,FALSE))","v":""},{"$f":"IF(ISERROR(VLOOKUP(R20,勤務シフト一覧!$B$4:$D$106,3,FALSE)),\"\",VLOOKUP(R20,勤務シフト一覧!$B$4:$D$106,3,FALSE))","v":""},{"$f":"IF(ISERROR(VLOOKUP(S20,勤務シフト一覧!$B$4:$D$106,3,FALSE)),\"\",VLOOKUP(S20,勤務シフト一覧!$B$4:$D$106,3,FALSE))","v":""},{"$f":"IF(ISERROR(VLOOKUP(T20,勤務シフト一覧!$B$4:$D$106,3,FALSE)),\"\",VLOOKUP(T20,勤務シフト一覧!$B$4:$D$106,3,FALSE))","v":""},{"$f":"IF(ISERROR(VLOOKUP(U20,勤務シフト一覧!$B$4:$D$106,3,FALSE)),\"\",VLOOKUP(U20,勤務シフト一覧!$B$4:$D$106,3,FALSE))","v":""},{"$f":"IF(ISERROR(VLOOKUP(V20,勤務シフト一覧!$B$4:$D$106,3,FALSE)),\"\",VLOOKUP(V20,勤務シフト一覧!$B$4:$D$106,3,FALSE))","v":""},{"$f":"IF(ISERROR(VLOOKUP(W20,勤務シフト一覧!$B$4:$D$106,3,FALSE)),\"\",VLOOKUP(W20,勤務シフト一覧!$B$4:$D$106,3,FALSE))","v":""},{"$f":"IF(ISERROR(VLOOKUP(X20,勤務シフト一覧!$B$4:$D$106,3,FALSE)),\"\",VLOOKUP(X20,勤務シフト一覧!$B$4:$D$106,3,FALSE))","v":""},{"$f":"IF(ISERROR(VLOOKUP(Y20,勤務シフト一覧!$B$4:$D$106,3,FALSE)),\"\",VLOOKUP(Y20,勤務シフト一覧!$B$4:$D$106,3,FALSE))","v":""},{"$f":"IF(ISERROR(VLOOKUP(Z20,勤務シフト一覧!$B$4:$D$106,3,FALSE)),\"\",VLOOKUP(Z20,勤務シフト一覧!$B$4:$D$106,3,FALSE))","v":""},{"$f":"IF(ISERROR(VLOOKUP(AA20,勤務シフト一覧!$B$4:$D$106,3,FALSE)),\"\",VLOOKUP(AA20,勤務シフト一覧!$B$4:$D$106,3,FALSE))","v":""},{"$f":"IF(ISERROR(VLOOKUP(AB20,勤務シフト一覧!$B$4:$D$106,3,FALSE)),\"\",VLOOKUP(AB20,勤務シフト一覧!$B$4:$D$106,3,FALSE))","v":""},{"$f":"IF(ISERROR(VLOOKUP(AC20,勤務シフト一覧!$B$4:$D$106,3,FALSE)),\"\",VLOOKUP(AC20,勤務シフト一覧!$B$4:$D$106,3,FALSE))","v":""},{"$f":"IF(ISERROR(VLOOKUP(AD20,勤務シフト一覧!$B$4:$D$106,3,FALSE)),\"\",VLOOKUP(AD20,勤務シフト一覧!$B$4:$D$106,3,FALSE))","v":""},{"$f":"IF(ISERROR(VLOOKUP(AE20,勤務シフト一覧!$B$4:$D$106,3,FALSE)),\"\",VLOOKUP(AE20,勤務シフト一覧!$B$4:$D$106,3,FALSE))","v":""},{"$f":"IF(ISERROR(VLOOKUP(AF20,勤務シフト一覧!$B$4:$D$106,3,FALSE)),\"\",VLOOKUP(AF20,勤務シフト一覧!$B$4:$D$106,3,FALSE))","v":""},{"$f":"IF(ISERROR(VLOOKUP(AG20,勤務シフト一覧!$B$4:$D$106,3,FALSE)),\"\",VLOOKUP(AG20,勤務シフト一覧!$B$4:$D$106,3,FALSE))","v":""},{"$f":"IF(ISERROR(VLOOKUP(AH20,勤務シフト一覧!$B$4:$D$106,3,FALSE)),\"\",VLOOKUP(AH20,勤務シフト一覧!$B$4:$D$106,3,FALSE))","v":""},0,0,0,0,0,0,0,0,0,0,{"$f":"IF(LEN(職員一覧!D9)<>0,職員一覧!D9,\"\")","v":""},null,{"$f":"IF(勤務シフト一覧!$D20<>0,IF(勤務シフト一覧!$B20<> 0,勤務シフト一覧!$B20,\"\"),\"\")","v":"明け"}]
[null,null,"実施",null,null,null,null,null,null,null,null,null,null,null,null,null,null,null,null,null,null,null,null,null,null,null,null,null,null,null,null,null,null,null,{"$f":"IF(ISERROR(VLOOKUP(D21,勤務シフト一覧!$B$4:$C$106,2,FALSE)),\"\",VLOOKUP(D21,勤務シフト一覧!$B$4:$C$106,2,FALSE))","v":""},{"$f":"IF(ISERROR(VLOOKUP(E21,勤務シフト一覧!$B$4:$C$106,2,FALSE)),\"\",VLOOKUP(E21,勤務シフト一覧!$B$4:$C$106,2,FALSE))","v":""},{"$f":"IF(ISERROR(VLOOKUP(F21,勤務シフト一覧!$B$4:$C$106,2,FALSE)),\"\",VLOOKUP(F21,勤務シフト一覧!$B$4:$C$106,2,FALSE))","v":""},{"$f":"IF(ISERROR(VLOOKUP(G21,勤務シフト一覧!$B$4:$C$106,2,FALSE)),\"\",VLOOKUP(G21,勤務シフト一覧!$B$4:$C$106,2,FALSE))","v":""},{"$f":"IF(ISERROR(VLOOKUP(H21,勤務シフト一覧!$B$4:$C$106,2,FALSE)),\"\",VLOOKUP(H21,勤務シフト一覧!$B$4:$C$106,2,FALSE))","v":""},{"$f":"IF(ISERROR(VLOOKUP(I21,勤務シフト一覧!$B$4:$C$106,2,FALSE)),\"\",VLOOKUP(I21,勤務シフト一覧!$B$4:$C$106,2,FALSE))","v":""},{"$f":"IF(ISERROR(VLOOKUP(J21,勤務シフト一覧!$B$4:$C$106,2,FALSE)),\"\",VLOOKUP(J21,勤務シフト一覧!$B$4:$C$106,2,FALSE))","v":""},{"$f":"IF(ISERROR(VLOOKUP(K21,勤務シフト一覧!$B$4:$C$106,2,FALSE)),\"\",VLOOKUP(K21,勤務シフト一覧!$B$4:$C$106,2,FALSE))","v":""},{"$f":"IF(ISERROR(VLOOKUP(L21,勤務シフト一覧!$B$4:$C$106,2,FALSE)),\"\",VLOOKUP(L21,勤務シフト一覧!$B$4:$C$106,2,FALSE))","v":""},{"$f":"IF(ISERROR(VLOOKUP(M21,勤務シフト一覧!$B$4:$C$106,2,FALSE)),\"\",VLOOKUP(M21,勤務シフト一覧!$B$4:$C$106,2,FALSE))","v":""},{"$f":"IF(ISERROR(VLOOKUP(N21,勤務シフト一覧!$B$4:$C$106,2,FALSE)),\"\",VLOOKUP(N21,勤務シフト一覧!$B$4:$C$106,2,FALSE))","v":""},{"$f":"IF(ISERROR(VLOOKUP(O21,勤務シフト一覧!$B$4:$C$106,2,FALSE)),\"\",VLOOKUP(O21,勤務シフト一覧!$B$4:$C$106,2,FALSE))","v":""},{"$f":"IF(ISERROR(VLOOKUP(P21,勤務シフト一覧!$B$4:$C$106,2,FALSE)),\"\",VLOOKUP(P21,勤務シフト一覧!$B$4:$C$106,2,FALSE))","v":""},{"$f":"IF(ISERROR(VLOOKUP(Q21,勤務シフト一覧!$B$4:$C$106,2,FALSE)),\"\",VLOOKUP(Q21,勤務シフト一覧!$B$4:$C$106,2,FALSE))","v":""},{"$f":"IF(ISERROR(VLOOKUP(R21,勤務シフト一覧!$B$4:$C$106,2,FALSE)),\"\",VLOOKUP(R21,勤務シフト一覧!$B$4:$C$106,2,FALSE))","v":""},{"$f":"IF(ISERROR(VLOOKUP(S21,勤務シフト一覧!$B$4:$C$106,2,FALSE)),\"\",VLOOKUP(S21,勤務シフト一覧!$B$4:$C$106,2,FALSE))","v":""},{"$f":"IF(ISERROR(VLOOKUP(T21,勤務シフト一覧!$B$4:$C$106,2,FALSE)),\"\",VLOOKUP(T21,勤務シフト一覧!$B$4:$C$106,2,FALSE))","v":""},{"$f":"IF(ISERROR(VLOOKUP(U21,勤務シフト一覧!$B$4:$C$106,2,FALSE)),\"\",VLOOKUP(U21,勤務シフト一覧!$B$4:$C$106,2,FALSE))","v":""},{"$f":"IF(ISERROR(VLOOKUP(V21,勤務シフト一覧!$B$4:$C$106,2,FALSE)),\"\",VLOOKUP(V21,勤務シフト一覧!$B$4:$C$106,2,FALSE))","v":""},{"$f":"IF(ISERROR(VLOOKUP(W21,勤務シフト一覧!$B$4:$C$106,2,FALSE)),\"\",VLOOKUP(W21,勤務シフト一覧!$B$4:$C$106,2,FALSE))","v":""},{"$f":"IF(ISERROR(VLOOKUP(X21,勤務シフト一覧!$B$4:$C$106,2,FALSE)),\"\",VLOOKUP(X21,勤務シフト一覧!$B$4:$C$106,2,FALSE))","v":""},{"$f":"IF(ISERROR(VLOOKUP(Y21,勤務シフト一覧!$B$4:$C$106,2,FALSE)),\"\",VLOOKUP(Y21,勤務シフト一覧!$B$4:$C$106,2,FALSE))","v":""},{"$f":"IF(ISERROR(VLOOKUP(Z21,勤務シフト一覧!$B$4:$C$106,2,FALSE)),\"\",VLOOKUP(Z21,勤務シフト一覧!$B$4:$C$106,2,FALSE))","v":""},{"$f":"IF(ISERROR(VLOOKUP(AA21,勤務シフト一覧!$B$4:$C$106,2,FALSE)),\"\",VLOOKUP(AA21,勤務シフト一覧!$B$4:$C$106,2,FALSE))","v":""},{"$f":"IF(ISERROR(VLOOKUP(AB21,勤務シフト一覧!$B$4:$C$106,2,FALSE)),\"\",VLOOKUP(AB21,勤務シフト一覧!$B$4:$C$106,2,FALSE))","v":""},{"$f":"IF(ISERROR(VLOOKUP(AC21,勤務シフト一覧!$B$4:$C$106,2,FALSE)),\"\",VLOOKUP(AC21,勤務シフト一覧!$B$4:$C$106,2,FALSE))","v":""},{"$f":"IF(ISERROR(VLOOKUP(AD21,勤務シフト一覧!$B$4:$C$106,2,FALSE)),\"\",VLOOKUP(AD21,勤務シフト一覧!$B$4:$C$106,2,FALSE))","v":""},{"$f":"IF(ISERROR(VLOOKUP(AE21,勤務シフト一覧!$B$4:$C$106,2,FALSE)),\"\",VLOOKUP(AE21,勤務シフト一覧!$B$4:$C$106,2,FALSE))","v":""},{"$f":"IF(ISERROR(VLOOKUP(AF21,勤務シフト一覧!$B$4:$C$106,2,FALSE)),\"\",VLOOKUP(AF21,勤務シフト一覧!$B$4:$C$106,2,FALSE))","v":""},{"$f":"IF(ISERROR(VLOOKUP(AG21,勤務シフト一覧!$B$4:$C$106,2,FALSE)),\"\",VLOOKUP(AG21,勤務シフト一覧!$B$4:$C$106,2,FALSE))","v":""},{"$f":"IF(ISERROR(VLOOKUP(AH21,勤務シフト一覧!$B$4:$C$106,2,FALSE)),\"\",VLOOKUP(AH21,勤務シフト一覧!$B$4:$C$106,2,FALSE))","v":""},null,{"$f":"IF(ISERROR(VLOOKUP(D21,勤務シフト一覧!$B$4:$D$106,3,FALSE)),\"\",VLOOKUP(D21,勤務シフト一覧!$B$4:$D$106,3,FALSE))","v":""},{"$f":"IF(ISERROR(VLOOKUP(E21,勤務シフト一覧!$B$4:$D$106,3,FALSE)),\"\",VLOOKUP(E21,勤務シフト一覧!$B$4:$D$106,3,FALSE))","v":""},{"$f":"IF(ISERROR(VLOOKUP(F21,勤務シフト一覧!$B$4:$D$106,3,FALSE)),\"\",VLOOKUP(F21,勤務シフト一覧!$B$4:$D$106,3,FALSE))","v":""},{"$f":"IF(ISERROR(VLOOKUP(G21,勤務シフト一覧!$B$4:$D$106,3,FALSE)),\"\",VLOOKUP(G21,勤務シフト一覧!$B$4:$D$106,3,FALSE))","v":""},{"$f":"IF(ISERROR(VLOOKUP(H21,勤務シフト一覧!$B$4:$D$106,3,FALSE)),\"\",VLOOKUP(H21,勤務シフト一覧!$B$4:$D$106,3,FALSE))","v":""},{"$f":"IF(ISERROR(VLOOKUP(I21,勤務シフト一覧!$B$4:$D$106,3,FALSE)),\"\",VLOOKUP(I21,勤務シフト一覧!$B$4:$D$106,3,FALSE))","v":""},{"$f":"IF(ISERROR(VLOOKUP(J21,勤務シフト一覧!$B$4:$D$106,3,FALSE)),\"\",VLOOKUP(J21,勤務シフト一覧!$B$4:$D$106,3,FALSE))","v":""},{"$f":"IF(ISERROR(VLOOKUP(K21,勤務シフト一覧!$B$4:$D$106,3,FALSE)),\"\",VLOOKUP(K21,勤務シフト一覧!$B$4:$D$106,3,FALSE))","v":""},{"$f":"IF(ISERROR(VLOOKUP(L21,勤務シフト一覧!$B$4:$D$106,3,FALSE)),\"\",VLOOKUP(L21,勤務シフト一覧!$B$4:$D$106,3,FALSE))","v":""},{"$f":"IF(ISERROR(VLOOKUP(M21,勤務シフト一覧!$B$4:$D$106,3,FALSE)),\"\",VLOOKUP(M21,勤務シフト一覧!$B$4:$D$106,3,FALSE))","v":""},{"$f":"IF(ISERROR(VLOOKUP(N21,勤務シフト一覧!$B$4:$D$106,3,FALSE)),\"\",VLOOKUP(N21,勤務シフト一覧!$B$4:$D$106,3,FALSE))","v":""},{"$f":"IF(ISERROR(VLOOKUP(O21,勤務シフト一覧!$B$4:$D$106,3,FALSE)),\"\",VLOOKUP(O21,勤務シフト一覧!$B$4:$D$106,3,FALSE))","v":""},{"$f":"IF(ISERROR(VLOOKUP(P21,勤務シフト一覧!$B$4:$D$106,3,FALSE)),\"\",VLOOKUP(P21,勤務シフト一覧!$B$4:$D$106,3,FALSE))","v":""},{"$f":"IF(ISERROR(VLOOKUP(Q21,勤務シフト一覧!$B$4:$D$106,3,FALSE)),\"\",VLOOKUP(Q21,勤務シフト一覧!$B$4:$D$106,3,FALSE))","v":""},{"$f":"IF(ISERROR(VLOOKUP(R21,勤務シフト一覧!$B$4:$D$106,3,FALSE)),\"\",VLOOKUP(R21,勤務シフト一覧!$B$4:$D$106,3,FALSE))","v":""},{"$f":"IF(ISERROR(VLOOKUP(S21,勤務シフト一覧!$B$4:$D$106,3,FALSE)),\"\",VLOOKUP(S21,勤務シフト一覧!$B$4:$D$106,3,FALSE))","v":""},{"$f":"IF(ISERROR(VLOOKUP(T21,勤務シフト一覧!$B$4:$D$106,3,FALSE)),\"\",VLOOKUP(T21,勤務シフト一覧!$B$4:$D$106,3,FALSE))","v":""},{"$f":"IF(ISERROR(VLOOKUP(U21,勤務シフト一覧!$B$4:$D$106,3,FALSE)),\"\",VLOOKUP(U21,勤務シフト一覧!$B$4:$D$106,3,FALSE))","v":""},{"$f":"IF(ISERROR(VLOOKUP(V21,勤務シフト一覧!$B$4:$D$106,3,FALSE)),\"\",VLOOKUP(V21,勤務シフト一覧!$B$4:$D$106,3,FALSE))","v":""},{"$f":"IF(ISERROR(VLOOKUP(W21,勤務シフト一覧!$B$4:$D$106,3,FALSE)),\"\",VLOOKUP(W21,勤務シフト一覧!$B$4:$D$106,3,FALSE))","v":""},{"$f":"IF(ISERROR(VLOOKUP(X21,勤務シフト一覧!$B$4:$D$106,3,FALSE)),\"\",VLOOKUP(X21,勤務シフト一覧!$B$4:$D$106,3,FALSE))","v":""},{"$f":"IF(ISERROR(VLOOKUP(Y21,勤務シフト一覧!$B$4:$D$106,3,FALSE)),\"\",VLOOKUP(Y21,勤務シフト一覧!$B$4:$D$106,3,FALSE))","v":""},{"$f":"IF(ISERROR(VLOOKUP(Z21,勤務シフト一覧!$B$4:$D$106,3,FALSE)),\"\",VLOOKUP(Z21,勤務シフト一覧!$B$4:$D$106,3,FALSE))","v":""},{"$f":"IF(ISERROR(VLOOKUP(AA21,勤務シフト一覧!$B$4:$D$106,3,FALSE)),\"\",VLOOKUP(AA21,勤務シフト一覧!$B$4:$D$106,3,FALSE))","v":""},{"$f":"IF(ISERROR(VLOOKUP(AB21,勤務シフト一覧!$B$4:$D$106,3,FALSE)),\"\",VLOOKUP(AB21,勤務シフト一覧!$B$4:$D$106,3,FALSE))","v":""},{"$f":"IF(ISERROR(VLOOKUP(AC21,勤務シフト一覧!$B$4:$D$106,3,FALSE)),\"\",VLOOKUP(AC21,勤務シフト一覧!$B$4:$D$106,3,FALSE))","v":""},{"$f":"IF(ISERROR(VLOOKUP(AD21,勤務シフト一覧!$B$4:$D$106,3,FALSE)),\"\",VLOOKUP(AD21,勤務シフト一覧!$B$4:$D$106,3,FALSE))","v":""},{"$f":"IF(ISERROR(VLOOKUP(AE21,勤務シフト一覧!$B$4:$D$106,3,FALSE)),\"\",VLOOKUP(AE21,勤務シフト一覧!$B$4:$D$106,3,FALSE))","v":""},{"$f":"IF(ISERROR(VLOOKUP(AF21,勤務シフト一覧!$B$4:$D$106,3,FALSE)),\"\",VLOOKUP(AF21,勤務シフト一覧!$B$4:$D$106,3,FALSE))","v":""},{"$f":"IF(ISERROR(VLOOKUP(AG21,勤務シフト一覧!$B$4:$D$106,3,FALSE)),\"\",VLOOKUP(AG21,勤務シフト一覧!$B$4:$D$106,3,FALSE))","v":""},{"$f":"IF(ISERROR(VLOOKUP(AH21,勤務シフト一覧!$B$4:$D$106,3,FALSE)),\"\",VLOOKUP(AH21,勤務シフト一覧!$B$4:$D$106,3,FALSE))","v":""},0,0,0,0,0,0,0,0,0,0,null,null,{"$f":"IF(勤務シフト一覧!$D21<>0,IF(勤務シフト一覧!$B21<> 0,勤務シフト一覧!$B21,\"\"),\"\")","v":"*730"}]
[{"$f":"IF(LEN(職員一覧!B10)<>0,職員一覧!B10,\"\")","v":""},{"$f":"IF(LEN(職員一覧!C10)<>0,職員一覧!C10,\"\")","v":""},"予定",null,null,null,null,null,null,null,null,null,null,null,null,null,null,null,null,null,null,null,null,null,null,null,null,null,null,null,null,null,null,null,{"$f":"IF(ISERROR(VLOOKUP(D22,勤務シフト一覧!$B$4:$C$106,2,FALSE)),\"\",VLOOKUP(D22,勤務シフト一覧!$B$4:$C$106,2,FALSE))","v":""},{"$f":"IF(ISERROR(VLOOKUP(E22,勤務シフト一覧!$B$4:$C$106,2,FALSE)),\"\",VLOOKUP(E22,勤務シフト一覧!$B$4:$C$106,2,FALSE))","v":""},{"$f":"IF(ISERROR(VLOOKUP(F22,勤務シフト一覧!$B$4:$C$106,2,FALSE)),\"\",VLOOKUP(F22,勤務シフト一覧!$B$4:$C$106,2,FALSE))","v":""},{"$f":"IF(ISERROR(VLOOKUP(G22,勤務シフト一覧!$B$4:$C$106,2,FALSE)),\"\",VLOOKUP(G22,勤務シフト一覧!$B$4:$C$106,2,FALSE))","v":""},{"$f":"IF(ISERROR(VLOOKUP(H22,勤務シフト一覧!$B$4:$C$106,2,FALSE)),\"\",VLOOKUP(H22,勤務シフト一覧!$B$4:$C$106,2,FALSE))","v":""},{"$f":"IF(ISERROR(VLOOKUP(I22,勤務シフト一覧!$B$4:$C$106,2,FALSE)),\"\",VLOOKUP(I22,勤務シフト一覧!$B$4:$C$106,2,FALSE))","v":""},{"$f":"IF(ISERROR(VLOOKUP(J22,勤務シフト一覧!$B$4:$C$106,2,FALSE)),\"\",VLOOKUP(J22,勤務シフト一覧!$B$4:$C$106,2,FALSE))","v":""},{"$f":"IF(ISERROR(VLOOKUP(K22,勤務シフト一覧!$B$4:$C$106,2,FALSE)),\"\",VLOOKUP(K22,勤務シフト一覧!$B$4:$C$106,2,FALSE))","v":""},{"$f":"IF(ISERROR(VLOOKUP(L22,勤務シフト一覧!$B$4:$C$106,2,FALSE)),\"\",VLOOKUP(L22,勤務シフト一覧!$B$4:$C$106,2,FALSE))","v":""},{"$f":"IF(ISERROR(VLOOKUP(M22,勤務シフト一覧!$B$4:$C$106,2,FALSE)),\"\",VLOOKUP(M22,勤務シフト一覧!$B$4:$C$106,2,FALSE))","v":""},{"$f":"IF(ISERROR(VLOOKUP(N22,勤務シフト一覧!$B$4:$C$106,2,FALSE)),\"\",VLOOKUP(N22,勤務シフト一覧!$B$4:$C$106,2,FALSE))","v":""},{"$f":"IF(ISERROR(VLOOKUP(O22,勤務シフト一覧!$B$4:$C$106,2,FALSE)),\"\",VLOOKUP(O22,勤務シフト一覧!$B$4:$C$106,2,FALSE))","v":""},{"$f":"IF(ISERROR(VLOOKUP(P22,勤務シフト一覧!$B$4:$C$106,2,FALSE)),\"\",VLOOKUP(P22,勤務シフト一覧!$B$4:$C$106,2,FALSE))","v":""},{"$f":"IF(ISERROR(VLOOKUP(Q22,勤務シフト一覧!$B$4:$C$106,2,FALSE)),\"\",VLOOKUP(Q22,勤務シフト一覧!$B$4:$C$106,2,FALSE))","v":""},{"$f":"IF(ISERROR(VLOOKUP(R22,勤務シフト一覧!$B$4:$C$106,2,FALSE)),\"\",VLOOKUP(R22,勤務シフト一覧!$B$4:$C$106,2,FALSE))","v":""},{"$f":"IF(ISERROR(VLOOKUP(S22,勤務シフト一覧!$B$4:$C$106,2,FALSE)),\"\",VLOOKUP(S22,勤務シフト一覧!$B$4:$C$106,2,FALSE))","v":""},{"$f":"IF(ISERROR(VLOOKUP(T22,勤務シフト一覧!$B$4:$C$106,2,FALSE)),\"\",VLOOKUP(T22,勤務シフト一覧!$B$4:$C$106,2,FALSE))","v":""},{"$f":"IF(ISERROR(VLOOKUP(U22,勤務シフト一覧!$B$4:$C$106,2,FALSE)),\"\",VLOOKUP(U22,勤務シフト一覧!$B$4:$C$106,2,FALSE))","v":""},{"$f":"IF(ISERROR(VLOOKUP(V22,勤務シフト一覧!$B$4:$C$106,2,FALSE)),\"\",VLOOKUP(V22,勤務シフト一覧!$B$4:$C$106,2,FALSE))","v":""},{"$f":"IF(ISERROR(VLOOKUP(W22,勤務シフト一覧!$B$4:$C$106,2,FALSE)),\"\",VLOOKUP(W22,勤務シフト一覧!$B$4:$C$106,2,FALSE))","v":""},{"$f":"IF(ISERROR(VLOOKUP(X22,勤務シフト一覧!$B$4:$C$106,2,FALSE)),\"\",VLOOKUP(X22,勤務シフト一覧!$B$4:$C$106,2,FALSE))","v":""},{"$f":"IF(ISERROR(VLOOKUP(Y22,勤務シフト一覧!$B$4:$C$106,2,FALSE)),\"\",VLOOKUP(Y22,勤務シフト一覧!$B$4:$C$106,2,FALSE))","v":""},{"$f":"IF(ISERROR(VLOOKUP(Z22,勤務シフト一覧!$B$4:$C$106,2,FALSE)),\"\",VLOOKUP(Z22,勤務シフト一覧!$B$4:$C$106,2,FALSE))","v":""},{"$f":"IF(ISERROR(VLOOKUP(AA22,勤務シフト一覧!$B$4:$C$106,2,FALSE)),\"\",VLOOKUP(AA22,勤務シフト一覧!$B$4:$C$106,2,FALSE))","v":""},{"$f":"IF(ISERROR(VLOOKUP(AB22,勤務シフト一覧!$B$4:$C$106,2,FALSE)),\"\",VLOOKUP(AB22,勤務シフト一覧!$B$4:$C$106,2,FALSE))","v":""},{"$f":"IF(ISERROR(VLOOKUP(AC22,勤務シフト一覧!$B$4:$C$106,2,FALSE)),\"\",VLOOKUP(AC22,勤務シフト一覧!$B$4:$C$106,2,FALSE))","v":""},{"$f":"IF(ISERROR(VLOOKUP(AD22,勤務シフト一覧!$B$4:$C$106,2,FALSE)),\"\",VLOOKUP(AD22,勤務シフト一覧!$B$4:$C$106,2,FALSE))","v":""},{"$f":"IF(ISERROR(VLOOKUP(AE22,勤務シフト一覧!$B$4:$C$106,2,FALSE)),\"\",VLOOKUP(AE22,勤務シフト一覧!$B$4:$C$106,2,FALSE))","v":""},{"$f":"IF(ISERROR(VLOOKUP(AF22,勤務シフト一覧!$B$4:$C$106,2,FALSE)),\"\",VLOOKUP(AF22,勤務シフト一覧!$B$4:$C$106,2,FALSE))","v":""},{"$f":"IF(ISERROR(VLOOKUP(AG22,勤務シフト一覧!$B$4:$C$106,2,FALSE)),\"\",VLOOKUP(AG22,勤務シフト一覧!$B$4:$C$106,2,FALSE))","v":""},{"$f":"IF(ISERROR(VLOOKUP(AH22,勤務シフト一覧!$B$4:$C$106,2,FALSE)),\"\",VLOOKUP(AH22,勤務シフト一覧!$B$4:$C$106,2,FALSE))","v":""},null,{"$f":"IF(ISERROR(VLOOKUP(D22,勤務シフト一覧!$B$4:$D$106,3,FALSE)),\"\",VLOOKUP(D22,勤務シフト一覧!$B$4:$D$106,3,FALSE))","v":""},{"$f":"IF(ISERROR(VLOOKUP(E22,勤務シフト一覧!$B$4:$D$106,3,FALSE)),\"\",VLOOKUP(E22,勤務シフト一覧!$B$4:$D$106,3,FALSE))","v":""},{"$f":"IF(ISERROR(VLOOKUP(F22,勤務シフト一覧!$B$4:$D$106,3,FALSE)),\"\",VLOOKUP(F22,勤務シフト一覧!$B$4:$D$106,3,FALSE))","v":""},{"$f":"IF(ISERROR(VLOOKUP(G22,勤務シフト一覧!$B$4:$D$106,3,FALSE)),\"\",VLOOKUP(G22,勤務シフト一覧!$B$4:$D$106,3,FALSE))","v":""},{"$f":"IF(ISERROR(VLOOKUP(H22,勤務シフト一覧!$B$4:$D$106,3,FALSE)),\"\",VLOOKUP(H22,勤務シフト一覧!$B$4:$D$106,3,FALSE))","v":""},{"$f":"IF(ISERROR(VLOOKUP(I22,勤務シフト一覧!$B$4:$D$106,3,FALSE)),\"\",VLOOKUP(I22,勤務シフト一覧!$B$4:$D$106,3,FALSE))","v":""},{"$f":"IF(ISERROR(VLOOKUP(J22,勤務シフト一覧!$B$4:$D$106,3,FALSE)),\"\",VLOOKUP(J22,勤務シフト一覧!$B$4:$D$106,3,FALSE))","v":""},{"$f":"IF(ISERROR(VLOOKUP(K22,勤務シフト一覧!$B$4:$D$106,3,FALSE)),\"\",VLOOKUP(K22,勤務シフト一覧!$B$4:$D$106,3,FALSE))","v":""},{"$f":"IF(ISERROR(VLOOKUP(L22,勤務シフト一覧!$B$4:$D$106,3,FALSE)),\"\",VLOOKUP(L22,勤務シフト一覧!$B$4:$D$106,3,FALSE))","v":""},{"$f":"IF(ISERROR(VLOOKUP(M22,勤務シフト一覧!$B$4:$D$106,3,FALSE)),\"\",VLOOKUP(M22,勤務シフト一覧!$B$4:$D$106,3,FALSE))","v":""},{"$f":"IF(ISERROR(VLOOKUP(N22,勤務シフト一覧!$B$4:$D$106,3,FALSE)),\"\",VLOOKUP(N22,勤務シフト一覧!$B$4:$D$106,3,FALSE))","v":""},{"$f":"IF(ISERROR(VLOOKUP(O22,勤務シフト一覧!$B$4:$D$106,3,FALSE)),\"\",VLOOKUP(O22,勤務シフト一覧!$B$4:$D$106,3,FALSE))","v":""},{"$f":"IF(ISERROR(VLOOKUP(P22,勤務シフト一覧!$B$4:$D$106,3,FALSE)),\"\",VLOOKUP(P22,勤務シフト一覧!$B$4:$D$106,3,FALSE))","v":""},{"$f":"IF(ISERROR(VLOOKUP(Q22,勤務シフト一覧!$B$4:$D$106,3,FALSE)),\"\",VLOOKUP(Q22,勤務シフト一覧!$B$4:$D$106,3,FALSE))","v":""},{"$f":"IF(ISERROR(VLOOKUP(R22,勤務シフト一覧!$B$4:$D$106,3,FALSE)),\"\",VLOOKUP(R22,勤務シフト一覧!$B$4:$D$106,3,FALSE))","v":""},{"$f":"IF(ISERROR(VLOOKUP(S22,勤務シフト一覧!$B$4:$D$106,3,FALSE)),\"\",VLOOKUP(S22,勤務シフト一覧!$B$4:$D$106,3,FALSE))","v":""},{"$f":"IF(ISERROR(VLOOKUP(T22,勤務シフト一覧!$B$4:$D$106,3,FALSE)),\"\",VLOOKUP(T22,勤務シフト一覧!$B$4:$D$106,3,FALSE))","v":""},{"$f":"IF(ISERROR(VLOOKUP(U22,勤務シフト一覧!$B$4:$D$106,3,FALSE)),\"\",VLOOKUP(U22,勤務シフト一覧!$B$4:$D$106,3,FALSE))","v":""},{"$f":"IF(ISERROR(VLOOKUP(V22,勤務シフト一覧!$B$4:$D$106,3,FALSE)),\"\",VLOOKUP(V22,勤務シフト一覧!$B$4:$D$106,3,FALSE))","v":""},{"$f":"IF(ISERROR(VLOOKUP(W22,勤務シフト一覧!$B$4:$D$106,3,FALSE)),\"\",VLOOKUP(W22,勤務シフト一覧!$B$4:$D$106,3,FALSE))","v":""},{"$f":"IF(ISERROR(VLOOKUP(X22,勤務シフト一覧!$B$4:$D$106,3,FALSE)),\"\",VLOOKUP(X22,勤務シフト一覧!$B$4:$D$106,3,FALSE))","v":""},{"$f":"IF(ISERROR(VLOOKUP(Y22,勤務シフト一覧!$B$4:$D$106,3,FALSE)),\"\",VLOOKUP(Y22,勤務シフト一覧!$B$4:$D$106,3,FALSE))","v":""},{"$f":"IF(ISERROR(VLOOKUP(Z22,勤務シフト一覧!$B$4:$D$106,3,FALSE)),\"\",VLOOKUP(Z22,勤務シフト一覧!$B$4:$D$106,3,FALSE))","v":""},{"$f":"IF(ISERROR(VLOOKUP(AA22,勤務シフト一覧!$B$4:$D$106,3,FALSE)),\"\",VLOOKUP(AA22,勤務シフト一覧!$B$4:$D$106,3,FALSE))","v":""},{"$f":"IF(ISERROR(VLOOKUP(AB22,勤務シフト一覧!$B$4:$D$106,3,FALSE)),\"\",VLOOKUP(AB22,勤務シフト一覧!$B$4:$D$106,3,FALSE))","v":""},{"$f":"IF(ISERROR(VLOOKUP(AC22,勤務シフト一覧!$B$4:$D$106,3,FALSE)),\"\",VLOOKUP(AC22,勤務シフト一覧!$B$4:$D$106,3,FALSE))","v":""},{"$f":"IF(ISERROR(VLOOKUP(AD22,勤務シフト一覧!$B$4:$D$106,3,FALSE)),\"\",VLOOKUP(AD22,勤務シフト一覧!$B$4:$D$106,3,FALSE))","v":""},{"$f":"IF(ISERROR(VLOOKUP(AE22,勤務シフト一覧!$B$4:$D$106,3,FALSE)),\"\",VLOOKUP(AE22,勤務シフト一覧!$B$4:$D$106,3,FALSE))","v":""},{"$f":"IF(ISERROR(VLOOKUP(AF22,勤務シフト一覧!$B$4:$D$106,3,FALSE)),\"\",VLOOKUP(AF22,勤務シフト一覧!$B$4:$D$106,3,FALSE))","v":""},{"$f":"IF(ISERROR(VLOOKUP(AG22,勤務シフト一覧!$B$4:$D$106,3,FALSE)),\"\",VLOOKUP(AG22,勤務シフト一覧!$B$4:$D$106,3,FALSE))","v":""},{"$f":"IF(ISERROR(VLOOKUP(AH22,勤務シフト一覧!$B$4:$D$106,3,FALSE)),\"\",VLOOKUP(AH22,勤務シフト一覧!$B$4:$D$106,3,FALSE))","v":""},0,0,0,0,0,0,0,0,0,0,{"$f":"IF(LEN(職員一覧!D10)<>0,職員一覧!D10,\"\")","v":""},null,{"$f":"IF(勤務シフト一覧!$D22<>0,IF(勤務シフト一覧!$B22<> 0,勤務シフト一覧!$B22,\"\"),\"\")","v":"0830"}]
[null,null,"実施",null,null,null,null,null,null,null,null,null,null,null,null,null,null,null,null,null,null,null,null,null,null,null,null,null,null,null,null,null,null,null,{"$f":"IF(ISERROR(VLOOKUP(D23,勤務シフト一覧!$B$4:$C$106,2,FALSE)),\"\",VLOOKUP(D23,勤務シフト一覧!$B$4:$C$106,2,FALSE))","v":""},{"$f":"IF(ISERROR(VLOOKUP(E23,勤務シフト一覧!$B$4:$C$106,2,FALSE)),\"\",VLOOKUP(E23,勤務シフト一覧!$B$4:$C$106,2,FALSE))","v":""},{"$f":"IF(ISERROR(VLOOKUP(F23,勤務シフト一覧!$B$4:$C$106,2,FALSE)),\"\",VLOOKUP(F23,勤務シフト一覧!$B$4:$C$106,2,FALSE))","v":""},{"$f":"IF(ISERROR(VLOOKUP(G23,勤務シフト一覧!$B$4:$C$106,2,FALSE)),\"\",VLOOKUP(G23,勤務シフト一覧!$B$4:$C$106,2,FALSE))","v":""},{"$f":"IF(ISERROR(VLOOKUP(H23,勤務シフト一覧!$B$4:$C$106,2,FALSE)),\"\",VLOOKUP(H23,勤務シフト一覧!$B$4:$C$106,2,FALSE))","v":""},{"$f":"IF(ISERROR(VLOOKUP(I23,勤務シフト一覧!$B$4:$C$106,2,FALSE)),\"\",VLOOKUP(I23,勤務シフト一覧!$B$4:$C$106,2,FALSE))","v":""},{"$f":"IF(ISERROR(VLOOKUP(J23,勤務シフト一覧!$B$4:$C$106,2,FALSE)),\"\",VLOOKUP(J23,勤務シフト一覧!$B$4:$C$106,2,FALSE))","v":""},{"$f":"IF(ISERROR(VLOOKUP(K23,勤務シフト一覧!$B$4:$C$106,2,FALSE)),\"\",VLOOKUP(K23,勤務シフト一覧!$B$4:$C$106,2,FALSE))","v":""},{"$f":"IF(ISERROR(VLOOKUP(L23,勤務シフト一覧!$B$4:$C$106,2,FALSE)),\"\",VLOOKUP(L23,勤務シフト一覧!$B$4:$C$106,2,FALSE))","v":""},{"$f":"IF(ISERROR(VLOOKUP(M23,勤務シフト一覧!$B$4:$C$106,2,FALSE)),\"\",VLOOKUP(M23,勤務シフト一覧!$B$4:$C$106,2,FALSE))","v":""},{"$f":"IF(ISERROR(VLOOKUP(N23,勤務シフト一覧!$B$4:$C$106,2,FALSE)),\"\",VLOOKUP(N23,勤務シフト一覧!$B$4:$C$106,2,FALSE))","v":""},{"$f":"IF(ISERROR(VLOOKUP(O23,勤務シフト一覧!$B$4:$C$106,2,FALSE)),\"\",VLOOKUP(O23,勤務シフト一覧!$B$4:$C$106,2,FALSE))","v":""},{"$f":"IF(ISERROR(VLOOKUP(P23,勤務シフト一覧!$B$4:$C$106,2,FALSE)),\"\",VLOOKUP(P23,勤務シフト一覧!$B$4:$C$106,2,FALSE))","v":""},{"$f":"IF(ISERROR(VLOOKUP(Q23,勤務シフト一覧!$B$4:$C$106,2,FALSE)),\"\",VLOOKUP(Q23,勤務シフト一覧!$B$4:$C$106,2,FALSE))","v":""},{"$f":"IF(ISERROR(VLOOKUP(R23,勤務シフト一覧!$B$4:$C$106,2,FALSE)),\"\",VLOOKUP(R23,勤務シフト一覧!$B$4:$C$106,2,FALSE))","v":""},{"$f":"IF(ISERROR(VLOOKUP(S23,勤務シフト一覧!$B$4:$C$106,2,FALSE)),\"\",VLOOKUP(S23,勤務シフト一覧!$B$4:$C$106,2,FALSE))","v":""},{"$f":"IF(ISERROR(VLOOKUP(T23,勤務シフト一覧!$B$4:$C$106,2,FALSE)),\"\",VLOOKUP(T23,勤務シフト一覧!$B$4:$C$106,2,FALSE))","v":""},{"$f":"IF(ISERROR(VLOOKUP(U23,勤務シフト一覧!$B$4:$C$106,2,FALSE)),\"\",VLOOKUP(U23,勤務シフト一覧!$B$4:$C$106,2,FALSE))","v":""},{"$f":"IF(ISERROR(VLOOKUP(V23,勤務シフト一覧!$B$4:$C$106,2,FALSE)),\"\",VLOOKUP(V23,勤務シフト一覧!$B$4:$C$106,2,FALSE))","v":""},{"$f":"IF(ISERROR(VLOOKUP(W23,勤務シフト一覧!$B$4:$C$106,2,FALSE)),\"\",VLOOKUP(W23,勤務シフト一覧!$B$4:$C$106,2,FALSE))","v":""},{"$f":"IF(ISERROR(VLOOKUP(X23,勤務シフト一覧!$B$4:$C$106,2,FALSE)),\"\",VLOOKUP(X23,勤務シフト一覧!$B$4:$C$106,2,FALSE))","v":""},{"$f":"IF(ISERROR(VLOOKUP(Y23,勤務シフト一覧!$B$4:$C$106,2,FALSE)),\"\",VLOOKUP(Y23,勤務シフト一覧!$B$4:$C$106,2,FALSE))","v":""},{"$f":"IF(ISERROR(VLOOKUP(Z23,勤務シフト一覧!$B$4:$C$106,2,FALSE)),\"\",VLOOKUP(Z23,勤務シフト一覧!$B$4:$C$106,2,FALSE))","v":""},{"$f":"IF(ISERROR(VLOOKUP(AA23,勤務シフト一覧!$B$4:$C$106,2,FALSE)),\"\",VLOOKUP(AA23,勤務シフト一覧!$B$4:$C$106,2,FALSE))","v":""},{"$f":"IF(ISERROR(VLOOKUP(AB23,勤務シフト一覧!$B$4:$C$106,2,FALSE)),\"\",VLOOKUP(AB23,勤務シフト一覧!$B$4:$C$106,2,FALSE))","v":""},{"$f":"IF(ISERROR(VLOOKUP(AC23,勤務シフト一覧!$B$4:$C$106,2,FALSE)),\"\",VLOOKUP(AC23,勤務シフト一覧!$B$4:$C$106,2,FALSE))","v":""},{"$f":"IF(ISERROR(VLOOKUP(AD23,勤務シフト一覧!$B$4:$C$106,2,FALSE)),\"\",VLOOKUP(AD23,勤務シフト一覧!$B$4:$C$106,2,FALSE))","v":""},{"$f":"IF(ISERROR(VLOOKUP(AE23,勤務シフト一覧!$B$4:$C$106,2,FALSE)),\"\",VLOOKUP(AE23,勤務シフト一覧!$B$4:$C$106,2,FALSE))","v":""},{"$f":"IF(ISERROR(VLOOKUP(AF23,勤務シフト一覧!$B$4:$C$106,2,FALSE)),\"\",VLOOKUP(AF23,勤務シフト一覧!$B$4:$C$106,2,FALSE))","v":""},{"$f":"IF(ISERROR(VLOOKUP(AG23,勤務シフト一覧!$B$4:$C$106,2,FALSE)),\"\",VLOOKUP(AG23,勤務シフト一覧!$B$4:$C$106,2,FALSE))","v":""},{"$f":"IF(ISERROR(VLOOKUP(AH23,勤務シフト一覧!$B$4:$C$106,2,FALSE)),\"\",VLOOKUP(AH23,勤務シフト一覧!$B$4:$C$106,2,FALSE))","v":""},null,{"$f":"IF(ISERROR(VLOOKUP(D23,勤務シフト一覧!$B$4:$D$106,3,FALSE)),\"\",VLOOKUP(D23,勤務シフト一覧!$B$4:$D$106,3,FALSE))","v":""},{"$f":"IF(ISERROR(VLOOKUP(E23,勤務シフト一覧!$B$4:$D$106,3,FALSE)),\"\",VLOOKUP(E23,勤務シフト一覧!$B$4:$D$106,3,FALSE))","v":""},{"$f":"IF(ISERROR(VLOOKUP(F23,勤務シフト一覧!$B$4:$D$106,3,FALSE)),\"\",VLOOKUP(F23,勤務シフト一覧!$B$4:$D$106,3,FALSE))","v":""},{"$f":"IF(ISERROR(VLOOKUP(G23,勤務シフト一覧!$B$4:$D$106,3,FALSE)),\"\",VLOOKUP(G23,勤務シフト一覧!$B$4:$D$106,3,FALSE))","v":""},{"$f":"IF(ISERROR(VLOOKUP(H23,勤務シフト一覧!$B$4:$D$106,3,FALSE)),\"\",VLOOKUP(H23,勤務シフト一覧!$B$4:$D$106,3,FALSE))","v":""},{"$f":"IF(ISERROR(VLOOKUP(I23,勤務シフト一覧!$B$4:$D$106,3,FALSE)),\"\",VLOOKUP(I23,勤務シフト一覧!$B$4:$D$106,3,FALSE))","v":""},{"$f":"IF(ISERROR(VLOOKUP(J23,勤務シフト一覧!$B$4:$D$106,3,FALSE)),\"\",VLOOKUP(J23,勤務シフト一覧!$B$4:$D$106,3,FALSE))","v":""},{"$f":"IF(ISERROR(VLOOKUP(K23,勤務シフト一覧!$B$4:$D$106,3,FALSE)),\"\",VLOOKUP(K23,勤務シフト一覧!$B$4:$D$106,3,FALSE))","v":""},{"$f":"IF(ISERROR(VLOOKUP(L23,勤務シフト一覧!$B$4:$D$106,3,FALSE)),\"\",VLOOKUP(L23,勤務シフト一覧!$B$4:$D$106,3,FALSE))","v":""},{"$f":"IF(ISERROR(VLOOKUP(M23,勤務シフト一覧!$B$4:$D$106,3,FALSE)),\"\",VLOOKUP(M23,勤務シフト一覧!$B$4:$D$106,3,FALSE))","v":""},{"$f":"IF(ISERROR(VLOOKUP(N23,勤務シフト一覧!$B$4:$D$106,3,FALSE)),\"\",VLOOKUP(N23,勤務シフト一覧!$B$4:$D$106,3,FALSE))","v":""},{"$f":"IF(ISERROR(VLOOKUP(O23,勤務シフト一覧!$B$4:$D$106,3,FALSE)),\"\",VLOOKUP(O23,勤務シフト一覧!$B$4:$D$106,3,FALSE))","v":""},{"$f":"IF(ISERROR(VLOOKUP(P23,勤務シフト一覧!$B$4:$D$106,3,FALSE)),\"\",VLOOKUP(P23,勤務シフト一覧!$B$4:$D$106,3,FALSE))","v":""},{"$f":"IF(ISERROR(VLOOKUP(Q23,勤務シフト一覧!$B$4:$D$106,3,FALSE)),\"\",VLOOKUP(Q23,勤務シフト一覧!$B$4:$D$106,3,FALSE))","v":""},{"$f":"IF(ISERROR(VLOOKUP(R23,勤務シフト一覧!$B$4:$D$106,3,FALSE)),\"\",VLOOKUP(R23,勤務シフト一覧!$B$4:$D$106,3,FALSE))","v":""},{"$f":"IF(ISERROR(VLOOKUP(S23,勤務シフト一覧!$B$4:$D$106,3,FALSE)),\"\",VLOOKUP(S23,勤務シフト一覧!$B$4:$D$106,3,FALSE))","v":""},{"$f":"IF(ISERROR(VLOOKUP(T23,勤務シフト一覧!$B$4:$D$106,3,FALSE)),\"\",VLOOKUP(T23,勤務シフト一覧!$B$4:$D$106,3,FALSE))","v":""},{"$f":"IF(ISERROR(VLOOKUP(U23,勤務シフト一覧!$B$4:$D$106,3,FALSE)),\"\",VLOOKUP(U23,勤務シフト一覧!$B$4:$D$106,3,FALSE))","v":""},{"$f":"IF(ISERROR(VLOOKUP(V23,勤務シフト一覧!$B$4:$D$106,3,FALSE)),\"\",VLOOKUP(V23,勤務シフト一覧!$B$4:$D$106,3,FALSE))","v":""},{"$f":"IF(ISERROR(VLOOKUP(W23,勤務シフト一覧!$B$4:$D$106,3,FALSE)),\"\",VLOOKUP(W23,勤務シフト一覧!$B$4:$D$106,3,FALSE))","v":""},{"$f":"IF(ISERROR(VLOOKUP(X23,勤務シフト一覧!$B$4:$D$106,3,FALSE)),\"\",VLOOKUP(X23,勤務シフト一覧!$B$4:$D$106,3,FALSE))","v":""},{"$f":"IF(ISERROR(VLOOKUP(Y23,勤務シフト一覧!$B$4:$D$106,3,FALSE)),\"\",VLOOKUP(Y23,勤務シフト一覧!$B$4:$D$106,3,FALSE))","v":""},{"$f":"IF(ISERROR(VLOOKUP(Z23,勤務シフト一覧!$B$4:$D$106,3,FALSE)),\"\",VLOOKUP(Z23,勤務シフト一覧!$B$4:$D$106,3,FALSE))","v":""},{"$f":"IF(ISERROR(VLOOKUP(AA23,勤務シフト一覧!$B$4:$D$106,3,FALSE)),\"\",VLOOKUP(AA23,勤務シフト一覧!$B$4:$D$106,3,FALSE))","v":""},{"$f":"IF(ISERROR(VLOOKUP(AB23,勤務シフト一覧!$B$4:$D$106,3,FALSE)),\"\",VLOOKUP(AB23,勤務シフト一覧!$B$4:$D$106,3,FALSE))","v":""},{"$f":"IF(ISERROR(VLOOKUP(AC23,勤務シフト一覧!$B$4:$D$106,3,FALSE)),\"\",VLOOKUP(AC23,勤務シフト一覧!$B$4:$D$106,3,FALSE))","v":""},{"$f":"IF(ISERROR(VLOOKUP(AD23,勤務シフト一覧!$B$4:$D$106,3,FALSE)),\"\",VLOOKUP(AD23,勤務シフト一覧!$B$4:$D$106,3,FALSE))","v":""},{"$f":"IF(ISERROR(VLOOKUP(AE23,勤務シフト一覧!$B$4:$D$106,3,FALSE)),\"\",VLOOKUP(AE23,勤務シフト一覧!$B$4:$D$106,3,FALSE))","v":""},{"$f":"IF(ISERROR(VLOOKUP(AF23,勤務シフト一覧!$B$4:$D$106,3,FALSE)),\"\",VLOOKUP(AF23,勤務シフト一覧!$B$4:$D$106,3,FALSE))","v":""},{"$f":"IF(ISERROR(VLOOKUP(AG23,勤務シフト一覧!$B$4:$D$106,3,FALSE)),\"\",VLOOKUP(AG23,勤務シフト一覧!$B$4:$D$106,3,FALSE))","v":""},{"$f":"IF(ISERROR(VLOOKUP(AH23,勤務シフト一覧!$B$4:$D$106,3,FALSE)),\"\",VLOOKUP(AH23,勤務シフト一覧!$B$4:$D$106,3,FALSE))","v":""},0,0,0,0,0,0,0,0,0,0,null,null,{"$f":"IF(勤務シフト一覧!$D23<>0,IF(勤務シフト一覧!$B23<> 0,勤務シフト一覧!$B23,\"\"),\"\")","v":"日7"}]
[{"$f":"IF(LEN(職員一覧!B11)<>0,職員一覧!B11,\"\")","v":""},{"$f":"IF(LEN(職員一覧!C11)<>0,職員一覧!C11,\"\")","v":""},"予定",null,null,null,null,null,null,null,null,null,null,null,null,null,null,null,null,null,null,null,null,null,null,null,null,null,null,null,null,null,null,null,{"$f":"IF(ISERROR(VLOOKUP(D24,勤務シフト一覧!$B$4:$C$106,2,FALSE)),\"\",VLOOKUP(D24,勤務シフト一覧!$B$4:$C$106,2,FALSE))","v":""},{"$f":"IF(ISERROR(VLOOKUP(E24,勤務シフト一覧!$B$4:$C$106,2,FALSE)),\"\",VLOOKUP(E24,勤務シフト一覧!$B$4:$C$106,2,FALSE))","v":""},{"$f":"IF(ISERROR(VLOOKUP(F24,勤務シフト一覧!$B$4:$C$106,2,FALSE)),\"\",VLOOKUP(F24,勤務シフト一覧!$B$4:$C$106,2,FALSE))","v":""},{"$f":"IF(ISERROR(VLOOKUP(G24,勤務シフト一覧!$B$4:$C$106,2,FALSE)),\"\",VLOOKUP(G24,勤務シフト一覧!$B$4:$C$106,2,FALSE))","v":""},{"$f":"IF(ISERROR(VLOOKUP(H24,勤務シフト一覧!$B$4:$C$106,2,FALSE)),\"\",VLOOKUP(H24,勤務シフト一覧!$B$4:$C$106,2,FALSE))","v":""},{"$f":"IF(ISERROR(VLOOKUP(I24,勤務シフト一覧!$B$4:$C$106,2,FALSE)),\"\",VLOOKUP(I24,勤務シフト一覧!$B$4:$C$106,2,FALSE))","v":""},{"$f":"IF(ISERROR(VLOOKUP(J24,勤務シフト一覧!$B$4:$C$106,2,FALSE)),\"\",VLOOKUP(J24,勤務シフト一覧!$B$4:$C$106,2,FALSE))","v":""},{"$f":"IF(ISERROR(VLOOKUP(K24,勤務シフト一覧!$B$4:$C$106,2,FALSE)),\"\",VLOOKUP(K24,勤務シフト一覧!$B$4:$C$106,2,FALSE))","v":""},{"$f":"IF(ISERROR(VLOOKUP(L24,勤務シフト一覧!$B$4:$C$106,2,FALSE)),\"\",VLOOKUP(L24,勤務シフト一覧!$B$4:$C$106,2,FALSE))","v":""},{"$f":"IF(ISERROR(VLOOKUP(M24,勤務シフト一覧!$B$4:$C$106,2,FALSE)),\"\",VLOOKUP(M24,勤務シフト一覧!$B$4:$C$106,2,FALSE))","v":""},{"$f":"IF(ISERROR(VLOOKUP(N24,勤務シフト一覧!$B$4:$C$106,2,FALSE)),\"\",VLOOKUP(N24,勤務シフト一覧!$B$4:$C$106,2,FALSE))","v":""},{"$f":"IF(ISERROR(VLOOKUP(O24,勤務シフト一覧!$B$4:$C$106,2,FALSE)),\"\",VLOOKUP(O24,勤務シフト一覧!$B$4:$C$106,2,FALSE))","v":""},{"$f":"IF(ISERROR(VLOOKUP(P24,勤務シフト一覧!$B$4:$C$106,2,FALSE)),\"\",VLOOKUP(P24,勤務シフト一覧!$B$4:$C$106,2,FALSE))","v":""},{"$f":"IF(ISERROR(VLOOKUP(Q24,勤務シフト一覧!$B$4:$C$106,2,FALSE)),\"\",VLOOKUP(Q24,勤務シフト一覧!$B$4:$C$106,2,FALSE))","v":""},{"$f":"IF(ISERROR(VLOOKUP(R24,勤務シフト一覧!$B$4:$C$106,2,FALSE)),\"\",VLOOKUP(R24,勤務シフト一覧!$B$4:$C$106,2,FALSE))","v":""},{"$f":"IF(ISERROR(VLOOKUP(S24,勤務シフト一覧!$B$4:$C$106,2,FALSE)),\"\",VLOOKUP(S24,勤務シフト一覧!$B$4:$C$106,2,FALSE))","v":""},{"$f":"IF(ISERROR(VLOOKUP(T24,勤務シフト一覧!$B$4:$C$106,2,FALSE)),\"\",VLOOKUP(T24,勤務シフト一覧!$B$4:$C$106,2,FALSE))","v":""},{"$f":"IF(ISERROR(VLOOKUP(U24,勤務シフト一覧!$B$4:$C$106,2,FALSE)),\"\",VLOOKUP(U24,勤務シフト一覧!$B$4:$C$106,2,FALSE))","v":""},{"$f":"IF(ISERROR(VLOOKUP(V24,勤務シフト一覧!$B$4:$C$106,2,FALSE)),\"\",VLOOKUP(V24,勤務シフト一覧!$B$4:$C$106,2,FALSE))","v":""},{"$f":"IF(ISERROR(VLOOKUP(W24,勤務シフト一覧!$B$4:$C$106,2,FALSE)),\"\",VLOOKUP(W24,勤務シフト一覧!$B$4:$C$106,2,FALSE))","v":""},{"$f":"IF(ISERROR(VLOOKUP(X24,勤務シフト一覧!$B$4:$C$106,2,FALSE)),\"\",VLOOKUP(X24,勤務シフト一覧!$B$4:$C$106,2,FALSE))","v":""},{"$f":"IF(ISERROR(VLOOKUP(Y24,勤務シフト一覧!$B$4:$C$106,2,FALSE)),\"\",VLOOKUP(Y24,勤務シフト一覧!$B$4:$C$106,2,FALSE))","v":""},{"$f":"IF(ISERROR(VLOOKUP(Z24,勤務シフト一覧!$B$4:$C$106,2,FALSE)),\"\",VLOOKUP(Z24,勤務シフト一覧!$B$4:$C$106,2,FALSE))","v":""},{"$f":"IF(ISERROR(VLOOKUP(AA24,勤務シフト一覧!$B$4:$C$106,2,FALSE)),\"\",VLOOKUP(AA24,勤務シフト一覧!$B$4:$C$106,2,FALSE))","v":""},{"$f":"IF(ISERROR(VLOOKUP(AB24,勤務シフト一覧!$B$4:$C$106,2,FALSE)),\"\",VLOOKUP(AB24,勤務シフト一覧!$B$4:$C$106,2,FALSE))","v":""},{"$f":"IF(ISERROR(VLOOKUP(AC24,勤務シフト一覧!$B$4:$C$106,2,FALSE)),\"\",VLOOKUP(AC24,勤務シフト一覧!$B$4:$C$106,2,FALSE))","v":""},{"$f":"IF(ISERROR(VLOOKUP(AD24,勤務シフト一覧!$B$4:$C$106,2,FALSE)),\"\",VLOOKUP(AD24,勤務シフト一覧!$B$4:$C$106,2,FALSE))","v":""},{"$f":"IF(ISERROR(VLOOKUP(AE24,勤務シフト一覧!$B$4:$C$106,2,FALSE)),\"\",VLOOKUP(AE24,勤務シフト一覧!$B$4:$C$106,2,FALSE))","v":""},{"$f":"IF(ISERROR(VLOOKUP(AF24,勤務シフト一覧!$B$4:$C$106,2,FALSE)),\"\",VLOOKUP(AF24,勤務シフト一覧!$B$4:$C$106,2,FALSE))","v":""},{"$f":"IF(ISERROR(VLOOKUP(AG24,勤務シフト一覧!$B$4:$C$106,2,FALSE)),\"\",VLOOKUP(AG24,勤務シフト一覧!$B$4:$C$106,2,FALSE))","v":""},{"$f":"IF(ISERROR(VLOOKUP(AH24,勤務シフト一覧!$B$4:$C$106,2,FALSE)),\"\",VLOOKUP(AH24,勤務シフト一覧!$B$4:$C$106,2,FALSE))","v":""},null,{"$f":"IF(ISERROR(VLOOKUP(D24,勤務シフト一覧!$B$4:$D$106,3,FALSE)),\"\",VLOOKUP(D24,勤務シフト一覧!$B$4:$D$106,3,FALSE))","v":""},{"$f":"IF(ISERROR(VLOOKUP(E24,勤務シフト一覧!$B$4:$D$106,3,FALSE)),\"\",VLOOKUP(E24,勤務シフト一覧!$B$4:$D$106,3,FALSE))","v":""},{"$f":"IF(ISERROR(VLOOKUP(F24,勤務シフト一覧!$B$4:$D$106,3,FALSE)),\"\",VLOOKUP(F24,勤務シフト一覧!$B$4:$D$106,3,FALSE))","v":""},{"$f":"IF(ISERROR(VLOOKUP(G24,勤務シフト一覧!$B$4:$D$106,3,FALSE)),\"\",VLOOKUP(G24,勤務シフト一覧!$B$4:$D$106,3,FALSE))","v":""},{"$f":"IF(ISERROR(VLOOKUP(H24,勤務シフト一覧!$B$4:$D$106,3,FALSE)),\"\",VLOOKUP(H24,勤務シフト一覧!$B$4:$D$106,3,FALSE))","v":""},{"$f":"IF(ISERROR(VLOOKUP(I24,勤務シフト一覧!$B$4:$D$106,3,FALSE)),\"\",VLOOKUP(I24,勤務シフト一覧!$B$4:$D$106,3,FALSE))","v":""},{"$f":"IF(ISERROR(VLOOKUP(J24,勤務シフト一覧!$B$4:$D$106,3,FALSE)),\"\",VLOOKUP(J24,勤務シフト一覧!$B$4:$D$106,3,FALSE))","v":""},{"$f":"IF(ISERROR(VLOOKUP(K24,勤務シフト一覧!$B$4:$D$106,3,FALSE)),\"\",VLOOKUP(K24,勤務シフト一覧!$B$4:$D$106,3,FALSE))","v":""},{"$f":"IF(ISERROR(VLOOKUP(L24,勤務シフト一覧!$B$4:$D$106,3,FALSE)),\"\",VLOOKUP(L24,勤務シフト一覧!$B$4:$D$106,3,FALSE))","v":""},{"$f":"IF(ISERROR(VLOOKUP(M24,勤務シフト一覧!$B$4:$D$106,3,FALSE)),\"\",VLOOKUP(M24,勤務シフト一覧!$B$4:$D$106,3,FALSE))","v":""},{"$f":"IF(ISERROR(VLOOKUP(N24,勤務シフト一覧!$B$4:$D$106,3,FALSE)),\"\",VLOOKUP(N24,勤務シフト一覧!$B$4:$D$106,3,FALSE))","v":""},{"$f":"IF(ISERROR(VLOOKUP(O24,勤務シフト一覧!$B$4:$D$106,3,FALSE)),\"\",VLOOKUP(O24,勤務シフト一覧!$B$4:$D$106,3,FALSE))","v":""},{"$f":"IF(ISERROR(VLOOKUP(P24,勤務シフト一覧!$B$4:$D$106,3,FALSE)),\"\",VLOOKUP(P24,勤務シフト一覧!$B$4:$D$106,3,FALSE))","v":""},{"$f":"IF(ISERROR(VLOOKUP(Q24,勤務シフト一覧!$B$4:$D$106,3,FALSE)),\"\",VLOOKUP(Q24,勤務シフト一覧!$B$4:$D$106,3,FALSE))","v":""},{"$f":"IF(ISERROR(VLOOKUP(R24,勤務シフト一覧!$B$4:$D$106,3,FALSE)),\"\",VLOOKUP(R24,勤務シフト一覧!$B$4:$D$106,3,FALSE))","v":""},{"$f":"IF(ISERROR(VLOOKUP(S24,勤務シフト一覧!$B$4:$D$106,3,FALSE)),\"\",VLOOKUP(S24,勤務シフト一覧!$B$4:$D$106,3,FALSE))","v":""},{"$f":"IF(ISERROR(VLOOKUP(T24,勤務シフト一覧!$B$4:$D$106,3,FALSE)),\"\",VLOOKUP(T24,勤務シフト一覧!$B$4:$D$106,3,FALSE))","v":""},{"$f":"IF(ISERROR(VLOOKUP(U24,勤務シフト一覧!$B$4:$D$106,3,FALSE)),\"\",VLOOKUP(U24,勤務シフト一覧!$B$4:$D$106,3,FALSE))","v":""},{"$f":"IF(ISERROR(VLOOKUP(V24,勤務シフト一覧!$B$4:$D$106,3,FALSE)),\"\",VLOOKUP(V24,勤務シフト一覧!$B$4:$D$106,3,FALSE))","v":""},{"$f":"IF(ISERROR(VLOOKUP(W24,勤務シフト一覧!$B$4:$D$106,3,FALSE)),\"\",VLOOKUP(W24,勤務シフト一覧!$B$4:$D$106,3,FALSE))","v":""},{"$f":"IF(ISERROR(VLOOKUP(X24,勤務シフト一覧!$B$4:$D$106,3,FALSE)),\"\",VLOOKUP(X24,勤務シフト一覧!$B$4:$D$106,3,FALSE))","v":""},{"$f":"IF(ISERROR(VLOOKUP(Y24,勤務シフト一覧!$B$4:$D$106,3,FALSE)),\"\",VLOOKUP(Y24,勤務シフト一覧!$B$4:$D$106,3,FALSE))","v":""},{"$f":"IF(ISERROR(VLOOKUP(Z24,勤務シフト一覧!$B$4:$D$106,3,FALSE)),\"\",VLOOKUP(Z24,勤務シフト一覧!$B$4:$D$106,3,FALSE))","v":""},{"$f":"IF(ISERROR(VLOOKUP(AA24,勤務シフト一覧!$B$4:$D$106,3,FALSE)),\"\",VLOOKUP(AA24,勤務シフト一覧!$B$4:$D$106,3,FALSE))","v":""},{"$f":"IF(ISERROR(VLOOKUP(AB24,勤務シフト一覧!$B$4:$D$106,3,FALSE)),\"\",VLOOKUP(AB24,勤務シフト一覧!$B$4:$D$106,3,FALSE))","v":""},{"$f":"IF(ISERROR(VLOOKUP(AC24,勤務シフト一覧!$B$4:$D$106,3,FALSE)),\"\",VLOOKUP(AC24,勤務シフト一覧!$B$4:$D$106,3,FALSE))","v":""},{"$f":"IF(ISERROR(VLOOKUP(AD24,勤務シフト一覧!$B$4:$D$106,3,FALSE)),\"\",VLOOKUP(AD24,勤務シフト一覧!$B$4:$D$106,3,FALSE))","v":""},{"$f":"IF(ISERROR(VLOOKUP(AE24,勤務シフト一覧!$B$4:$D$106,3,FALSE)),\"\",VLOOKUP(AE24,勤務シフト一覧!$B$4:$D$106,3,FALSE))","v":""},{"$f":"IF(ISERROR(VLOOKUP(AF24,勤務シフト一覧!$B$4:$D$106,3,FALSE)),\"\",VLOOKUP(AF24,勤務シフト一覧!$B$4:$D$106,3,FALSE))","v":""},{"$f":"IF(ISERROR(VLOOKUP(AG24,勤務シフト一覧!$B$4:$D$106,3,FALSE)),\"\",VLOOKUP(AG24,勤務シフト一覧!$B$4:$D$106,3,FALSE))","v":""},{"$f":"IF(ISERROR(VLOOKUP(AH24,勤務シフト一覧!$B$4:$D$106,3,FALSE)),\"\",VLOOKUP(AH24,勤務シフト一覧!$B$4:$D$106,3,FALSE))","v":""},0,0,0,0,0,0,0,0,0,0,{"$f":"IF(LEN(職員一覧!D11)<>0,職員一覧!D11,\"\")","v":""},null,{"$f":"IF(勤務シフト一覧!$D24<>0,IF(勤務シフト一覧!$B24<> 0,勤務シフト一覧!$B24,\"\"),\"\")","v":"日6"}]
[null,null,"実施",null,null,null,null,null,null,null,null,null,null,null,null,null,null,null,null,null,null,null,null,null,null,null,null,null,null,null,null,null,null,null,{"$f":"IF(ISERROR(VLOOKUP(D25,勤務シフト一覧!$B$4:$C$106,2,FALSE)),\"\",VLOOKUP(D25,勤務シフト一覧!$B$4:$C$106,2,FALSE))","v":""},{"$f":"IF(ISERROR(VLOOKUP(E25,勤務シフト一覧!$B$4:$C$106,2,FALSE)),\"\",VLOOKUP(E25,勤務シフト一覧!$B$4:$C$106,2,FALSE))","v":""},{"$f":"IF(ISERROR(VLOOKUP(F25,勤務シフト一覧!$B$4:$C$106,2,FALSE)),\"\",VLOOKUP(F25,勤務シフト一覧!$B$4:$C$106,2,FALSE))","v":""},{"$f":"IF(ISERROR(VLOOKUP(G25,勤務シフト一覧!$B$4:$C$106,2,FALSE)),\"\",VLOOKUP(G25,勤務シフト一覧!$B$4:$C$106,2,FALSE))","v":""},{"$f":"IF(ISERROR(VLOOKUP(H25,勤務シフト一覧!$B$4:$C$106,2,FALSE)),\"\",VLOOKUP(H25,勤務シフト一覧!$B$4:$C$106,2,FALSE))","v":""},{"$f":"IF(ISERROR(VLOOKUP(I25,勤務シフト一覧!$B$4:$C$106,2,FALSE)),\"\",VLOOKUP(I25,勤務シフト一覧!$B$4:$C$106,2,FALSE))","v":""},{"$f":"IF(ISERROR(VLOOKUP(J25,勤務シフト一覧!$B$4:$C$106,2,FALSE)),\"\",VLOOKUP(J25,勤務シフト一覧!$B$4:$C$106,2,FALSE))","v":""},{"$f":"IF(ISERROR(VLOOKUP(K25,勤務シフト一覧!$B$4:$C$106,2,FALSE)),\"\",VLOOKUP(K25,勤務シフト一覧!$B$4:$C$106,2,FALSE))","v":""},{"$f":"IF(ISERROR(VLOOKUP(L25,勤務シフト一覧!$B$4:$C$106,2,FALSE)),\"\",VLOOKUP(L25,勤務シフト一覧!$B$4:$C$106,2,FALSE))","v":""},{"$f":"IF(ISERROR(VLOOKUP(M25,勤務シフト一覧!$B$4:$C$106,2,FALSE)),\"\",VLOOKUP(M25,勤務シフト一覧!$B$4:$C$106,2,FALSE))","v":""},{"$f":"IF(ISERROR(VLOOKUP(N25,勤務シフト一覧!$B$4:$C$106,2,FALSE)),\"\",VLOOKUP(N25,勤務シフト一覧!$B$4:$C$106,2,FALSE))","v":""},{"$f":"IF(ISERROR(VLOOKUP(O25,勤務シフト一覧!$B$4:$C$106,2,FALSE)),\"\",VLOOKUP(O25,勤務シフト一覧!$B$4:$C$106,2,FALSE))","v":""},{"$f":"IF(ISERROR(VLOOKUP(P25,勤務シフト一覧!$B$4:$C$106,2,FALSE)),\"\",VLOOKUP(P25,勤務シフト一覧!$B$4:$C$106,2,FALSE))","v":""},{"$f":"IF(ISERROR(VLOOKUP(Q25,勤務シフト一覧!$B$4:$C$106,2,FALSE)),\"\",VLOOKUP(Q25,勤務シフト一覧!$B$4:$C$106,2,FALSE))","v":""},{"$f":"IF(ISERROR(VLOOKUP(R25,勤務シフト一覧!$B$4:$C$106,2,FALSE)),\"\",VLOOKUP(R25,勤務シフト一覧!$B$4:$C$106,2,FALSE))","v":""},{"$f":"IF(ISERROR(VLOOKUP(S25,勤務シフト一覧!$B$4:$C$106,2,FALSE)),\"\",VLOOKUP(S25,勤務シフト一覧!$B$4:$C$106,2,FALSE))","v":""},{"$f":"IF(ISERROR(VLOOKUP(T25,勤務シフト一覧!$B$4:$C$106,2,FALSE)),\"\",VLOOKUP(T25,勤務シフト一覧!$B$4:$C$106,2,FALSE))","v":""},{"$f":"IF(ISERROR(VLOOKUP(U25,勤務シフト一覧!$B$4:$C$106,2,FALSE)),\"\",VLOOKUP(U25,勤務シフト一覧!$B$4:$C$106,2,FALSE))","v":""},{"$f":"IF(ISERROR(VLOOKUP(V25,勤務シフト一覧!$B$4:$C$106,2,FALSE)),\"\",VLOOKUP(V25,勤務シフト一覧!$B$4:$C$106,2,FALSE))","v":""},{"$f":"IF(ISERROR(VLOOKUP(W25,勤務シフト一覧!$B$4:$C$106,2,FALSE)),\"\",VLOOKUP(W25,勤務シフト一覧!$B$4:$C$106,2,FALSE))","v":""},{"$f":"IF(ISERROR(VLOOKUP(X25,勤務シフト一覧!$B$4:$C$106,2,FALSE)),\"\",VLOOKUP(X25,勤務シフト一覧!$B$4:$C$106,2,FALSE))","v":""},{"$f":"IF(ISERROR(VLOOKUP(Y25,勤務シフト一覧!$B$4:$C$106,2,FALSE)),\"\",VLOOKUP(Y25,勤務シフト一覧!$B$4:$C$106,2,FALSE))","v":""},{"$f":"IF(ISERROR(VLOOKUP(Z25,勤務シフト一覧!$B$4:$C$106,2,FALSE)),\"\",VLOOKUP(Z25,勤務シフト一覧!$B$4:$C$106,2,FALSE))","v":""},{"$f":"IF(ISERROR(VLOOKUP(AA25,勤務シフト一覧!$B$4:$C$106,2,FALSE)),\"\",VLOOKUP(AA25,勤務シフト一覧!$B$4:$C$106,2,FALSE))","v":""},{"$f":"IF(ISERROR(VLOOKUP(AB25,勤務シフト一覧!$B$4:$C$106,2,FALSE)),\"\",VLOOKUP(AB25,勤務シフト一覧!$B$4:$C$106,2,FALSE))","v":""},{"$f":"IF(ISERROR(VLOOKUP(AC25,勤務シフト一覧!$B$4:$C$106,2,FALSE)),\"\",VLOOKUP(AC25,勤務シフト一覧!$B$4:$C$106,2,FALSE))","v":""},{"$f":"IF(ISERROR(VLOOKUP(AD25,勤務シフト一覧!$B$4:$C$106,2,FALSE)),\"\",VLOOKUP(AD25,勤務シフト一覧!$B$4:$C$106,2,FALSE))","v":""},{"$f":"IF(ISERROR(VLOOKUP(AE25,勤務シフト一覧!$B$4:$C$106,2,FALSE)),\"\",VLOOKUP(AE25,勤務シフト一覧!$B$4:$C$106,2,FALSE))","v":""},{"$f":"IF(ISERROR(VLOOKUP(AF25,勤務シフト一覧!$B$4:$C$106,2,FALSE)),\"\",VLOOKUP(AF25,勤務シフト一覧!$B$4:$C$106,2,FALSE))","v":""},{"$f":"IF(ISERROR(VLOOKUP(AG25,勤務シフト一覧!$B$4:$C$106,2,FALSE)),\"\",VLOOKUP(AG25,勤務シフト一覧!$B$4:$C$106,2,FALSE))","v":""},{"$f":"IF(ISERROR(VLOOKUP(AH25,勤務シフト一覧!$B$4:$C$106,2,FALSE)),\"\",VLOOKUP(AH25,勤務シフト一覧!$B$4:$C$106,2,FALSE))","v":""},null,{"$f":"IF(ISERROR(VLOOKUP(D25,勤務シフト一覧!$B$4:$D$106,3,FALSE)),\"\",VLOOKUP(D25,勤務シフト一覧!$B$4:$D$106,3,FALSE))","v":""},{"$f":"IF(ISERROR(VLOOKUP(E25,勤務シフト一覧!$B$4:$D$106,3,FALSE)),\"\",VLOOKUP(E25,勤務シフト一覧!$B$4:$D$106,3,FALSE))","v":""},{"$f":"IF(ISERROR(VLOOKUP(F25,勤務シフト一覧!$B$4:$D$106,3,FALSE)),\"\",VLOOKUP(F25,勤務シフト一覧!$B$4:$D$106,3,FALSE))","v":""},{"$f":"IF(ISERROR(VLOOKUP(G25,勤務シフト一覧!$B$4:$D$106,3,FALSE)),\"\",VLOOKUP(G25,勤務シフト一覧!$B$4:$D$106,3,FALSE))","v":""},{"$f":"IF(ISERROR(VLOOKUP(H25,勤務シフト一覧!$B$4:$D$106,3,FALSE)),\"\",VLOOKUP(H25,勤務シフト一覧!$B$4:$D$106,3,FALSE))","v":""},{"$f":"IF(ISERROR(VLOOKUP(I25,勤務シフト一覧!$B$4:$D$106,3,FALSE)),\"\",VLOOKUP(I25,勤務シフト一覧!$B$4:$D$106,3,FALSE))","v":""},{"$f":"IF(ISERROR(VLOOKUP(J25,勤務シフト一覧!$B$4:$D$106,3,FALSE)),\"\",VLOOKUP(J25,勤務シフト一覧!$B$4:$D$106,3,FALSE))","v":""},{"$f":"IF(ISERROR(VLOOKUP(K25,勤務シフト一覧!$B$4:$D$106,3,FALSE)),\"\",VLOOKUP(K25,勤務シフト一覧!$B$4:$D$106,3,FALSE))","v":""},{"$f":"IF(ISERROR(VLOOKUP(L25,勤務シフト一覧!$B$4:$D$106,3,FALSE)),\"\",VLOOKUP(L25,勤務シフト一覧!$B$4:$D$106,3,FALSE))","v":""},{"$f":"IF(ISERROR(VLOOKUP(M25,勤務シフト一覧!$B$4:$D$106,3,FALSE)),\"\",VLOOKUP(M25,勤務シフト一覧!$B$4:$D$106,3,FALSE))","v":""},{"$f":"IF(ISERROR(VLOOKUP(N25,勤務シフト一覧!$B$4:$D$106,3,FALSE)),\"\",VLOOKUP(N25,勤務シフト一覧!$B$4:$D$106,3,FALSE))","v":""},{"$f":"IF(ISERROR(VLOOKUP(O25,勤務シフト一覧!$B$4:$D$106,3,FALSE)),\"\",VLOOKUP(O25,勤務シフト一覧!$B$4:$D$106,3,FALSE))","v":""},{"$f":"IF(ISERROR(VLOOKUP(P25,勤務シフト一覧!$B$4:$D$106,3,FALSE)),\"\",VLOOKUP(P25,勤務シフト一覧!$B$4:$D$106,3,FALSE))","v":""},{"$f":"IF(ISERROR(VLOOKUP(Q25,勤務シフト一覧!$B$4:$D$106,3,FALSE)),\"\",VLOOKUP(Q25,勤務シフト一覧!$B$4:$D$106,3,FALSE))","v":""},{"$f":"IF(ISERROR(VLOOKUP(R25,勤務シフト一覧!$B$4:$D$106,3,FALSE)),\"\",VLOOKUP(R25,勤務シフト一覧!$B$4:$D$106,3,FALSE))","v":""},{"$f":"IF(ISERROR(VLOOKUP(S25,勤務シフト一覧!$B$4:$D$106,3,FALSE)),\"\",VLOOKUP(S25,勤務シフト一覧!$B$4:$D$106,3,FALSE))","v":""},{"$f":"IF(ISERROR(VLOOKUP(T25,勤務シフト一覧!$B$4:$D$106,3,FALSE)),\"\",VLOOKUP(T25,勤務シフト一覧!$B$4:$D$106,3,FALSE))","v":""},{"$f":"IF(ISERROR(VLOOKUP(U25,勤務シフト一覧!$B$4:$D$106,3,FALSE)),\"\",VLOOKUP(U25,勤務シフト一覧!$B$4:$D$106,3,FALSE))","v":""},{"$f":"IF(ISERROR(VLOOKUP(V25,勤務シフト一覧!$B$4:$D$106,3,FALSE)),\"\",VLOOKUP(V25,勤務シフト一覧!$B$4:$D$106,3,FALSE))","v":""},{"$f":"IF(ISERROR(VLOOKUP(W25,勤務シフト一覧!$B$4:$D$106,3,FALSE)),\"\",VLOOKUP(W25,勤務シフト一覧!$B$4:$D$106,3,FALSE))","v":""},{"$f":"IF(ISERROR(VLOOKUP(X25,勤務シフト一覧!$B$4:$D$106,3,FALSE)),\"\",VLOOKUP(X25,勤務シフト一覧!$B$4:$D$106,3,FALSE))","v":""},{"$f":"IF(ISERROR(VLOOKUP(Y25,勤務シフト一覧!$B$4:$D$106,3,FALSE)),\"\",VLOOKUP(Y25,勤務シフト一覧!$B$4:$D$106,3,FALSE))","v":""},{"$f":"IF(ISERROR(VLOOKUP(Z25,勤務シフト一覧!$B$4:$D$106,3,FALSE)),\"\",VLOOKUP(Z25,勤務シフト一覧!$B$4:$D$106,3,FALSE))","v":""},{"$f":"IF(ISERROR(VLOOKUP(AA25,勤務シフト一覧!$B$4:$D$106,3,FALSE)),\"\",VLOOKUP(AA25,勤務シフト一覧!$B$4:$D$106,3,FALSE))","v":""},{"$f":"IF(ISERROR(VLOOKUP(AB25,勤務シフト一覧!$B$4:$D$106,3,FALSE)),\"\",VLOOKUP(AB25,勤務シフト一覧!$B$4:$D$106,3,FALSE))","v":""},{"$f":"IF(ISERROR(VLOOKUP(AC25,勤務シフト一覧!$B$4:$D$106,3,FALSE)),\"\",VLOOKUP(AC25,勤務シフト一覧!$B$4:$D$106,3,FALSE))","v":""},{"$f":"IF(ISERROR(VLOOKUP(AD25,勤務シフト一覧!$B$4:$D$106,3,FALSE)),\"\",VLOOKUP(AD25,勤務シフト一覧!$B$4:$D$106,3,FALSE))","v":""},{"$f":"IF(ISERROR(VLOOKUP(AE25,勤務シフト一覧!$B$4:$D$106,3,FALSE)),\"\",VLOOKUP(AE25,勤務シフト一覧!$B$4:$D$106,3,FALSE))","v":""},{"$f":"IF(ISERROR(VLOOKUP(AF25,勤務シフト一覧!$B$4:$D$106,3,FALSE)),\"\",VLOOKUP(AF25,勤務シフト一覧!$B$4:$D$106,3,FALSE))","v":""},{"$f":"IF(ISERROR(VLOOKUP(AG25,勤務シフト一覧!$B$4:$D$106,3,FALSE)),\"\",VLOOKUP(AG25,勤務シフト一覧!$B$4:$D$106,3,FALSE))","v":""},{"$f":"IF(ISERROR(VLOOKUP(AH25,勤務シフト一覧!$B$4:$D$106,3,FALSE)),\"\",VLOOKUP(AH25,勤務シフト一覧!$B$4:$D$106,3,FALSE))","v":""},0,0,0,0,0,0,0,0,0,0,null,null,{"$f":"IF(勤務シフト一覧!$D25<>0,IF(勤務シフト一覧!$B25<> 0,勤務シフト一覧!$B25,\"\"),\"\")","v":"日5"}]
[{"$f":"IF(LEN(職員一覧!B12)<>0,職員一覧!B12,\"\")","v":""},{"$f":"IF(LEN(職員一覧!C12)<>0,職員一覧!C12,\"\")","v":""},"予定",null,null,null,null,null,null,null,null,null,null,null,null,null,null,null,null,null,null,null,null,null,null,null,null,null,null,null,null,null,null,null,{"$f":"IF(ISERROR(VLOOKUP(D26,勤務シフト一覧!$B$4:$C$106,2,FALSE)),\"\",VLOOKUP(D26,勤務シフト一覧!$B$4:$C$106,2,FALSE))","v":""},{"$f":"IF(ISERROR(VLOOKUP(E26,勤務シフト一覧!$B$4:$C$106,2,FALSE)),\"\",VLOOKUP(E26,勤務シフト一覧!$B$4:$C$106,2,FALSE))","v":""},{"$f":"IF(ISERROR(VLOOKUP(F26,勤務シフト一覧!$B$4:$C$106,2,FALSE)),\"\",VLOOKUP(F26,勤務シフト一覧!$B$4:$C$106,2,FALSE))","v":""},{"$f":"IF(ISERROR(VLOOKUP(G26,勤務シフト一覧!$B$4:$C$106,2,FALSE)),\"\",VLOOKUP(G26,勤務シフト一覧!$B$4:$C$106,2,FALSE))","v":""},{"$f":"IF(ISERROR(VLOOKUP(H26,勤務シフト一覧!$B$4:$C$106,2,FALSE)),\"\",VLOOKUP(H26,勤務シフト一覧!$B$4:$C$106,2,FALSE))","v":""},{"$f":"IF(ISERROR(VLOOKUP(I26,勤務シフト一覧!$B$4:$C$106,2,FALSE)),\"\",VLOOKUP(I26,勤務シフト一覧!$B$4:$C$106,2,FALSE))","v":""},{"$f":"IF(ISERROR(VLOOKUP(J26,勤務シフト一覧!$B$4:$C$106,2,FALSE)),\"\",VLOOKUP(J26,勤務シフト一覧!$B$4:$C$106,2,FALSE))","v":""},{"$f":"IF(ISERROR(VLOOKUP(K26,勤務シフト一覧!$B$4:$C$106,2,FALSE)),\"\",VLOOKUP(K26,勤務シフト一覧!$B$4:$C$106,2,FALSE))","v":""},{"$f":"IF(ISERROR(VLOOKUP(L26,勤務シフト一覧!$B$4:$C$106,2,FALSE)),\"\",VLOOKUP(L26,勤務シフト一覧!$B$4:$C$106,2,FALSE))","v":""},{"$f":"IF(ISERROR(VLOOKUP(M26,勤務シフト一覧!$B$4:$C$106,2,FALSE)),\"\",VLOOKUP(M26,勤務シフト一覧!$B$4:$C$106,2,FALSE))","v":""},{"$f":"IF(ISERROR(VLOOKUP(N26,勤務シフト一覧!$B$4:$C$106,2,FALSE)),\"\",VLOOKUP(N26,勤務シフト一覧!$B$4:$C$106,2,FALSE))","v":""},{"$f":"IF(ISERROR(VLOOKUP(O26,勤務シフト一覧!$B$4:$C$106,2,FALSE)),\"\",VLOOKUP(O26,勤務シフト一覧!$B$4:$C$106,2,FALSE))","v":""},{"$f":"IF(ISERROR(VLOOKUP(P26,勤務シフト一覧!$B$4:$C$106,2,FALSE)),\"\",VLOOKUP(P26,勤務シフト一覧!$B$4:$C$106,2,FALSE))","v":""},{"$f":"IF(ISERROR(VLOOKUP(Q26,勤務シフト一覧!$B$4:$C$106,2,FALSE)),\"\",VLOOKUP(Q26,勤務シフト一覧!$B$4:$C$106,2,FALSE))","v":""},{"$f":"IF(ISERROR(VLOOKUP(R26,勤務シフト一覧!$B$4:$C$106,2,FALSE)),\"\",VLOOKUP(R26,勤務シフト一覧!$B$4:$C$106,2,FALSE))","v":""},{"$f":"IF(ISERROR(VLOOKUP(S26,勤務シフト一覧!$B$4:$C$106,2,FALSE)),\"\",VLOOKUP(S26,勤務シフト一覧!$B$4:$C$106,2,FALSE))","v":""},{"$f":"IF(ISERROR(VLOOKUP(T26,勤務シフト一覧!$B$4:$C$106,2,FALSE)),\"\",VLOOKUP(T26,勤務シフト一覧!$B$4:$C$106,2,FALSE))","v":""},{"$f":"IF(ISERROR(VLOOKUP(U26,勤務シフト一覧!$B$4:$C$106,2,FALSE)),\"\",VLOOKUP(U26,勤務シフト一覧!$B$4:$C$106,2,FALSE))","v":""},{"$f":"IF(ISERROR(VLOOKUP(V26,勤務シフト一覧!$B$4:$C$106,2,FALSE)),\"\",VLOOKUP(V26,勤務シフト一覧!$B$4:$C$106,2,FALSE))","v":""},{"$f":"IF(ISERROR(VLOOKUP(W26,勤務シフト一覧!$B$4:$C$106,2,FALSE)),\"\",VLOOKUP(W26,勤務シフト一覧!$B$4:$C$106,2,FALSE))","v":""},{"$f":"IF(ISERROR(VLOOKUP(X26,勤務シフト一覧!$B$4:$C$106,2,FALSE)),\"\",VLOOKUP(X26,勤務シフト一覧!$B$4:$C$106,2,FALSE))","v":""},{"$f":"IF(ISERROR(VLOOKUP(Y26,勤務シフト一覧!$B$4:$C$106,2,FALSE)),\"\",VLOOKUP(Y26,勤務シフト一覧!$B$4:$C$106,2,FALSE))","v":""},{"$f":"IF(ISERROR(VLOOKUP(Z26,勤務シフト一覧!$B$4:$C$106,2,FALSE)),\"\",VLOOKUP(Z26,勤務シフト一覧!$B$4:$C$106,2,FALSE))","v":""},{"$f":"IF(ISERROR(VLOOKUP(AA26,勤務シフト一覧!$B$4:$C$106,2,FALSE)),\"\",VLOOKUP(AA26,勤務シフト一覧!$B$4:$C$106,2,FALSE))","v":""},{"$f":"IF(ISERROR(VLOOKUP(AB26,勤務シフト一覧!$B$4:$C$106,2,FALSE)),\"\",VLOOKUP(AB26,勤務シフト一覧!$B$4:$C$106,2,FALSE))","v":""},{"$f":"IF(ISERROR(VLOOKUP(AC26,勤務シフト一覧!$B$4:$C$106,2,FALSE)),\"\",VLOOKUP(AC26,勤務シフト一覧!$B$4:$C$106,2,FALSE))","v":""},{"$f":"IF(ISERROR(VLOOKUP(AD26,勤務シフト一覧!$B$4:$C$106,2,FALSE)),\"\",VLOOKUP(AD26,勤務シフト一覧!$B$4:$C$106,2,FALSE))","v":""},{"$f":"IF(ISERROR(VLOOKUP(AE26,勤務シフト一覧!$B$4:$C$106,2,FALSE)),\"\",VLOOKUP(AE26,勤務シフト一覧!$B$4:$C$106,2,FALSE))","v":""},{"$f":"IF(ISERROR(VLOOKUP(AF26,勤務シフト一覧!$B$4:$C$106,2,FALSE)),\"\",VLOOKUP(AF26,勤務シフト一覧!$B$4:$C$106,2,FALSE))","v":""},{"$f":"IF(ISERROR(VLOOKUP(AG26,勤務シフト一覧!$B$4:$C$106,2,FALSE)),\"\",VLOOKUP(AG26,勤務シフト一覧!$B$4:$C$106,2,FALSE))","v":""},{"$f":"IF(ISERROR(VLOOKUP(AH26,勤務シフト一覧!$B$4:$C$106,2,FALSE)),\"\",VLOOKUP(AH26,勤務シフト一覧!$B$4:$C$106,2,FALSE))","v":""},null,{"$f":"IF(ISERROR(VLOOKUP(D26,勤務シフト一覧!$B$4:$D$106,3,FALSE)),\"\",VLOOKUP(D26,勤務シフト一覧!$B$4:$D$106,3,FALSE))","v":""},{"$f":"IF(ISERROR(VLOOKUP(E26,勤務シフト一覧!$B$4:$D$106,3,FALSE)),\"\",VLOOKUP(E26,勤務シフト一覧!$B$4:$D$106,3,FALSE))","v":""},{"$f":"IF(ISERROR(VLOOKUP(F26,勤務シフト一覧!$B$4:$D$106,3,FALSE)),\"\",VLOOKUP(F26,勤務シフト一覧!$B$4:$D$106,3,FALSE))","v":""},{"$f":"IF(ISERROR(VLOOKUP(G26,勤務シフト一覧!$B$4:$D$106,3,FALSE)),\"\",VLOOKUP(G26,勤務シフト一覧!$B$4:$D$106,3,FALSE))","v":""},{"$f":"IF(ISERROR(VLOOKUP(H26,勤務シフト一覧!$B$4:$D$106,3,FALSE)),\"\",VLOOKUP(H26,勤務シフト一覧!$B$4:$D$106,3,FALSE))","v":""},{"$f":"IF(ISERROR(VLOOKUP(I26,勤務シフト一覧!$B$4:$D$106,3,FALSE)),\"\",VLOOKUP(I26,勤務シフト一覧!$B$4:$D$106,3,FALSE))","v":""},{"$f":"IF(ISERROR(VLOOKUP(J26,勤務シフト一覧!$B$4:$D$106,3,FALSE)),\"\",VLOOKUP(J26,勤務シフト一覧!$B$4:$D$106,3,FALSE))","v":""},{"$f":"IF(ISERROR(VLOOKUP(K26,勤務シフト一覧!$B$4:$D$106,3,FALSE)),\"\",VLOOKUP(K26,勤務シフト一覧!$B$4:$D$106,3,FALSE))","v":""},{"$f":"IF(ISERROR(VLOOKUP(L26,勤務シフト一覧!$B$4:$D$106,3,FALSE)),\"\",VLOOKUP(L26,勤務シフト一覧!$B$4:$D$106,3,FALSE))","v":""},{"$f":"IF(ISERROR(VLOOKUP(M26,勤務シフト一覧!$B$4:$D$106,3,FALSE)),\"\",VLOOKUP(M26,勤務シフト一覧!$B$4:$D$106,3,FALSE))","v":""},{"$f":"IF(ISERROR(VLOOKUP(N26,勤務シフト一覧!$B$4:$D$106,3,FALSE)),\"\",VLOOKUP(N26,勤務シフト一覧!$B$4:$D$106,3,FALSE))","v":""},{"$f":"IF(ISERROR(VLOOKUP(O26,勤務シフト一覧!$B$4:$D$106,3,FALSE)),\"\",VLOOKUP(O26,勤務シフト一覧!$B$4:$D$106,3,FALSE))","v":""},{"$f":"IF(ISERROR(VLOOKUP(P26,勤務シフト一覧!$B$4:$D$106,3,FALSE)),\"\",VLOOKUP(P26,勤務シフト一覧!$B$4:$D$106,3,FALSE))","v":""},{"$f":"IF(ISERROR(VLOOKUP(Q26,勤務シフト一覧!$B$4:$D$106,3,FALSE)),\"\",VLOOKUP(Q26,勤務シフト一覧!$B$4:$D$106,3,FALSE))","v":""},{"$f":"IF(ISERROR(VLOOKUP(R26,勤務シフト一覧!$B$4:$D$106,3,FALSE)),\"\",VLOOKUP(R26,勤務シフト一覧!$B$4:$D$106,3,FALSE))","v":""},{"$f":"IF(ISERROR(VLOOKUP(S26,勤務シフト一覧!$B$4:$D$106,3,FALSE)),\"\",VLOOKUP(S26,勤務シフト一覧!$B$4:$D$106,3,FALSE))","v":""},{"$f":"IF(ISERROR(VLOOKUP(T26,勤務シフト一覧!$B$4:$D$106,3,FALSE)),\"\",VLOOKUP(T26,勤務シフト一覧!$B$4:$D$106,3,FALSE))","v":""},{"$f":"IF(ISERROR(VLOOKUP(U26,勤務シフト一覧!$B$4:$D$106,3,FALSE)),\"\",VLOOKUP(U26,勤務シフト一覧!$B$4:$D$106,3,FALSE))","v":""},{"$f":"IF(ISERROR(VLOOKUP(V26,勤務シフト一覧!$B$4:$D$106,3,FALSE)),\"\",VLOOKUP(V26,勤務シフト一覧!$B$4:$D$106,3,FALSE))","v":""},{"$f":"IF(ISERROR(VLOOKUP(W26,勤務シフト一覧!$B$4:$D$106,3,FALSE)),\"\",VLOOKUP(W26,勤務シフト一覧!$B$4:$D$106,3,FALSE))","v":""},{"$f":"IF(ISERROR(VLOOKUP(X26,勤務シフト一覧!$B$4:$D$106,3,FALSE)),\"\",VLOOKUP(X26,勤務シフト一覧!$B$4:$D$106,3,FALSE))","v":""},{"$f":"IF(ISERROR(VLOOKUP(Y26,勤務シフト一覧!$B$4:$D$106,3,FALSE)),\"\",VLOOKUP(Y26,勤務シフト一覧!$B$4:$D$106,3,FALSE))","v":""},{"$f":"IF(ISERROR(VLOOKUP(Z26,勤務シフト一覧!$B$4:$D$106,3,FALSE)),\"\",VLOOKUP(Z26,勤務シフト一覧!$B$4:$D$106,3,FALSE))","v":""},{"$f":"IF(ISERROR(VLOOKUP(AA26,勤務シフト一覧!$B$4:$D$106,3,FALSE)),\"\",VLOOKUP(AA26,勤務シフト一覧!$B$4:$D$106,3,FALSE))","v":""},{"$f":"IF(ISERROR(VLOOKUP(AB26,勤務シフト一覧!$B$4:$D$106,3,FALSE)),\"\",VLOOKUP(AB26,勤務シフト一覧!$B$4:$D$106,3,FALSE))","v":""},{"$f":"IF(ISERROR(VLOOKUP(AC26,勤務シフト一覧!$B$4:$D$106,3,FALSE)),\"\",VLOOKUP(AC26,勤務シフト一覧!$B$4:$D$106,3,FALSE))","v":""},{"$f":"IF(ISERROR(VLOOKUP(AD26,勤務シフト一覧!$B$4:$D$106,3,FALSE)),\"\",VLOOKUP(AD26,勤務シフト一覧!$B$4:$D$106,3,FALSE))","v":""},{"$f":"IF(ISERROR(VLOOKUP(AE26,勤務シフト一覧!$B$4:$D$106,3,FALSE)),\"\",VLOOKUP(AE26,勤務シフト一覧!$B$4:$D$106,3,FALSE))","v":""},{"$f":"IF(ISERROR(VLOOKUP(AF26,勤務シフト一覧!$B$4:$D$106,3,FALSE)),\"\",VLOOKUP(AF26,勤務シフト一覧!$B$4:$D$106,3,FALSE))","v":""},{"$f":"IF(ISERROR(VLOOKUP(AG26,勤務シフト一覧!$B$4:$D$106,3,FALSE)),\"\",VLOOKUP(AG26,勤務シフト一覧!$B$4:$D$106,3,FALSE))","v":""},{"$f":"IF(ISERROR(VLOOKUP(AH26,勤務シフト一覧!$B$4:$D$106,3,FALSE)),\"\",VLOOKUP(AH26,勤務シフト一覧!$B$4:$D$106,3,FALSE))","v":""},{"$f":"COUNTIF(AI26:BM26,$CT$3)","v":0},{"$f":"COUNTIF(AI26:BM26,$CU$3)","v":0},{"$f":"COUNTIF(AI26:BM26,$CV$3)","v":0},{"$f":"COUNTIF(AI26:BM26,$CW$3)","v":0},{"$f":"COUNTIF(AI26:BM26,$CX$3)","v":0},{"$f":"COUNTIF(AI26:BM26,$CY$3)","v":0},{"$f":"COUNTIF(AI26:BM26,$CZ$3)","v":0},{"$f":"COUNTIF(AI26:BM26,$DA$3)","v":0},{"$f":"COUNTIF(AI26:BM26,$DB$3)","v":0},{"$f":"COUNTIF(AI26:BM26,$DC$3)","v":0},{"$f":"IF(LEN(職員一覧!D12)<>0,職員一覧!D12,\"\")","v":""},null,{"$f":"IF(勤務シフト一覧!$D26<>0,IF(勤務シフト一覧!$B26<> 0,勤務シフト一覧!$B26,\"\"),\"\")","v":"日4"}]
[null,null,"実施",null,null,null,null,null,null,null,null,null,null,null,null,null,null,null,null,null,null,null,null,null,null,null,null,null,null,null,null,null,null,null,{"$f":"IF(ISERROR(VLOOKUP(D27,勤務シフト一覧!$B$4:$C$106,2,FALSE)),\"\",VLOOKUP(D27,勤務シフト一覧!$B$4:$C$106,2,FALSE))","v":""},{"$f":"IF(ISERROR(VLOOKUP(E27,勤務シフト一覧!$B$4:$C$106,2,FALSE)),\"\",VLOOKUP(E27,勤務シフト一覧!$B$4:$C$106,2,FALSE))","v":""},{"$f":"IF(ISERROR(VLOOKUP(F27,勤務シフト一覧!$B$4:$C$106,2,FALSE)),\"\",VLOOKUP(F27,勤務シフト一覧!$B$4:$C$106,2,FALSE))","v":""},{"$f":"IF(ISERROR(VLOOKUP(G27,勤務シフト一覧!$B$4:$C$106,2,FALSE)),\"\",VLOOKUP(G27,勤務シフト一覧!$B$4:$C$106,2,FALSE))","v":""},{"$f":"IF(ISERROR(VLOOKUP(H27,勤務シフト一覧!$B$4:$C$106,2,FALSE)),\"\",VLOOKUP(H27,勤務シフト一覧!$B$4:$C$106,2,FALSE))","v":""},{"$f":"IF(ISERROR(VLOOKUP(I27,勤務シフト一覧!$B$4:$C$106,2,FALSE)),\"\",VLOOKUP(I27,勤務シフト一覧!$B$4:$C$106,2,FALSE))","v":""},{"$f":"IF(ISERROR(VLOOKUP(J27,勤務シフト一覧!$B$4:$C$106,2,FALSE)),\"\",VLOOKUP(J27,勤務シフト一覧!$B$4:$C$106,2,FALSE))","v":""},{"$f":"IF(ISERROR(VLOOKUP(K27,勤務シフト一覧!$B$4:$C$106,2,FALSE)),\"\",VLOOKUP(K27,勤務シフト一覧!$B$4:$C$106,2,FALSE))","v":""},{"$f":"IF(ISERROR(VLOOKUP(L27,勤務シフト一覧!$B$4:$C$106,2,FALSE)),\"\",VLOOKUP(L27,勤務シフト一覧!$B$4:$C$106,2,FALSE))","v":""},{"$f":"IF(ISERROR(VLOOKUP(M27,勤務シフト一覧!$B$4:$C$106,2,FALSE)),\"\",VLOOKUP(M27,勤務シフト一覧!$B$4:$C$106,2,FALSE))","v":""},{"$f":"IF(ISERROR(VLOOKUP(N27,勤務シフト一覧!$B$4:$C$106,2,FALSE)),\"\",VLOOKUP(N27,勤務シフト一覧!$B$4:$C$106,2,FALSE))","v":""},{"$f":"IF(ISERROR(VLOOKUP(O27,勤務シフト一覧!$B$4:$C$106,2,FALSE)),\"\",VLOOKUP(O27,勤務シフト一覧!$B$4:$C$106,2,FALSE))","v":""},{"$f":"IF(ISERROR(VLOOKUP(P27,勤務シフト一覧!$B$4:$C$106,2,FALSE)),\"\",VLOOKUP(P27,勤務シフト一覧!$B$4:$C$106,2,FALSE))","v":""},{"$f":"IF(ISERROR(VLOOKUP(Q27,勤務シフト一覧!$B$4:$C$106,2,FALSE)),\"\",VLOOKUP(Q27,勤務シフト一覧!$B$4:$C$106,2,FALSE))","v":""},{"$f":"IF(ISERROR(VLOOKUP(R27,勤務シフト一覧!$B$4:$C$106,2,FALSE)),\"\",VLOOKUP(R27,勤務シフト一覧!$B$4:$C$106,2,FALSE))","v":""},{"$f":"IF(ISERROR(VLOOKUP(S27,勤務シフト一覧!$B$4:$C$106,2,FALSE)),\"\",VLOOKUP(S27,勤務シフト一覧!$B$4:$C$106,2,FALSE))","v":""},{"$f":"IF(ISERROR(VLOOKUP(T27,勤務シフト一覧!$B$4:$C$106,2,FALSE)),\"\",VLOOKUP(T27,勤務シフト一覧!$B$4:$C$106,2,FALSE))","v":""},{"$f":"IF(ISERROR(VLOOKUP(U27,勤務シフト一覧!$B$4:$C$106,2,FALSE)),\"\",VLOOKUP(U27,勤務シフト一覧!$B$4:$C$106,2,FALSE))","v":""},{"$f":"IF(ISERROR(VLOOKUP(V27,勤務シフト一覧!$B$4:$C$106,2,FALSE)),\"\",VLOOKUP(V27,勤務シフト一覧!$B$4:$C$106,2,FALSE))","v":""},{"$f":"IF(ISERROR(VLOOKUP(W27,勤務シフト一覧!$B$4:$C$106,2,FALSE)),\"\",VLOOKUP(W27,勤務シフト一覧!$B$4:$C$106,2,FALSE))","v":""},{"$f":"IF(ISERROR(VLOOKUP(X27,勤務シフト一覧!$B$4:$C$106,2,FALSE)),\"\",VLOOKUP(X27,勤務シフト一覧!$B$4:$C$106,2,FALSE))","v":""},{"$f":"IF(ISERROR(VLOOKUP(Y27,勤務シフト一覧!$B$4:$C$106,2,FALSE)),\"\",VLOOKUP(Y27,勤務シフト一覧!$B$4:$C$106,2,FALSE))","v":""},{"$f":"IF(ISERROR(VLOOKUP(Z27,勤務シフト一覧!$B$4:$C$106,2,FALSE)),\"\",VLOOKUP(Z27,勤務シフト一覧!$B$4:$C$106,2,FALSE))","v":""},{"$f":"IF(ISERROR(VLOOKUP(AA27,勤務シフト一覧!$B$4:$C$106,2,FALSE)),\"\",VLOOKUP(AA27,勤務シフト一覧!$B$4:$C$106,2,FALSE))","v":""},{"$f":"IF(ISERROR(VLOOKUP(AB27,勤務シフト一覧!$B$4:$C$106,2,FALSE)),\"\",VLOOKUP(AB27,勤務シフト一覧!$B$4:$C$106,2,FALSE))","v":""},{"$f":"IF(ISERROR(VLOOKUP(AC27,勤務シフト一覧!$B$4:$C$106,2,FALSE)),\"\",VLOOKUP(AC27,勤務シフト一覧!$B$4:$C$106,2,FALSE))","v":""},{"$f":"IF(ISERROR(VLOOKUP(AD27,勤務シフト一覧!$B$4:$C$106,2,FALSE)),\"\",VLOOKUP(AD27,勤務シフト一覧!$B$4:$C$106,2,FALSE))","v":""},{"$f":"IF(ISERROR(VLOOKUP(AE27,勤務シフト一覧!$B$4:$C$106,2,FALSE)),\"\",VLOOKUP(AE27,勤務シフト一覧!$B$4:$C$106,2,FALSE))","v":""},{"$f":"IF(ISERROR(VLOOKUP(AF27,勤務シフト一覧!$B$4:$C$106,2,FALSE)),\"\",VLOOKUP(AF27,勤務シフト一覧!$B$4:$C$106,2,FALSE))","v":""},{"$f":"IF(ISERROR(VLOOKUP(AG27,勤務シフト一覧!$B$4:$C$106,2,FALSE)),\"\",VLOOKUP(AG27,勤務シフト一覧!$B$4:$C$106,2,FALSE))","v":""},{"$f":"IF(ISERROR(VLOOKUP(AH27,勤務シフト一覧!$B$4:$C$106,2,FALSE)),\"\",VLOOKUP(AH27,勤務シフト一覧!$B$4:$C$106,2,FALSE))","v":""},null,{"$f":"IF(ISERROR(VLOOKUP(D27,勤務シフト一覧!$B$4:$D$106,3,FALSE)),\"\",VLOOKUP(D27,勤務シフト一覧!$B$4:$D$106,3,FALSE))","v":""},{"$f":"IF(ISERROR(VLOOKUP(E27,勤務シフト一覧!$B$4:$D$106,3,FALSE)),\"\",VLOOKUP(E27,勤務シフト一覧!$B$4:$D$106,3,FALSE))","v":""},{"$f":"IF(ISERROR(VLOOKUP(F27,勤務シフト一覧!$B$4:$D$106,3,FALSE)),\"\",VLOOKUP(F27,勤務シフト一覧!$B$4:$D$106,3,FALSE))","v":""},{"$f":"IF(ISERROR(VLOOKUP(G27,勤務シフト一覧!$B$4:$D$106,3,FALSE)),\"\",VLOOKUP(G27,勤務シフト一覧!$B$4:$D$106,3,FALSE))","v":""},{"$f":"IF(ISERROR(VLOOKUP(H27,勤務シフト一覧!$B$4:$D$106,3,FALSE)),\"\",VLOOKUP(H27,勤務シフト一覧!$B$4:$D$106,3,FALSE))","v":""},{"$f":"IF(ISERROR(VLOOKUP(I27,勤務シフト一覧!$B$4:$D$106,3,FALSE)),\"\",VLOOKUP(I27,勤務シフト一覧!$B$4:$D$106,3,FALSE))","v":""},{"$f":"IF(ISERROR(VLOOKUP(J27,勤務シフト一覧!$B$4:$D$106,3,FALSE)),\"\",VLOOKUP(J27,勤務シフト一覧!$B$4:$D$106,3,FALSE))","v":""},{"$f":"IF(ISERROR(VLOOKUP(K27,勤務シフト一覧!$B$4:$D$106,3,FALSE)),\"\",VLOOKUP(K27,勤務シフト一覧!$B$4:$D$106,3,FALSE))","v":""},{"$f":"IF(ISERROR(VLOOKUP(L27,勤務シフト一覧!$B$4:$D$106,3,FALSE)),\"\",VLOOKUP(L27,勤務シフト一覧!$B$4:$D$106,3,FALSE))","v":""},{"$f":"IF(ISERROR(VLOOKUP(M27,勤務シフト一覧!$B$4:$D$106,3,FALSE)),\"\",VLOOKUP(M27,勤務シフト一覧!$B$4:$D$106,3,FALSE))","v":""},{"$f":"IF(ISERROR(VLOOKUP(N27,勤務シフト一覧!$B$4:$D$106,3,FALSE)),\"\",VLOOKUP(N27,勤務シフト一覧!$B$4:$D$106,3,FALSE))","v":""},{"$f":"IF(ISERROR(VLOOKUP(O27,勤務シフト一覧!$B$4:$D$106,3,FALSE)),\"\",VLOOKUP(O27,勤務シフト一覧!$B$4:$D$106,3,FALSE))","v":""},{"$f":"IF(ISERROR(VLOOKUP(P27,勤務シフト一覧!$B$4:$D$106,3,FALSE)),\"\",VLOOKUP(P27,勤務シフト一覧!$B$4:$D$106,3,FALSE))","v":""},{"$f":"IF(ISERROR(VLOOKUP(Q27,勤務シフト一覧!$B$4:$D$106,3,FALSE)),\"\",VLOOKUP(Q27,勤務シフト一覧!$B$4:$D$106,3,FALSE))","v":""},{"$f":"IF(ISERROR(VLOOKUP(R27,勤務シフト一覧!$B$4:$D$106,3,FALSE)),\"\",VLOOKUP(R27,勤務シフト一覧!$B$4:$D$106,3,FALSE))","v":""},{"$f":"IF(ISERROR(VLOOKUP(S27,勤務シフト一覧!$B$4:$D$106,3,FALSE)),\"\",VLOOKUP(S27,勤務シフト一覧!$B$4:$D$106,3,FALSE))","v":""},{"$f":"IF(ISERROR(VLOOKUP(T27,勤務シフト一覧!$B$4:$D$106,3,FALSE)),\"\",VLOOKUP(T27,勤務シフト一覧!$B$4:$D$106,3,FALSE))","v":""},{"$f":"IF(ISERROR(VLOOKUP(U27,勤務シフト一覧!$B$4:$D$106,3,FALSE)),\"\",VLOOKUP(U27,勤務シフト一覧!$B$4:$D$106,3,FALSE))","v":""},{"$f":"IF(ISERROR(VLOOKUP(V27,勤務シフト一覧!$B$4:$D$106,3,FALSE)),\"\",VLOOKUP(V27,勤務シフト一覧!$B$4:$D$106,3,FALSE))","v":""},{"$f":"IF(ISERROR(VLOOKUP(W27,勤務シフト一覧!$B$4:$D$106,3,FALSE)),\"\",VLOOKUP(W27,勤務シフト一覧!$B$4:$D$106,3,FALSE))","v":""},{"$f":"IF(ISERROR(VLOOKUP(X27,勤務シフト一覧!$B$4:$D$106,3,FALSE)),\"\",VLOOKUP(X27,勤務シフト一覧!$B$4:$D$106,3,FALSE))","v":""},{"$f":"IF(ISERROR(VLOOKUP(Y27,勤務シフト一覧!$B$4:$D$106,3,FALSE)),\"\",VLOOKUP(Y27,勤務シフト一覧!$B$4:$D$106,3,FALSE))","v":""},{"$f":"IF(ISERROR(VLOOKUP(Z27,勤務シフト一覧!$B$4:$D$106,3,FALSE)),\"\",VLOOKUP(Z27,勤務シフト一覧!$B$4:$D$106,3,FALSE))","v":""},{"$f":"IF(ISERROR(VLOOKUP(AA27,勤務シフト一覧!$B$4:$D$106,3,FALSE)),\"\",VLOOKUP(AA27,勤務シフト一覧!$B$4:$D$106,3,FALSE))","v":""},{"$f":"IF(ISERROR(VLOOKUP(AB27,勤務シフト一覧!$B$4:$D$106,3,FALSE)),\"\",VLOOKUP(AB27,勤務シフト一覧!$B$4:$D$106,3,FALSE))","v":""},{"$f":"IF(ISERROR(VLOOKUP(AC27,勤務シフト一覧!$B$4:$D$106,3,FALSE)),\"\",VLOOKUP(AC27,勤務シフト一覧!$B$4:$D$106,3,FALSE))","v":""},{"$f":"IF(ISERROR(VLOOKUP(AD27,勤務シフト一覧!$B$4:$D$106,3,FALSE)),\"\",VLOOKUP(AD27,勤務シフト一覧!$B$4:$D$106,3,FALSE))","v":""},{"$f":"IF(ISERROR(VLOOKUP(AE27,勤務シフト一覧!$B$4:$D$106,3,FALSE)),\"\",VLOOKUP(AE27,勤務シフト一覧!$B$4:$D$106,3,FALSE))","v":""},{"$f":"IF(ISERROR(VLOOKUP(AF27,勤務シフト一覧!$B$4:$D$106,3,FALSE)),\"\",VLOOKUP(AF27,勤務シフト一覧!$B$4:$D$106,3,FALSE))","v":""},{"$f":"IF(ISERROR(VLOOKUP(AG27,勤務シフト一覧!$B$4:$D$106,3,FALSE)),\"\",VLOOKUP(AG27,勤務シフト一覧!$B$4:$D$106,3,FALSE))","v":""},{"$f":"IF(ISERROR(VLOOKUP(AH27,勤務シフト一覧!$B$4:$D$106,3,FALSE)),\"\",VLOOKUP(AH27,勤務シフト一覧!$B$4:$D$106,3,FALSE))","v":""},0,0,0,0,0,0,0,0,0,0,null,null,{"$f":"IF(勤務シフト一覧!$D27<>0,IF(勤務シフト一覧!$B27<> 0,勤務シフト一覧!$B27,\"\"),\"\")","v":"代／"}]
[{"$f":"IF(LEN(職員一覧!B13)<>0,職員一覧!B13,\"\")","v":""},{"$f":"IF(LEN(職員一覧!C13)<>0,職員一覧!C13,\"\")","v":""},"予定",null,null,null,null,null,null,null,null,null,null,null,null,null,null,null,null,null,null,null,null,null,null,null,null,null,null,null,null,null,null,null,{"$f":"IF(ISERROR(VLOOKUP(D28,勤務シフト一覧!$B$4:$C$106,2,FALSE)),\"\",VLOOKUP(D28,勤務シフト一覧!$B$4:$C$106,2,FALSE))","v":""},{"$f":"IF(ISERROR(VLOOKUP(E28,勤務シフト一覧!$B$4:$C$106,2,FALSE)),\"\",VLOOKUP(E28,勤務シフト一覧!$B$4:$C$106,2,FALSE))","v":""},{"$f":"IF(ISERROR(VLOOKUP(F28,勤務シフト一覧!$B$4:$C$106,2,FALSE)),\"\",VLOOKUP(F28,勤務シフト一覧!$B$4:$C$106,2,FALSE))","v":""},{"$f":"IF(ISERROR(VLOOKUP(G28,勤務シフト一覧!$B$4:$C$106,2,FALSE)),\"\",VLOOKUP(G28,勤務シフト一覧!$B$4:$C$106,2,FALSE))","v":""},{"$f":"IF(ISERROR(VLOOKUP(H28,勤務シフト一覧!$B$4:$C$106,2,FALSE)),\"\",VLOOKUP(H28,勤務シフト一覧!$B$4:$C$106,2,FALSE))","v":""},{"$f":"IF(ISERROR(VLOOKUP(I28,勤務シフト一覧!$B$4:$C$106,2,FALSE)),\"\",VLOOKUP(I28,勤務シフト一覧!$B$4:$C$106,2,FALSE))","v":""},{"$f":"IF(ISERROR(VLOOKUP(J28,勤務シフト一覧!$B$4:$C$106,2,FALSE)),\"\",VLOOKUP(J28,勤務シフト一覧!$B$4:$C$106,2,FALSE))","v":""},{"$f":"IF(ISERROR(VLOOKUP(K28,勤務シフト一覧!$B$4:$C$106,2,FALSE)),\"\",VLOOKUP(K28,勤務シフト一覧!$B$4:$C$106,2,FALSE))","v":""},{"$f":"IF(ISERROR(VLOOKUP(L28,勤務シフト一覧!$B$4:$C$106,2,FALSE)),\"\",VLOOKUP(L28,勤務シフト一覧!$B$4:$C$106,2,FALSE))","v":""},{"$f":"IF(ISERROR(VLOOKUP(M28,勤務シフト一覧!$B$4:$C$106,2,FALSE)),\"\",VLOOKUP(M28,勤務シフト一覧!$B$4:$C$106,2,FALSE))","v":""},{"$f":"IF(ISERROR(VLOOKUP(N28,勤務シフト一覧!$B$4:$C$106,2,FALSE)),\"\",VLOOKUP(N28,勤務シフト一覧!$B$4:$C$106,2,FALSE))","v":""},{"$f":"IF(ISERROR(VLOOKUP(O28,勤務シフト一覧!$B$4:$C$106,2,FALSE)),\"\",VLOOKUP(O28,勤務シフト一覧!$B$4:$C$106,2,FALSE))","v":""},{"$f":"IF(ISERROR(VLOOKUP(P28,勤務シフト一覧!$B$4:$C$106,2,FALSE)),\"\",VLOOKUP(P28,勤務シフト一覧!$B$4:$C$106,2,FALSE))","v":""},{"$f":"IF(ISERROR(VLOOKUP(Q28,勤務シフト一覧!$B$4:$C$106,2,FALSE)),\"\",VLOOKUP(Q28,勤務シフト一覧!$B$4:$C$106,2,FALSE))","v":""},{"$f":"IF(ISERROR(VLOOKUP(R28,勤務シフト一覧!$B$4:$C$106,2,FALSE)),\"\",VLOOKUP(R28,勤務シフト一覧!$B$4:$C$106,2,FALSE))","v":""},{"$f":"IF(ISERROR(VLOOKUP(S28,勤務シフト一覧!$B$4:$C$106,2,FALSE)),\"\",VLOOKUP(S28,勤務シフト一覧!$B$4:$C$106,2,FALSE))","v":""},{"$f":"IF(ISERROR(VLOOKUP(T28,勤務シフト一覧!$B$4:$C$106,2,FALSE)),\"\",VLOOKUP(T28,勤務シフト一覧!$B$4:$C$106,2,FALSE))","v":""},{"$f":"IF(ISERROR(VLOOKUP(U28,勤務シフト一覧!$B$4:$C$106,2,FALSE)),\"\",VLOOKUP(U28,勤務シフト一覧!$B$4:$C$106,2,FALSE))","v":""},{"$f":"IF(ISERROR(VLOOKUP(V28,勤務シフト一覧!$B$4:$C$106,2,FALSE)),\"\",VLOOKUP(V28,勤務シフト一覧!$B$4:$C$106,2,FALSE))","v":""},{"$f":"IF(ISERROR(VLOOKUP(W28,勤務シフト一覧!$B$4:$C$106,2,FALSE)),\"\",VLOOKUP(W28,勤務シフト一覧!$B$4:$C$106,2,FALSE))","v":""},{"$f":"IF(ISERROR(VLOOKUP(X28,勤務シフト一覧!$B$4:$C$106,2,FALSE)),\"\",VLOOKUP(X28,勤務シフト一覧!$B$4:$C$106,2,FALSE))","v":""},{"$f":"IF(ISERROR(VLOOKUP(Y28,勤務シフト一覧!$B$4:$C$106,2,FALSE)),\"\",VLOOKUP(Y28,勤務シフト一覧!$B$4:$C$106,2,FALSE))","v":""},{"$f":"IF(ISERROR(VLOOKUP(Z28,勤務シフト一覧!$B$4:$C$106,2,FALSE)),\"\",VLOOKUP(Z28,勤務シフト一覧!$B$4:$C$106,2,FALSE))","v":""},{"$f":"IF(ISERROR(VLOOKUP(AA28,勤務シフト一覧!$B$4:$C$106,2,FALSE)),\"\",VLOOKUP(AA28,勤務シフト一覧!$B$4:$C$106,2,FALSE))","v":""},{"$f":"IF(ISERROR(VLOOKUP(AB28,勤務シフト一覧!$B$4:$C$106,2,FALSE)),\"\",VLOOKUP(AB28,勤務シフト一覧!$B$4:$C$106,2,FALSE))","v":""},{"$f":"IF(ISERROR(VLOOKUP(AC28,勤務シフト一覧!$B$4:$C$106,2,FALSE)),\"\",VLOOKUP(AC28,勤務シフト一覧!$B$4:$C$106,2,FALSE))","v":""},{"$f":"IF(ISERROR(VLOOKUP(AD28,勤務シフト一覧!$B$4:$C$106,2,FALSE)),\"\",VLOOKUP(AD28,勤務シフト一覧!$B$4:$C$106,2,FALSE))","v":""},{"$f":"IF(ISERROR(VLOOKUP(AE28,勤務シフト一覧!$B$4:$C$106,2,FALSE)),\"\",VLOOKUP(AE28,勤務シフト一覧!$B$4:$C$106,2,FALSE))","v":""},{"$f":"IF(ISERROR(VLOOKUP(AF28,勤務シフト一覧!$B$4:$C$106,2,FALSE)),\"\",VLOOKUP(AF28,勤務シフト一覧!$B$4:$C$106,2,FALSE))","v":""},{"$f":"IF(ISERROR(VLOOKUP(AG28,勤務シフト一覧!$B$4:$C$106,2,FALSE)),\"\",VLOOKUP(AG28,勤務シフト一覧!$B$4:$C$106,2,FALSE))","v":""},{"$f":"IF(ISERROR(VLOOKUP(AH28,勤務シフト一覧!$B$4:$C$106,2,FALSE)),\"\",VLOOKUP(AH28,勤務シフト一覧!$B$4:$C$106,2,FALSE))","v":""},null,{"$f":"IF(ISERROR(VLOOKUP(D28,勤務シフト一覧!$B$4:$D$106,3,FALSE)),\"\",VLOOKUP(D28,勤務シフト一覧!$B$4:$D$106,3,FALSE))","v":""},{"$f":"IF(ISERROR(VLOOKUP(E28,勤務シフト一覧!$B$4:$D$106,3,FALSE)),\"\",VLOOKUP(E28,勤務シフト一覧!$B$4:$D$106,3,FALSE))","v":""},{"$f":"IF(ISERROR(VLOOKUP(F28,勤務シフト一覧!$B$4:$D$106,3,FALSE)),\"\",VLOOKUP(F28,勤務シフト一覧!$B$4:$D$106,3,FALSE))","v":""},{"$f":"IF(ISERROR(VLOOKUP(G28,勤務シフト一覧!$B$4:$D$106,3,FALSE)),\"\",VLOOKUP(G28,勤務シフト一覧!$B$4:$D$106,3,FALSE))","v":""},{"$f":"IF(ISERROR(VLOOKUP(H28,勤務シフト一覧!$B$4:$D$106,3,FALSE)),\"\",VLOOKUP(H28,勤務シフト一覧!$B$4:$D$106,3,FALSE))","v":""},{"$f":"IF(ISERROR(VLOOKUP(I28,勤務シフト一覧!$B$4:$D$106,3,FALSE)),\"\",VLOOKUP(I28,勤務シフト一覧!$B$4:$D$106,3,FALSE))","v":""},{"$f":"IF(ISERROR(VLOOKUP(J28,勤務シフト一覧!$B$4:$D$106,3,FALSE)),\"\",VLOOKUP(J28,勤務シフト一覧!$B$4:$D$106,3,FALSE))","v":""},{"$f":"IF(ISERROR(VLOOKUP(K28,勤務シフト一覧!$B$4:$D$106,3,FALSE)),\"\",VLOOKUP(K28,勤務シフト一覧!$B$4:$D$106,3,FALSE))","v":""},{"$f":"IF(ISERROR(VLOOKUP(L28,勤務シフト一覧!$B$4:$D$106,3,FALSE)),\"\",VLOOKUP(L28,勤務シフト一覧!$B$4:$D$106,3,FALSE))","v":""},{"$f":"IF(ISERROR(VLOOKUP(M28,勤務シフト一覧!$B$4:$D$106,3,FALSE)),\"\",VLOOKUP(M28,勤務シフト一覧!$B$4:$D$106,3,FALSE))","v":""},{"$f":"IF(ISERROR(VLOOKUP(N28,勤務シフト一覧!$B$4:$D$106,3,FALSE)),\"\",VLOOKUP(N28,勤務シフト一覧!$B$4:$D$106,3,FALSE))","v":""},{"$f":"IF(ISERROR(VLOOKUP(O28,勤務シフト一覧!$B$4:$D$106,3,FALSE)),\"\",VLOOKUP(O28,勤務シフト一覧!$B$4:$D$106,3,FALSE))","v":""},{"$f":"IF(ISERROR(VLOOKUP(P28,勤務シフト一覧!$B$4:$D$106,3,FALSE)),\"\",VLOOKUP(P28,勤務シフト一覧!$B$4:$D$106,3,FALSE))","v":""},{"$f":"IF(ISERROR(VLOOKUP(Q28,勤務シフト一覧!$B$4:$D$106,3,FALSE)),\"\",VLOOKUP(Q28,勤務シフト一覧!$B$4:$D$106,3,FALSE))","v":""},{"$f":"IF(ISERROR(VLOOKUP(R28,勤務シフト一覧!$B$4:$D$106,3,FALSE)),\"\",VLOOKUP(R28,勤務シフト一覧!$B$4:$D$106,3,FALSE))","v":""},{"$f":"IF(ISERROR(VLOOKUP(S28,勤務シフト一覧!$B$4:$D$106,3,FALSE)),\"\",VLOOKUP(S28,勤務シフト一覧!$B$4:$D$106,3,FALSE))","v":""},{"$f":"IF(ISERROR(VLOOKUP(T28,勤務シフト一覧!$B$4:$D$106,3,FALSE)),\"\",VLOOKUP(T28,勤務シフト一覧!$B$4:$D$106,3,FALSE))","v":""},{"$f":"IF(ISERROR(VLOOKUP(U28,勤務シフト一覧!$B$4:$D$106,3,FALSE)),\"\",VLOOKUP(U28,勤務シフト一覧!$B$4:$D$106,3,FALSE))","v":""},{"$f":"IF(ISERROR(VLOOKUP(V28,勤務シフト一覧!$B$4:$D$106,3,FALSE)),\"\",VLOOKUP(V28,勤務シフト一覧!$B$4:$D$106,3,FALSE))","v":""},{"$f":"IF(ISERROR(VLOOKUP(W28,勤務シフト一覧!$B$4:$D$106,3,FALSE)),\"\",VLOOKUP(W28,勤務シフト一覧!$B$4:$D$106,3,FALSE))","v":""},{"$f":"IF(ISERROR(VLOOKUP(X28,勤務シフト一覧!$B$4:$D$106,3,FALSE)),\"\",VLOOKUP(X28,勤務シフト一覧!$B$4:$D$106,3,FALSE))","v":""},{"$f":"IF(ISERROR(VLOOKUP(Y28,勤務シフト一覧!$B$4:$D$106,3,FALSE)),\"\",VLOOKUP(Y28,勤務シフト一覧!$B$4:$D$106,3,FALSE))","v":""},{"$f":"IF(ISERROR(VLOOKUP(Z28,勤務シフト一覧!$B$4:$D$106,3,FALSE)),\"\",VLOOKUP(Z28,勤務シフト一覧!$B$4:$D$106,3,FALSE))","v":""},{"$f":"IF(ISERROR(VLOOKUP(AA28,勤務シフト一覧!$B$4:$D$106,3,FALSE)),\"\",VLOOKUP(AA28,勤務シフト一覧!$B$4:$D$106,3,FALSE))","v":""},{"$f":"IF(ISERROR(VLOOKUP(AB28,勤務シフト一覧!$B$4:$D$106,3,FALSE)),\"\",VLOOKUP(AB28,勤務シフト一覧!$B$4:$D$106,3,FALSE))","v":""},{"$f":"IF(ISERROR(VLOOKUP(AC28,勤務シフト一覧!$B$4:$D$106,3,FALSE)),\"\",VLOOKUP(AC28,勤務シフト一覧!$B$4:$D$106,3,FALSE))","v":""},{"$f":"IF(ISERROR(VLOOKUP(AD28,勤務シフト一覧!$B$4:$D$106,3,FALSE)),\"\",VLOOKUP(AD28,勤務シフト一覧!$B$4:$D$106,3,FALSE))","v":""},{"$f":"IF(ISERROR(VLOOKUP(AE28,勤務シフト一覧!$B$4:$D$106,3,FALSE)),\"\",VLOOKUP(AE28,勤務シフト一覧!$B$4:$D$106,3,FALSE))","v":""},{"$f":"IF(ISERROR(VLOOKUP(AF28,勤務シフト一覧!$B$4:$D$106,3,FALSE)),\"\",VLOOKUP(AF28,勤務シフト一覧!$B$4:$D$106,3,FALSE))","v":""},{"$f":"IF(ISERROR(VLOOKUP(AG28,勤務シフト一覧!$B$4:$D$106,3,FALSE)),\"\",VLOOKUP(AG28,勤務シフト一覧!$B$4:$D$106,3,FALSE))","v":""},{"$f":"IF(ISERROR(VLOOKUP(AH28,勤務シフト一覧!$B$4:$D$106,3,FALSE)),\"\",VLOOKUP(AH28,勤務シフト一覧!$B$4:$D$106,3,FALSE))","v":""},0,0,0,0,0,0,0,0,0,0,{"$f":"IF(LEN(職員一覧!D13)<>0,職員一覧!D13,\"\")","v":""},null,{"$f":"IF(勤務シフト一覧!$D28<>0,IF(勤務シフト一覧!$B28<> 0,勤務シフト一覧!$B28,\"\"),\"\")","v":"結／"}]
[null,null,"実施",null,null,null,null,null,null,null,null,null,null,null,null,null,null,null,null,null,null,null,null,null,null,null,null,null,null,null,null,null,null,null,{"$f":"IF(ISERROR(VLOOKUP(D29,勤務シフト一覧!$B$4:$C$106,2,FALSE)),\"\",VLOOKUP(D29,勤務シフト一覧!$B$4:$C$106,2,FALSE))","v":""},{"$f":"IF(ISERROR(VLOOKUP(E29,勤務シフト一覧!$B$4:$C$106,2,FALSE)),\"\",VLOOKUP(E29,勤務シフト一覧!$B$4:$C$106,2,FALSE))","v":""},{"$f":"IF(ISERROR(VLOOKUP(F29,勤務シフト一覧!$B$4:$C$106,2,FALSE)),\"\",VLOOKUP(F29,勤務シフト一覧!$B$4:$C$106,2,FALSE))","v":""},{"$f":"IF(ISERROR(VLOOKUP(G29,勤務シフト一覧!$B$4:$C$106,2,FALSE)),\"\",VLOOKUP(G29,勤務シフト一覧!$B$4:$C$106,2,FALSE))","v":""},{"$f":"IF(ISERROR(VLOOKUP(H29,勤務シフト一覧!$B$4:$C$106,2,FALSE)),\"\",VLOOKUP(H29,勤務シフト一覧!$B$4:$C$106,2,FALSE))","v":""},{"$f":"IF(ISERROR(VLOOKUP(I29,勤務シフト一覧!$B$4:$C$106,2,FALSE)),\"\",VLOOKUP(I29,勤務シフト一覧!$B$4:$C$106,2,FALSE))","v":""},{"$f":"IF(ISERROR(VLOOKUP(J29,勤務シフト一覧!$B$4:$C$106,2,FALSE)),\"\",VLOOKUP(J29,勤務シフト一覧!$B$4:$C$106,2,FALSE))","v":""},{"$f":"IF(ISERROR(VLOOKUP(K29,勤務シフト一覧!$B$4:$C$106,2,FALSE)),\"\",VLOOKUP(K29,勤務シフト一覧!$B$4:$C$106,2,FALSE))","v":""},{"$f":"IF(ISERROR(VLOOKUP(L29,勤務シフト一覧!$B$4:$C$106,2,FALSE)),\"\",VLOOKUP(L29,勤務シフト一覧!$B$4:$C$106,2,FALSE))","v":""},{"$f":"IF(ISERROR(VLOOKUP(M29,勤務シフト一覧!$B$4:$C$106,2,FALSE)),\"\",VLOOKUP(M29,勤務シフト一覧!$B$4:$C$106,2,FALSE))","v":""},{"$f":"IF(ISERROR(VLOOKUP(N29,勤務シフト一覧!$B$4:$C$106,2,FALSE)),\"\",VLOOKUP(N29,勤務シフト一覧!$B$4:$C$106,2,FALSE))","v":""},{"$f":"IF(ISERROR(VLOOKUP(O29,勤務シフト一覧!$B$4:$C$106,2,FALSE)),\"\",VLOOKUP(O29,勤務シフト一覧!$B$4:$C$106,2,FALSE))","v":""},{"$f":"IF(ISERROR(VLOOKUP(P29,勤務シフト一覧!$B$4:$C$106,2,FALSE)),\"\",VLOOKUP(P29,勤務シフト一覧!$B$4:$C$106,2,FALSE))","v":""},{"$f":"IF(ISERROR(VLOOKUP(Q29,勤務シフト一覧!$B$4:$C$106,2,FALSE)),\"\",VLOOKUP(Q29,勤務シフト一覧!$B$4:$C$106,2,FALSE))","v":""},{"$f":"IF(ISERROR(VLOOKUP(R29,勤務シフト一覧!$B$4:$C$106,2,FALSE)),\"\",VLOOKUP(R29,勤務シフト一覧!$B$4:$C$106,2,FALSE))","v":""},{"$f":"IF(ISERROR(VLOOKUP(S29,勤務シフト一覧!$B$4:$C$106,2,FALSE)),\"\",VLOOKUP(S29,勤務シフト一覧!$B$4:$C$106,2,FALSE))","v":""},{"$f":"IF(ISERROR(VLOOKUP(T29,勤務シフト一覧!$B$4:$C$106,2,FALSE)),\"\",VLOOKUP(T29,勤務シフト一覧!$B$4:$C$106,2,FALSE))","v":""},{"$f":"IF(ISERROR(VLOOKUP(U29,勤務シフト一覧!$B$4:$C$106,2,FALSE)),\"\",VLOOKUP(U29,勤務シフト一覧!$B$4:$C$106,2,FALSE))","v":""},{"$f":"IF(ISERROR(VLOOKUP(V29,勤務シフト一覧!$B$4:$C$106,2,FALSE)),\"\",VLOOKUP(V29,勤務シフト一覧!$B$4:$C$106,2,FALSE))","v":""},{"$f":"IF(ISERROR(VLOOKUP(W29,勤務シフト一覧!$B$4:$C$106,2,FALSE)),\"\",VLOOKUP(W29,勤務シフト一覧!$B$4:$C$106,2,FALSE))","v":""},{"$f":"IF(ISERROR(VLOOKUP(X29,勤務シフト一覧!$B$4:$C$106,2,FALSE)),\"\",VLOOKUP(X29,勤務シフト一覧!$B$4:$C$106,2,FALSE))","v":""},{"$f":"IF(ISERROR(VLOOKUP(Y29,勤務シフト一覧!$B$4:$C$106,2,FALSE)),\"\",VLOOKUP(Y29,勤務シフト一覧!$B$4:$C$106,2,FALSE))","v":""},{"$f":"IF(ISERROR(VLOOKUP(Z29,勤務シフト一覧!$B$4:$C$106,2,FALSE)),\"\",VLOOKUP(Z29,勤務シフト一覧!$B$4:$C$106,2,FALSE))","v":""},{"$f":"IF(ISERROR(VLOOKUP(AA29,勤務シフト一覧!$B$4:$C$106,2,FALSE)),\"\",VLOOKUP(AA29,勤務シフト一覧!$B$4:$C$106,2,FALSE))","v":""},{"$f":"IF(ISERROR(VLOOKUP(AB29,勤務シフト一覧!$B$4:$C$106,2,FALSE)),\"\",VLOOKUP(AB29,勤務シフト一覧!$B$4:$C$106,2,FALSE))","v":""},{"$f":"IF(ISERROR(VLOOKUP(AC29,勤務シフト一覧!$B$4:$C$106,2,FALSE)),\"\",VLOOKUP(AC29,勤務シフト一覧!$B$4:$C$106,2,FALSE))","v":""},{"$f":"IF(ISERROR(VLOOKUP(AD29,勤務シフト一覧!$B$4:$C$106,2,FALSE)),\"\",VLOOKUP(AD29,勤務シフト一覧!$B$4:$C$106,2,FALSE))","v":""},{"$f":"IF(ISERROR(VLOOKUP(AE29,勤務シフト一覧!$B$4:$C$106,2,FALSE)),\"\",VLOOKUP(AE29,勤務シフト一覧!$B$4:$C$106,2,FALSE))","v":""},{"$f":"IF(ISERROR(VLOOKUP(AF29,勤務シフト一覧!$B$4:$C$106,2,FALSE)),\"\",VLOOKUP(AF29,勤務シフト一覧!$B$4:$C$106,2,FALSE))","v":""},{"$f":"IF(ISERROR(VLOOKUP(AG29,勤務シフト一覧!$B$4:$C$106,2,FALSE)),\"\",VLOOKUP(AG29,勤務シフト一覧!$B$4:$C$106,2,FALSE))","v":""},{"$f":"IF(ISERROR(VLOOKUP(AH29,勤務シフト一覧!$B$4:$C$106,2,FALSE)),\"\",VLOOKUP(AH29,勤務シフト一覧!$B$4:$C$106,2,FALSE))","v":""},null,{"$f":"IF(ISERROR(VLOOKUP(D29,勤務シフト一覧!$B$4:$D$106,3,FALSE)),\"\",VLOOKUP(D29,勤務シフト一覧!$B$4:$D$106,3,FALSE))","v":""},{"$f":"IF(ISERROR(VLOOKUP(E29,勤務シフト一覧!$B$4:$D$106,3,FALSE)),\"\",VLOOKUP(E29,勤務シフト一覧!$B$4:$D$106,3,FALSE))","v":""},{"$f":"IF(ISERROR(VLOOKUP(F29,勤務シフト一覧!$B$4:$D$106,3,FALSE)),\"\",VLOOKUP(F29,勤務シフト一覧!$B$4:$D$106,3,FALSE))","v":""},{"$f":"IF(ISERROR(VLOOKUP(G29,勤務シフト一覧!$B$4:$D$106,3,FALSE)),\"\",VLOOKUP(G29,勤務シフト一覧!$B$4:$D$106,3,FALSE))","v":""},{"$f":"IF(ISERROR(VLOOKUP(H29,勤務シフト一覧!$B$4:$D$106,3,FALSE)),\"\",VLOOKUP(H29,勤務シフト一覧!$B$4:$D$106,3,FALSE))","v":""},{"$f":"IF(ISERROR(VLOOKUP(I29,勤務シフト一覧!$B$4:$D$106,3,FALSE)),\"\",VLOOKUP(I29,勤務シフト一覧!$B$4:$D$106,3,FALSE))","v":""},{"$f":"IF(ISERROR(VLOOKUP(J29,勤務シフト一覧!$B$4:$D$106,3,FALSE)),\"\",VLOOKUP(J29,勤務シフト一覧!$B$4:$D$106,3,FALSE))","v":""},{"$f":"IF(ISERROR(VLOOKUP(K29,勤務シフト一覧!$B$4:$D$106,3,FALSE)),\"\",VLOOKUP(K29,勤務シフト一覧!$B$4:$D$106,3,FALSE))","v":""},{"$f":"IF(ISERROR(VLOOKUP(L29,勤務シフト一覧!$B$4:$D$106,3,FALSE)),\"\",VLOOKUP(L29,勤務シフト一覧!$B$4:$D$106,3,FALSE))","v":""},{"$f":"IF(ISERROR(VLOOKUP(M29,勤務シフト一覧!$B$4:$D$106,3,FALSE)),\"\",VLOOKUP(M29,勤務シフト一覧!$B$4:$D$106,3,FALSE))","v":""},{"$f":"IF(ISERROR(VLOOKUP(N29,勤務シフト一覧!$B$4:$D$106,3,FALSE)),\"\",VLOOKUP(N29,勤務シフト一覧!$B$4:$D$106,3,FALSE))","v":""},{"$f":"IF(ISERROR(VLOOKUP(O29,勤務シフト一覧!$B$4:$D$106,3,FALSE)),\"\",VLOOKUP(O29,勤務シフト一覧!$B$4:$D$106,3,FALSE))","v":""},{"$f":"IF(ISERROR(VLOOKUP(P29,勤務シフト一覧!$B$4:$D$106,3,FALSE)),\"\",VLOOKUP(P29,勤務シフト一覧!$B$4:$D$106,3,FALSE))","v":""},{"$f":"IF(ISERROR(VLOOKUP(Q29,勤務シフト一覧!$B$4:$D$106,3,FALSE)),\"\",VLOOKUP(Q29,勤務シフト一覧!$B$4:$D$106,3,FALSE))","v":""},{"$f":"IF(ISERROR(VLOOKUP(R29,勤務シフト一覧!$B$4:$D$106,3,FALSE)),\"\",VLOOKUP(R29,勤務シフト一覧!$B$4:$D$106,3,FALSE))","v":""},{"$f":"IF(ISERROR(VLOOKUP(S29,勤務シフト一覧!$B$4:$D$106,3,FALSE)),\"\",VLOOKUP(S29,勤務シフト一覧!$B$4:$D$106,3,FALSE))","v":""},{"$f":"IF(ISERROR(VLOOKUP(T29,勤務シフト一覧!$B$4:$D$106,3,FALSE)),\"\",VLOOKUP(T29,勤務シフト一覧!$B$4:$D$106,3,FALSE))","v":""},{"$f":"IF(ISERROR(VLOOKUP(U29,勤務シフト一覧!$B$4:$D$106,3,FALSE)),\"\",VLOOKUP(U29,勤務シフト一覧!$B$4:$D$106,3,FALSE))","v":""},{"$f":"IF(ISERROR(VLOOKUP(V29,勤務シフト一覧!$B$4:$D$106,3,FALSE)),\"\",VLOOKUP(V29,勤務シフト一覧!$B$4:$D$106,3,FALSE))","v":""},{"$f":"IF(ISERROR(VLOOKUP(W29,勤務シフト一覧!$B$4:$D$106,3,FALSE)),\"\",VLOOKUP(W29,勤務シフト一覧!$B$4:$D$106,3,FALSE))","v":""},{"$f":"IF(ISERROR(VLOOKUP(X29,勤務シフト一覧!$B$4:$D$106,3,FALSE)),\"\",VLOOKUP(X29,勤務シフト一覧!$B$4:$D$106,3,FALSE))","v":""},{"$f":"IF(ISERROR(VLOOKUP(Y29,勤務シフト一覧!$B$4:$D$106,3,FALSE)),\"\",VLOOKUP(Y29,勤務シフト一覧!$B$4:$D$106,3,FALSE))","v":""},{"$f":"IF(ISERROR(VLOOKUP(Z29,勤務シフト一覧!$B$4:$D$106,3,FALSE)),\"\",VLOOKUP(Z29,勤務シフト一覧!$B$4:$D$106,3,FALSE))","v":""},{"$f":"IF(ISERROR(VLOOKUP(AA29,勤務シフト一覧!$B$4:$D$106,3,FALSE)),\"\",VLOOKUP(AA29,勤務シフト一覧!$B$4:$D$106,3,FALSE))","v":""},{"$f":"IF(ISERROR(VLOOKUP(AB29,勤務シフト一覧!$B$4:$D$106,3,FALSE)),\"\",VLOOKUP(AB29,勤務シフト一覧!$B$4:$D$106,3,FALSE))","v":""},{"$f":"IF(ISERROR(VLOOKUP(AC29,勤務シフト一覧!$B$4:$D$106,3,FALSE)),\"\",VLOOKUP(AC29,勤務シフト一覧!$B$4:$D$106,3,FALSE))","v":""},{"$f":"IF(ISERROR(VLOOKUP(AD29,勤務シフト一覧!$B$4:$D$106,3,FALSE)),\"\",VLOOKUP(AD29,勤務シフト一覧!$B$4:$D$106,3,FALSE))","v":""},{"$f":"IF(ISERROR(VLOOKUP(AE29,勤務シフト一覧!$B$4:$D$106,3,FALSE)),\"\",VLOOKUP(AE29,勤務シフト一覧!$B$4:$D$106,3,FALSE))","v":""},{"$f":"IF(ISERROR(VLOOKUP(AF29,勤務シフト一覧!$B$4:$D$106,3,FALSE)),\"\",VLOOKUP(AF29,勤務シフト一覧!$B$4:$D$106,3,FALSE))","v":""},{"$f":"IF(ISERROR(VLOOKUP(AG29,勤務シフト一覧!$B$4:$D$106,3,FALSE)),\"\",VLOOKUP(AG29,勤務シフト一覧!$B$4:$D$106,3,FALSE))","v":""},{"$f":"IF(ISERROR(VLOOKUP(AH29,勤務シフト一覧!$B$4:$D$106,3,FALSE)),\"\",VLOOKUP(AH29,勤務シフト一覧!$B$4:$D$106,3,FALSE))","v":""},0,0,0,0,0,0,0,0,0,0,null,null,{"$f":"IF(勤務シフト一覧!$D29<>0,IF(勤務シフト一覧!$B29<> 0,勤務シフト一覧!$B29,\"\"),\"\")","v":"産／"}]
[{"$f":"IF(LEN(職員一覧!B14)<>0,職員一覧!B14,\"\")","v":""},{"$f":"IF(LEN(職員一覧!C14)<>0,職員一覧!C14,\"\")","v":""},"予定",null,null,null,null,null,null,null,null,null,null,null,null,null,null,null,null,null,null,null,null,null,null,null,null,null,null,null,null,null,null,null,{"$f":"IF(ISERROR(VLOOKUP(D30,勤務シフト一覧!$B$4:$C$106,2,FALSE)),\"\",VLOOKUP(D30,勤務シフト一覧!$B$4:$C$106,2,FALSE))","v":""},{"$f":"IF(ISERROR(VLOOKUP(E30,勤務シフト一覧!$B$4:$C$106,2,FALSE)),\"\",VLOOKUP(E30,勤務シフト一覧!$B$4:$C$106,2,FALSE))","v":""},{"$f":"IF(ISERROR(VLOOKUP(F30,勤務シフト一覧!$B$4:$C$106,2,FALSE)),\"\",VLOOKUP(F30,勤務シフト一覧!$B$4:$C$106,2,FALSE))","v":""},{"$f":"IF(ISERROR(VLOOKUP(G30,勤務シフト一覧!$B$4:$C$106,2,FALSE)),\"\",VLOOKUP(G30,勤務シフト一覧!$B$4:$C$106,2,FALSE))","v":""},{"$f":"IF(ISERROR(VLOOKUP(H30,勤務シフト一覧!$B$4:$C$106,2,FALSE)),\"\",VLOOKUP(H30,勤務シフト一覧!$B$4:$C$106,2,FALSE))","v":""},{"$f":"IF(ISERROR(VLOOKUP(I30,勤務シフト一覧!$B$4:$C$106,2,FALSE)),\"\",VLOOKUP(I30,勤務シフト一覧!$B$4:$C$106,2,FALSE))","v":""},{"$f":"IF(ISERROR(VLOOKUP(J30,勤務シフト一覧!$B$4:$C$106,2,FALSE)),\"\",VLOOKUP(J30,勤務シフト一覧!$B$4:$C$106,2,FALSE))","v":""},{"$f":"IF(ISERROR(VLOOKUP(K30,勤務シフト一覧!$B$4:$C$106,2,FALSE)),\"\",VLOOKUP(K30,勤務シフト一覧!$B$4:$C$106,2,FALSE))","v":""},{"$f":"IF(ISERROR(VLOOKUP(L30,勤務シフト一覧!$B$4:$C$106,2,FALSE)),\"\",VLOOKUP(L30,勤務シフト一覧!$B$4:$C$106,2,FALSE))","v":""},{"$f":"IF(ISERROR(VLOOKUP(M30,勤務シフト一覧!$B$4:$C$106,2,FALSE)),\"\",VLOOKUP(M30,勤務シフト一覧!$B$4:$C$106,2,FALSE))","v":""},{"$f":"IF(ISERROR(VLOOKUP(N30,勤務シフト一覧!$B$4:$C$106,2,FALSE)),\"\",VLOOKUP(N30,勤務シフト一覧!$B$4:$C$106,2,FALSE))","v":""},{"$f":"IF(ISERROR(VLOOKUP(O30,勤務シフト一覧!$B$4:$C$106,2,FALSE)),\"\",VLOOKUP(O30,勤務シフト一覧!$B$4:$C$106,2,FALSE))","v":""},{"$f":"IF(ISERROR(VLOOKUP(P30,勤務シフト一覧!$B$4:$C$106,2,FALSE)),\"\",VLOOKUP(P30,勤務シフト一覧!$B$4:$C$106,2,FALSE))","v":""},{"$f":"IF(ISERROR(VLOOKUP(Q30,勤務シフト一覧!$B$4:$C$106,2,FALSE)),\"\",VLOOKUP(Q30,勤務シフト一覧!$B$4:$C$106,2,FALSE))","v":""},{"$f":"IF(ISERROR(VLOOKUP(R30,勤務シフト一覧!$B$4:$C$106,2,FALSE)),\"\",VLOOKUP(R30,勤務シフト一覧!$B$4:$C$106,2,FALSE))","v":""},{"$f":"IF(ISERROR(VLOOKUP(S30,勤務シフト一覧!$B$4:$C$106,2,FALSE)),\"\",VLOOKUP(S30,勤務シフト一覧!$B$4:$C$106,2,FALSE))","v":""},{"$f":"IF(ISERROR(VLOOKUP(T30,勤務シフト一覧!$B$4:$C$106,2,FALSE)),\"\",VLOOKUP(T30,勤務シフト一覧!$B$4:$C$106,2,FALSE))","v":""},{"$f":"IF(ISERROR(VLOOKUP(U30,勤務シフト一覧!$B$4:$C$106,2,FALSE)),\"\",VLOOKUP(U30,勤務シフト一覧!$B$4:$C$106,2,FALSE))","v":""},{"$f":"IF(ISERROR(VLOOKUP(V30,勤務シフト一覧!$B$4:$C$106,2,FALSE)),\"\",VLOOKUP(V30,勤務シフト一覧!$B$4:$C$106,2,FALSE))","v":""},{"$f":"IF(ISERROR(VLOOKUP(W30,勤務シフト一覧!$B$4:$C$106,2,FALSE)),\"\",VLOOKUP(W30,勤務シフト一覧!$B$4:$C$106,2,FALSE))","v":""},{"$f":"IF(ISERROR(VLOOKUP(X30,勤務シフト一覧!$B$4:$C$106,2,FALSE)),\"\",VLOOKUP(X30,勤務シフト一覧!$B$4:$C$106,2,FALSE))","v":""},{"$f":"IF(ISERROR(VLOOKUP(Y30,勤務シフト一覧!$B$4:$C$106,2,FALSE)),\"\",VLOOKUP(Y30,勤務シフト一覧!$B$4:$C$106,2,FALSE))","v":""},{"$f":"IF(ISERROR(VLOOKUP(Z30,勤務シフト一覧!$B$4:$C$106,2,FALSE)),\"\",VLOOKUP(Z30,勤務シフト一覧!$B$4:$C$106,2,FALSE))","v":""},{"$f":"IF(ISERROR(VLOOKUP(AA30,勤務シフト一覧!$B$4:$C$106,2,FALSE)),\"\",VLOOKUP(AA30,勤務シフト一覧!$B$4:$C$106,2,FALSE))","v":""},{"$f":"IF(ISERROR(VLOOKUP(AB30,勤務シフト一覧!$B$4:$C$106,2,FALSE)),\"\",VLOOKUP(AB30,勤務シフト一覧!$B$4:$C$106,2,FALSE))","v":""},{"$f":"IF(ISERROR(VLOOKUP(AC30,勤務シフト一覧!$B$4:$C$106,2,FALSE)),\"\",VLOOKUP(AC30,勤務シフト一覧!$B$4:$C$106,2,FALSE))","v":""},{"$f":"IF(ISERROR(VLOOKUP(AD30,勤務シフト一覧!$B$4:$C$106,2,FALSE)),\"\",VLOOKUP(AD30,勤務シフト一覧!$B$4:$C$106,2,FALSE))","v":""},{"$f":"IF(ISERROR(VLOOKUP(AE30,勤務シフト一覧!$B$4:$C$106,2,FALSE)),\"\",VLOOKUP(AE30,勤務シフト一覧!$B$4:$C$106,2,FALSE))","v":""},{"$f":"IF(ISERROR(VLOOKUP(AF30,勤務シフト一覧!$B$4:$C$106,2,FALSE)),\"\",VLOOKUP(AF30,勤務シフト一覧!$B$4:$C$106,2,FALSE))","v":""},{"$f":"IF(ISERROR(VLOOKUP(AG30,勤務シフト一覧!$B$4:$C$106,2,FALSE)),\"\",VLOOKUP(AG30,勤務シフト一覧!$B$4:$C$106,2,FALSE))","v":""},{"$f":"IF(ISERROR(VLOOKUP(AH30,勤務シフト一覧!$B$4:$C$106,2,FALSE)),\"\",VLOOKUP(AH30,勤務シフト一覧!$B$4:$C$106,2,FALSE))","v":""},null,{"$f":"IF(ISERROR(VLOOKUP(D30,勤務シフト一覧!$B$4:$D$106,3,FALSE)),\"\",VLOOKUP(D30,勤務シフト一覧!$B$4:$D$106,3,FALSE))","v":""},{"$f":"IF(ISERROR(VLOOKUP(E30,勤務シフト一覧!$B$4:$D$106,3,FALSE)),\"\",VLOOKUP(E30,勤務シフト一覧!$B$4:$D$106,3,FALSE))","v":""},{"$f":"IF(ISERROR(VLOOKUP(F30,勤務シフト一覧!$B$4:$D$106,3,FALSE)),\"\",VLOOKUP(F30,勤務シフト一覧!$B$4:$D$106,3,FALSE))","v":""},{"$f":"IF(ISERROR(VLOOKUP(G30,勤務シフト一覧!$B$4:$D$106,3,FALSE)),\"\",VLOOKUP(G30,勤務シフト一覧!$B$4:$D$106,3,FALSE))","v":""},{"$f":"IF(ISERROR(VLOOKUP(H30,勤務シフト一覧!$B$4:$D$106,3,FALSE)),\"\",VLOOKUP(H30,勤務シフト一覧!$B$4:$D$106,3,FALSE))","v":""},{"$f":"IF(ISERROR(VLOOKUP(I30,勤務シフト一覧!$B$4:$D$106,3,FALSE)),\"\",VLOOKUP(I30,勤務シフト一覧!$B$4:$D$106,3,FALSE))","v":""},{"$f":"IF(ISERROR(VLOOKUP(J30,勤務シフト一覧!$B$4:$D$106,3,FALSE)),\"\",VLOOKUP(J30,勤務シフト一覧!$B$4:$D$106,3,FALSE))","v":""},{"$f":"IF(ISERROR(VLOOKUP(K30,勤務シフト一覧!$B$4:$D$106,3,FALSE)),\"\",VLOOKUP(K30,勤務シフト一覧!$B$4:$D$106,3,FALSE))","v":""},{"$f":"IF(ISERROR(VLOOKUP(L30,勤務シフト一覧!$B$4:$D$106,3,FALSE)),\"\",VLOOKUP(L30,勤務シフト一覧!$B$4:$D$106,3,FALSE))","v":""},{"$f":"IF(ISERROR(VLOOKUP(M30,勤務シフト一覧!$B$4:$D$106,3,FALSE)),\"\",VLOOKUP(M30,勤務シフト一覧!$B$4:$D$106,3,FALSE))","v":""},{"$f":"IF(ISERROR(VLOOKUP(N30,勤務シフト一覧!$B$4:$D$106,3,FALSE)),\"\",VLOOKUP(N30,勤務シフト一覧!$B$4:$D$106,3,FALSE))","v":""},{"$f":"IF(ISERROR(VLOOKUP(O30,勤務シフト一覧!$B$4:$D$106,3,FALSE)),\"\",VLOOKUP(O30,勤務シフト一覧!$B$4:$D$106,3,FALSE))","v":""},{"$f":"IF(ISERROR(VLOOKUP(P30,勤務シフト一覧!$B$4:$D$106,3,FALSE)),\"\",VLOOKUP(P30,勤務シフト一覧!$B$4:$D$106,3,FALSE))","v":""},{"$f":"IF(ISERROR(VLOOKUP(Q30,勤務シフト一覧!$B$4:$D$106,3,FALSE)),\"\",VLOOKUP(Q30,勤務シフト一覧!$B$4:$D$106,3,FALSE))","v":""},{"$f":"IF(ISERROR(VLOOKUP(R30,勤務シフト一覧!$B$4:$D$106,3,FALSE)),\"\",VLOOKUP(R30,勤務シフト一覧!$B$4:$D$106,3,FALSE))","v":""},{"$f":"IF(ISERROR(VLOOKUP(S30,勤務シフト一覧!$B$4:$D$106,3,FALSE)),\"\",VLOOKUP(S30,勤務シフト一覧!$B$4:$D$106,3,FALSE))","v":""},{"$f":"IF(ISERROR(VLOOKUP(T30,勤務シフト一覧!$B$4:$D$106,3,FALSE)),\"\",VLOOKUP(T30,勤務シフト一覧!$B$4:$D$106,3,FALSE))","v":""},{"$f":"IF(ISERROR(VLOOKUP(U30,勤務シフト一覧!$B$4:$D$106,3,FALSE)),\"\",VLOOKUP(U30,勤務シフト一覧!$B$4:$D$106,3,FALSE))","v":""},{"$f":"IF(ISERROR(VLOOKUP(V30,勤務シフト一覧!$B$4:$D$106,3,FALSE)),\"\",VLOOKUP(V30,勤務シフト一覧!$B$4:$D$106,3,FALSE))","v":""},{"$f":"IF(ISERROR(VLOOKUP(W30,勤務シフト一覧!$B$4:$D$106,3,FALSE)),\"\",VLOOKUP(W30,勤務シフト一覧!$B$4:$D$106,3,FALSE))","v":""},{"$f":"IF(ISERROR(VLOOKUP(X30,勤務シフト一覧!$B$4:$D$106,3,FALSE)),\"\",VLOOKUP(X30,勤務シフト一覧!$B$4:$D$106,3,FALSE))","v":""},{"$f":"IF(ISERROR(VLOOKUP(Y30,勤務シフト一覧!$B$4:$D$106,3,FALSE)),\"\",VLOOKUP(Y30,勤務シフト一覧!$B$4:$D$106,3,FALSE))","v":""},{"$f":"IF(ISERROR(VLOOKUP(Z30,勤務シフト一覧!$B$4:$D$106,3,FALSE)),\"\",VLOOKUP(Z30,勤務シフト一覧!$B$4:$D$106,3,FALSE))","v":""},{"$f":"IF(ISERROR(VLOOKUP(AA30,勤務シフト一覧!$B$4:$D$106,3,FALSE)),\"\",VLOOKUP(AA30,勤務シフト一覧!$B$4:$D$106,3,FALSE))","v":""},{"$f":"IF(ISERROR(VLOOKUP(AB30,勤務シフト一覧!$B$4:$D$106,3,FALSE)),\"\",VLOOKUP(AB30,勤務シフト一覧!$B$4:$D$106,3,FALSE))","v":""},{"$f":"IF(ISERROR(VLOOKUP(AC30,勤務シフト一覧!$B$4:$D$106,3,FALSE)),\"\",VLOOKUP(AC30,勤務シフト一覧!$B$4:$D$106,3,FALSE))","v":""},{"$f":"IF(ISERROR(VLOOKUP(AD30,勤務シフト一覧!$B$4:$D$106,3,FALSE)),\"\",VLOOKUP(AD30,勤務シフト一覧!$B$4:$D$106,3,FALSE))","v":""},{"$f":"IF(ISERROR(VLOOKUP(AE30,勤務シフト一覧!$B$4:$D$106,3,FALSE)),\"\",VLOOKUP(AE30,勤務シフト一覧!$B$4:$D$106,3,FALSE))","v":""},{"$f":"IF(ISERROR(VLOOKUP(AF30,勤務シフト一覧!$B$4:$D$106,3,FALSE)),\"\",VLOOKUP(AF30,勤務シフト一覧!$B$4:$D$106,3,FALSE))","v":""},{"$f":"IF(ISERROR(VLOOKUP(AG30,勤務シフト一覧!$B$4:$D$106,3,FALSE)),\"\",VLOOKUP(AG30,勤務シフト一覧!$B$4:$D$106,3,FALSE))","v":""},{"$f":"IF(ISERROR(VLOOKUP(AH30,勤務シフト一覧!$B$4:$D$106,3,FALSE)),\"\",VLOOKUP(AH30,勤務シフト一覧!$B$4:$D$106,3,FALSE))","v":""},0,0,0,0,0,0,0,0,0,0,{"$f":"IF(LEN(職員一覧!D14)<>0,職員一覧!D14,\"\")","v":""},null,{"$f":"IF(勤務シフト一覧!$D30<>0,IF(勤務シフト一覧!$B30<> 0,勤務シフト一覧!$B30,\"\"),\"\")","v":"病／"}]
[null,null,"実施",null,null,null,null,null,null,null,null,null,null,null,null,null,null,null,null,null,null,null,null,null,null,null,null,null,null,null,null,null,null,null,{"$f":"IF(ISERROR(VLOOKUP(D31,勤務シフト一覧!$B$4:$C$106,2,FALSE)),\"\",VLOOKUP(D31,勤務シフト一覧!$B$4:$C$106,2,FALSE))","v":""},{"$f":"IF(ISERROR(VLOOKUP(E31,勤務シフト一覧!$B$4:$C$106,2,FALSE)),\"\",VLOOKUP(E31,勤務シフト一覧!$B$4:$C$106,2,FALSE))","v":""},{"$f":"IF(ISERROR(VLOOKUP(F31,勤務シフト一覧!$B$4:$C$106,2,FALSE)),\"\",VLOOKUP(F31,勤務シフト一覧!$B$4:$C$106,2,FALSE))","v":""},{"$f":"IF(ISERROR(VLOOKUP(G31,勤務シフト一覧!$B$4:$C$106,2,FALSE)),\"\",VLOOKUP(G31,勤務シフト一覧!$B$4:$C$106,2,FALSE))","v":""},{"$f":"IF(ISERROR(VLOOKUP(H31,勤務シフト一覧!$B$4:$C$106,2,FALSE)),\"\",VLOOKUP(H31,勤務シフト一覧!$B$4:$C$106,2,FALSE))","v":""},{"$f":"IF(ISERROR(VLOOKUP(I31,勤務シフト一覧!$B$4:$C$106,2,FALSE)),\"\",VLOOKUP(I31,勤務シフト一覧!$B$4:$C$106,2,FALSE))","v":""},{"$f":"IF(ISERROR(VLOOKUP(J31,勤務シフト一覧!$B$4:$C$106,2,FALSE)),\"\",VLOOKUP(J31,勤務シフト一覧!$B$4:$C$106,2,FALSE))","v":""},{"$f":"IF(ISERROR(VLOOKUP(K31,勤務シフト一覧!$B$4:$C$106,2,FALSE)),\"\",VLOOKUP(K31,勤務シフト一覧!$B$4:$C$106,2,FALSE))","v":""},{"$f":"IF(ISERROR(VLOOKUP(L31,勤務シフト一覧!$B$4:$C$106,2,FALSE)),\"\",VLOOKUP(L31,勤務シフト一覧!$B$4:$C$106,2,FALSE))","v":""},{"$f":"IF(ISERROR(VLOOKUP(M31,勤務シフト一覧!$B$4:$C$106,2,FALSE)),\"\",VLOOKUP(M31,勤務シフト一覧!$B$4:$C$106,2,FALSE))","v":""},{"$f":"IF(ISERROR(VLOOKUP(N31,勤務シフト一覧!$B$4:$C$106,2,FALSE)),\"\",VLOOKUP(N31,勤務シフト一覧!$B$4:$C$106,2,FALSE))","v":""},{"$f":"IF(ISERROR(VLOOKUP(O31,勤務シフト一覧!$B$4:$C$106,2,FALSE)),\"\",VLOOKUP(O31,勤務シフト一覧!$B$4:$C$106,2,FALSE))","v":""},{"$f":"IF(ISERROR(VLOOKUP(P31,勤務シフト一覧!$B$4:$C$106,2,FALSE)),\"\",VLOOKUP(P31,勤務シフト一覧!$B$4:$C$106,2,FALSE))","v":""},{"$f":"IF(ISERROR(VLOOKUP(Q31,勤務シフト一覧!$B$4:$C$106,2,FALSE)),\"\",VLOOKUP(Q31,勤務シフト一覧!$B$4:$C$106,2,FALSE))","v":""},{"$f":"IF(ISERROR(VLOOKUP(R31,勤務シフト一覧!$B$4:$C$106,2,FALSE)),\"\",VLOOKUP(R31,勤務シフト一覧!$B$4:$C$106,2,FALSE))","v":""},{"$f":"IF(ISERROR(VLOOKUP(S31,勤務シフト一覧!$B$4:$C$106,2,FALSE)),\"\",VLOOKUP(S31,勤務シフト一覧!$B$4:$C$106,2,FALSE))","v":""},{"$f":"IF(ISERROR(VLOOKUP(T31,勤務シフト一覧!$B$4:$C$106,2,FALSE)),\"\",VLOOKUP(T31,勤務シフト一覧!$B$4:$C$106,2,FALSE))","v":""},{"$f":"IF(ISERROR(VLOOKUP(U31,勤務シフト一覧!$B$4:$C$106,2,FALSE)),\"\",VLOOKUP(U31,勤務シフト一覧!$B$4:$C$106,2,FALSE))","v":""},{"$f":"IF(ISERROR(VLOOKUP(V31,勤務シフト一覧!$B$4:$C$106,2,FALSE)),\"\",VLOOKUP(V31,勤務シフト一覧!$B$4:$C$106,2,FALSE))","v":""},{"$f":"IF(ISERROR(VLOOKUP(W31,勤務シフト一覧!$B$4:$C$106,2,FALSE)),\"\",VLOOKUP(W31,勤務シフト一覧!$B$4:$C$106,2,FALSE))","v":""},{"$f":"IF(ISERROR(VLOOKUP(X31,勤務シフト一覧!$B$4:$C$106,2,FALSE)),\"\",VLOOKUP(X31,勤務シフト一覧!$B$4:$C$106,2,FALSE))","v":""},{"$f":"IF(ISERROR(VLOOKUP(Y31,勤務シフト一覧!$B$4:$C$106,2,FALSE)),\"\",VLOOKUP(Y31,勤務シフト一覧!$B$4:$C$106,2,FALSE))","v":""},{"$f":"IF(ISERROR(VLOOKUP(Z31,勤務シフト一覧!$B$4:$C$106,2,FALSE)),\"\",VLOOKUP(Z31,勤務シフト一覧!$B$4:$C$106,2,FALSE))","v":""},{"$f":"IF(ISERROR(VLOOKUP(AA31,勤務シフト一覧!$B$4:$C$106,2,FALSE)),\"\",VLOOKUP(AA31,勤務シフト一覧!$B$4:$C$106,2,FALSE))","v":""},{"$f":"IF(ISERROR(VLOOKUP(AB31,勤務シフト一覧!$B$4:$C$106,2,FALSE)),\"\",VLOOKUP(AB31,勤務シフト一覧!$B$4:$C$106,2,FALSE))","v":""},{"$f":"IF(ISERROR(VLOOKUP(AC31,勤務シフト一覧!$B$4:$C$106,2,FALSE)),\"\",VLOOKUP(AC31,勤務シフト一覧!$B$4:$C$106,2,FALSE))","v":""},{"$f":"IF(ISERROR(VLOOKUP(AD31,勤務シフト一覧!$B$4:$C$106,2,FALSE)),\"\",VLOOKUP(AD31,勤務シフト一覧!$B$4:$C$106,2,FALSE))","v":""},{"$f":"IF(ISERROR(VLOOKUP(AE31,勤務シフト一覧!$B$4:$C$106,2,FALSE)),\"\",VLOOKUP(AE31,勤務シフト一覧!$B$4:$C$106,2,FALSE))","v":""},{"$f":"IF(ISERROR(VLOOKUP(AF31,勤務シフト一覧!$B$4:$C$106,2,FALSE)),\"\",VLOOKUP(AF31,勤務シフト一覧!$B$4:$C$106,2,FALSE))","v":""},{"$f":"IF(ISERROR(VLOOKUP(AG31,勤務シフト一覧!$B$4:$C$106,2,FALSE)),\"\",VLOOKUP(AG31,勤務シフト一覧!$B$4:$C$106,2,FALSE))","v":""},{"$f":"IF(ISERROR(VLOOKUP(AH31,勤務シフト一覧!$B$4:$C$106,2,FALSE)),\"\",VLOOKUP(AH31,勤務シフト一覧!$B$4:$C$106,2,FALSE))","v":""},null,{"$f":"IF(ISERROR(VLOOKUP(D31,勤務シフト一覧!$B$4:$D$106,3,FALSE)),\"\",VLOOKUP(D31,勤務シフト一覧!$B$4:$D$106,3,FALSE))","v":""},{"$f":"IF(ISERROR(VLOOKUP(E31,勤務シフト一覧!$B$4:$D$106,3,FALSE)),\"\",VLOOKUP(E31,勤務シフト一覧!$B$4:$D$106,3,FALSE))","v":""},{"$f":"IF(ISERROR(VLOOKUP(F31,勤務シフト一覧!$B$4:$D$106,3,FALSE)),\"\",VLOOKUP(F31,勤務シフト一覧!$B$4:$D$106,3,FALSE))","v":""},{"$f":"IF(ISERROR(VLOOKUP(G31,勤務シフト一覧!$B$4:$D$106,3,FALSE)),\"\",VLOOKUP(G31,勤務シフト一覧!$B$4:$D$106,3,FALSE))","v":""},{"$f":"IF(ISERROR(VLOOKUP(H31,勤務シフト一覧!$B$4:$D$106,3,FALSE)),\"\",VLOOKUP(H31,勤務シフト一覧!$B$4:$D$106,3,FALSE))","v":""},{"$f":"IF(ISERROR(VLOOKUP(I31,勤務シフト一覧!$B$4:$D$106,3,FALSE)),\"\",VLOOKUP(I31,勤務シフト一覧!$B$4:$D$106,3,FALSE))","v":""},{"$f":"IF(ISERROR(VLOOKUP(J31,勤務シフト一覧!$B$4:$D$106,3,FALSE)),\"\",VLOOKUP(J31,勤務シフト一覧!$B$4:$D$106,3,FALSE))","v":""},{"$f":"IF(ISERROR(VLOOKUP(K31,勤務シフト一覧!$B$4:$D$106,3,FALSE)),\"\",VLOOKUP(K31,勤務シフト一覧!$B$4:$D$106,3,FALSE))","v":""},{"$f":"IF(ISERROR(VLOOKUP(L31,勤務シフト一覧!$B$4:$D$106,3,FALSE)),\"\",VLOOKUP(L31,勤務シフト一覧!$B$4:$D$106,3,FALSE))","v":""},{"$f":"IF(ISERROR(VLOOKUP(M31,勤務シフト一覧!$B$4:$D$106,3,FALSE)),\"\",VLOOKUP(M31,勤務シフト一覧!$B$4:$D$106,3,FALSE))","v":""},{"$f":"IF(ISERROR(VLOOKUP(N31,勤務シフト一覧!$B$4:$D$106,3,FALSE)),\"\",VLOOKUP(N31,勤務シフト一覧!$B$4:$D$106,3,FALSE))","v":""},{"$f":"IF(ISERROR(VLOOKUP(O31,勤務シフト一覧!$B$4:$D$106,3,FALSE)),\"\",VLOOKUP(O31,勤務シフト一覧!$B$4:$D$106,3,FALSE))","v":""},{"$f":"IF(ISERROR(VLOOKUP(P31,勤務シフト一覧!$B$4:$D$106,3,FALSE)),\"\",VLOOKUP(P31,勤務シフト一覧!$B$4:$D$106,3,FALSE))","v":""},{"$f":"IF(ISERROR(VLOOKUP(Q31,勤務シフト一覧!$B$4:$D$106,3,FALSE)),\"\",VLOOKUP(Q31,勤務シフト一覧!$B$4:$D$106,3,FALSE))","v":""},{"$f":"IF(ISERROR(VLOOKUP(R31,勤務シフト一覧!$B$4:$D$106,3,FALSE)),\"\",VLOOKUP(R31,勤務シフト一覧!$B$4:$D$106,3,FALSE))","v":""},{"$f":"IF(ISERROR(VLOOKUP(S31,勤務シフト一覧!$B$4:$D$106,3,FALSE)),\"\",VLOOKUP(S31,勤務シフト一覧!$B$4:$D$106,3,FALSE))","v":""},{"$f":"IF(ISERROR(VLOOKUP(T31,勤務シフト一覧!$B$4:$D$106,3,FALSE)),\"\",VLOOKUP(T31,勤務シフト一覧!$B$4:$D$106,3,FALSE))","v":""},{"$f":"IF(ISERROR(VLOOKUP(U31,勤務シフト一覧!$B$4:$D$106,3,FALSE)),\"\",VLOOKUP(U31,勤務シフト一覧!$B$4:$D$106,3,FALSE))","v":""},{"$f":"IF(ISERROR(VLOOKUP(V31,勤務シフト一覧!$B$4:$D$106,3,FALSE)),\"\",VLOOKUP(V31,勤務シフト一覧!$B$4:$D$106,3,FALSE))","v":""},{"$f":"IF(ISERROR(VLOOKUP(W31,勤務シフト一覧!$B$4:$D$106,3,FALSE)),\"\",VLOOKUP(W31,勤務シフト一覧!$B$4:$D$106,3,FALSE))","v":""},{"$f":"IF(ISERROR(VLOOKUP(X31,勤務シフト一覧!$B$4:$D$106,3,FALSE)),\"\",VLOOKUP(X31,勤務シフト一覧!$B$4:$D$106,3,FALSE))","v":""},{"$f":"IF(ISERROR(VLOOKUP(Y31,勤務シフト一覧!$B$4:$D$106,3,FALSE)),\"\",VLOOKUP(Y31,勤務シフト一覧!$B$4:$D$106,3,FALSE))","v":""},{"$f":"IF(ISERROR(VLOOKUP(Z31,勤務シフト一覧!$B$4:$D$106,3,FALSE)),\"\",VLOOKUP(Z31,勤務シフト一覧!$B$4:$D$106,3,FALSE))","v":""},{"$f":"IF(ISERROR(VLOOKUP(AA31,勤務シフト一覧!$B$4:$D$106,3,FALSE)),\"\",VLOOKUP(AA31,勤務シフト一覧!$B$4:$D$106,3,FALSE))","v":""},{"$f":"IF(ISERROR(VLOOKUP(AB31,勤務シフト一覧!$B$4:$D$106,3,FALSE)),\"\",VLOOKUP(AB31,勤務シフト一覧!$B$4:$D$106,3,FALSE))","v":""},{"$f":"IF(ISERROR(VLOOKUP(AC31,勤務シフト一覧!$B$4:$D$106,3,FALSE)),\"\",VLOOKUP(AC31,勤務シフト一覧!$B$4:$D$106,3,FALSE))","v":""},{"$f":"IF(ISERROR(VLOOKUP(AD31,勤務シフト一覧!$B$4:$D$106,3,FALSE)),\"\",VLOOKUP(AD31,勤務シフト一覧!$B$4:$D$106,3,FALSE))","v":""},{"$f":"IF(ISERROR(VLOOKUP(AE31,勤務シフト一覧!$B$4:$D$106,3,FALSE)),\"\",VLOOKUP(AE31,勤務シフト一覧!$B$4:$D$106,3,FALSE))","v":""},{"$f":"IF(ISERROR(VLOOKUP(AF31,勤務シフト一覧!$B$4:$D$106,3,FALSE)),\"\",VLOOKUP(AF31,勤務シフト一覧!$B$4:$D$106,3,FALSE))","v":""},{"$f":"IF(ISERROR(VLOOKUP(AG31,勤務シフト一覧!$B$4:$D$106,3,FALSE)),\"\",VLOOKUP(AG31,勤務シフト一覧!$B$4:$D$106,3,FALSE))","v":""},{"$f":"IF(ISERROR(VLOOKUP(AH31,勤務シフト一覧!$B$4:$D$106,3,FALSE)),\"\",VLOOKUP(AH31,勤務シフト一覧!$B$4:$D$106,3,FALSE))","v":""},0,0,0,0,0,0,0,0,0,0,null,null,{"$f":"IF(勤務シフト一覧!$D31<>0,IF(勤務シフト一覧!$B31<> 0,勤務シフト一覧!$B31,\"\"),\"\")","v":"年／"}]
[{"$f":"IF(LEN(職員一覧!B15)<>0,職員一覧!B15,\"\")","v":""},{"$f":"IF(LEN(職員一覧!C15)<>0,職員一覧!C15,\"\")","v":""},"予定",null,null,null,null,null,null,null,null,null,null,null,null,null,null,null,null,null,null,null,null,null,null,null,null,null,null,null,null,null,null,null,{"$f":"IF(ISERROR(VLOOKUP(D32,勤務シフト一覧!$B$4:$C$106,2,FALSE)),\"\",VLOOKUP(D32,勤務シフト一覧!$B$4:$C$106,2,FALSE))","v":""},{"$f":"IF(ISERROR(VLOOKUP(E32,勤務シフト一覧!$B$4:$C$106,2,FALSE)),\"\",VLOOKUP(E32,勤務シフト一覧!$B$4:$C$106,2,FALSE))","v":""},{"$f":"IF(ISERROR(VLOOKUP(F32,勤務シフト一覧!$B$4:$C$106,2,FALSE)),\"\",VLOOKUP(F32,勤務シフト一覧!$B$4:$C$106,2,FALSE))","v":""},{"$f":"IF(ISERROR(VLOOKUP(G32,勤務シフト一覧!$B$4:$C$106,2,FALSE)),\"\",VLOOKUP(G32,勤務シフト一覧!$B$4:$C$106,2,FALSE))","v":""},{"$f":"IF(ISERROR(VLOOKUP(H32,勤務シフト一覧!$B$4:$C$106,2,FALSE)),\"\",VLOOKUP(H32,勤務シフト一覧!$B$4:$C$106,2,FALSE))","v":""},{"$f":"IF(ISERROR(VLOOKUP(I32,勤務シフト一覧!$B$4:$C$106,2,FALSE)),\"\",VLOOKUP(I32,勤務シフト一覧!$B$4:$C$106,2,FALSE))","v":""},{"$f":"IF(ISERROR(VLOOKUP(J32,勤務シフト一覧!$B$4:$C$106,2,FALSE)),\"\",VLOOKUP(J32,勤務シフト一覧!$B$4:$C$106,2,FALSE))","v":""},{"$f":"IF(ISERROR(VLOOKUP(K32,勤務シフト一覧!$B$4:$C$106,2,FALSE)),\"\",VLOOKUP(K32,勤務シフト一覧!$B$4:$C$106,2,FALSE))","v":""},{"$f":"IF(ISERROR(VLOOKUP(L32,勤務シフト一覧!$B$4:$C$106,2,FALSE)),\"\",VLOOKUP(L32,勤務シフト一覧!$B$4:$C$106,2,FALSE))","v":""},{"$f":"IF(ISERROR(VLOOKUP(M32,勤務シフト一覧!$B$4:$C$106,2,FALSE)),\"\",VLOOKUP(M32,勤務シフト一覧!$B$4:$C$106,2,FALSE))","v":""},{"$f":"IF(ISERROR(VLOOKUP(N32,勤務シフト一覧!$B$4:$C$106,2,FALSE)),\"\",VLOOKUP(N32,勤務シフト一覧!$B$4:$C$106,2,FALSE))","v":""},{"$f":"IF(ISERROR(VLOOKUP(O32,勤務シフト一覧!$B$4:$C$106,2,FALSE)),\"\",VLOOKUP(O32,勤務シフト一覧!$B$4:$C$106,2,FALSE))","v":""},{"$f":"IF(ISERROR(VLOOKUP(P32,勤務シフト一覧!$B$4:$C$106,2,FALSE)),\"\",VLOOKUP(P32,勤務シフト一覧!$B$4:$C$106,2,FALSE))","v":""},{"$f":"IF(ISERROR(VLOOKUP(Q32,勤務シフト一覧!$B$4:$C$106,2,FALSE)),\"\",VLOOKUP(Q32,勤務シフト一覧!$B$4:$C$106,2,FALSE))","v":""},{"$f":"IF(ISERROR(VLOOKUP(R32,勤務シフト一覧!$B$4:$C$106,2,FALSE)),\"\",VLOOKUP(R32,勤務シフト一覧!$B$4:$C$106,2,FALSE))","v":""},{"$f":"IF(ISERROR(VLOOKUP(S32,勤務シフト一覧!$B$4:$C$106,2,FALSE)),\"\",VLOOKUP(S32,勤務シフト一覧!$B$4:$C$106,2,FALSE))","v":""},{"$f":"IF(ISERROR(VLOOKUP(T32,勤務シフト一覧!$B$4:$C$106,2,FALSE)),\"\",VLOOKUP(T32,勤務シフト一覧!$B$4:$C$106,2,FALSE))","v":""},{"$f":"IF(ISERROR(VLOOKUP(U32,勤務シフト一覧!$B$4:$C$106,2,FALSE)),\"\",VLOOKUP(U32,勤務シフト一覧!$B$4:$C$106,2,FALSE))","v":""},{"$f":"IF(ISERROR(VLOOKUP(V32,勤務シフト一覧!$B$4:$C$106,2,FALSE)),\"\",VLOOKUP(V32,勤務シフト一覧!$B$4:$C$106,2,FALSE))","v":""},{"$f":"IF(ISERROR(VLOOKUP(W32,勤務シフト一覧!$B$4:$C$106,2,FALSE)),\"\",VLOOKUP(W32,勤務シフト一覧!$B$4:$C$106,2,FALSE))","v":""},{"$f":"IF(ISERROR(VLOOKUP(X32,勤務シフト一覧!$B$4:$C$106,2,FALSE)),\"\",VLOOKUP(X32,勤務シフト一覧!$B$4:$C$106,2,FALSE))","v":""},{"$f":"IF(ISERROR(VLOOKUP(Y32,勤務シフト一覧!$B$4:$C$106,2,FALSE)),\"\",VLOOKUP(Y32,勤務シフト一覧!$B$4:$C$106,2,FALSE))","v":""},{"$f":"IF(ISERROR(VLOOKUP(Z32,勤務シフト一覧!$B$4:$C$106,2,FALSE)),\"\",VLOOKUP(Z32,勤務シフト一覧!$B$4:$C$106,2,FALSE))","v":""},{"$f":"IF(ISERROR(VLOOKUP(AA32,勤務シフト一覧!$B$4:$C$106,2,FALSE)),\"\",VLOOKUP(AA32,勤務シフト一覧!$B$4:$C$106,2,FALSE))","v":""},{"$f":"IF(ISERROR(VLOOKUP(AB32,勤務シフト一覧!$B$4:$C$106,2,FALSE)),\"\",VLOOKUP(AB32,勤務シフト一覧!$B$4:$C$106,2,FALSE))","v":""},{"$f":"IF(ISERROR(VLOOKUP(AC32,勤務シフト一覧!$B$4:$C$106,2,FALSE)),\"\",VLOOKUP(AC32,勤務シフト一覧!$B$4:$C$106,2,FALSE))","v":""},{"$f":"IF(ISERROR(VLOOKUP(AD32,勤務シフト一覧!$B$4:$C$106,2,FALSE)),\"\",VLOOKUP(AD32,勤務シフト一覧!$B$4:$C$106,2,FALSE))","v":""},{"$f":"IF(ISERROR(VLOOKUP(AE32,勤務シフト一覧!$B$4:$C$106,2,FALSE)),\"\",VLOOKUP(AE32,勤務シフト一覧!$B$4:$C$106,2,FALSE))","v":""},{"$f":"IF(ISERROR(VLOOKUP(AF32,勤務シフト一覧!$B$4:$C$106,2,FALSE)),\"\",VLOOKUP(AF32,勤務シフト一覧!$B$4:$C$106,2,FALSE))","v":""},{"$f":"IF(ISERROR(VLOOKUP(AG32,勤務シフト一覧!$B$4:$C$106,2,FALSE)),\"\",VLOOKUP(AG32,勤務シフト一覧!$B$4:$C$106,2,FALSE))","v":""},{"$f":"IF(ISERROR(VLOOKUP(AH32,勤務シフト一覧!$B$4:$C$106,2,FALSE)),\"\",VLOOKUP(AH32,勤務シフト一覧!$B$4:$C$106,2,FALSE))","v":""},null,{"$f":"IF(ISERROR(VLOOKUP(D32,勤務シフト一覧!$B$4:$D$106,3,FALSE)),\"\",VLOOKUP(D32,勤務シフト一覧!$B$4:$D$106,3,FALSE))","v":""},{"$f":"IF(ISERROR(VLOOKUP(E32,勤務シフト一覧!$B$4:$D$106,3,FALSE)),\"\",VLOOKUP(E32,勤務シフト一覧!$B$4:$D$106,3,FALSE))","v":""},{"$f":"IF(ISERROR(VLOOKUP(F32,勤務シフト一覧!$B$4:$D$106,3,FALSE)),\"\",VLOOKUP(F32,勤務シフト一覧!$B$4:$D$106,3,FALSE))","v":""},{"$f":"IF(ISERROR(VLOOKUP(G32,勤務シフト一覧!$B$4:$D$106,3,FALSE)),\"\",VLOOKUP(G32,勤務シフト一覧!$B$4:$D$106,3,FALSE))","v":""},{"$f":"IF(ISERROR(VLOOKUP(H32,勤務シフト一覧!$B$4:$D$106,3,FALSE)),\"\",VLOOKUP(H32,勤務シフト一覧!$B$4:$D$106,3,FALSE))","v":""},{"$f":"IF(ISERROR(VLOOKUP(I32,勤務シフト一覧!$B$4:$D$106,3,FALSE)),\"\",VLOOKUP(I32,勤務シフト一覧!$B$4:$D$106,3,FALSE))","v":""},{"$f":"IF(ISERROR(VLOOKUP(J32,勤務シフト一覧!$B$4:$D$106,3,FALSE)),\"\",VLOOKUP(J32,勤務シフト一覧!$B$4:$D$106,3,FALSE))","v":""},{"$f":"IF(ISERROR(VLOOKUP(K32,勤務シフト一覧!$B$4:$D$106,3,FALSE)),\"\",VLOOKUP(K32,勤務シフト一覧!$B$4:$D$106,3,FALSE))","v":""},{"$f":"IF(ISERROR(VLOOKUP(L32,勤務シフト一覧!$B$4:$D$106,3,FALSE)),\"\",VLOOKUP(L32,勤務シフト一覧!$B$4:$D$106,3,FALSE))","v":""},{"$f":"IF(ISERROR(VLOOKUP(M32,勤務シフト一覧!$B$4:$D$106,3,FALSE)),\"\",VLOOKUP(M32,勤務シフト一覧!$B$4:$D$106,3,FALSE))","v":""},{"$f":"IF(ISERROR(VLOOKUP(N32,勤務シフト一覧!$B$4:$D$106,3,FALSE)),\"\",VLOOKUP(N32,勤務シフト一覧!$B$4:$D$106,3,FALSE))","v":""},{"$f":"IF(ISERROR(VLOOKUP(O32,勤務シフト一覧!$B$4:$D$106,3,FALSE)),\"\",VLOOKUP(O32,勤務シフト一覧!$B$4:$D$106,3,FALSE))","v":""},{"$f":"IF(ISERROR(VLOOKUP(P32,勤務シフト一覧!$B$4:$D$106,3,FALSE)),\"\",VLOOKUP(P32,勤務シフト一覧!$B$4:$D$106,3,FALSE))","v":""},{"$f":"IF(ISERROR(VLOOKUP(Q32,勤務シフト一覧!$B$4:$D$106,3,FALSE)),\"\",VLOOKUP(Q32,勤務シフト一覧!$B$4:$D$106,3,FALSE))","v":""},{"$f":"IF(ISERROR(VLOOKUP(R32,勤務シフト一覧!$B$4:$D$106,3,FALSE)),\"\",VLOOKUP(R32,勤務シフト一覧!$B$4:$D$106,3,FALSE))","v":""},{"$f":"IF(ISERROR(VLOOKUP(S32,勤務シフト一覧!$B$4:$D$106,3,FALSE)),\"\",VLOOKUP(S32,勤務シフト一覧!$B$4:$D$106,3,FALSE))","v":""},{"$f":"IF(ISERROR(VLOOKUP(T32,勤務シフト一覧!$B$4:$D$106,3,FALSE)),\"\",VLOOKUP(T32,勤務シフト一覧!$B$4:$D$106,3,FALSE))","v":""},{"$f":"IF(ISERROR(VLOOKUP(U32,勤務シフト一覧!$B$4:$D$106,3,FALSE)),\"\",VLOOKUP(U32,勤務シフト一覧!$B$4:$D$106,3,FALSE))","v":""},{"$f":"IF(ISERROR(VLOOKUP(V32,勤務シフト一覧!$B$4:$D$106,3,FALSE)),\"\",VLOOKUP(V32,勤務シフト一覧!$B$4:$D$106,3,FALSE))","v":""},{"$f":"IF(ISERROR(VLOOKUP(W32,勤務シフト一覧!$B$4:$D$106,3,FALSE)),\"\",VLOOKUP(W32,勤務シフト一覧!$B$4:$D$106,3,FALSE))","v":""},{"$f":"IF(ISERROR(VLOOKUP(X32,勤務シフト一覧!$B$4:$D$106,3,FALSE)),\"\",VLOOKUP(X32,勤務シフト一覧!$B$4:$D$106,3,FALSE))","v":""},{"$f":"IF(ISERROR(VLOOKUP(Y32,勤務シフト一覧!$B$4:$D$106,3,FALSE)),\"\",VLOOKUP(Y32,勤務シフト一覧!$B$4:$D$106,3,FALSE))","v":""},{"$f":"IF(ISERROR(VLOOKUP(Z32,勤務シフト一覧!$B$4:$D$106,3,FALSE)),\"\",VLOOKUP(Z32,勤務シフト一覧!$B$4:$D$106,3,FALSE))","v":""},{"$f":"IF(ISERROR(VLOOKUP(AA32,勤務シフト一覧!$B$4:$D$106,3,FALSE)),\"\",VLOOKUP(AA32,勤務シフト一覧!$B$4:$D$106,3,FALSE))","v":""},{"$f":"IF(ISERROR(VLOOKUP(AB32,勤務シフト一覧!$B$4:$D$106,3,FALSE)),\"\",VLOOKUP(AB32,勤務シフト一覧!$B$4:$D$106,3,FALSE))","v":""},{"$f":"IF(ISERROR(VLOOKUP(AC32,勤務シフト一覧!$B$4:$D$106,3,FALSE)),\"\",VLOOKUP(AC32,勤務シフト一覧!$B$4:$D$106,3,FALSE))","v":""},{"$f":"IF(ISERROR(VLOOKUP(AD32,勤務シフト一覧!$B$4:$D$106,3,FALSE)),\"\",VLOOKUP(AD32,勤務シフト一覧!$B$4:$D$106,3,FALSE))","v":""},{"$f":"IF(ISERROR(VLOOKUP(AE32,勤務シフト一覧!$B$4:$D$106,3,FALSE)),\"\",VLOOKUP(AE32,勤務シフト一覧!$B$4:$D$106,3,FALSE))","v":""},{"$f":"IF(ISERROR(VLOOKUP(AF32,勤務シフト一覧!$B$4:$D$106,3,FALSE)),\"\",VLOOKUP(AF32,勤務シフト一覧!$B$4:$D$106,3,FALSE))","v":""},{"$f":"IF(ISERROR(VLOOKUP(AG32,勤務シフト一覧!$B$4:$D$106,3,FALSE)),\"\",VLOOKUP(AG32,勤務シフト一覧!$B$4:$D$106,3,FALSE))","v":""},{"$f":"IF(ISERROR(VLOOKUP(AH32,勤務シフト一覧!$B$4:$D$106,3,FALSE)),\"\",VLOOKUP(AH32,勤務シフト一覧!$B$4:$D$106,3,FALSE))","v":""},0,0,0,0,0,0,0,0,0,0,{"$f":"IF(LEN(職員一覧!D15)<>0,職員一覧!D15,\"\")","v":""},null,{"$f":"IF(勤務シフト一覧!$D32<>0,IF(勤務シフト一覧!$B32<> 0,勤務シフト一覧!$B32,\"\"),\"\")","v":"A年"}]
[null,null,"実施",null,null,null,null,null,null,null,null,null,null,null,null,null,null,null,null,null,null,null,null,null,null,null,null,null,null,null,null,null,null,null,{"$f":"IF(ISERROR(VLOOKUP(D33,勤務シフト一覧!$B$4:$C$106,2,FALSE)),\"\",VLOOKUP(D33,勤務シフト一覧!$B$4:$C$106,2,FALSE))","v":""},{"$f":"IF(ISERROR(VLOOKUP(E33,勤務シフト一覧!$B$4:$C$106,2,FALSE)),\"\",VLOOKUP(E33,勤務シフト一覧!$B$4:$C$106,2,FALSE))","v":""},{"$f":"IF(ISERROR(VLOOKUP(F33,勤務シフト一覧!$B$4:$C$106,2,FALSE)),\"\",VLOOKUP(F33,勤務シフト一覧!$B$4:$C$106,2,FALSE))","v":""},{"$f":"IF(ISERROR(VLOOKUP(G33,勤務シフト一覧!$B$4:$C$106,2,FALSE)),\"\",VLOOKUP(G33,勤務シフト一覧!$B$4:$C$106,2,FALSE))","v":""},{"$f":"IF(ISERROR(VLOOKUP(H33,勤務シフト一覧!$B$4:$C$106,2,FALSE)),\"\",VLOOKUP(H33,勤務シフト一覧!$B$4:$C$106,2,FALSE))","v":""},{"$f":"IF(ISERROR(VLOOKUP(I33,勤務シフト一覧!$B$4:$C$106,2,FALSE)),\"\",VLOOKUP(I33,勤務シフト一覧!$B$4:$C$106,2,FALSE))","v":""},{"$f":"IF(ISERROR(VLOOKUP(J33,勤務シフト一覧!$B$4:$C$106,2,FALSE)),\"\",VLOOKUP(J33,勤務シフト一覧!$B$4:$C$106,2,FALSE))","v":""},{"$f":"IF(ISERROR(VLOOKUP(K33,勤務シフト一覧!$B$4:$C$106,2,FALSE)),\"\",VLOOKUP(K33,勤務シフト一覧!$B$4:$C$106,2,FALSE))","v":""},{"$f":"IF(ISERROR(VLOOKUP(L33,勤務シフト一覧!$B$4:$C$106,2,FALSE)),\"\",VLOOKUP(L33,勤務シフト一覧!$B$4:$C$106,2,FALSE))","v":""},{"$f":"IF(ISERROR(VLOOKUP(M33,勤務シフト一覧!$B$4:$C$106,2,FALSE)),\"\",VLOOKUP(M33,勤務シフト一覧!$B$4:$C$106,2,FALSE))","v":""},{"$f":"IF(ISERROR(VLOOKUP(N33,勤務シフト一覧!$B$4:$C$106,2,FALSE)),\"\",VLOOKUP(N33,勤務シフト一覧!$B$4:$C$106,2,FALSE))","v":""},{"$f":"IF(ISERROR(VLOOKUP(O33,勤務シフト一覧!$B$4:$C$106,2,FALSE)),\"\",VLOOKUP(O33,勤務シフト一覧!$B$4:$C$106,2,FALSE))","v":""},{"$f":"IF(ISERROR(VLOOKUP(P33,勤務シフト一覧!$B$4:$C$106,2,FALSE)),\"\",VLOOKUP(P33,勤務シフト一覧!$B$4:$C$106,2,FALSE))","v":""},{"$f":"IF(ISERROR(VLOOKUP(Q33,勤務シフト一覧!$B$4:$C$106,2,FALSE)),\"\",VLOOKUP(Q33,勤務シフト一覧!$B$4:$C$106,2,FALSE))","v":""},{"$f":"IF(ISERROR(VLOOKUP(R33,勤務シフト一覧!$B$4:$C$106,2,FALSE)),\"\",VLOOKUP(R33,勤務シフト一覧!$B$4:$C$106,2,FALSE))","v":""},{"$f":"IF(ISERROR(VLOOKUP(S33,勤務シフト一覧!$B$4:$C$106,2,FALSE)),\"\",VLOOKUP(S33,勤務シフト一覧!$B$4:$C$106,2,FALSE))","v":""},{"$f":"IF(ISERROR(VLOOKUP(T33,勤務シフト一覧!$B$4:$C$106,2,FALSE)),\"\",VLOOKUP(T33,勤務シフト一覧!$B$4:$C$106,2,FALSE))","v":""},{"$f":"IF(ISERROR(VLOOKUP(U33,勤務シフト一覧!$B$4:$C$106,2,FALSE)),\"\",VLOOKUP(U33,勤務シフト一覧!$B$4:$C$106,2,FALSE))","v":""},{"$f":"IF(ISERROR(VLOOKUP(V33,勤務シフト一覧!$B$4:$C$106,2,FALSE)),\"\",VLOOKUP(V33,勤務シフト一覧!$B$4:$C$106,2,FALSE))","v":""},{"$f":"IF(ISERROR(VLOOKUP(W33,勤務シフト一覧!$B$4:$C$106,2,FALSE)),\"\",VLOOKUP(W33,勤務シフト一覧!$B$4:$C$106,2,FALSE))","v":""},{"$f":"IF(ISERROR(VLOOKUP(X33,勤務シフト一覧!$B$4:$C$106,2,FALSE)),\"\",VLOOKUP(X33,勤務シフト一覧!$B$4:$C$106,2,FALSE))","v":""},{"$f":"IF(ISERROR(VLOOKUP(Y33,勤務シフト一覧!$B$4:$C$106,2,FALSE)),\"\",VLOOKUP(Y33,勤務シフト一覧!$B$4:$C$106,2,FALSE))","v":""},{"$f":"IF(ISERROR(VLOOKUP(Z33,勤務シフト一覧!$B$4:$C$106,2,FALSE)),\"\",VLOOKUP(Z33,勤務シフト一覧!$B$4:$C$106,2,FALSE))","v":""},{"$f":"IF(ISERROR(VLOOKUP(AA33,勤務シフト一覧!$B$4:$C$106,2,FALSE)),\"\",VLOOKUP(AA33,勤務シフト一覧!$B$4:$C$106,2,FALSE))","v":""},{"$f":"IF(ISERROR(VLOOKUP(AB33,勤務シフト一覧!$B$4:$C$106,2,FALSE)),\"\",VLOOKUP(AB33,勤務シフト一覧!$B$4:$C$106,2,FALSE))","v":""},{"$f":"IF(ISERROR(VLOOKUP(AC33,勤務シフト一覧!$B$4:$C$106,2,FALSE)),\"\",VLOOKUP(AC33,勤務シフト一覧!$B$4:$C$106,2,FALSE))","v":""},{"$f":"IF(ISERROR(VLOOKUP(AD33,勤務シフト一覧!$B$4:$C$106,2,FALSE)),\"\",VLOOKUP(AD33,勤務シフト一覧!$B$4:$C$106,2,FALSE))","v":""},{"$f":"IF(ISERROR(VLOOKUP(AE33,勤務シフト一覧!$B$4:$C$106,2,FALSE)),\"\",VLOOKUP(AE33,勤務シフト一覧!$B$4:$C$106,2,FALSE))","v":""},{"$f":"IF(ISERROR(VLOOKUP(AF33,勤務シフト一覧!$B$4:$C$106,2,FALSE)),\"\",VLOOKUP(AF33,勤務シフト一覧!$B$4:$C$106,2,FALSE))","v":""},{"$f":"IF(ISERROR(VLOOKUP(AG33,勤務シフト一覧!$B$4:$C$106,2,FALSE)),\"\",VLOOKUP(AG33,勤務シフト一覧!$B$4:$C$106,2,FALSE))","v":""},{"$f":"IF(ISERROR(VLOOKUP(AH33,勤務シフト一覧!$B$4:$C$106,2,FALSE)),\"\",VLOOKUP(AH33,勤務シフト一覧!$B$4:$C$106,2,FALSE))","v":""},null,{"$f":"IF(ISERROR(VLOOKUP(D33,勤務シフト一覧!$B$4:$D$106,3,FALSE)),\"\",VLOOKUP(D33,勤務シフト一覧!$B$4:$D$106,3,FALSE))","v":""},{"$f":"IF(ISERROR(VLOOKUP(E33,勤務シフト一覧!$B$4:$D$106,3,FALSE)),\"\",VLOOKUP(E33,勤務シフト一覧!$B$4:$D$106,3,FALSE))","v":""},{"$f":"IF(ISERROR(VLOOKUP(F33,勤務シフト一覧!$B$4:$D$106,3,FALSE)),\"\",VLOOKUP(F33,勤務シフト一覧!$B$4:$D$106,3,FALSE))","v":""},{"$f":"IF(ISERROR(VLOOKUP(G33,勤務シフト一覧!$B$4:$D$106,3,FALSE)),\"\",VLOOKUP(G33,勤務シフト一覧!$B$4:$D$106,3,FALSE))","v":""},{"$f":"IF(ISERROR(VLOOKUP(H33,勤務シフト一覧!$B$4:$D$106,3,FALSE)),\"\",VLOOKUP(H33,勤務シフト一覧!$B$4:$D$106,3,FALSE))","v":""},{"$f":"IF(ISERROR(VLOOKUP(I33,勤務シフト一覧!$B$4:$D$106,3,FALSE)),\"\",VLOOKUP(I33,勤務シフト一覧!$B$4:$D$106,3,FALSE))","v":""},{"$f":"IF(ISERROR(VLOOKUP(J33,勤務シフト一覧!$B$4:$D$106,3,FALSE)),\"\",VLOOKUP(J33,勤務シフト一覧!$B$4:$D$106,3,FALSE))","v":""},{"$f":"IF(ISERROR(VLOOKUP(K33,勤務シフト一覧!$B$4:$D$106,3,FALSE)),\"\",VLOOKUP(K33,勤務シフト一覧!$B$4:$D$106,3,FALSE))","v":""},{"$f":"IF(ISERROR(VLOOKUP(L33,勤務シフト一覧!$B$4:$D$106,3,FALSE)),\"\",VLOOKUP(L33,勤務シフト一覧!$B$4:$D$106,3,FALSE))","v":""},{"$f":"IF(ISERROR(VLOOKUP(M33,勤務シフト一覧!$B$4:$D$106,3,FALSE)),\"\",VLOOKUP(M33,勤務シフト一覧!$B$4:$D$106,3,FALSE))","v":""},{"$f":"IF(ISERROR(VLOOKUP(N33,勤務シフト一覧!$B$4:$D$106,3,FALSE)),\"\",VLOOKUP(N33,勤務シフト一覧!$B$4:$D$106,3,FALSE))","v":""},{"$f":"IF(ISERROR(VLOOKUP(O33,勤務シフト一覧!$B$4:$D$106,3,FALSE)),\"\",VLOOKUP(O33,勤務シフト一覧!$B$4:$D$106,3,FALSE))","v":""},{"$f":"IF(ISERROR(VLOOKUP(P33,勤務シフト一覧!$B$4:$D$106,3,FALSE)),\"\",VLOOKUP(P33,勤務シフト一覧!$B$4:$D$106,3,FALSE))","v":""},{"$f":"IF(ISERROR(VLOOKUP(Q33,勤務シフト一覧!$B$4:$D$106,3,FALSE)),\"\",VLOOKUP(Q33,勤務シフト一覧!$B$4:$D$106,3,FALSE))","v":""},{"$f":"IF(ISERROR(VLOOKUP(R33,勤務シフト一覧!$B$4:$D$106,3,FALSE)),\"\",VLOOKUP(R33,勤務シフト一覧!$B$4:$D$106,3,FALSE))","v":""},{"$f":"IF(ISERROR(VLOOKUP(S33,勤務シフト一覧!$B$4:$D$106,3,FALSE)),\"\",VLOOKUP(S33,勤務シフト一覧!$B$4:$D$106,3,FALSE))","v":""},{"$f":"IF(ISERROR(VLOOKUP(T33,勤務シフト一覧!$B$4:$D$106,3,FALSE)),\"\",VLOOKUP(T33,勤務シフト一覧!$B$4:$D$106,3,FALSE))","v":""},{"$f":"IF(ISERROR(VLOOKUP(U33,勤務シフト一覧!$B$4:$D$106,3,FALSE)),\"\",VLOOKUP(U33,勤務シフト一覧!$B$4:$D$106,3,FALSE))","v":""},{"$f":"IF(ISERROR(VLOOKUP(V33,勤務シフト一覧!$B$4:$D$106,3,FALSE)),\"\",VLOOKUP(V33,勤務シフト一覧!$B$4:$D$106,3,FALSE))","v":""},{"$f":"IF(ISERROR(VLOOKUP(W33,勤務シフト一覧!$B$4:$D$106,3,FALSE)),\"\",VLOOKUP(W33,勤務シフト一覧!$B$4:$D$106,3,FALSE))","v":""},{"$f":"IF(ISERROR(VLOOKUP(X33,勤務シフト一覧!$B$4:$D$106,3,FALSE)),\"\",VLOOKUP(X33,勤務シフト一覧!$B$4:$D$106,3,FALSE))","v":""},{"$f":"IF(ISERROR(VLOOKUP(Y33,勤務シフト一覧!$B$4:$D$106,3,FALSE)),\"\",VLOOKUP(Y33,勤務シフト一覧!$B$4:$D$106,3,FALSE))","v":""},{"$f":"IF(ISERROR(VLOOKUP(Z33,勤務シフト一覧!$B$4:$D$106,3,FALSE)),\"\",VLOOKUP(Z33,勤務シフト一覧!$B$4:$D$106,3,FALSE))","v":""},{"$f":"IF(ISERROR(VLOOKUP(AA33,勤務シフト一覧!$B$4:$D$106,3,FALSE)),\"\",VLOOKUP(AA33,勤務シフト一覧!$B$4:$D$106,3,FALSE))","v":""},{"$f":"IF(ISERROR(VLOOKUP(AB33,勤務シフト一覧!$B$4:$D$106,3,FALSE)),\"\",VLOOKUP(AB33,勤務シフト一覧!$B$4:$D$106,3,FALSE))","v":""},{"$f":"IF(ISERROR(VLOOKUP(AC33,勤務シフト一覧!$B$4:$D$106,3,FALSE)),\"\",VLOOKUP(AC33,勤務シフト一覧!$B$4:$D$106,3,FALSE))","v":""},{"$f":"IF(ISERROR(VLOOKUP(AD33,勤務シフト一覧!$B$4:$D$106,3,FALSE)),\"\",VLOOKUP(AD33,勤務シフト一覧!$B$4:$D$106,3,FALSE))","v":""},{"$f":"IF(ISERROR(VLOOKUP(AE33,勤務シフト一覧!$B$4:$D$106,3,FALSE)),\"\",VLOOKUP(AE33,勤務シフト一覧!$B$4:$D$106,3,FALSE))","v":""},{"$f":"IF(ISERROR(VLOOKUP(AF33,勤務シフト一覧!$B$4:$D$106,3,FALSE)),\"\",VLOOKUP(AF33,勤務シフト一覧!$B$4:$D$106,3,FALSE))","v":""},{"$f":"IF(ISERROR(VLOOKUP(AG33,勤務シフト一覧!$B$4:$D$106,3,FALSE)),\"\",VLOOKUP(AG33,勤務シフト一覧!$B$4:$D$106,3,FALSE))","v":""},{"$f":"IF(ISERROR(VLOOKUP(AH33,勤務シフト一覧!$B$4:$D$106,3,FALSE)),\"\",VLOOKUP(AH33,勤務シフト一覧!$B$4:$D$106,3,FALSE))","v":""},0,0,0,0,0,0,0,0,0,0,null,null,{"$f":"IF(勤務シフト一覧!$D33<>0,IF(勤務シフト一覧!$B33<> 0,勤務シフト一覧!$B33,\"\"),\"\")","v":"P年"}]
[{"$f":"IF(LEN(職員一覧!B16)<>0,職員一覧!B16,\"\")","v":""},{"$f":"IF(LEN(職員一覧!C16)<>0,職員一覧!C16,\"\")","v":""},"予定",null,null,null,null,null,null,null,null,null,null,null,null,null,null,null,null,null,null,null,null,null,null,null,null,null,null,null,null,null,null,null,{"$f":"IF(ISERROR(VLOOKUP(D34,勤務シフト一覧!$B$4:$C$106,2,FALSE)),\"\",VLOOKUP(D34,勤務シフト一覧!$B$4:$C$106,2,FALSE))","v":""},{"$f":"IF(ISERROR(VLOOKUP(E34,勤務シフト一覧!$B$4:$C$106,2,FALSE)),\"\",VLOOKUP(E34,勤務シフト一覧!$B$4:$C$106,2,FALSE))","v":""},{"$f":"IF(ISERROR(VLOOKUP(F34,勤務シフト一覧!$B$4:$C$106,2,FALSE)),\"\",VLOOKUP(F34,勤務シフト一覧!$B$4:$C$106,2,FALSE))","v":""},{"$f":"IF(ISERROR(VLOOKUP(G34,勤務シフト一覧!$B$4:$C$106,2,FALSE)),\"\",VLOOKUP(G34,勤務シフト一覧!$B$4:$C$106,2,FALSE))","v":""},{"$f":"IF(ISERROR(VLOOKUP(H34,勤務シフト一覧!$B$4:$C$106,2,FALSE)),\"\",VLOOKUP(H34,勤務シフト一覧!$B$4:$C$106,2,FALSE))","v":""},{"$f":"IF(ISERROR(VLOOKUP(I34,勤務シフト一覧!$B$4:$C$106,2,FALSE)),\"\",VLOOKUP(I34,勤務シフト一覧!$B$4:$C$106,2,FALSE))","v":""},{"$f":"IF(ISERROR(VLOOKUP(J34,勤務シフト一覧!$B$4:$C$106,2,FALSE)),\"\",VLOOKUP(J34,勤務シフト一覧!$B$4:$C$106,2,FALSE))","v":""},{"$f":"IF(ISERROR(VLOOKUP(K34,勤務シフト一覧!$B$4:$C$106,2,FALSE)),\"\",VLOOKUP(K34,勤務シフト一覧!$B$4:$C$106,2,FALSE))","v":""},{"$f":"IF(ISERROR(VLOOKUP(L34,勤務シフト一覧!$B$4:$C$106,2,FALSE)),\"\",VLOOKUP(L34,勤務シフト一覧!$B$4:$C$106,2,FALSE))","v":""},{"$f":"IF(ISERROR(VLOOKUP(M34,勤務シフト一覧!$B$4:$C$106,2,FALSE)),\"\",VLOOKUP(M34,勤務シフト一覧!$B$4:$C$106,2,FALSE))","v":""},{"$f":"IF(ISERROR(VLOOKUP(N34,勤務シフト一覧!$B$4:$C$106,2,FALSE)),\"\",VLOOKUP(N34,勤務シフト一覧!$B$4:$C$106,2,FALSE))","v":""},{"$f":"IF(ISERROR(VLOOKUP(O34,勤務シフト一覧!$B$4:$C$106,2,FALSE)),\"\",VLOOKUP(O34,勤務シフト一覧!$B$4:$C$106,2,FALSE))","v":""},{"$f":"IF(ISERROR(VLOOKUP(P34,勤務シフト一覧!$B$4:$C$106,2,FALSE)),\"\",VLOOKUP(P34,勤務シフト一覧!$B$4:$C$106,2,FALSE))","v":""},{"$f":"IF(ISERROR(VLOOKUP(Q34,勤務シフト一覧!$B$4:$C$106,2,FALSE)),\"\",VLOOKUP(Q34,勤務シフト一覧!$B$4:$C$106,2,FALSE))","v":""},{"$f":"IF(ISERROR(VLOOKUP(R34,勤務シフト一覧!$B$4:$C$106,2,FALSE)),\"\",VLOOKUP(R34,勤務シフト一覧!$B$4:$C$106,2,FALSE))","v":""},{"$f":"IF(ISERROR(VLOOKUP(S34,勤務シフト一覧!$B$4:$C$106,2,FALSE)),\"\",VLOOKUP(S34,勤務シフト一覧!$B$4:$C$106,2,FALSE))","v":""},{"$f":"IF(ISERROR(VLOOKUP(T34,勤務シフト一覧!$B$4:$C$106,2,FALSE)),\"\",VLOOKUP(T34,勤務シフト一覧!$B$4:$C$106,2,FALSE))","v":""},{"$f":"IF(ISERROR(VLOOKUP(U34,勤務シフト一覧!$B$4:$C$106,2,FALSE)),\"\",VLOOKUP(U34,勤務シフト一覧!$B$4:$C$106,2,FALSE))","v":""},{"$f":"IF(ISERROR(VLOOKUP(V34,勤務シフト一覧!$B$4:$C$106,2,FALSE)),\"\",VLOOKUP(V34,勤務シフト一覧!$B$4:$C$106,2,FALSE))","v":""},{"$f":"IF(ISERROR(VLOOKUP(W34,勤務シフト一覧!$B$4:$C$106,2,FALSE)),\"\",VLOOKUP(W34,勤務シフト一覧!$B$4:$C$106,2,FALSE))","v":""},{"$f":"IF(ISERROR(VLOOKUP(X34,勤務シフト一覧!$B$4:$C$106,2,FALSE)),\"\",VLOOKUP(X34,勤務シフト一覧!$B$4:$C$106,2,FALSE))","v":""},{"$f":"IF(ISERROR(VLOOKUP(Y34,勤務シフト一覧!$B$4:$C$106,2,FALSE)),\"\",VLOOKUP(Y34,勤務シフト一覧!$B$4:$C$106,2,FALSE))","v":""},{"$f":"IF(ISERROR(VLOOKUP(Z34,勤務シフト一覧!$B$4:$C$106,2,FALSE)),\"\",VLOOKUP(Z34,勤務シフト一覧!$B$4:$C$106,2,FALSE))","v":""},{"$f":"IF(ISERROR(VLOOKUP(AA34,勤務シフト一覧!$B$4:$C$106,2,FALSE)),\"\",VLOOKUP(AA34,勤務シフト一覧!$B$4:$C$106,2,FALSE))","v":""},{"$f":"IF(ISERROR(VLOOKUP(AB34,勤務シフト一覧!$B$4:$C$106,2,FALSE)),\"\",VLOOKUP(AB34,勤務シフト一覧!$B$4:$C$106,2,FALSE))","v":""},{"$f":"IF(ISERROR(VLOOKUP(AC34,勤務シフト一覧!$B$4:$C$106,2,FALSE)),\"\",VLOOKUP(AC34,勤務シフト一覧!$B$4:$C$106,2,FALSE))","v":""},{"$f":"IF(ISERROR(VLOOKUP(AD34,勤務シフト一覧!$B$4:$C$106,2,FALSE)),\"\",VLOOKUP(AD34,勤務シフト一覧!$B$4:$C$106,2,FALSE))","v":""},{"$f":"IF(ISERROR(VLOOKUP(AE34,勤務シフト一覧!$B$4:$C$106,2,FALSE)),\"\",VLOOKUP(AE34,勤務シフト一覧!$B$4:$C$106,2,FALSE))","v":""},{"$f":"IF(ISERROR(VLOOKUP(AF34,勤務シフト一覧!$B$4:$C$106,2,FALSE)),\"\",VLOOKUP(AF34,勤務シフト一覧!$B$4:$C$106,2,FALSE))","v":""},{"$f":"IF(ISERROR(VLOOKUP(AG34,勤務シフト一覧!$B$4:$C$106,2,FALSE)),\"\",VLOOKUP(AG34,勤務シフト一覧!$B$4:$C$106,2,FALSE))","v":""},{"$f":"IF(ISERROR(VLOOKUP(AH34,勤務シフト一覧!$B$4:$C$106,2,FALSE)),\"\",VLOOKUP(AH34,勤務シフト一覧!$B$4:$C$106,2,FALSE))","v":""},null,{"$f":"IF(ISERROR(VLOOKUP(D34,勤務シフト一覧!$B$4:$D$106,3,FALSE)),\"\",VLOOKUP(D34,勤務シフト一覧!$B$4:$D$106,3,FALSE))","v":""},{"$f":"IF(ISERROR(VLOOKUP(E34,勤務シフト一覧!$B$4:$D$106,3,FALSE)),\"\",VLOOKUP(E34,勤務シフト一覧!$B$4:$D$106,3,FALSE))","v":""},{"$f":"IF(ISERROR(VLOOKUP(F34,勤務シフト一覧!$B$4:$D$106,3,FALSE)),\"\",VLOOKUP(F34,勤務シフト一覧!$B$4:$D$106,3,FALSE))","v":""},{"$f":"IF(ISERROR(VLOOKUP(G34,勤務シフト一覧!$B$4:$D$106,3,FALSE)),\"\",VLOOKUP(G34,勤務シフト一覧!$B$4:$D$106,3,FALSE))","v":""},{"$f":"IF(ISERROR(VLOOKUP(H34,勤務シフト一覧!$B$4:$D$106,3,FALSE)),\"\",VLOOKUP(H34,勤務シフト一覧!$B$4:$D$106,3,FALSE))","v":""},{"$f":"IF(ISERROR(VLOOKUP(I34,勤務シフト一覧!$B$4:$D$106,3,FALSE)),\"\",VLOOKUP(I34,勤務シフト一覧!$B$4:$D$106,3,FALSE))","v":""},{"$f":"IF(ISERROR(VLOOKUP(J34,勤務シフト一覧!$B$4:$D$106,3,FALSE)),\"\",VLOOKUP(J34,勤務シフト一覧!$B$4:$D$106,3,FALSE))","v":""},{"$f":"IF(ISERROR(VLOOKUP(K34,勤務シフト一覧!$B$4:$D$106,3,FALSE)),\"\",VLOOKUP(K34,勤務シフト一覧!$B$4:$D$106,3,FALSE))","v":""},{"$f":"IF(ISERROR(VLOOKUP(L34,勤務シフト一覧!$B$4:$D$106,3,FALSE)),\"\",VLOOKUP(L34,勤務シフト一覧!$B$4:$D$106,3,FALSE))","v":""},{"$f":"IF(ISERROR(VLOOKUP(M34,勤務シフト一覧!$B$4:$D$106,3,FALSE)),\"\",VLOOKUP(M34,勤務シフト一覧!$B$4:$D$106,3,FALSE))","v":""},{"$f":"IF(ISERROR(VLOOKUP(N34,勤務シフト一覧!$B$4:$D$106,3,FALSE)),\"\",VLOOKUP(N34,勤務シフト一覧!$B$4:$D$106,3,FALSE))","v":""},{"$f":"IF(ISERROR(VLOOKUP(O34,勤務シフト一覧!$B$4:$D$106,3,FALSE)),\"\",VLOOKUP(O34,勤務シフト一覧!$B$4:$D$106,3,FALSE))","v":""},{"$f":"IF(ISERROR(VLOOKUP(P34,勤務シフト一覧!$B$4:$D$106,3,FALSE)),\"\",VLOOKUP(P34,勤務シフト一覧!$B$4:$D$106,3,FALSE))","v":""},{"$f":"IF(ISERROR(VLOOKUP(Q34,勤務シフト一覧!$B$4:$D$106,3,FALSE)),\"\",VLOOKUP(Q34,勤務シフト一覧!$B$4:$D$106,3,FALSE))","v":""},{"$f":"IF(ISERROR(VLOOKUP(R34,勤務シフト一覧!$B$4:$D$106,3,FALSE)),\"\",VLOOKUP(R34,勤務シフト一覧!$B$4:$D$106,3,FALSE))","v":""},{"$f":"IF(ISERROR(VLOOKUP(S34,勤務シフト一覧!$B$4:$D$106,3,FALSE)),\"\",VLOOKUP(S34,勤務シフト一覧!$B$4:$D$106,3,FALSE))","v":""},{"$f":"IF(ISERROR(VLOOKUP(T34,勤務シフト一覧!$B$4:$D$106,3,FALSE)),\"\",VLOOKUP(T34,勤務シフト一覧!$B$4:$D$106,3,FALSE))","v":""},{"$f":"IF(ISERROR(VLOOKUP(U34,勤務シフト一覧!$B$4:$D$106,3,FALSE)),\"\",VLOOKUP(U34,勤務シフト一覧!$B$4:$D$106,3,FALSE))","v":""},{"$f":"IF(ISERROR(VLOOKUP(V34,勤務シフト一覧!$B$4:$D$106,3,FALSE)),\"\",VLOOKUP(V34,勤務シフト一覧!$B$4:$D$106,3,FALSE))","v":""},{"$f":"IF(ISERROR(VLOOKUP(W34,勤務シフト一覧!$B$4:$D$106,3,FALSE)),\"\",VLOOKUP(W34,勤務シフト一覧!$B$4:$D$106,3,FALSE))","v":""},{"$f":"IF(ISERROR(VLOOKUP(X34,勤務シフト一覧!$B$4:$D$106,3,FALSE)),\"\",VLOOKUP(X34,勤務シフト一覧!$B$4:$D$106,3,FALSE))","v":""},{"$f":"IF(ISERROR(VLOOKUP(Y34,勤務シフト一覧!$B$4:$D$106,3,FALSE)),\"\",VLOOKUP(Y34,勤務シフト一覧!$B$4:$D$106,3,FALSE))","v":""},{"$f":"IF(ISERROR(VLOOKUP(Z34,勤務シフト一覧!$B$4:$D$106,3,FALSE)),\"\",VLOOKUP(Z34,勤務シフト一覧!$B$4:$D$106,3,FALSE))","v":""},{"$f":"IF(ISERROR(VLOOKUP(AA34,勤務シフト一覧!$B$4:$D$106,3,FALSE)),\"\",VLOOKUP(AA34,勤務シフト一覧!$B$4:$D$106,3,FALSE))","v":""},{"$f":"IF(ISERROR(VLOOKUP(AB34,勤務シフト一覧!$B$4:$D$106,3,FALSE)),\"\",VLOOKUP(AB34,勤務シフト一覧!$B$4:$D$106,3,FALSE))","v":""},{"$f":"IF(ISERROR(VLOOKUP(AC34,勤務シフト一覧!$B$4:$D$106,3,FALSE)),\"\",VLOOKUP(AC34,勤務シフト一覧!$B$4:$D$106,3,FALSE))","v":""},{"$f":"IF(ISERROR(VLOOKUP(AD34,勤務シフト一覧!$B$4:$D$106,3,FALSE)),\"\",VLOOKUP(AD34,勤務シフト一覧!$B$4:$D$106,3,FALSE))","v":""},{"$f":"IF(ISERROR(VLOOKUP(AE34,勤務シフト一覧!$B$4:$D$106,3,FALSE)),\"\",VLOOKUP(AE34,勤務シフト一覧!$B$4:$D$106,3,FALSE))","v":""},{"$f":"IF(ISERROR(VLOOKUP(AF34,勤務シフト一覧!$B$4:$D$106,3,FALSE)),\"\",VLOOKUP(AF34,勤務シフト一覧!$B$4:$D$106,3,FALSE))","v":""},{"$f":"IF(ISERROR(VLOOKUP(AG34,勤務シフト一覧!$B$4:$D$106,3,FALSE)),\"\",VLOOKUP(AG34,勤務シフト一覧!$B$4:$D$106,3,FALSE))","v":""},{"$f":"IF(ISERROR(VLOOKUP(AH34,勤務シフト一覧!$B$4:$D$106,3,FALSE)),\"\",VLOOKUP(AH34,勤務シフト一覧!$B$4:$D$106,3,FALSE))","v":""},0,0,0,0,0,0,0,0,0,0,{"$f":"IF(LEN(職員一覧!D16)<>0,職員一覧!D16,\"\")","v":""},null,{"$f":"IF(勤務シフト一覧!$D34<>0,IF(勤務シフト一覧!$B34<> 0,勤務シフト一覧!$B34,\"\"),\"\")","v":"出張"}]
[null,null,"実施",null,null,null,null,null,null,null,null,null,null,null,null,null,null,null,null,null,null,null,null,null,null,null,null,null,null,null,null,null,null,null,{"$f":"IF(ISERROR(VLOOKUP(D35,勤務シフト一覧!$B$4:$C$106,2,FALSE)),\"\",VLOOKUP(D35,勤務シフト一覧!$B$4:$C$106,2,FALSE))","v":""},{"$f":"IF(ISERROR(VLOOKUP(E35,勤務シフト一覧!$B$4:$C$106,2,FALSE)),\"\",VLOOKUP(E35,勤務シフト一覧!$B$4:$C$106,2,FALSE))","v":""},{"$f":"IF(ISERROR(VLOOKUP(F35,勤務シフト一覧!$B$4:$C$106,2,FALSE)),\"\",VLOOKUP(F35,勤務シフト一覧!$B$4:$C$106,2,FALSE))","v":""},{"$f":"IF(ISERROR(VLOOKUP(G35,勤務シフト一覧!$B$4:$C$106,2,FALSE)),\"\",VLOOKUP(G35,勤務シフト一覧!$B$4:$C$106,2,FALSE))","v":""},{"$f":"IF(ISERROR(VLOOKUP(H35,勤務シフト一覧!$B$4:$C$106,2,FALSE)),\"\",VLOOKUP(H35,勤務シフト一覧!$B$4:$C$106,2,FALSE))","v":""},{"$f":"IF(ISERROR(VLOOKUP(I35,勤務シフト一覧!$B$4:$C$106,2,FALSE)),\"\",VLOOKUP(I35,勤務シフト一覧!$B$4:$C$106,2,FALSE))","v":""},{"$f":"IF(ISERROR(VLOOKUP(J35,勤務シフト一覧!$B$4:$C$106,2,FALSE)),\"\",VLOOKUP(J35,勤務シフト一覧!$B$4:$C$106,2,FALSE))","v":""},{"$f":"IF(ISERROR(VLOOKUP(K35,勤務シフト一覧!$B$4:$C$106,2,FALSE)),\"\",VLOOKUP(K35,勤務シフト一覧!$B$4:$C$106,2,FALSE))","v":""},{"$f":"IF(ISERROR(VLOOKUP(L35,勤務シフト一覧!$B$4:$C$106,2,FALSE)),\"\",VLOOKUP(L35,勤務シフト一覧!$B$4:$C$106,2,FALSE))","v":""},{"$f":"IF(ISERROR(VLOOKUP(M35,勤務シフト一覧!$B$4:$C$106,2,FALSE)),\"\",VLOOKUP(M35,勤務シフト一覧!$B$4:$C$106,2,FALSE))","v":""},{"$f":"IF(ISERROR(VLOOKUP(N35,勤務シフト一覧!$B$4:$C$106,2,FALSE)),\"\",VLOOKUP(N35,勤務シフト一覧!$B$4:$C$106,2,FALSE))","v":""},{"$f":"IF(ISERROR(VLOOKUP(O35,勤務シフト一覧!$B$4:$C$106,2,FALSE)),\"\",VLOOKUP(O35,勤務シフト一覧!$B$4:$C$106,2,FALSE))","v":""},{"$f":"IF(ISERROR(VLOOKUP(P35,勤務シフト一覧!$B$4:$C$106,2,FALSE)),\"\",VLOOKUP(P35,勤務シフト一覧!$B$4:$C$106,2,FALSE))","v":""},{"$f":"IF(ISERROR(VLOOKUP(Q35,勤務シフト一覧!$B$4:$C$106,2,FALSE)),\"\",VLOOKUP(Q35,勤務シフト一覧!$B$4:$C$106,2,FALSE))","v":""},{"$f":"IF(ISERROR(VLOOKUP(R35,勤務シフト一覧!$B$4:$C$106,2,FALSE)),\"\",VLOOKUP(R35,勤務シフト一覧!$B$4:$C$106,2,FALSE))","v":""},{"$f":"IF(ISERROR(VLOOKUP(S35,勤務シフト一覧!$B$4:$C$106,2,FALSE)),\"\",VLOOKUP(S35,勤務シフト一覧!$B$4:$C$106,2,FALSE))","v":""},{"$f":"IF(ISERROR(VLOOKUP(T35,勤務シフト一覧!$B$4:$C$106,2,FALSE)),\"\",VLOOKUP(T35,勤務シフト一覧!$B$4:$C$106,2,FALSE))","v":""},{"$f":"IF(ISERROR(VLOOKUP(U35,勤務シフト一覧!$B$4:$C$106,2,FALSE)),\"\",VLOOKUP(U35,勤務シフト一覧!$B$4:$C$106,2,FALSE))","v":""},{"$f":"IF(ISERROR(VLOOKUP(V35,勤務シフト一覧!$B$4:$C$106,2,FALSE)),\"\",VLOOKUP(V35,勤務シフト一覧!$B$4:$C$106,2,FALSE))","v":""},{"$f":"IF(ISERROR(VLOOKUP(W35,勤務シフト一覧!$B$4:$C$106,2,FALSE)),\"\",VLOOKUP(W35,勤務シフト一覧!$B$4:$C$106,2,FALSE))","v":""},{"$f":"IF(ISERROR(VLOOKUP(X35,勤務シフト一覧!$B$4:$C$106,2,FALSE)),\"\",VLOOKUP(X35,勤務シフト一覧!$B$4:$C$106,2,FALSE))","v":""},{"$f":"IF(ISERROR(VLOOKUP(Y35,勤務シフト一覧!$B$4:$C$106,2,FALSE)),\"\",VLOOKUP(Y35,勤務シフト一覧!$B$4:$C$106,2,FALSE))","v":""},{"$f":"IF(ISERROR(VLOOKUP(Z35,勤務シフト一覧!$B$4:$C$106,2,FALSE)),\"\",VLOOKUP(Z35,勤務シフト一覧!$B$4:$C$106,2,FALSE))","v":""},{"$f":"IF(ISERROR(VLOOKUP(AA35,勤務シフト一覧!$B$4:$C$106,2,FALSE)),\"\",VLOOKUP(AA35,勤務シフト一覧!$B$4:$C$106,2,FALSE))","v":""},{"$f":"IF(ISERROR(VLOOKUP(AB35,勤務シフト一覧!$B$4:$C$106,2,FALSE)),\"\",VLOOKUP(AB35,勤務シフト一覧!$B$4:$C$106,2,FALSE))","v":""},{"$f":"IF(ISERROR(VLOOKUP(AC35,勤務シフト一覧!$B$4:$C$106,2,FALSE)),\"\",VLOOKUP(AC35,勤務シフト一覧!$B$4:$C$106,2,FALSE))","v":""},{"$f":"IF(ISERROR(VLOOKUP(AD35,勤務シフト一覧!$B$4:$C$106,2,FALSE)),\"\",VLOOKUP(AD35,勤務シフト一覧!$B$4:$C$106,2,FALSE))","v":""},{"$f":"IF(ISERROR(VLOOKUP(AE35,勤務シフト一覧!$B$4:$C$106,2,FALSE)),\"\",VLOOKUP(AE35,勤務シフト一覧!$B$4:$C$106,2,FALSE))","v":""},{"$f":"IF(ISERROR(VLOOKUP(AF35,勤務シフト一覧!$B$4:$C$106,2,FALSE)),\"\",VLOOKUP(AF35,勤務シフト一覧!$B$4:$C$106,2,FALSE))","v":""},{"$f":"IF(ISERROR(VLOOKUP(AG35,勤務シフト一覧!$B$4:$C$106,2,FALSE)),\"\",VLOOKUP(AG35,勤務シフト一覧!$B$4:$C$106,2,FALSE))","v":""},{"$f":"IF(ISERROR(VLOOKUP(AH35,勤務シフト一覧!$B$4:$C$106,2,FALSE)),\"\",VLOOKUP(AH35,勤務シフト一覧!$B$4:$C$106,2,FALSE))","v":""},null,{"$f":"IF(ISERROR(VLOOKUP(D35,勤務シフト一覧!$B$4:$D$106,3,FALSE)),\"\",VLOOKUP(D35,勤務シフト一覧!$B$4:$D$106,3,FALSE))","v":""},{"$f":"IF(ISERROR(VLOOKUP(E35,勤務シフト一覧!$B$4:$D$106,3,FALSE)),\"\",VLOOKUP(E35,勤務シフト一覧!$B$4:$D$106,3,FALSE))","v":""},{"$f":"IF(ISERROR(VLOOKUP(F35,勤務シフト一覧!$B$4:$D$106,3,FALSE)),\"\",VLOOKUP(F35,勤務シフト一覧!$B$4:$D$106,3,FALSE))","v":""},{"$f":"IF(ISERROR(VLOOKUP(G35,勤務シフト一覧!$B$4:$D$106,3,FALSE)),\"\",VLOOKUP(G35,勤務シフト一覧!$B$4:$D$106,3,FALSE))","v":""},{"$f":"IF(ISERROR(VLOOKUP(H35,勤務シフト一覧!$B$4:$D$106,3,FALSE)),\"\",VLOOKUP(H35,勤務シフト一覧!$B$4:$D$106,3,FALSE))","v":""},{"$f":"IF(ISERROR(VLOOKUP(I35,勤務シフト一覧!$B$4:$D$106,3,FALSE)),\"\",VLOOKUP(I35,勤務シフト一覧!$B$4:$D$106,3,FALSE))","v":""},{"$f":"IF(ISERROR(VLOOKUP(J35,勤務シフト一覧!$B$4:$D$106,3,FALSE)),\"\",VLOOKUP(J35,勤務シフト一覧!$B$4:$D$106,3,FALSE))","v":""},{"$f":"IF(ISERROR(VLOOKUP(K35,勤務シフト一覧!$B$4:$D$106,3,FALSE)),\"\",VLOOKUP(K35,勤務シフト一覧!$B$4:$D$106,3,FALSE))","v":""},{"$f":"IF(ISERROR(VLOOKUP(L35,勤務シフト一覧!$B$4:$D$106,3,FALSE)),\"\",VLOOKUP(L35,勤務シフト一覧!$B$4:$D$106,3,FALSE))","v":""},{"$f":"IF(ISERROR(VLOOKUP(M35,勤務シフト一覧!$B$4:$D$106,3,FALSE)),\"\",VLOOKUP(M35,勤務シフト一覧!$B$4:$D$106,3,FALSE))","v":""},{"$f":"IF(ISERROR(VLOOKUP(N35,勤務シフト一覧!$B$4:$D$106,3,FALSE)),\"\",VLOOKUP(N35,勤務シフト一覧!$B$4:$D$106,3,FALSE))","v":""},{"$f":"IF(ISERROR(VLOOKUP(O35,勤務シフト一覧!$B$4:$D$106,3,FALSE)),\"\",VLOOKUP(O35,勤務シフト一覧!$B$4:$D$106,3,FALSE))","v":""},{"$f":"IF(ISERROR(VLOOKUP(P35,勤務シフト一覧!$B$4:$D$106,3,FALSE)),\"\",VLOOKUP(P35,勤務シフト一覧!$B$4:$D$106,3,FALSE))","v":""},{"$f":"IF(ISERROR(VLOOKUP(Q35,勤務シフト一覧!$B$4:$D$106,3,FALSE)),\"\",VLOOKUP(Q35,勤務シフト一覧!$B$4:$D$106,3,FALSE))","v":""},{"$f":"IF(ISERROR(VLOOKUP(R35,勤務シフト一覧!$B$4:$D$106,3,FALSE)),\"\",VLOOKUP(R35,勤務シフト一覧!$B$4:$D$106,3,FALSE))","v":""},{"$f":"IF(ISERROR(VLOOKUP(S35,勤務シフト一覧!$B$4:$D$106,3,FALSE)),\"\",VLOOKUP(S35,勤務シフト一覧!$B$4:$D$106,3,FALSE))","v":""},{"$f":"IF(ISERROR(VLOOKUP(T35,勤務シフト一覧!$B$4:$D$106,3,FALSE)),\"\",VLOOKUP(T35,勤務シフト一覧!$B$4:$D$106,3,FALSE))","v":""},{"$f":"IF(ISERROR(VLOOKUP(U35,勤務シフト一覧!$B$4:$D$106,3,FALSE)),\"\",VLOOKUP(U35,勤務シフト一覧!$B$4:$D$106,3,FALSE))","v":""},{"$f":"IF(ISERROR(VLOOKUP(V35,勤務シフト一覧!$B$4:$D$106,3,FALSE)),\"\",VLOOKUP(V35,勤務シフト一覧!$B$4:$D$106,3,FALSE))","v":""},{"$f":"IF(ISERROR(VLOOKUP(W35,勤務シフト一覧!$B$4:$D$106,3,FALSE)),\"\",VLOOKUP(W35,勤務シフト一覧!$B$4:$D$106,3,FALSE))","v":""},{"$f":"IF(ISERROR(VLOOKUP(X35,勤務シフト一覧!$B$4:$D$106,3,FALSE)),\"\",VLOOKUP(X35,勤務シフト一覧!$B$4:$D$106,3,FALSE))","v":""},{"$f":"IF(ISERROR(VLOOKUP(Y35,勤務シフト一覧!$B$4:$D$106,3,FALSE)),\"\",VLOOKUP(Y35,勤務シフト一覧!$B$4:$D$106,3,FALSE))","v":""},{"$f":"IF(ISERROR(VLOOKUP(Z35,勤務シフト一覧!$B$4:$D$106,3,FALSE)),\"\",VLOOKUP(Z35,勤務シフト一覧!$B$4:$D$106,3,FALSE))","v":""},{"$f":"IF(ISERROR(VLOOKUP(AA35,勤務シフト一覧!$B$4:$D$106,3,FALSE)),\"\",VLOOKUP(AA35,勤務シフト一覧!$B$4:$D$106,3,FALSE))","v":""},{"$f":"IF(ISERROR(VLOOKUP(AB35,勤務シフト一覧!$B$4:$D$106,3,FALSE)),\"\",VLOOKUP(AB35,勤務シフト一覧!$B$4:$D$106,3,FALSE))","v":""},{"$f":"IF(ISERROR(VLOOKUP(AC35,勤務シフト一覧!$B$4:$D$106,3,FALSE)),\"\",VLOOKUP(AC35,勤務シフト一覧!$B$4:$D$106,3,FALSE))","v":""},{"$f":"IF(ISERROR(VLOOKUP(AD35,勤務シフト一覧!$B$4:$D$106,3,FALSE)),\"\",VLOOKUP(AD35,勤務シフト一覧!$B$4:$D$106,3,FALSE))","v":""},{"$f":"IF(ISERROR(VLOOKUP(AE35,勤務シフト一覧!$B$4:$D$106,3,FALSE)),\"\",VLOOKUP(AE35,勤務シフト一覧!$B$4:$D$106,3,FALSE))","v":""},{"$f":"IF(ISERROR(VLOOKUP(AF35,勤務シフト一覧!$B$4:$D$106,3,FALSE)),\"\",VLOOKUP(AF35,勤務シフト一覧!$B$4:$D$106,3,FALSE))","v":""},{"$f":"IF(ISERROR(VLOOKUP(AG35,勤務シフト一覧!$B$4:$D$106,3,FALSE)),\"\",VLOOKUP(AG35,勤務シフト一覧!$B$4:$D$106,3,FALSE))","v":""},{"$f":"IF(ISERROR(VLOOKUP(AH35,勤務シフト一覧!$B$4:$D$106,3,FALSE)),\"\",VLOOKUP(AH35,勤務シフト一覧!$B$4:$D$106,3,FALSE))","v":""},0,0,0,0,0,0,0,0,0,0,null,null,{"$f":"IF(勤務シフト一覧!$D35<>0,IF(勤務シフト一覧!$B35<> 0,勤務シフト一覧!$B35,\"\"),\"\")","v":"А出"}]
[{"$f":"IF(LEN(職員一覧!B17)<>0,職員一覧!B17,\"\")","v":""},{"$f":"IF(LEN(職員一覧!C17)<>0,職員一覧!C17,\"\")","v":""},"予定",null,null,null,null,null,null,null,null,null,null,null,null,null,null,null,null,null,null,null,null,null,null,null,null,null,null,null,null,null,null,null,{"$f":"IF(ISERROR(VLOOKUP(D36,勤務シフト一覧!$B$4:$C$106,2,FALSE)),\"\",VLOOKUP(D36,勤務シフト一覧!$B$4:$C$106,2,FALSE))","v":""},{"$f":"IF(ISERROR(VLOOKUP(E36,勤務シフト一覧!$B$4:$C$106,2,FALSE)),\"\",VLOOKUP(E36,勤務シフト一覧!$B$4:$C$106,2,FALSE))","v":""},{"$f":"IF(ISERROR(VLOOKUP(F36,勤務シフト一覧!$B$4:$C$106,2,FALSE)),\"\",VLOOKUP(F36,勤務シフト一覧!$B$4:$C$106,2,FALSE))","v":""},{"$f":"IF(ISERROR(VLOOKUP(G36,勤務シフト一覧!$B$4:$C$106,2,FALSE)),\"\",VLOOKUP(G36,勤務シフト一覧!$B$4:$C$106,2,FALSE))","v":""},{"$f":"IF(ISERROR(VLOOKUP(H36,勤務シフト一覧!$B$4:$C$106,2,FALSE)),\"\",VLOOKUP(H36,勤務シフト一覧!$B$4:$C$106,2,FALSE))","v":""},{"$f":"IF(ISERROR(VLOOKUP(I36,勤務シフト一覧!$B$4:$C$106,2,FALSE)),\"\",VLOOKUP(I36,勤務シフト一覧!$B$4:$C$106,2,FALSE))","v":""},{"$f":"IF(ISERROR(VLOOKUP(J36,勤務シフト一覧!$B$4:$C$106,2,FALSE)),\"\",VLOOKUP(J36,勤務シフト一覧!$B$4:$C$106,2,FALSE))","v":""},{"$f":"IF(ISERROR(VLOOKUP(K36,勤務シフト一覧!$B$4:$C$106,2,FALSE)),\"\",VLOOKUP(K36,勤務シフト一覧!$B$4:$C$106,2,FALSE))","v":""},{"$f":"IF(ISERROR(VLOOKUP(L36,勤務シフト一覧!$B$4:$C$106,2,FALSE)),\"\",VLOOKUP(L36,勤務シフト一覧!$B$4:$C$106,2,FALSE))","v":""},{"$f":"IF(ISERROR(VLOOKUP(M36,勤務シフト一覧!$B$4:$C$106,2,FALSE)),\"\",VLOOKUP(M36,勤務シフト一覧!$B$4:$C$106,2,FALSE))","v":""},{"$f":"IF(ISERROR(VLOOKUP(N36,勤務シフト一覧!$B$4:$C$106,2,FALSE)),\"\",VLOOKUP(N36,勤務シフト一覧!$B$4:$C$106,2,FALSE))","v":""},{"$f":"IF(ISERROR(VLOOKUP(O36,勤務シフト一覧!$B$4:$C$106,2,FALSE)),\"\",VLOOKUP(O36,勤務シフト一覧!$B$4:$C$106,2,FALSE))","v":""},{"$f":"IF(ISERROR(VLOOKUP(P36,勤務シフト一覧!$B$4:$C$106,2,FALSE)),\"\",VLOOKUP(P36,勤務シフト一覧!$B$4:$C$106,2,FALSE))","v":""},{"$f":"IF(ISERROR(VLOOKUP(Q36,勤務シフト一覧!$B$4:$C$106,2,FALSE)),\"\",VLOOKUP(Q36,勤務シフト一覧!$B$4:$C$106,2,FALSE))","v":""},{"$f":"IF(ISERROR(VLOOKUP(R36,勤務シフト一覧!$B$4:$C$106,2,FALSE)),\"\",VLOOKUP(R36,勤務シフト一覧!$B$4:$C$106,2,FALSE))","v":""},{"$f":"IF(ISERROR(VLOOKUP(S36,勤務シフト一覧!$B$4:$C$106,2,FALSE)),\"\",VLOOKUP(S36,勤務シフト一覧!$B$4:$C$106,2,FALSE))","v":""},{"$f":"IF(ISERROR(VLOOKUP(T36,勤務シフト一覧!$B$4:$C$106,2,FALSE)),\"\",VLOOKUP(T36,勤務シフト一覧!$B$4:$C$106,2,FALSE))","v":""},{"$f":"IF(ISERROR(VLOOKUP(U36,勤務シフト一覧!$B$4:$C$106,2,FALSE)),\"\",VLOOKUP(U36,勤務シフト一覧!$B$4:$C$106,2,FALSE))","v":""},{"$f":"IF(ISERROR(VLOOKUP(V36,勤務シフト一覧!$B$4:$C$106,2,FALSE)),\"\",VLOOKUP(V36,勤務シフト一覧!$B$4:$C$106,2,FALSE))","v":""},{"$f":"IF(ISERROR(VLOOKUP(W36,勤務シフト一覧!$B$4:$C$106,2,FALSE)),\"\",VLOOKUP(W36,勤務シフト一覧!$B$4:$C$106,2,FALSE))","v":""},{"$f":"IF(ISERROR(VLOOKUP(X36,勤務シフト一覧!$B$4:$C$106,2,FALSE)),\"\",VLOOKUP(X36,勤務シフト一覧!$B$4:$C$106,2,FALSE))","v":""},{"$f":"IF(ISERROR(VLOOKUP(Y36,勤務シフト一覧!$B$4:$C$106,2,FALSE)),\"\",VLOOKUP(Y36,勤務シフト一覧!$B$4:$C$106,2,FALSE))","v":""},{"$f":"IF(ISERROR(VLOOKUP(Z36,勤務シフト一覧!$B$4:$C$106,2,FALSE)),\"\",VLOOKUP(Z36,勤務シフト一覧!$B$4:$C$106,2,FALSE))","v":""},{"$f":"IF(ISERROR(VLOOKUP(AA36,勤務シフト一覧!$B$4:$C$106,2,FALSE)),\"\",VLOOKUP(AA36,勤務シフト一覧!$B$4:$C$106,2,FALSE))","v":""},{"$f":"IF(ISERROR(VLOOKUP(AB36,勤務シフト一覧!$B$4:$C$106,2,FALSE)),\"\",VLOOKUP(AB36,勤務シフト一覧!$B$4:$C$106,2,FALSE))","v":""},{"$f":"IF(ISERROR(VLOOKUP(AC36,勤務シフト一覧!$B$4:$C$106,2,FALSE)),\"\",VLOOKUP(AC36,勤務シフト一覧!$B$4:$C$106,2,FALSE))","v":""},{"$f":"IF(ISERROR(VLOOKUP(AD36,勤務シフト一覧!$B$4:$C$106,2,FALSE)),\"\",VLOOKUP(AD36,勤務シフト一覧!$B$4:$C$106,2,FALSE))","v":""},{"$f":"IF(ISERROR(VLOOKUP(AE36,勤務シフト一覧!$B$4:$C$106,2,FALSE)),\"\",VLOOKUP(AE36,勤務シフト一覧!$B$4:$C$106,2,FALSE))","v":""},{"$f":"IF(ISERROR(VLOOKUP(AF36,勤務シフト一覧!$B$4:$C$106,2,FALSE)),\"\",VLOOKUP(AF36,勤務シフト一覧!$B$4:$C$106,2,FALSE))","v":""},{"$f":"IF(ISERROR(VLOOKUP(AG36,勤務シフト一覧!$B$4:$C$106,2,FALSE)),\"\",VLOOKUP(AG36,勤務シフト一覧!$B$4:$C$106,2,FALSE))","v":""},{"$f":"IF(ISERROR(VLOOKUP(AH36,勤務シフト一覧!$B$4:$C$106,2,FALSE)),\"\",VLOOKUP(AH36,勤務シフト一覧!$B$4:$C$106,2,FALSE))","v":""},null,{"$f":"IF(ISERROR(VLOOKUP(D36,勤務シフト一覧!$B$4:$D$106,3,FALSE)),\"\",VLOOKUP(D36,勤務シフト一覧!$B$4:$D$106,3,FALSE))","v":""},{"$f":"IF(ISERROR(VLOOKUP(E36,勤務シフト一覧!$B$4:$D$106,3,FALSE)),\"\",VLOOKUP(E36,勤務シフト一覧!$B$4:$D$106,3,FALSE))","v":""},{"$f":"IF(ISERROR(VLOOKUP(F36,勤務シフト一覧!$B$4:$D$106,3,FALSE)),\"\",VLOOKUP(F36,勤務シフト一覧!$B$4:$D$106,3,FALSE))","v":""},{"$f":"IF(ISERROR(VLOOKUP(G36,勤務シフト一覧!$B$4:$D$106,3,FALSE)),\"\",VLOOKUP(G36,勤務シフト一覧!$B$4:$D$106,3,FALSE))","v":""},{"$f":"IF(ISERROR(VLOOKUP(H36,勤務シフト一覧!$B$4:$D$106,3,FALSE)),\"\",VLOOKUP(H36,勤務シフト一覧!$B$4:$D$106,3,FALSE))","v":""},{"$f":"IF(ISERROR(VLOOKUP(I36,勤務シフト一覧!$B$4:$D$106,3,FALSE)),\"\",VLOOKUP(I36,勤務シフト一覧!$B$4:$D$106,3,FALSE))","v":""},{"$f":"IF(ISERROR(VLOOKUP(J36,勤務シフト一覧!$B$4:$D$106,3,FALSE)),\"\",VLOOKUP(J36,勤務シフト一覧!$B$4:$D$106,3,FALSE))","v":""},{"$f":"IF(ISERROR(VLOOKUP(K36,勤務シフト一覧!$B$4:$D$106,3,FALSE)),\"\",VLOOKUP(K36,勤務シフト一覧!$B$4:$D$106,3,FALSE))","v":""},{"$f":"IF(ISERROR(VLOOKUP(L36,勤務シフト一覧!$B$4:$D$106,3,FALSE)),\"\",VLOOKUP(L36,勤務シフト一覧!$B$4:$D$106,3,FALSE))","v":""},{"$f":"IF(ISERROR(VLOOKUP(M36,勤務シフト一覧!$B$4:$D$106,3,FALSE)),\"\",VLOOKUP(M36,勤務シフト一覧!$B$4:$D$106,3,FALSE))","v":""},{"$f":"IF(ISERROR(VLOOKUP(N36,勤務シフト一覧!$B$4:$D$106,3,FALSE)),\"\",VLOOKUP(N36,勤務シフト一覧!$B$4:$D$106,3,FALSE))","v":""},{"$f":"IF(ISERROR(VLOOKUP(O36,勤務シフト一覧!$B$4:$D$106,3,FALSE)),\"\",VLOOKUP(O36,勤務シフト一覧!$B$4:$D$106,3,FALSE))","v":""},{"$f":"IF(ISERROR(VLOOKUP(P36,勤務シフト一覧!$B$4:$D$106,3,FALSE)),\"\",VLOOKUP(P36,勤務シフト一覧!$B$4:$D$106,3,FALSE))","v":""},{"$f":"IF(ISERROR(VLOOKUP(Q36,勤務シフト一覧!$B$4:$D$106,3,FALSE)),\"\",VLOOKUP(Q36,勤務シフト一覧!$B$4:$D$106,3,FALSE))","v":""},{"$f":"IF(ISERROR(VLOOKUP(R36,勤務シフト一覧!$B$4:$D$106,3,FALSE)),\"\",VLOOKUP(R36,勤務シフト一覧!$B$4:$D$106,3,FALSE))","v":""},{"$f":"IF(ISERROR(VLOOKUP(S36,勤務シフト一覧!$B$4:$D$106,3,FALSE)),\"\",VLOOKUP(S36,勤務シフト一覧!$B$4:$D$106,3,FALSE))","v":""},{"$f":"IF(ISERROR(VLOOKUP(T36,勤務シフト一覧!$B$4:$D$106,3,FALSE)),\"\",VLOOKUP(T36,勤務シフト一覧!$B$4:$D$106,3,FALSE))","v":""},{"$f":"IF(ISERROR(VLOOKUP(U36,勤務シフト一覧!$B$4:$D$106,3,FALSE)),\"\",VLOOKUP(U36,勤務シフト一覧!$B$4:$D$106,3,FALSE))","v":""},{"$f":"IF(ISERROR(VLOOKUP(V36,勤務シフト一覧!$B$4:$D$106,3,FALSE)),\"\",VLOOKUP(V36,勤務シフト一覧!$B$4:$D$106,3,FALSE))","v":""},{"$f":"IF(ISERROR(VLOOKUP(W36,勤務シフト一覧!$B$4:$D$106,3,FALSE)),\"\",VLOOKUP(W36,勤務シフト一覧!$B$4:$D$106,3,FALSE))","v":""},{"$f":"IF(ISERROR(VLOOKUP(X36,勤務シフト一覧!$B$4:$D$106,3,FALSE)),\"\",VLOOKUP(X36,勤務シフト一覧!$B$4:$D$106,3,FALSE))","v":""},{"$f":"IF(ISERROR(VLOOKUP(Y36,勤務シフト一覧!$B$4:$D$106,3,FALSE)),\"\",VLOOKUP(Y36,勤務シフト一覧!$B$4:$D$106,3,FALSE))","v":""},{"$f":"IF(ISERROR(VLOOKUP(Z36,勤務シフト一覧!$B$4:$D$106,3,FALSE)),\"\",VLOOKUP(Z36,勤務シフト一覧!$B$4:$D$106,3,FALSE))","v":""},{"$f":"IF(ISERROR(VLOOKUP(AA36,勤務シフト一覧!$B$4:$D$106,3,FALSE)),\"\",VLOOKUP(AA36,勤務シフト一覧!$B$4:$D$106,3,FALSE))","v":""},{"$f":"IF(ISERROR(VLOOKUP(AB36,勤務シフト一覧!$B$4:$D$106,3,FALSE)),\"\",VLOOKUP(AB36,勤務シフト一覧!$B$4:$D$106,3,FALSE))","v":""},{"$f":"IF(ISERROR(VLOOKUP(AC36,勤務シフト一覧!$B$4:$D$106,3,FALSE)),\"\",VLOOKUP(AC36,勤務シフト一覧!$B$4:$D$106,3,FALSE))","v":""},{"$f":"IF(ISERROR(VLOOKUP(AD36,勤務シフト一覧!$B$4:$D$106,3,FALSE)),\"\",VLOOKUP(AD36,勤務シフト一覧!$B$4:$D$106,3,FALSE))","v":""},{"$f":"IF(ISERROR(VLOOKUP(AE36,勤務シフト一覧!$B$4:$D$106,3,FALSE)),\"\",VLOOKUP(AE36,勤務シフト一覧!$B$4:$D$106,3,FALSE))","v":""},{"$f":"IF(ISERROR(VLOOKUP(AF36,勤務シフト一覧!$B$4:$D$106,3,FALSE)),\"\",VLOOKUP(AF36,勤務シフト一覧!$B$4:$D$106,3,FALSE))","v":""},{"$f":"IF(ISERROR(VLOOKUP(AG36,勤務シフト一覧!$B$4:$D$106,3,FALSE)),\"\",VLOOKUP(AG36,勤務シフト一覧!$B$4:$D$106,3,FALSE))","v":""},{"$f":"IF(ISERROR(VLOOKUP(AH36,勤務シフト一覧!$B$4:$D$106,3,FALSE)),\"\",VLOOKUP(AH36,勤務シフト一覧!$B$4:$D$106,3,FALSE))","v":""},0,0,0,0,0,0,0,0,0,0,{"$f":"IF(LEN(職員一覧!D17)<>0,職員一覧!D17,\"\")","v":""},null,{"$f":"IF(勤務シフト一覧!$D36<>0,IF(勤務シフト一覧!$B36<> 0,勤務シフト一覧!$B36,\"\"),\"\")","v":"P出"}]
[null,null,"実施",null,null,null,null,null,null,null,null,null,null,null,null,null,null,null,null,null,null,null,null,null,null,null,null,null,null,null,null,null,null,null,{"$f":"IF(ISERROR(VLOOKUP(D37,勤務シフト一覧!$B$4:$C$106,2,FALSE)),\"\",VLOOKUP(D37,勤務シフト一覧!$B$4:$C$106,2,FALSE))","v":""},{"$f":"IF(ISERROR(VLOOKUP(E37,勤務シフト一覧!$B$4:$C$106,2,FALSE)),\"\",VLOOKUP(E37,勤務シフト一覧!$B$4:$C$106,2,FALSE))","v":""},{"$f":"IF(ISERROR(VLOOKUP(F37,勤務シフト一覧!$B$4:$C$106,2,FALSE)),\"\",VLOOKUP(F37,勤務シフト一覧!$B$4:$C$106,2,FALSE))","v":""},{"$f":"IF(ISERROR(VLOOKUP(G37,勤務シフト一覧!$B$4:$C$106,2,FALSE)),\"\",VLOOKUP(G37,勤務シフト一覧!$B$4:$C$106,2,FALSE))","v":""},{"$f":"IF(ISERROR(VLOOKUP(H37,勤務シフト一覧!$B$4:$C$106,2,FALSE)),\"\",VLOOKUP(H37,勤務シフト一覧!$B$4:$C$106,2,FALSE))","v":""},{"$f":"IF(ISERROR(VLOOKUP(I37,勤務シフト一覧!$B$4:$C$106,2,FALSE)),\"\",VLOOKUP(I37,勤務シフト一覧!$B$4:$C$106,2,FALSE))","v":""},{"$f":"IF(ISERROR(VLOOKUP(J37,勤務シフト一覧!$B$4:$C$106,2,FALSE)),\"\",VLOOKUP(J37,勤務シフト一覧!$B$4:$C$106,2,FALSE))","v":""},{"$f":"IF(ISERROR(VLOOKUP(K37,勤務シフト一覧!$B$4:$C$106,2,FALSE)),\"\",VLOOKUP(K37,勤務シフト一覧!$B$4:$C$106,2,FALSE))","v":""},{"$f":"IF(ISERROR(VLOOKUP(L37,勤務シフト一覧!$B$4:$C$106,2,FALSE)),\"\",VLOOKUP(L37,勤務シフト一覧!$B$4:$C$106,2,FALSE))","v":""},{"$f":"IF(ISERROR(VLOOKUP(M37,勤務シフト一覧!$B$4:$C$106,2,FALSE)),\"\",VLOOKUP(M37,勤務シフト一覧!$B$4:$C$106,2,FALSE))","v":""},{"$f":"IF(ISERROR(VLOOKUP(N37,勤務シフト一覧!$B$4:$C$106,2,FALSE)),\"\",VLOOKUP(N37,勤務シフト一覧!$B$4:$C$106,2,FALSE))","v":""},{"$f":"IF(ISERROR(VLOOKUP(O37,勤務シフト一覧!$B$4:$C$106,2,FALSE)),\"\",VLOOKUP(O37,勤務シフト一覧!$B$4:$C$106,2,FALSE))","v":""},{"$f":"IF(ISERROR(VLOOKUP(P37,勤務シフト一覧!$B$4:$C$106,2,FALSE)),\"\",VLOOKUP(P37,勤務シフト一覧!$B$4:$C$106,2,FALSE))","v":""},{"$f":"IF(ISERROR(VLOOKUP(Q37,勤務シフト一覧!$B$4:$C$106,2,FALSE)),\"\",VLOOKUP(Q37,勤務シフト一覧!$B$4:$C$106,2,FALSE))","v":""},{"$f":"IF(ISERROR(VLOOKUP(R37,勤務シフト一覧!$B$4:$C$106,2,FALSE)),\"\",VLOOKUP(R37,勤務シフト一覧!$B$4:$C$106,2,FALSE))","v":""},{"$f":"IF(ISERROR(VLOOKUP(S37,勤務シフト一覧!$B$4:$C$106,2,FALSE)),\"\",VLOOKUP(S37,勤務シフト一覧!$B$4:$C$106,2,FALSE))","v":""},{"$f":"IF(ISERROR(VLOOKUP(T37,勤務シフト一覧!$B$4:$C$106,2,FALSE)),\"\",VLOOKUP(T37,勤務シフト一覧!$B$4:$C$106,2,FALSE))","v":""},{"$f":"IF(ISERROR(VLOOKUP(U37,勤務シフト一覧!$B$4:$C$106,2,FALSE)),\"\",VLOOKUP(U37,勤務シフト一覧!$B$4:$C$106,2,FALSE))","v":""},{"$f":"IF(ISERROR(VLOOKUP(V37,勤務シフト一覧!$B$4:$C$106,2,FALSE)),\"\",VLOOKUP(V37,勤務シフト一覧!$B$4:$C$106,2,FALSE))","v":""},{"$f":"IF(ISERROR(VLOOKUP(W37,勤務シフト一覧!$B$4:$C$106,2,FALSE)),\"\",VLOOKUP(W37,勤務シフト一覧!$B$4:$C$106,2,FALSE))","v":""},{"$f":"IF(ISERROR(VLOOKUP(X37,勤務シフト一覧!$B$4:$C$106,2,FALSE)),\"\",VLOOKUP(X37,勤務シフト一覧!$B$4:$C$106,2,FALSE))","v":""},{"$f":"IF(ISERROR(VLOOKUP(Y37,勤務シフト一覧!$B$4:$C$106,2,FALSE)),\"\",VLOOKUP(Y37,勤務シフト一覧!$B$4:$C$106,2,FALSE))","v":""},{"$f":"IF(ISERROR(VLOOKUP(Z37,勤務シフト一覧!$B$4:$C$106,2,FALSE)),\"\",VLOOKUP(Z37,勤務シフト一覧!$B$4:$C$106,2,FALSE))","v":""},{"$f":"IF(ISERROR(VLOOKUP(AA37,勤務シフト一覧!$B$4:$C$106,2,FALSE)),\"\",VLOOKUP(AA37,勤務シフト一覧!$B$4:$C$106,2,FALSE))","v":""},{"$f":"IF(ISERROR(VLOOKUP(AB37,勤務シフト一覧!$B$4:$C$106,2,FALSE)),\"\",VLOOKUP(AB37,勤務シフト一覧!$B$4:$C$106,2,FALSE))","v":""},{"$f":"IF(ISERROR(VLOOKUP(AC37,勤務シフト一覧!$B$4:$C$106,2,FALSE)),\"\",VLOOKUP(AC37,勤務シフト一覧!$B$4:$C$106,2,FALSE))","v":""},{"$f":"IF(ISERROR(VLOOKUP(AD37,勤務シフト一覧!$B$4:$C$106,2,FALSE)),\"\",VLOOKUP(AD37,勤務シフト一覧!$B$4:$C$106,2,FALSE))","v":""},{"$f":"IF(ISERROR(VLOOKUP(AE37,勤務シフト一覧!$B$4:$C$106,2,FALSE)),\"\",VLOOKUP(AE37,勤務シフト一覧!$B$4:$C$106,2,FALSE))","v":""},{"$f":"IF(ISERROR(VLOOKUP(AF37,勤務シフト一覧!$B$4:$C$106,2,FALSE)),\"\",VLOOKUP(AF37,勤務シフト一覧!$B$4:$C$106,2,FALSE))","v":""},{"$f":"IF(ISERROR(VLOOKUP(AG37,勤務シフト一覧!$B$4:$C$106,2,FALSE)),\"\",VLOOKUP(AG37,勤務シフト一覧!$B$4:$C$106,2,FALSE))","v":""},{"$f":"IF(ISERROR(VLOOKUP(AH37,勤務シフト一覧!$B$4:$C$106,2,FALSE)),\"\",VLOOKUP(AH37,勤務シフト一覧!$B$4:$C$106,2,FALSE))","v":""},null,{"$f":"IF(ISERROR(VLOOKUP(D37,勤務シフト一覧!$B$4:$D$106,3,FALSE)),\"\",VLOOKUP(D37,勤務シフト一覧!$B$4:$D$106,3,FALSE))","v":""},{"$f":"IF(ISERROR(VLOOKUP(E37,勤務シフト一覧!$B$4:$D$106,3,FALSE)),\"\",VLOOKUP(E37,勤務シフト一覧!$B$4:$D$106,3,FALSE))","v":""},{"$f":"IF(ISERROR(VLOOKUP(F37,勤務シフト一覧!$B$4:$D$106,3,FALSE)),\"\",VLOOKUP(F37,勤務シフト一覧!$B$4:$D$106,3,FALSE))","v":""},{"$f":"IF(ISERROR(VLOOKUP(G37,勤務シフト一覧!$B$4:$D$106,3,FALSE)),\"\",VLOOKUP(G37,勤務シフト一覧!$B$4:$D$106,3,FALSE))","v":""},{"$f":"IF(ISERROR(VLOOKUP(H37,勤務シフト一覧!$B$4:$D$106,3,FALSE)),\"\",VLOOKUP(H37,勤務シフト一覧!$B$4:$D$106,3,FALSE))","v":""},{"$f":"IF(ISERROR(VLOOKUP(I37,勤務シフト一覧!$B$4:$D$106,3,FALSE)),\"\",VLOOKUP(I37,勤務シフト一覧!$B$4:$D$106,3,FALSE))","v":""},{"$f":"IF(ISERROR(VLOOKUP(J37,勤務シフト一覧!$B$4:$D$106,3,FALSE)),\"\",VLOOKUP(J37,勤務シフト一覧!$B$4:$D$106,3,FALSE))","v":""},{"$f":"IF(ISERROR(VLOOKUP(K37,勤務シフト一覧!$B$4:$D$106,3,FALSE)),\"\",VLOOKUP(K37,勤務シフト一覧!$B$4:$D$106,3,FALSE))","v":""},{"$f":"IF(ISERROR(VLOOKUP(L37,勤務シフト一覧!$B$4:$D$106,3,FALSE)),\"\",VLOOKUP(L37,勤務シフト一覧!$B$4:$D$106,3,FALSE))","v":""},{"$f":"IF(ISERROR(VLOOKUP(M37,勤務シフト一覧!$B$4:$D$106,3,FALSE)),\"\",VLOOKUP(M37,勤務シフト一覧!$B$4:$D$106,3,FALSE))","v":""},{"$f":"IF(ISERROR(VLOOKUP(N37,勤務シフト一覧!$B$4:$D$106,3,FALSE)),\"\",VLOOKUP(N37,勤務シフト一覧!$B$4:$D$106,3,FALSE))","v":""},{"$f":"IF(ISERROR(VLOOKUP(O37,勤務シフト一覧!$B$4:$D$106,3,FALSE)),\"\",VLOOKUP(O37,勤務シフト一覧!$B$4:$D$106,3,FALSE))","v":""},{"$f":"IF(ISERROR(VLOOKUP(P37,勤務シフト一覧!$B$4:$D$106,3,FALSE)),\"\",VLOOKUP(P37,勤務シフト一覧!$B$4:$D$106,3,FALSE))","v":""},{"$f":"IF(ISERROR(VLOOKUP(Q37,勤務シフト一覧!$B$4:$D$106,3,FALSE)),\"\",VLOOKUP(Q37,勤務シフト一覧!$B$4:$D$106,3,FALSE))","v":""},{"$f":"IF(ISERROR(VLOOKUP(R37,勤務シフト一覧!$B$4:$D$106,3,FALSE)),\"\",VLOOKUP(R37,勤務シフト一覧!$B$4:$D$106,3,FALSE))","v":""},{"$f":"IF(ISERROR(VLOOKUP(S37,勤務シフト一覧!$B$4:$D$106,3,FALSE)),\"\",VLOOKUP(S37,勤務シフト一覧!$B$4:$D$106,3,FALSE))","v":""},{"$f":"IF(ISERROR(VLOOKUP(T37,勤務シフト一覧!$B$4:$D$106,3,FALSE)),\"\",VLOOKUP(T37,勤務シフト一覧!$B$4:$D$106,3,FALSE))","v":""},{"$f":"IF(ISERROR(VLOOKUP(U37,勤務シフト一覧!$B$4:$D$106,3,FALSE)),\"\",VLOOKUP(U37,勤務シフト一覧!$B$4:$D$106,3,FALSE))","v":""},{"$f":"IF(ISERROR(VLOOKUP(V37,勤務シフト一覧!$B$4:$D$106,3,FALSE)),\"\",VLOOKUP(V37,勤務シフト一覧!$B$4:$D$106,3,FALSE))","v":""},{"$f":"IF(ISERROR(VLOOKUP(W37,勤務シフト一覧!$B$4:$D$106,3,FALSE)),\"\",VLOOKUP(W37,勤務シフト一覧!$B$4:$D$106,3,FALSE))","v":""},{"$f":"IF(ISERROR(VLOOKUP(X37,勤務シフト一覧!$B$4:$D$106,3,FALSE)),\"\",VLOOKUP(X37,勤務シフト一覧!$B$4:$D$106,3,FALSE))","v":""},{"$f":"IF(ISERROR(VLOOKUP(Y37,勤務シフト一覧!$B$4:$D$106,3,FALSE)),\"\",VLOOKUP(Y37,勤務シフト一覧!$B$4:$D$106,3,FALSE))","v":""},{"$f":"IF(ISERROR(VLOOKUP(Z37,勤務シフト一覧!$B$4:$D$106,3,FALSE)),\"\",VLOOKUP(Z37,勤務シフト一覧!$B$4:$D$106,3,FALSE))","v":""},{"$f":"IF(ISERROR(VLOOKUP(AA37,勤務シフト一覧!$B$4:$D$106,3,FALSE)),\"\",VLOOKUP(AA37,勤務シフト一覧!$B$4:$D$106,3,FALSE))","v":""},{"$f":"IF(ISERROR(VLOOKUP(AB37,勤務シフト一覧!$B$4:$D$106,3,FALSE)),\"\",VLOOKUP(AB37,勤務シフト一覧!$B$4:$D$106,3,FALSE))","v":""},{"$f":"IF(ISERROR(VLOOKUP(AC37,勤務シフト一覧!$B$4:$D$106,3,FALSE)),\"\",VLOOKUP(AC37,勤務シフト一覧!$B$4:$D$106,3,FALSE))","v":""},{"$f":"IF(ISERROR(VLOOKUP(AD37,勤務シフト一覧!$B$4:$D$106,3,FALSE)),\"\",VLOOKUP(AD37,勤務シフト一覧!$B$4:$D$106,3,FALSE))","v":""},{"$f":"IF(ISERROR(VLOOKUP(AE37,勤務シフト一覧!$B$4:$D$106,3,FALSE)),\"\",VLOOKUP(AE37,勤務シフト一覧!$B$4:$D$106,3,FALSE))","v":""},{"$f":"IF(ISERROR(VLOOKUP(AF37,勤務シフト一覧!$B$4:$D$106,3,FALSE)),\"\",VLOOKUP(AF37,勤務シフト一覧!$B$4:$D$106,3,FALSE))","v":""},{"$f":"IF(ISERROR(VLOOKUP(AG37,勤務シフト一覧!$B$4:$D$106,3,FALSE)),\"\",VLOOKUP(AG37,勤務シフト一覧!$B$4:$D$106,3,FALSE))","v":""},{"$f":"IF(ISERROR(VLOOKUP(AH37,勤務シフト一覧!$B$4:$D$106,3,FALSE)),\"\",VLOOKUP(AH37,勤務シフト一覧!$B$4:$D$106,3,FALSE))","v":""},0,0,0,0,0,0,0,0,0,0,null,null,{"$f":"IF(勤務シフト一覧!$D37<>0,IF(勤務シフト一覧!$B37<> 0,勤務シフト一覧!$B37,\"\"),\"\")","v":"夏／"}]
[{"$f":"IF(LEN(職員一覧!B18)<>0,職員一覧!B18,\"\")","v":""},{"$f":"IF(LEN(職員一覧!C18)<>0,職員一覧!C18,\"\")","v":""},"予定",null,null,null,null,null,null,null,null,null,null,null,null,null,null,null,null,null,null,null,null,null,null,null,null,null,null,null,null,null,null,null,{"$f":"IF(ISERROR(VLOOKUP(D38,勤務シフト一覧!$B$4:$C$106,2,FALSE)),\"\",VLOOKUP(D38,勤務シフト一覧!$B$4:$C$106,2,FALSE))","v":""},{"$f":"IF(ISERROR(VLOOKUP(E38,勤務シフト一覧!$B$4:$C$106,2,FALSE)),\"\",VLOOKUP(E38,勤務シフト一覧!$B$4:$C$106,2,FALSE))","v":""},{"$f":"IF(ISERROR(VLOOKUP(F38,勤務シフト一覧!$B$4:$C$106,2,FALSE)),\"\",VLOOKUP(F38,勤務シフト一覧!$B$4:$C$106,2,FALSE))","v":""},{"$f":"IF(ISERROR(VLOOKUP(G38,勤務シフト一覧!$B$4:$C$106,2,FALSE)),\"\",VLOOKUP(G38,勤務シフト一覧!$B$4:$C$106,2,FALSE))","v":""},{"$f":"IF(ISERROR(VLOOKUP(H38,勤務シフト一覧!$B$4:$C$106,2,FALSE)),\"\",VLOOKUP(H38,勤務シフト一覧!$B$4:$C$106,2,FALSE))","v":""},{"$f":"IF(ISERROR(VLOOKUP(I38,勤務シフト一覧!$B$4:$C$106,2,FALSE)),\"\",VLOOKUP(I38,勤務シフト一覧!$B$4:$C$106,2,FALSE))","v":""},{"$f":"IF(ISERROR(VLOOKUP(J38,勤務シフト一覧!$B$4:$C$106,2,FALSE)),\"\",VLOOKUP(J38,勤務シフト一覧!$B$4:$C$106,2,FALSE))","v":""},{"$f":"IF(ISERROR(VLOOKUP(K38,勤務シフト一覧!$B$4:$C$106,2,FALSE)),\"\",VLOOKUP(K38,勤務シフト一覧!$B$4:$C$106,2,FALSE))","v":""},{"$f":"IF(ISERROR(VLOOKUP(L38,勤務シフト一覧!$B$4:$C$106,2,FALSE)),\"\",VLOOKUP(L38,勤務シフト一覧!$B$4:$C$106,2,FALSE))","v":""},{"$f":"IF(ISERROR(VLOOKUP(M38,勤務シフト一覧!$B$4:$C$106,2,FALSE)),\"\",VLOOKUP(M38,勤務シフト一覧!$B$4:$C$106,2,FALSE))","v":""},{"$f":"IF(ISERROR(VLOOKUP(N38,勤務シフト一覧!$B$4:$C$106,2,FALSE)),\"\",VLOOKUP(N38,勤務シフト一覧!$B$4:$C$106,2,FALSE))","v":""},{"$f":"IF(ISERROR(VLOOKUP(O38,勤務シフト一覧!$B$4:$C$106,2,FALSE)),\"\",VLOOKUP(O38,勤務シフト一覧!$B$4:$C$106,2,FALSE))","v":""},{"$f":"IF(ISERROR(VLOOKUP(P38,勤務シフト一覧!$B$4:$C$106,2,FALSE)),\"\",VLOOKUP(P38,勤務シフト一覧!$B$4:$C$106,2,FALSE))","v":""},{"$f":"IF(ISERROR(VLOOKUP(Q38,勤務シフト一覧!$B$4:$C$106,2,FALSE)),\"\",VLOOKUP(Q38,勤務シフト一覧!$B$4:$C$106,2,FALSE))","v":""},{"$f":"IF(ISERROR(VLOOKUP(R38,勤務シフト一覧!$B$4:$C$106,2,FALSE)),\"\",VLOOKUP(R38,勤務シフト一覧!$B$4:$C$106,2,FALSE))","v":""},{"$f":"IF(ISERROR(VLOOKUP(S38,勤務シフト一覧!$B$4:$C$106,2,FALSE)),\"\",VLOOKUP(S38,勤務シフト一覧!$B$4:$C$106,2,FALSE))","v":""},{"$f":"IF(ISERROR(VLOOKUP(T38,勤務シフト一覧!$B$4:$C$106,2,FALSE)),\"\",VLOOKUP(T38,勤務シフト一覧!$B$4:$C$106,2,FALSE))","v":""},{"$f":"IF(ISERROR(VLOOKUP(U38,勤務シフト一覧!$B$4:$C$106,2,FALSE)),\"\",VLOOKUP(U38,勤務シフト一覧!$B$4:$C$106,2,FALSE))","v":""},{"$f":"IF(ISERROR(VLOOKUP(V38,勤務シフト一覧!$B$4:$C$106,2,FALSE)),\"\",VLOOKUP(V38,勤務シフト一覧!$B$4:$C$106,2,FALSE))","v":""},{"$f":"IF(ISERROR(VLOOKUP(W38,勤務シフト一覧!$B$4:$C$106,2,FALSE)),\"\",VLOOKUP(W38,勤務シフト一覧!$B$4:$C$106,2,FALSE))","v":""},{"$f":"IF(ISERROR(VLOOKUP(X38,勤務シフト一覧!$B$4:$C$106,2,FALSE)),\"\",VLOOKUP(X38,勤務シフト一覧!$B$4:$C$106,2,FALSE))","v":""},{"$f":"IF(ISERROR(VLOOKUP(Y38,勤務シフト一覧!$B$4:$C$106,2,FALSE)),\"\",VLOOKUP(Y38,勤務シフト一覧!$B$4:$C$106,2,FALSE))","v":""},{"$f":"IF(ISERROR(VLOOKUP(Z38,勤務シフト一覧!$B$4:$C$106,2,FALSE)),\"\",VLOOKUP(Z38,勤務シフト一覧!$B$4:$C$106,2,FALSE))","v":""},{"$f":"IF(ISERROR(VLOOKUP(AA38,勤務シフト一覧!$B$4:$C$106,2,FALSE)),\"\",VLOOKUP(AA38,勤務シフト一覧!$B$4:$C$106,2,FALSE))","v":""},{"$f":"IF(ISERROR(VLOOKUP(AB38,勤務シフト一覧!$B$4:$C$106,2,FALSE)),\"\",VLOOKUP(AB38,勤務シフト一覧!$B$4:$C$106,2,FALSE))","v":""},{"$f":"IF(ISERROR(VLOOKUP(AC38,勤務シフト一覧!$B$4:$C$106,2,FALSE)),\"\",VLOOKUP(AC38,勤務シフト一覧!$B$4:$C$106,2,FALSE))","v":""},{"$f":"IF(ISERROR(VLOOKUP(AD38,勤務シフト一覧!$B$4:$C$106,2,FALSE)),\"\",VLOOKUP(AD38,勤務シフト一覧!$B$4:$C$106,2,FALSE))","v":""},{"$f":"IF(ISERROR(VLOOKUP(AE38,勤務シフト一覧!$B$4:$C$106,2,FALSE)),\"\",VLOOKUP(AE38,勤務シフト一覧!$B$4:$C$106,2,FALSE))","v":""},{"$f":"IF(ISERROR(VLOOKUP(AF38,勤務シフト一覧!$B$4:$C$106,2,FALSE)),\"\",VLOOKUP(AF38,勤務シフト一覧!$B$4:$C$106,2,FALSE))","v":""},{"$f":"IF(ISERROR(VLOOKUP(AG38,勤務シフト一覧!$B$4:$C$106,2,FALSE)),\"\",VLOOKUP(AG38,勤務シフト一覧!$B$4:$C$106,2,FALSE))","v":""},{"$f":"IF(ISERROR(VLOOKUP(AH38,勤務シフト一覧!$B$4:$C$106,2,FALSE)),\"\",VLOOKUP(AH38,勤務シフト一覧!$B$4:$C$106,2,FALSE))","v":""},null,{"$f":"IF(ISERROR(VLOOKUP(D38,勤務シフト一覧!$B$4:$D$106,3,FALSE)),\"\",VLOOKUP(D38,勤務シフト一覧!$B$4:$D$106,3,FALSE))","v":""},{"$f":"IF(ISERROR(VLOOKUP(E38,勤務シフト一覧!$B$4:$D$106,3,FALSE)),\"\",VLOOKUP(E38,勤務シフト一覧!$B$4:$D$106,3,FALSE))","v":""},{"$f":"IF(ISERROR(VLOOKUP(F38,勤務シフト一覧!$B$4:$D$106,3,FALSE)),\"\",VLOOKUP(F38,勤務シフト一覧!$B$4:$D$106,3,FALSE))","v":""},{"$f":"IF(ISERROR(VLOOKUP(G38,勤務シフト一覧!$B$4:$D$106,3,FALSE)),\"\",VLOOKUP(G38,勤務シフト一覧!$B$4:$D$106,3,FALSE))","v":""},{"$f":"IF(ISERROR(VLOOKUP(H38,勤務シフト一覧!$B$4:$D$106,3,FALSE)),\"\",VLOOKUP(H38,勤務シフト一覧!$B$4:$D$106,3,FALSE))","v":""},{"$f":"IF(ISERROR(VLOOKUP(I38,勤務シフト一覧!$B$4:$D$106,3,FALSE)),\"\",VLOOKUP(I38,勤務シフト一覧!$B$4:$D$106,3,FALSE))","v":""},{"$f":"IF(ISERROR(VLOOKUP(J38,勤務シフト一覧!$B$4:$D$106,3,FALSE)),\"\",VLOOKUP(J38,勤務シフト一覧!$B$4:$D$106,3,FALSE))","v":""},{"$f":"IF(ISERROR(VLOOKUP(K38,勤務シフト一覧!$B$4:$D$106,3,FALSE)),\"\",VLOOKUP(K38,勤務シフト一覧!$B$4:$D$106,3,FALSE))","v":""},{"$f":"IF(ISERROR(VLOOKUP(L38,勤務シフト一覧!$B$4:$D$106,3,FALSE)),\"\",VLOOKUP(L38,勤務シフト一覧!$B$4:$D$106,3,FALSE))","v":""},{"$f":"IF(ISERROR(VLOOKUP(M38,勤務シフト一覧!$B$4:$D$106,3,FALSE)),\"\",VLOOKUP(M38,勤務シフト一覧!$B$4:$D$106,3,FALSE))","v":""},{"$f":"IF(ISERROR(VLOOKUP(N38,勤務シフト一覧!$B$4:$D$106,3,FALSE)),\"\",VLOOKUP(N38,勤務シフト一覧!$B$4:$D$106,3,FALSE))","v":""},{"$f":"IF(ISERROR(VLOOKUP(O38,勤務シフト一覧!$B$4:$D$106,3,FALSE)),\"\",VLOOKUP(O38,勤務シフト一覧!$B$4:$D$106,3,FALSE))","v":""},{"$f":"IF(ISERROR(VLOOKUP(P38,勤務シフト一覧!$B$4:$D$106,3,FALSE)),\"\",VLOOKUP(P38,勤務シフト一覧!$B$4:$D$106,3,FALSE))","v":""},{"$f":"IF(ISERROR(VLOOKUP(Q38,勤務シフト一覧!$B$4:$D$106,3,FALSE)),\"\",VLOOKUP(Q38,勤務シフト一覧!$B$4:$D$106,3,FALSE))","v":""},{"$f":"IF(ISERROR(VLOOKUP(R38,勤務シフト一覧!$B$4:$D$106,3,FALSE)),\"\",VLOOKUP(R38,勤務シフト一覧!$B$4:$D$106,3,FALSE))","v":""},{"$f":"IF(ISERROR(VLOOKUP(S38,勤務シフト一覧!$B$4:$D$106,3,FALSE)),\"\",VLOOKUP(S38,勤務シフト一覧!$B$4:$D$106,3,FALSE))","v":""},{"$f":"IF(ISERROR(VLOOKUP(T38,勤務シフト一覧!$B$4:$D$106,3,FALSE)),\"\",VLOOKUP(T38,勤務シフト一覧!$B$4:$D$106,3,FALSE))","v":""},{"$f":"IF(ISERROR(VLOOKUP(U38,勤務シフト一覧!$B$4:$D$106,3,FALSE)),\"\",VLOOKUP(U38,勤務シフト一覧!$B$4:$D$106,3,FALSE))","v":""},{"$f":"IF(ISERROR(VLOOKUP(V38,勤務シフト一覧!$B$4:$D$106,3,FALSE)),\"\",VLOOKUP(V38,勤務シフト一覧!$B$4:$D$106,3,FALSE))","v":""},{"$f":"IF(ISERROR(VLOOKUP(W38,勤務シフト一覧!$B$4:$D$106,3,FALSE)),\"\",VLOOKUP(W38,勤務シフト一覧!$B$4:$D$106,3,FALSE))","v":""},{"$f":"IF(ISERROR(VLOOKUP(X38,勤務シフト一覧!$B$4:$D$106,3,FALSE)),\"\",VLOOKUP(X38,勤務シフト一覧!$B$4:$D$106,3,FALSE))","v":""},{"$f":"IF(ISERROR(VLOOKUP(Y38,勤務シフト一覧!$B$4:$D$106,3,FALSE)),\"\",VLOOKUP(Y38,勤務シフト一覧!$B$4:$D$106,3,FALSE))","v":""},{"$f":"IF(ISERROR(VLOOKUP(Z38,勤務シフト一覧!$B$4:$D$106,3,FALSE)),\"\",VLOOKUP(Z38,勤務シフト一覧!$B$4:$D$106,3,FALSE))","v":""},{"$f":"IF(ISERROR(VLOOKUP(AA38,勤務シフト一覧!$B$4:$D$106,3,FALSE)),\"\",VLOOKUP(AA38,勤務シフト一覧!$B$4:$D$106,3,FALSE))","v":""},{"$f":"IF(ISERROR(VLOOKUP(AB38,勤務シフト一覧!$B$4:$D$106,3,FALSE)),\"\",VLOOKUP(AB38,勤務シフト一覧!$B$4:$D$106,3,FALSE))","v":""},{"$f":"IF(ISERROR(VLOOKUP(AC38,勤務シフト一覧!$B$4:$D$106,3,FALSE)),\"\",VLOOKUP(AC38,勤務シフト一覧!$B$4:$D$106,3,FALSE))","v":""},{"$f":"IF(ISERROR(VLOOKUP(AD38,勤務シフト一覧!$B$4:$D$106,3,FALSE)),\"\",VLOOKUP(AD38,勤務シフト一覧!$B$4:$D$106,3,FALSE))","v":""},{"$f":"IF(ISERROR(VLOOKUP(AE38,勤務シフト一覧!$B$4:$D$106,3,FALSE)),\"\",VLOOKUP(AE38,勤務シフト一覧!$B$4:$D$106,3,FALSE))","v":""},{"$f":"IF(ISERROR(VLOOKUP(AF38,勤務シフト一覧!$B$4:$D$106,3,FALSE)),\"\",VLOOKUP(AF38,勤務シフト一覧!$B$4:$D$106,3,FALSE))","v":""},{"$f":"IF(ISERROR(VLOOKUP(AG38,勤務シフト一覧!$B$4:$D$106,3,FALSE)),\"\",VLOOKUP(AG38,勤務シフト一覧!$B$4:$D$106,3,FALSE))","v":""},{"$f":"IF(ISERROR(VLOOKUP(AH38,勤務シフト一覧!$B$4:$D$106,3,FALSE)),\"\",VLOOKUP(AH38,勤務シフト一覧!$B$4:$D$106,3,FALSE))","v":""},0,0,0,0,0,0,0,0,0,0,{"$f":"IF(LEN(職員一覧!D18)<>0,職員一覧!D18,\"\")","v":""},null,{"$f":"IF(勤務シフト一覧!$D38<>0,IF(勤務シフト一覧!$B38<> 0,勤務シフト一覧!$B38,\"\"),\"\")","v":"А夏"}]
[null,null,"実施",null,null,null,null,null,null,null,null,null,null,null,null,null,null,null,null,null,null,null,null,null,null,null,null,null,null,null,null,null,null,null,{"$f":"IF(ISERROR(VLOOKUP(D39,勤務シフト一覧!$B$4:$C$106,2,FALSE)),\"\",VLOOKUP(D39,勤務シフト一覧!$B$4:$C$106,2,FALSE))","v":""},{"$f":"IF(ISERROR(VLOOKUP(E39,勤務シフト一覧!$B$4:$C$106,2,FALSE)),\"\",VLOOKUP(E39,勤務シフト一覧!$B$4:$C$106,2,FALSE))","v":""},{"$f":"IF(ISERROR(VLOOKUP(F39,勤務シフト一覧!$B$4:$C$106,2,FALSE)),\"\",VLOOKUP(F39,勤務シフト一覧!$B$4:$C$106,2,FALSE))","v":""},{"$f":"IF(ISERROR(VLOOKUP(G39,勤務シフト一覧!$B$4:$C$106,2,FALSE)),\"\",VLOOKUP(G39,勤務シフト一覧!$B$4:$C$106,2,FALSE))","v":""},{"$f":"IF(ISERROR(VLOOKUP(H39,勤務シフト一覧!$B$4:$C$106,2,FALSE)),\"\",VLOOKUP(H39,勤務シフト一覧!$B$4:$C$106,2,FALSE))","v":""},{"$f":"IF(ISERROR(VLOOKUP(I39,勤務シフト一覧!$B$4:$C$106,2,FALSE)),\"\",VLOOKUP(I39,勤務シフト一覧!$B$4:$C$106,2,FALSE))","v":""},{"$f":"IF(ISERROR(VLOOKUP(J39,勤務シフト一覧!$B$4:$C$106,2,FALSE)),\"\",VLOOKUP(J39,勤務シフト一覧!$B$4:$C$106,2,FALSE))","v":""},{"$f":"IF(ISERROR(VLOOKUP(K39,勤務シフト一覧!$B$4:$C$106,2,FALSE)),\"\",VLOOKUP(K39,勤務シフト一覧!$B$4:$C$106,2,FALSE))","v":""},{"$f":"IF(ISERROR(VLOOKUP(L39,勤務シフト一覧!$B$4:$C$106,2,FALSE)),\"\",VLOOKUP(L39,勤務シフト一覧!$B$4:$C$106,2,FALSE))","v":""},{"$f":"IF(ISERROR(VLOOKUP(M39,勤務シフト一覧!$B$4:$C$106,2,FALSE)),\"\",VLOOKUP(M39,勤務シフト一覧!$B$4:$C$106,2,FALSE))","v":""},{"$f":"IF(ISERROR(VLOOKUP(N39,勤務シフト一覧!$B$4:$C$106,2,FALSE)),\"\",VLOOKUP(N39,勤務シフト一覧!$B$4:$C$106,2,FALSE))","v":""},{"$f":"IF(ISERROR(VLOOKUP(O39,勤務シフト一覧!$B$4:$C$106,2,FALSE)),\"\",VLOOKUP(O39,勤務シフト一覧!$B$4:$C$106,2,FALSE))","v":""},{"$f":"IF(ISERROR(VLOOKUP(P39,勤務シフト一覧!$B$4:$C$106,2,FALSE)),\"\",VLOOKUP(P39,勤務シフト一覧!$B$4:$C$106,2,FALSE))","v":""},{"$f":"IF(ISERROR(VLOOKUP(Q39,勤務シフト一覧!$B$4:$C$106,2,FALSE)),\"\",VLOOKUP(Q39,勤務シフト一覧!$B$4:$C$106,2,FALSE))","v":""},{"$f":"IF(ISERROR(VLOOKUP(R39,勤務シフト一覧!$B$4:$C$106,2,FALSE)),\"\",VLOOKUP(R39,勤務シフト一覧!$B$4:$C$106,2,FALSE))","v":""},{"$f":"IF(ISERROR(VLOOKUP(S39,勤務シフト一覧!$B$4:$C$106,2,FALSE)),\"\",VLOOKUP(S39,勤務シフト一覧!$B$4:$C$106,2,FALSE))","v":""},{"$f":"IF(ISERROR(VLOOKUP(T39,勤務シフト一覧!$B$4:$C$106,2,FALSE)),\"\",VLOOKUP(T39,勤務シフト一覧!$B$4:$C$106,2,FALSE))","v":""},{"$f":"IF(ISERROR(VLOOKUP(U39,勤務シフト一覧!$B$4:$C$106,2,FALSE)),\"\",VLOOKUP(U39,勤務シフト一覧!$B$4:$C$106,2,FALSE))","v":""},{"$f":"IF(ISERROR(VLOOKUP(V39,勤務シフト一覧!$B$4:$C$106,2,FALSE)),\"\",VLOOKUP(V39,勤務シフト一覧!$B$4:$C$106,2,FALSE))","v":""},{"$f":"IF(ISERROR(VLOOKUP(W39,勤務シフト一覧!$B$4:$C$106,2,FALSE)),\"\",VLOOKUP(W39,勤務シフト一覧!$B$4:$C$106,2,FALSE))","v":""},{"$f":"IF(ISERROR(VLOOKUP(X39,勤務シフト一覧!$B$4:$C$106,2,FALSE)),\"\",VLOOKUP(X39,勤務シフト一覧!$B$4:$C$106,2,FALSE))","v":""},{"$f":"IF(ISERROR(VLOOKUP(Y39,勤務シフト一覧!$B$4:$C$106,2,FALSE)),\"\",VLOOKUP(Y39,勤務シフト一覧!$B$4:$C$106,2,FALSE))","v":""},{"$f":"IF(ISERROR(VLOOKUP(Z39,勤務シフト一覧!$B$4:$C$106,2,FALSE)),\"\",VLOOKUP(Z39,勤務シフト一覧!$B$4:$C$106,2,FALSE))","v":""},{"$f":"IF(ISERROR(VLOOKUP(AA39,勤務シフト一覧!$B$4:$C$106,2,FALSE)),\"\",VLOOKUP(AA39,勤務シフト一覧!$B$4:$C$106,2,FALSE))","v":""},{"$f":"IF(ISERROR(VLOOKUP(AB39,勤務シフト一覧!$B$4:$C$106,2,FALSE)),\"\",VLOOKUP(AB39,勤務シフト一覧!$B$4:$C$106,2,FALSE))","v":""},{"$f":"IF(ISERROR(VLOOKUP(AC39,勤務シフト一覧!$B$4:$C$106,2,FALSE)),\"\",VLOOKUP(AC39,勤務シフト一覧!$B$4:$C$106,2,FALSE))","v":""},{"$f":"IF(ISERROR(VLOOKUP(AD39,勤務シフト一覧!$B$4:$C$106,2,FALSE)),\"\",VLOOKUP(AD39,勤務シフト一覧!$B$4:$C$106,2,FALSE))","v":""},{"$f":"IF(ISERROR(VLOOKUP(AE39,勤務シフト一覧!$B$4:$C$106,2,FALSE)),\"\",VLOOKUP(AE39,勤務シフト一覧!$B$4:$C$106,2,FALSE))","v":""},{"$f":"IF(ISERROR(VLOOKUP(AF39,勤務シフト一覧!$B$4:$C$106,2,FALSE)),\"\",VLOOKUP(AF39,勤務シフト一覧!$B$4:$C$106,2,FALSE))","v":""},{"$f":"IF(ISERROR(VLOOKUP(AG39,勤務シフト一覧!$B$4:$C$106,2,FALSE)),\"\",VLOOKUP(AG39,勤務シフト一覧!$B$4:$C$106,2,FALSE))","v":""},{"$f":"IF(ISERROR(VLOOKUP(AH39,勤務シフト一覧!$B$4:$C$106,2,FALSE)),\"\",VLOOKUP(AH39,勤務シフト一覧!$B$4:$C$106,2,FALSE))","v":""},null,{"$f":"IF(ISERROR(VLOOKUP(D39,勤務シフト一覧!$B$4:$D$106,3,FALSE)),\"\",VLOOKUP(D39,勤務シフト一覧!$B$4:$D$106,3,FALSE))","v":""},{"$f":"IF(ISERROR(VLOOKUP(E39,勤務シフト一覧!$B$4:$D$106,3,FALSE)),\"\",VLOOKUP(E39,勤務シフト一覧!$B$4:$D$106,3,FALSE))","v":""},{"$f":"IF(ISERROR(VLOOKUP(F39,勤務シフト一覧!$B$4:$D$106,3,FALSE)),\"\",VLOOKUP(F39,勤務シフト一覧!$B$4:$D$106,3,FALSE))","v":""},{"$f":"IF(ISERROR(VLOOKUP(G39,勤務シフト一覧!$B$4:$D$106,3,FALSE)),\"\",VLOOKUP(G39,勤務シフト一覧!$B$4:$D$106,3,FALSE))","v":""},{"$f":"IF(ISERROR(VLOOKUP(H39,勤務シフト一覧!$B$4:$D$106,3,FALSE)),\"\",VLOOKUP(H39,勤務シフト一覧!$B$4:$D$106,3,FALSE))","v":""},{"$f":"IF(ISERROR(VLOOKUP(I39,勤務シフト一覧!$B$4:$D$106,3,FALSE)),\"\",VLOOKUP(I39,勤務シフト一覧!$B$4:$D$106,3,FALSE))","v":""},{"$f":"IF(ISERROR(VLOOKUP(J39,勤務シフト一覧!$B$4:$D$106,3,FALSE)),\"\",VLOOKUP(J39,勤務シフト一覧!$B$4:$D$106,3,FALSE))","v":""},{"$f":"IF(ISERROR(VLOOKUP(K39,勤務シフト一覧!$B$4:$D$106,3,FALSE)),\"\",VLOOKUP(K39,勤務シフト一覧!$B$4:$D$106,3,FALSE))","v":""},{"$f":"IF(ISERROR(VLOOKUP(L39,勤務シフト一覧!$B$4:$D$106,3,FALSE)),\"\",VLOOKUP(L39,勤務シフト一覧!$B$4:$D$106,3,FALSE))","v":""},{"$f":"IF(ISERROR(VLOOKUP(M39,勤務シフト一覧!$B$4:$D$106,3,FALSE)),\"\",VLOOKUP(M39,勤務シフト一覧!$B$4:$D$106,3,FALSE))","v":""},{"$f":"IF(ISERROR(VLOOKUP(N39,勤務シフト一覧!$B$4:$D$106,3,FALSE)),\"\",VLOOKUP(N39,勤務シフト一覧!$B$4:$D$106,3,FALSE))","v":""},{"$f":"IF(ISERROR(VLOOKUP(O39,勤務シフト一覧!$B$4:$D$106,3,FALSE)),\"\",VLOOKUP(O39,勤務シフト一覧!$B$4:$D$106,3,FALSE))","v":""},{"$f":"IF(ISERROR(VLOOKUP(P39,勤務シフト一覧!$B$4:$D$106,3,FALSE)),\"\",VLOOKUP(P39,勤務シフト一覧!$B$4:$D$106,3,FALSE))","v":""},{"$f":"IF(ISERROR(VLOOKUP(Q39,勤務シフト一覧!$B$4:$D$106,3,FALSE)),\"\",VLOOKUP(Q39,勤務シフト一覧!$B$4:$D$106,3,FALSE))","v":""},{"$f":"IF(ISERROR(VLOOKUP(R39,勤務シフト一覧!$B$4:$D$106,3,FALSE)),\"\",VLOOKUP(R39,勤務シフト一覧!$B$4:$D$106,3,FALSE))","v":""},{"$f":"IF(ISERROR(VLOOKUP(S39,勤務シフト一覧!$B$4:$D$106,3,FALSE)),\"\",VLOOKUP(S39,勤務シフト一覧!$B$4:$D$106,3,FALSE))","v":""},{"$f":"IF(ISERROR(VLOOKUP(T39,勤務シフト一覧!$B$4:$D$106,3,FALSE)),\"\",VLOOKUP(T39,勤務シフト一覧!$B$4:$D$106,3,FALSE))","v":""},{"$f":"IF(ISERROR(VLOOKUP(U39,勤務シフト一覧!$B$4:$D$106,3,FALSE)),\"\",VLOOKUP(U39,勤務シフト一覧!$B$4:$D$106,3,FALSE))","v":""},{"$f":"IF(ISERROR(VLOOKUP(V39,勤務シフト一覧!$B$4:$D$106,3,FALSE)),\"\",VLOOKUP(V39,勤務シフト一覧!$B$4:$D$106,3,FALSE))","v":""},{"$f":"IF(ISERROR(VLOOKUP(W39,勤務シフト一覧!$B$4:$D$106,3,FALSE)),\"\",VLOOKUP(W39,勤務シフト一覧!$B$4:$D$106,3,FALSE))","v":""},{"$f":"IF(ISERROR(VLOOKUP(X39,勤務シフト一覧!$B$4:$D$106,3,FALSE)),\"\",VLOOKUP(X39,勤務シフト一覧!$B$4:$D$106,3,FALSE))","v":""},{"$f":"IF(ISERROR(VLOOKUP(Y39,勤務シフト一覧!$B$4:$D$106,3,FALSE)),\"\",VLOOKUP(Y39,勤務シフト一覧!$B$4:$D$106,3,FALSE))","v":""},{"$f":"IF(ISERROR(VLOOKUP(Z39,勤務シフト一覧!$B$4:$D$106,3,FALSE)),\"\",VLOOKUP(Z39,勤務シフト一覧!$B$4:$D$106,3,FALSE))","v":""},{"$f":"IF(ISERROR(VLOOKUP(AA39,勤務シフト一覧!$B$4:$D$106,3,FALSE)),\"\",VLOOKUP(AA39,勤務シフト一覧!$B$4:$D$106,3,FALSE))","v":""},{"$f":"IF(ISERROR(VLOOKUP(AB39,勤務シフト一覧!$B$4:$D$106,3,FALSE)),\"\",VLOOKUP(AB39,勤務シフト一覧!$B$4:$D$106,3,FALSE))","v":""},{"$f":"IF(ISERROR(VLOOKUP(AC39,勤務シフト一覧!$B$4:$D$106,3,FALSE)),\"\",VLOOKUP(AC39,勤務シフト一覧!$B$4:$D$106,3,FALSE))","v":""},{"$f":"IF(ISERROR(VLOOKUP(AD39,勤務シフト一覧!$B$4:$D$106,3,FALSE)),\"\",VLOOKUP(AD39,勤務シフト一覧!$B$4:$D$106,3,FALSE))","v":""},{"$f":"IF(ISERROR(VLOOKUP(AE39,勤務シフト一覧!$B$4:$D$106,3,FALSE)),\"\",VLOOKUP(AE39,勤務シフト一覧!$B$4:$D$106,3,FALSE))","v":""},{"$f":"IF(ISERROR(VLOOKUP(AF39,勤務シフト一覧!$B$4:$D$106,3,FALSE)),\"\",VLOOKUP(AF39,勤務シフト一覧!$B$4:$D$106,3,FALSE))","v":""},{"$f":"IF(ISERROR(VLOOKUP(AG39,勤務シフト一覧!$B$4:$D$106,3,FALSE)),\"\",VLOOKUP(AG39,勤務シフト一覧!$B$4:$D$106,3,FALSE))","v":""},{"$f":"IF(ISERROR(VLOOKUP(AH39,勤務シフト一覧!$B$4:$D$106,3,FALSE)),\"\",VLOOKUP(AH39,勤務シフト一覧!$B$4:$D$106,3,FALSE))","v":""},0,0,0,0,0,0,0,0,0,0,null,null,{"$f":"IF(勤務シフト一覧!$D39<>0,IF(勤務シフト一覧!$B39<> 0,勤務シフト一覧!$B39,\"\"),\"\")","v":"Р夏"}]
[{"$f":"IF(LEN(職員一覧!B19)<>0,職員一覧!B19,\"\")","v":""},{"$f":"IF(LEN(職員一覧!C19)<>0,職員一覧!C19,\"\")","v":""},"予定",null,null,null,null,null,null,null,null,null,null,null,null,null,null,null,null,null,null,null,null,null,null,null,null,null,null,null,null,null,null,null,{"$f":"IF(ISERROR(VLOOKUP(D40,勤務シフト一覧!$B$4:$C$106,2,FALSE)),\"\",VLOOKUP(D40,勤務シフト一覧!$B$4:$C$106,2,FALSE))","v":""},{"$f":"IF(ISERROR(VLOOKUP(E40,勤務シフト一覧!$B$4:$C$106,2,FALSE)),\"\",VLOOKUP(E40,勤務シフト一覧!$B$4:$C$106,2,FALSE))","v":""},{"$f":"IF(ISERROR(VLOOKUP(F40,勤務シフト一覧!$B$4:$C$106,2,FALSE)),\"\",VLOOKUP(F40,勤務シフト一覧!$B$4:$C$106,2,FALSE))","v":""},{"$f":"IF(ISERROR(VLOOKUP(G40,勤務シフト一覧!$B$4:$C$106,2,FALSE)),\"\",VLOOKUP(G40,勤務シフト一覧!$B$4:$C$106,2,FALSE))","v":""},{"$f":"IF(ISERROR(VLOOKUP(H40,勤務シフト一覧!$B$4:$C$106,2,FALSE)),\"\",VLOOKUP(H40,勤務シフト一覧!$B$4:$C$106,2,FALSE))","v":""},{"$f":"IF(ISERROR(VLOOKUP(I40,勤務シフト一覧!$B$4:$C$106,2,FALSE)),\"\",VLOOKUP(I40,勤務シフト一覧!$B$4:$C$106,2,FALSE))","v":""},{"$f":"IF(ISERROR(VLOOKUP(J40,勤務シフト一覧!$B$4:$C$106,2,FALSE)),\"\",VLOOKUP(J40,勤務シフト一覧!$B$4:$C$106,2,FALSE))","v":""},{"$f":"IF(ISERROR(VLOOKUP(K40,勤務シフト一覧!$B$4:$C$106,2,FALSE)),\"\",VLOOKUP(K40,勤務シフト一覧!$B$4:$C$106,2,FALSE))","v":""},{"$f":"IF(ISERROR(VLOOKUP(L40,勤務シフト一覧!$B$4:$C$106,2,FALSE)),\"\",VLOOKUP(L40,勤務シフト一覧!$B$4:$C$106,2,FALSE))","v":""},{"$f":"IF(ISERROR(VLOOKUP(M40,勤務シフト一覧!$B$4:$C$106,2,FALSE)),\"\",VLOOKUP(M40,勤務シフト一覧!$B$4:$C$106,2,FALSE))","v":""},{"$f":"IF(ISERROR(VLOOKUP(N40,勤務シフト一覧!$B$4:$C$106,2,FALSE)),\"\",VLOOKUP(N40,勤務シフト一覧!$B$4:$C$106,2,FALSE))","v":""},{"$f":"IF(ISERROR(VLOOKUP(O40,勤務シフト一覧!$B$4:$C$106,2,FALSE)),\"\",VLOOKUP(O40,勤務シフト一覧!$B$4:$C$106,2,FALSE))","v":""},{"$f":"IF(ISERROR(VLOOKUP(P40,勤務シフト一覧!$B$4:$C$106,2,FALSE)),\"\",VLOOKUP(P40,勤務シフト一覧!$B$4:$C$106,2,FALSE))","v":""},{"$f":"IF(ISERROR(VLOOKUP(Q40,勤務シフト一覧!$B$4:$C$106,2,FALSE)),\"\",VLOOKUP(Q40,勤務シフト一覧!$B$4:$C$106,2,FALSE))","v":""},{"$f":"IF(ISERROR(VLOOKUP(R40,勤務シフト一覧!$B$4:$C$106,2,FALSE)),\"\",VLOOKUP(R40,勤務シフト一覧!$B$4:$C$106,2,FALSE))","v":""},{"$f":"IF(ISERROR(VLOOKUP(S40,勤務シフト一覧!$B$4:$C$106,2,FALSE)),\"\",VLOOKUP(S40,勤務シフト一覧!$B$4:$C$106,2,FALSE))","v":""},{"$f":"IF(ISERROR(VLOOKUP(T40,勤務シフト一覧!$B$4:$C$106,2,FALSE)),\"\",VLOOKUP(T40,勤務シフト一覧!$B$4:$C$106,2,FALSE))","v":""},{"$f":"IF(ISERROR(VLOOKUP(U40,勤務シフト一覧!$B$4:$C$106,2,FALSE)),\"\",VLOOKUP(U40,勤務シフト一覧!$B$4:$C$106,2,FALSE))","v":""},{"$f":"IF(ISERROR(VLOOKUP(V40,勤務シフト一覧!$B$4:$C$106,2,FALSE)),\"\",VLOOKUP(V40,勤務シフト一覧!$B$4:$C$106,2,FALSE))","v":""},{"$f":"IF(ISERROR(VLOOKUP(W40,勤務シフト一覧!$B$4:$C$106,2,FALSE)),\"\",VLOOKUP(W40,勤務シフト一覧!$B$4:$C$106,2,FALSE))","v":""},{"$f":"IF(ISERROR(VLOOKUP(X40,勤務シフト一覧!$B$4:$C$106,2,FALSE)),\"\",VLOOKUP(X40,勤務シフト一覧!$B$4:$C$106,2,FALSE))","v":""},{"$f":"IF(ISERROR(VLOOKUP(Y40,勤務シフト一覧!$B$4:$C$106,2,FALSE)),\"\",VLOOKUP(Y40,勤務シフト一覧!$B$4:$C$106,2,FALSE))","v":""},{"$f":"IF(ISERROR(VLOOKUP(Z40,勤務シフト一覧!$B$4:$C$106,2,FALSE)),\"\",VLOOKUP(Z40,勤務シフト一覧!$B$4:$C$106,2,FALSE))","v":""},{"$f":"IF(ISERROR(VLOOKUP(AA40,勤務シフト一覧!$B$4:$C$106,2,FALSE)),\"\",VLOOKUP(AA40,勤務シフト一覧!$B$4:$C$106,2,FALSE))","v":""},{"$f":"IF(ISERROR(VLOOKUP(AB40,勤務シフト一覧!$B$4:$C$106,2,FALSE)),\"\",VLOOKUP(AB40,勤務シフト一覧!$B$4:$C$106,2,FALSE))","v":""},{"$f":"IF(ISERROR(VLOOKUP(AC40,勤務シフト一覧!$B$4:$C$106,2,FALSE)),\"\",VLOOKUP(AC40,勤務シフト一覧!$B$4:$C$106,2,FALSE))","v":""},{"$f":"IF(ISERROR(VLOOKUP(AD40,勤務シフト一覧!$B$4:$C$106,2,FALSE)),\"\",VLOOKUP(AD40,勤務シフト一覧!$B$4:$C$106,2,FALSE))","v":""},{"$f":"IF(ISERROR(VLOOKUP(AE40,勤務シフト一覧!$B$4:$C$106,2,FALSE)),\"\",VLOOKUP(AE40,勤務シフト一覧!$B$4:$C$106,2,FALSE))","v":""},{"$f":"IF(ISERROR(VLOOKUP(AF40,勤務シフト一覧!$B$4:$C$106,2,FALSE)),\"\",VLOOKUP(AF40,勤務シフト一覧!$B$4:$C$106,2,FALSE))","v":""},{"$f":"IF(ISERROR(VLOOKUP(AG40,勤務シフト一覧!$B$4:$C$106,2,FALSE)),\"\",VLOOKUP(AG40,勤務シフト一覧!$B$4:$C$106,2,FALSE))","v":""},{"$f":"IF(ISERROR(VLOOKUP(AH40,勤務シフト一覧!$B$4:$C$106,2,FALSE)),\"\",VLOOKUP(AH40,勤務シフト一覧!$B$4:$C$106,2,FALSE))","v":""},null,{"$f":"IF(ISERROR(VLOOKUP(D40,勤務シフト一覧!$B$4:$D$106,3,FALSE)),\"\",VLOOKUP(D40,勤務シフト一覧!$B$4:$D$106,3,FALSE))","v":""},{"$f":"IF(ISERROR(VLOOKUP(E40,勤務シフト一覧!$B$4:$D$106,3,FALSE)),\"\",VLOOKUP(E40,勤務シフト一覧!$B$4:$D$106,3,FALSE))","v":""},{"$f":"IF(ISERROR(VLOOKUP(F40,勤務シフト一覧!$B$4:$D$106,3,FALSE)),\"\",VLOOKUP(F40,勤務シフト一覧!$B$4:$D$106,3,FALSE))","v":""},{"$f":"IF(ISERROR(VLOOKUP(G40,勤務シフト一覧!$B$4:$D$106,3,FALSE)),\"\",VLOOKUP(G40,勤務シフト一覧!$B$4:$D$106,3,FALSE))","v":""},{"$f":"IF(ISERROR(VLOOKUP(H40,勤務シフト一覧!$B$4:$D$106,3,FALSE)),\"\",VLOOKUP(H40,勤務シフト一覧!$B$4:$D$106,3,FALSE))","v":""},{"$f":"IF(ISERROR(VLOOKUP(I40,勤務シフト一覧!$B$4:$D$106,3,FALSE)),\"\",VLOOKUP(I40,勤務シフト一覧!$B$4:$D$106,3,FALSE))","v":""},{"$f":"IF(ISERROR(VLOOKUP(J40,勤務シフト一覧!$B$4:$D$106,3,FALSE)),\"\",VLOOKUP(J40,勤務シフト一覧!$B$4:$D$106,3,FALSE))","v":""},{"$f":"IF(ISERROR(VLOOKUP(K40,勤務シフト一覧!$B$4:$D$106,3,FALSE)),\"\",VLOOKUP(K40,勤務シフト一覧!$B$4:$D$106,3,FALSE))","v":""},{"$f":"IF(ISERROR(VLOOKUP(L40,勤務シフト一覧!$B$4:$D$106,3,FALSE)),\"\",VLOOKUP(L40,勤務シフト一覧!$B$4:$D$106,3,FALSE))","v":""},{"$f":"IF(ISERROR(VLOOKUP(M40,勤務シフト一覧!$B$4:$D$106,3,FALSE)),\"\",VLOOKUP(M40,勤務シフト一覧!$B$4:$D$106,3,FALSE))","v":""},{"$f":"IF(ISERROR(VLOOKUP(N40,勤務シフト一覧!$B$4:$D$106,3,FALSE)),\"\",VLOOKUP(N40,勤務シフト一覧!$B$4:$D$106,3,FALSE))","v":""},{"$f":"IF(ISERROR(VLOOKUP(O40,勤務シフト一覧!$B$4:$D$106,3,FALSE)),\"\",VLOOKUP(O40,勤務シフト一覧!$B$4:$D$106,3,FALSE))","v":""},{"$f":"IF(ISERROR(VLOOKUP(P40,勤務シフト一覧!$B$4:$D$106,3,FALSE)),\"\",VLOOKUP(P40,勤務シフト一覧!$B$4:$D$106,3,FALSE))","v":""},{"$f":"IF(ISERROR(VLOOKUP(Q40,勤務シフト一覧!$B$4:$D$106,3,FALSE)),\"\",VLOOKUP(Q40,勤務シフト一覧!$B$4:$D$106,3,FALSE))","v":""},{"$f":"IF(ISERROR(VLOOKUP(R40,勤務シフト一覧!$B$4:$D$106,3,FALSE)),\"\",VLOOKUP(R40,勤務シフト一覧!$B$4:$D$106,3,FALSE))","v":""},{"$f":"IF(ISERROR(VLOOKUP(S40,勤務シフト一覧!$B$4:$D$106,3,FALSE)),\"\",VLOOKUP(S40,勤務シフト一覧!$B$4:$D$106,3,FALSE))","v":""},{"$f":"IF(ISERROR(VLOOKUP(T40,勤務シフト一覧!$B$4:$D$106,3,FALSE)),\"\",VLOOKUP(T40,勤務シフト一覧!$B$4:$D$106,3,FALSE))","v":""},{"$f":"IF(ISERROR(VLOOKUP(U40,勤務シフト一覧!$B$4:$D$106,3,FALSE)),\"\",VLOOKUP(U40,勤務シフト一覧!$B$4:$D$106,3,FALSE))","v":""},{"$f":"IF(ISERROR(VLOOKUP(V40,勤務シフト一覧!$B$4:$D$106,3,FALSE)),\"\",VLOOKUP(V40,勤務シフト一覧!$B$4:$D$106,3,FALSE))","v":""},{"$f":"IF(ISERROR(VLOOKUP(W40,勤務シフト一覧!$B$4:$D$106,3,FALSE)),\"\",VLOOKUP(W40,勤務シフト一覧!$B$4:$D$106,3,FALSE))","v":""},{"$f":"IF(ISERROR(VLOOKUP(X40,勤務シフト一覧!$B$4:$D$106,3,FALSE)),\"\",VLOOKUP(X40,勤務シフト一覧!$B$4:$D$106,3,FALSE))","v":""},{"$f":"IF(ISERROR(VLOOKUP(Y40,勤務シフト一覧!$B$4:$D$106,3,FALSE)),\"\",VLOOKUP(Y40,勤務シフト一覧!$B$4:$D$106,3,FALSE))","v":""},{"$f":"IF(ISERROR(VLOOKUP(Z40,勤務シフト一覧!$B$4:$D$106,3,FALSE)),\"\",VLOOKUP(Z40,勤務シフト一覧!$B$4:$D$106,3,FALSE))","v":""},{"$f":"IF(ISERROR(VLOOKUP(AA40,勤務シフト一覧!$B$4:$D$106,3,FALSE)),\"\",VLOOKUP(AA40,勤務シフト一覧!$B$4:$D$106,3,FALSE))","v":""},{"$f":"IF(ISERROR(VLOOKUP(AB40,勤務シフト一覧!$B$4:$D$106,3,FALSE)),\"\",VLOOKUP(AB40,勤務シフト一覧!$B$4:$D$106,3,FALSE))","v":""},{"$f":"IF(ISERROR(VLOOKUP(AC40,勤務シフト一覧!$B$4:$D$106,3,FALSE)),\"\",VLOOKUP(AC40,勤務シフト一覧!$B$4:$D$106,3,FALSE))","v":""},{"$f":"IF(ISERROR(VLOOKUP(AD40,勤務シフト一覧!$B$4:$D$106,3,FALSE)),\"\",VLOOKUP(AD40,勤務シフト一覧!$B$4:$D$106,3,FALSE))","v":""},{"$f":"IF(ISERROR(VLOOKUP(AE40,勤務シフト一覧!$B$4:$D$106,3,FALSE)),\"\",VLOOKUP(AE40,勤務シフト一覧!$B$4:$D$106,3,FALSE))","v":""},{"$f":"IF(ISERROR(VLOOKUP(AF40,勤務シフト一覧!$B$4:$D$106,3,FALSE)),\"\",VLOOKUP(AF40,勤務シフト一覧!$B$4:$D$106,3,FALSE))","v":""},{"$f":"IF(ISERROR(VLOOKUP(AG40,勤務シフト一覧!$B$4:$D$106,3,FALSE)),\"\",VLOOKUP(AG40,勤務シフト一覧!$B$4:$D$106,3,FALSE))","v":""},{"$f":"IF(ISERROR(VLOOKUP(AH40,勤務シフト一覧!$B$4:$D$106,3,FALSE)),\"\",VLOOKUP(AH40,勤務シフト一覧!$B$4:$D$106,3,FALSE))","v":""},0,0,0,0,0,0,0,0,0,0,{"$f":"IF(LEN(職員一覧!D19)<>0,職員一覧!D19,\"\")","v":""},null,{"$f":"IF(勤務シフト一覧!$D40<>0,IF(勤務シフト一覧!$B40<> 0,勤務シフト一覧!$B40,\"\"),\"\")","v":"免／"}]
[null,null,"実施",null,null,null,null,null,null,null,null,null,null,null,null,null,null,null,null,null,null,null,null,null,null,null,null,null,null,null,null,null,null,null,{"$f":"IF(ISERROR(VLOOKUP(D41,勤務シフト一覧!$B$4:$C$106,2,FALSE)),\"\",VLOOKUP(D41,勤務シフト一覧!$B$4:$C$106,2,FALSE))","v":""},{"$f":"IF(ISERROR(VLOOKUP(E41,勤務シフト一覧!$B$4:$C$106,2,FALSE)),\"\",VLOOKUP(E41,勤務シフト一覧!$B$4:$C$106,2,FALSE))","v":""},{"$f":"IF(ISERROR(VLOOKUP(F41,勤務シフト一覧!$B$4:$C$106,2,FALSE)),\"\",VLOOKUP(F41,勤務シフト一覧!$B$4:$C$106,2,FALSE))","v":""},{"$f":"IF(ISERROR(VLOOKUP(G41,勤務シフト一覧!$B$4:$C$106,2,FALSE)),\"\",VLOOKUP(G41,勤務シフト一覧!$B$4:$C$106,2,FALSE))","v":""},{"$f":"IF(ISERROR(VLOOKUP(H41,勤務シフト一覧!$B$4:$C$106,2,FALSE)),\"\",VLOOKUP(H41,勤務シフト一覧!$B$4:$C$106,2,FALSE))","v":""},{"$f":"IF(ISERROR(VLOOKUP(I41,勤務シフト一覧!$B$4:$C$106,2,FALSE)),\"\",VLOOKUP(I41,勤務シフト一覧!$B$4:$C$106,2,FALSE))","v":""},{"$f":"IF(ISERROR(VLOOKUP(J41,勤務シフト一覧!$B$4:$C$106,2,FALSE)),\"\",VLOOKUP(J41,勤務シフト一覧!$B$4:$C$106,2,FALSE))","v":""},{"$f":"IF(ISERROR(VLOOKUP(K41,勤務シフト一覧!$B$4:$C$106,2,FALSE)),\"\",VLOOKUP(K41,勤務シフト一覧!$B$4:$C$106,2,FALSE))","v":""},{"$f":"IF(ISERROR(VLOOKUP(L41,勤務シフト一覧!$B$4:$C$106,2,FALSE)),\"\",VLOOKUP(L41,勤務シフト一覧!$B$4:$C$106,2,FALSE))","v":""},{"$f":"IF(ISERROR(VLOOKUP(M41,勤務シフト一覧!$B$4:$C$106,2,FALSE)),\"\",VLOOKUP(M41,勤務シフト一覧!$B$4:$C$106,2,FALSE))","v":""},{"$f":"IF(ISERROR(VLOOKUP(N41,勤務シフト一覧!$B$4:$C$106,2,FALSE)),\"\",VLOOKUP(N41,勤務シフト一覧!$B$4:$C$106,2,FALSE))","v":""},{"$f":"IF(ISERROR(VLOOKUP(O41,勤務シフト一覧!$B$4:$C$106,2,FALSE)),\"\",VLOOKUP(O41,勤務シフト一覧!$B$4:$C$106,2,FALSE))","v":""},{"$f":"IF(ISERROR(VLOOKUP(P41,勤務シフト一覧!$B$4:$C$106,2,FALSE)),\"\",VLOOKUP(P41,勤務シフト一覧!$B$4:$C$106,2,FALSE))","v":""},{"$f":"IF(ISERROR(VLOOKUP(Q41,勤務シフト一覧!$B$4:$C$106,2,FALSE)),\"\",VLOOKUP(Q41,勤務シフト一覧!$B$4:$C$106,2,FALSE))","v":""},{"$f":"IF(ISERROR(VLOOKUP(R41,勤務シフト一覧!$B$4:$C$106,2,FALSE)),\"\",VLOOKUP(R41,勤務シフト一覧!$B$4:$C$106,2,FALSE))","v":""},{"$f":"IF(ISERROR(VLOOKUP(S41,勤務シフト一覧!$B$4:$C$106,2,FALSE)),\"\",VLOOKUP(S41,勤務シフト一覧!$B$4:$C$106,2,FALSE))","v":""},{"$f":"IF(ISERROR(VLOOKUP(T41,勤務シフト一覧!$B$4:$C$106,2,FALSE)),\"\",VLOOKUP(T41,勤務シフト一覧!$B$4:$C$106,2,FALSE))","v":""},{"$f":"IF(ISERROR(VLOOKUP(U41,勤務シフト一覧!$B$4:$C$106,2,FALSE)),\"\",VLOOKUP(U41,勤務シフト一覧!$B$4:$C$106,2,FALSE))","v":""},{"$f":"IF(ISERROR(VLOOKUP(V41,勤務シフト一覧!$B$4:$C$106,2,FALSE)),\"\",VLOOKUP(V41,勤務シフト一覧!$B$4:$C$106,2,FALSE))","v":""},{"$f":"IF(ISERROR(VLOOKUP(W41,勤務シフト一覧!$B$4:$C$106,2,FALSE)),\"\",VLOOKUP(W41,勤務シフト一覧!$B$4:$C$106,2,FALSE))","v":""},{"$f":"IF(ISERROR(VLOOKUP(X41,勤務シフト一覧!$B$4:$C$106,2,FALSE)),\"\",VLOOKUP(X41,勤務シフト一覧!$B$4:$C$106,2,FALSE))","v":""},{"$f":"IF(ISERROR(VLOOKUP(Y41,勤務シフト一覧!$B$4:$C$106,2,FALSE)),\"\",VLOOKUP(Y41,勤務シフト一覧!$B$4:$C$106,2,FALSE))","v":""},{"$f":"IF(ISERROR(VLOOKUP(Z41,勤務シフト一覧!$B$4:$C$106,2,FALSE)),\"\",VLOOKUP(Z41,勤務シフト一覧!$B$4:$C$106,2,FALSE))","v":""},{"$f":"IF(ISERROR(VLOOKUP(AA41,勤務シフト一覧!$B$4:$C$106,2,FALSE)),\"\",VLOOKUP(AA41,勤務シフト一覧!$B$4:$C$106,2,FALSE))","v":""},{"$f":"IF(ISERROR(VLOOKUP(AB41,勤務シフト一覧!$B$4:$C$106,2,FALSE)),\"\",VLOOKUP(AB41,勤務シフト一覧!$B$4:$C$106,2,FALSE))","v":""},{"$f":"IF(ISERROR(VLOOKUP(AC41,勤務シフト一覧!$B$4:$C$106,2,FALSE)),\"\",VLOOKUP(AC41,勤務シフト一覧!$B$4:$C$106,2,FALSE))","v":""},{"$f":"IF(ISERROR(VLOOKUP(AD41,勤務シフト一覧!$B$4:$C$106,2,FALSE)),\"\",VLOOKUP(AD41,勤務シフト一覧!$B$4:$C$106,2,FALSE))","v":""},{"$f":"IF(ISERROR(VLOOKUP(AE41,勤務シフト一覧!$B$4:$C$106,2,FALSE)),\"\",VLOOKUP(AE41,勤務シフト一覧!$B$4:$C$106,2,FALSE))","v":""},{"$f":"IF(ISERROR(VLOOKUP(AF41,勤務シフト一覧!$B$4:$C$106,2,FALSE)),\"\",VLOOKUP(AF41,勤務シフト一覧!$B$4:$C$106,2,FALSE))","v":""},{"$f":"IF(ISERROR(VLOOKUP(AG41,勤務シフト一覧!$B$4:$C$106,2,FALSE)),\"\",VLOOKUP(AG41,勤務シフト一覧!$B$4:$C$106,2,FALSE))","v":""},{"$f":"IF(ISERROR(VLOOKUP(AH41,勤務シフト一覧!$B$4:$C$106,2,FALSE)),\"\",VLOOKUP(AH41,勤務シフト一覧!$B$4:$C$106,2,FALSE))","v":""},null,{"$f":"IF(ISERROR(VLOOKUP(D41,勤務シフト一覧!$B$4:$D$106,3,FALSE)),\"\",VLOOKUP(D41,勤務シフト一覧!$B$4:$D$106,3,FALSE))","v":""},{"$f":"IF(ISERROR(VLOOKUP(E41,勤務シフト一覧!$B$4:$D$106,3,FALSE)),\"\",VLOOKUP(E41,勤務シフト一覧!$B$4:$D$106,3,FALSE))","v":""},{"$f":"IF(ISERROR(VLOOKUP(F41,勤務シフト一覧!$B$4:$D$106,3,FALSE)),\"\",VLOOKUP(F41,勤務シフト一覧!$B$4:$D$106,3,FALSE))","v":""},{"$f":"IF(ISERROR(VLOOKUP(G41,勤務シフト一覧!$B$4:$D$106,3,FALSE)),\"\",VLOOKUP(G41,勤務シフト一覧!$B$4:$D$106,3,FALSE))","v":""},{"$f":"IF(ISERROR(VLOOKUP(H41,勤務シフト一覧!$B$4:$D$106,3,FALSE)),\"\",VLOOKUP(H41,勤務シフト一覧!$B$4:$D$106,3,FALSE))","v":""},{"$f":"IF(ISERROR(VLOOKUP(I41,勤務シフト一覧!$B$4:$D$106,3,FALSE)),\"\",VLOOKUP(I41,勤務シフト一覧!$B$4:$D$106,3,FALSE))","v":""},{"$f":"IF(ISERROR(VLOOKUP(J41,勤務シフト一覧!$B$4:$D$106,3,FALSE)),\"\",VLOOKUP(J41,勤務シフト一覧!$B$4:$D$106,3,FALSE))","v":""},{"$f":"IF(ISERROR(VLOOKUP(K41,勤務シフト一覧!$B$4:$D$106,3,FALSE)),\"\",VLOOKUP(K41,勤務シフト一覧!$B$4:$D$106,3,FALSE))","v":""},{"$f":"IF(ISERROR(VLOOKUP(L41,勤務シフト一覧!$B$4:$D$106,3,FALSE)),\"\",VLOOKUP(L41,勤務シフト一覧!$B$4:$D$106,3,FALSE))","v":""},{"$f":"IF(ISERROR(VLOOKUP(M41,勤務シフト一覧!$B$4:$D$106,3,FALSE)),\"\",VLOOKUP(M41,勤務シフト一覧!$B$4:$D$106,3,FALSE))","v":""},{"$f":"IF(ISERROR(VLOOKUP(N41,勤務シフト一覧!$B$4:$D$106,3,FALSE)),\"\",VLOOKUP(N41,勤務シフト一覧!$B$4:$D$106,3,FALSE))","v":""},{"$f":"IF(ISERROR(VLOOKUP(O41,勤務シフト一覧!$B$4:$D$106,3,FALSE)),\"\",VLOOKUP(O41,勤務シフト一覧!$B$4:$D$106,3,FALSE))","v":""},{"$f":"IF(ISERROR(VLOOKUP(P41,勤務シフト一覧!$B$4:$D$106,3,FALSE)),\"\",VLOOKUP(P41,勤務シフト一覧!$B$4:$D$106,3,FALSE))","v":""},{"$f":"IF(ISERROR(VLOOKUP(Q41,勤務シフト一覧!$B$4:$D$106,3,FALSE)),\"\",VLOOKUP(Q41,勤務シフト一覧!$B$4:$D$106,3,FALSE))","v":""},{"$f":"IF(ISERROR(VLOOKUP(R41,勤務シフト一覧!$B$4:$D$106,3,FALSE)),\"\",VLOOKUP(R41,勤務シフト一覧!$B$4:$D$106,3,FALSE))","v":""},{"$f":"IF(ISERROR(VLOOKUP(S41,勤務シフト一覧!$B$4:$D$106,3,FALSE)),\"\",VLOOKUP(S41,勤務シフト一覧!$B$4:$D$106,3,FALSE))","v":""},{"$f":"IF(ISERROR(VLOOKUP(T41,勤務シフト一覧!$B$4:$D$106,3,FALSE)),\"\",VLOOKUP(T41,勤務シフト一覧!$B$4:$D$106,3,FALSE))","v":""},{"$f":"IF(ISERROR(VLOOKUP(U41,勤務シフト一覧!$B$4:$D$106,3,FALSE)),\"\",VLOOKUP(U41,勤務シフト一覧!$B$4:$D$106,3,FALSE))","v":""},{"$f":"IF(ISERROR(VLOOKUP(V41,勤務シフト一覧!$B$4:$D$106,3,FALSE)),\"\",VLOOKUP(V41,勤務シフト一覧!$B$4:$D$106,3,FALSE))","v":""},{"$f":"IF(ISERROR(VLOOKUP(W41,勤務シフト一覧!$B$4:$D$106,3,FALSE)),\"\",VLOOKUP(W41,勤務シフト一覧!$B$4:$D$106,3,FALSE))","v":""},{"$f":"IF(ISERROR(VLOOKUP(X41,勤務シフト一覧!$B$4:$D$106,3,FALSE)),\"\",VLOOKUP(X41,勤務シフト一覧!$B$4:$D$106,3,FALSE))","v":""},{"$f":"IF(ISERROR(VLOOKUP(Y41,勤務シフト一覧!$B$4:$D$106,3,FALSE)),\"\",VLOOKUP(Y41,勤務シフト一覧!$B$4:$D$106,3,FALSE))","v":""},{"$f":"IF(ISERROR(VLOOKUP(Z41,勤務シフト一覧!$B$4:$D$106,3,FALSE)),\"\",VLOOKUP(Z41,勤務シフト一覧!$B$4:$D$106,3,FALSE))","v":""},{"$f":"IF(ISERROR(VLOOKUP(AA41,勤務シフト一覧!$B$4:$D$106,3,FALSE)),\"\",VLOOKUP(AA41,勤務シフト一覧!$B$4:$D$106,3,FALSE))","v":""},{"$f":"IF(ISERROR(VLOOKUP(AB41,勤務シフト一覧!$B$4:$D$106,3,FALSE)),\"\",VLOOKUP(AB41,勤務シフト一覧!$B$4:$D$106,3,FALSE))","v":""},{"$f":"IF(ISERROR(VLOOKUP(AC41,勤務シフト一覧!$B$4:$D$106,3,FALSE)),\"\",VLOOKUP(AC41,勤務シフト一覧!$B$4:$D$106,3,FALSE))","v":""},{"$f":"IF(ISERROR(VLOOKUP(AD41,勤務シフト一覧!$B$4:$D$106,3,FALSE)),\"\",VLOOKUP(AD41,勤務シフト一覧!$B$4:$D$106,3,FALSE))","v":""},{"$f":"IF(ISERROR(VLOOKUP(AE41,勤務シフト一覧!$B$4:$D$106,3,FALSE)),\"\",VLOOKUP(AE41,勤務シフト一覧!$B$4:$D$106,3,FALSE))","v":""},{"$f":"IF(ISERROR(VLOOKUP(AF41,勤務シフト一覧!$B$4:$D$106,3,FALSE)),\"\",VLOOKUP(AF41,勤務シフト一覧!$B$4:$D$106,3,FALSE))","v":""},{"$f":"IF(ISERROR(VLOOKUP(AG41,勤務シフト一覧!$B$4:$D$106,3,FALSE)),\"\",VLOOKUP(AG41,勤務シフト一覧!$B$4:$D$106,3,FALSE))","v":""},{"$f":"IF(ISERROR(VLOOKUP(AH41,勤務シフト一覧!$B$4:$D$106,3,FALSE)),\"\",VLOOKUP(AH41,勤務シフト一覧!$B$4:$D$106,3,FALSE))","v":""},0,0,0,0,0,0,0,0,0,0,null,null,{"$f":"IF(勤務シフト一覧!$D41<>0,IF(勤務シフト一覧!$B41<> 0,勤務シフト一覧!$B41,\"\"),\"\")","v":"免年"}]
[{"$f":"IF(LEN(職員一覧!B20)<>0,職員一覧!B20,\"\")","v":""},{"$f":"IF(LEN(職員一覧!C20)<>0,職員一覧!C20,\"\")","v":""},"予定",null,null,null,null,null,null,null,null,null,null,null,null,null,null,null,null,null,null,null,null,null,null,null,null,null,null,null,null,null,null,null,{"$f":"IF(ISERROR(VLOOKUP(D42,勤務シフト一覧!$B$4:$C$106,2,FALSE)),\"\",VLOOKUP(D42,勤務シフト一覧!$B$4:$C$106,2,FALSE))","v":""},{"$f":"IF(ISERROR(VLOOKUP(E42,勤務シフト一覧!$B$4:$C$106,2,FALSE)),\"\",VLOOKUP(E42,勤務シフト一覧!$B$4:$C$106,2,FALSE))","v":""},{"$f":"IF(ISERROR(VLOOKUP(F42,勤務シフト一覧!$B$4:$C$106,2,FALSE)),\"\",VLOOKUP(F42,勤務シフト一覧!$B$4:$C$106,2,FALSE))","v":""},{"$f":"IF(ISERROR(VLOOKUP(G42,勤務シフト一覧!$B$4:$C$106,2,FALSE)),\"\",VLOOKUP(G42,勤務シフト一覧!$B$4:$C$106,2,FALSE))","v":""},{"$f":"IF(ISERROR(VLOOKUP(H42,勤務シフト一覧!$B$4:$C$106,2,FALSE)),\"\",VLOOKUP(H42,勤務シフト一覧!$B$4:$C$106,2,FALSE))","v":""},{"$f":"IF(ISERROR(VLOOKUP(I42,勤務シフト一覧!$B$4:$C$106,2,FALSE)),\"\",VLOOKUP(I42,勤務シフト一覧!$B$4:$C$106,2,FALSE))","v":""},{"$f":"IF(ISERROR(VLOOKUP(J42,勤務シフト一覧!$B$4:$C$106,2,FALSE)),\"\",VLOOKUP(J42,勤務シフト一覧!$B$4:$C$106,2,FALSE))","v":""},{"$f":"IF(ISERROR(VLOOKUP(K42,勤務シフト一覧!$B$4:$C$106,2,FALSE)),\"\",VLOOKUP(K42,勤務シフト一覧!$B$4:$C$106,2,FALSE))","v":""},{"$f":"IF(ISERROR(VLOOKUP(L42,勤務シフト一覧!$B$4:$C$106,2,FALSE)),\"\",VLOOKUP(L42,勤務シフト一覧!$B$4:$C$106,2,FALSE))","v":""},{"$f":"IF(ISERROR(VLOOKUP(M42,勤務シフト一覧!$B$4:$C$106,2,FALSE)),\"\",VLOOKUP(M42,勤務シフト一覧!$B$4:$C$106,2,FALSE))","v":""},{"$f":"IF(ISERROR(VLOOKUP(N42,勤務シフト一覧!$B$4:$C$106,2,FALSE)),\"\",VLOOKUP(N42,勤務シフト一覧!$B$4:$C$106,2,FALSE))","v":""},{"$f":"IF(ISERROR(VLOOKUP(O42,勤務シフト一覧!$B$4:$C$106,2,FALSE)),\"\",VLOOKUP(O42,勤務シフト一覧!$B$4:$C$106,2,FALSE))","v":""},{"$f":"IF(ISERROR(VLOOKUP(P42,勤務シフト一覧!$B$4:$C$106,2,FALSE)),\"\",VLOOKUP(P42,勤務シフト一覧!$B$4:$C$106,2,FALSE))","v":""},{"$f":"IF(ISERROR(VLOOKUP(Q42,勤務シフト一覧!$B$4:$C$106,2,FALSE)),\"\",VLOOKUP(Q42,勤務シフト一覧!$B$4:$C$106,2,FALSE))","v":""},{"$f":"IF(ISERROR(VLOOKUP(R42,勤務シフト一覧!$B$4:$C$106,2,FALSE)),\"\",VLOOKUP(R42,勤務シフト一覧!$B$4:$C$106,2,FALSE))","v":""},{"$f":"IF(ISERROR(VLOOKUP(S42,勤務シフト一覧!$B$4:$C$106,2,FALSE)),\"\",VLOOKUP(S42,勤務シフト一覧!$B$4:$C$106,2,FALSE))","v":""},{"$f":"IF(ISERROR(VLOOKUP(T42,勤務シフト一覧!$B$4:$C$106,2,FALSE)),\"\",VLOOKUP(T42,勤務シフト一覧!$B$4:$C$106,2,FALSE))","v":""},{"$f":"IF(ISERROR(VLOOKUP(U42,勤務シフト一覧!$B$4:$C$106,2,FALSE)),\"\",VLOOKUP(U42,勤務シフト一覧!$B$4:$C$106,2,FALSE))","v":""},{"$f":"IF(ISERROR(VLOOKUP(V42,勤務シフト一覧!$B$4:$C$106,2,FALSE)),\"\",VLOOKUP(V42,勤務シフト一覧!$B$4:$C$106,2,FALSE))","v":""},{"$f":"IF(ISERROR(VLOOKUP(W42,勤務シフト一覧!$B$4:$C$106,2,FALSE)),\"\",VLOOKUP(W42,勤務シフト一覧!$B$4:$C$106,2,FALSE))","v":""},{"$f":"IF(ISERROR(VLOOKUP(X42,勤務シフト一覧!$B$4:$C$106,2,FALSE)),\"\",VLOOKUP(X42,勤務シフト一覧!$B$4:$C$106,2,FALSE))","v":""},{"$f":"IF(ISERROR(VLOOKUP(Y42,勤務シフト一覧!$B$4:$C$106,2,FALSE)),\"\",VLOOKUP(Y42,勤務シフト一覧!$B$4:$C$106,2,FALSE))","v":""},{"$f":"IF(ISERROR(VLOOKUP(Z42,勤務シフト一覧!$B$4:$C$106,2,FALSE)),\"\",VLOOKUP(Z42,勤務シフト一覧!$B$4:$C$106,2,FALSE))","v":""},{"$f":"IF(ISERROR(VLOOKUP(AA42,勤務シフト一覧!$B$4:$C$106,2,FALSE)),\"\",VLOOKUP(AA42,勤務シフト一覧!$B$4:$C$106,2,FALSE))","v":""},{"$f":"IF(ISERROR(VLOOKUP(AB42,勤務シフト一覧!$B$4:$C$106,2,FALSE)),\"\",VLOOKUP(AB42,勤務シフト一覧!$B$4:$C$106,2,FALSE))","v":""},{"$f":"IF(ISERROR(VLOOKUP(AC42,勤務シフト一覧!$B$4:$C$106,2,FALSE)),\"\",VLOOKUP(AC42,勤務シフト一覧!$B$4:$C$106,2,FALSE))","v":""},{"$f":"IF(ISERROR(VLOOKUP(AD42,勤務シフト一覧!$B$4:$C$106,2,FALSE)),\"\",VLOOKUP(AD42,勤務シフト一覧!$B$4:$C$106,2,FALSE))","v":""},{"$f":"IF(ISERROR(VLOOKUP(AE42,勤務シフト一覧!$B$4:$C$106,2,FALSE)),\"\",VLOOKUP(AE42,勤務シフト一覧!$B$4:$C$106,2,FALSE))","v":""},{"$f":"IF(ISERROR(VLOOKUP(AF42,勤務シフト一覧!$B$4:$C$106,2,FALSE)),\"\",VLOOKUP(AF42,勤務シフト一覧!$B$4:$C$106,2,FALSE))","v":""},{"$f":"IF(ISERROR(VLOOKUP(AG42,勤務シフト一覧!$B$4:$C$106,2,FALSE)),\"\",VLOOKUP(AG42,勤務シフト一覧!$B$4:$C$106,2,FALSE))","v":""},{"$f":"IF(ISERROR(VLOOKUP(AH42,勤務シフト一覧!$B$4:$C$106,2,FALSE)),\"\",VLOOKUP(AH42,勤務シフト一覧!$B$4:$C$106,2,FALSE))","v":""},null,{"$f":"IF(ISERROR(VLOOKUP(D42,勤務シフト一覧!$B$4:$D$106,3,FALSE)),\"\",VLOOKUP(D42,勤務シフト一覧!$B$4:$D$106,3,FALSE))","v":""},{"$f":"IF(ISERROR(VLOOKUP(E42,勤務シフト一覧!$B$4:$D$106,3,FALSE)),\"\",VLOOKUP(E42,勤務シフト一覧!$B$4:$D$106,3,FALSE))","v":""},{"$f":"IF(ISERROR(VLOOKUP(F42,勤務シフト一覧!$B$4:$D$106,3,FALSE)),\"\",VLOOKUP(F42,勤務シフト一覧!$B$4:$D$106,3,FALSE))","v":""},{"$f":"IF(ISERROR(VLOOKUP(G42,勤務シフト一覧!$B$4:$D$106,3,FALSE)),\"\",VLOOKUP(G42,勤務シフト一覧!$B$4:$D$106,3,FALSE))","v":""},{"$f":"IF(ISERROR(VLOOKUP(H42,勤務シフト一覧!$B$4:$D$106,3,FALSE)),\"\",VLOOKUP(H42,勤務シフト一覧!$B$4:$D$106,3,FALSE))","v":""},{"$f":"IF(ISERROR(VLOOKUP(I42,勤務シフト一覧!$B$4:$D$106,3,FALSE)),\"\",VLOOKUP(I42,勤務シフト一覧!$B$4:$D$106,3,FALSE))","v":""},{"$f":"IF(ISERROR(VLOOKUP(J42,勤務シフト一覧!$B$4:$D$106,3,FALSE)),\"\",VLOOKUP(J42,勤務シフト一覧!$B$4:$D$106,3,FALSE))","v":""},{"$f":"IF(ISERROR(VLOOKUP(K42,勤務シフト一覧!$B$4:$D$106,3,FALSE)),\"\",VLOOKUP(K42,勤務シフト一覧!$B$4:$D$106,3,FALSE))","v":""},{"$f":"IF(ISERROR(VLOOKUP(L42,勤務シフト一覧!$B$4:$D$106,3,FALSE)),\"\",VLOOKUP(L42,勤務シフト一覧!$B$4:$D$106,3,FALSE))","v":""},{"$f":"IF(ISERROR(VLOOKUP(M42,勤務シフト一覧!$B$4:$D$106,3,FALSE)),\"\",VLOOKUP(M42,勤務シフト一覧!$B$4:$D$106,3,FALSE))","v":""},{"$f":"IF(ISERROR(VLOOKUP(N42,勤務シフト一覧!$B$4:$D$106,3,FALSE)),\"\",VLOOKUP(N42,勤務シフト一覧!$B$4:$D$106,3,FALSE))","v":""},{"$f":"IF(ISERROR(VLOOKUP(O42,勤務シフト一覧!$B$4:$D$106,3,FALSE)),\"\",VLOOKUP(O42,勤務シフト一覧!$B$4:$D$106,3,FALSE))","v":""},{"$f":"IF(ISERROR(VLOOKUP(P42,勤務シフト一覧!$B$4:$D$106,3,FALSE)),\"\",VLOOKUP(P42,勤務シフト一覧!$B$4:$D$106,3,FALSE))","v":""},{"$f":"IF(ISERROR(VLOOKUP(Q42,勤務シフト一覧!$B$4:$D$106,3,FALSE)),\"\",VLOOKUP(Q42,勤務シフト一覧!$B$4:$D$106,3,FALSE))","v":""},{"$f":"IF(ISERROR(VLOOKUP(R42,勤務シフト一覧!$B$4:$D$106,3,FALSE)),\"\",VLOOKUP(R42,勤務シフト一覧!$B$4:$D$106,3,FALSE))","v":""},{"$f":"IF(ISERROR(VLOOKUP(S42,勤務シフト一覧!$B$4:$D$106,3,FALSE)),\"\",VLOOKUP(S42,勤務シフト一覧!$B$4:$D$106,3,FALSE))","v":""},{"$f":"IF(ISERROR(VLOOKUP(T42,勤務シフト一覧!$B$4:$D$106,3,FALSE)),\"\",VLOOKUP(T42,勤務シフト一覧!$B$4:$D$106,3,FALSE))","v":""},{"$f":"IF(ISERROR(VLOOKUP(U42,勤務シフト一覧!$B$4:$D$106,3,FALSE)),\"\",VLOOKUP(U42,勤務シフト一覧!$B$4:$D$106,3,FALSE))","v":""},{"$f":"IF(ISERROR(VLOOKUP(V42,勤務シフト一覧!$B$4:$D$106,3,FALSE)),\"\",VLOOKUP(V42,勤務シフト一覧!$B$4:$D$106,3,FALSE))","v":""},{"$f":"IF(ISERROR(VLOOKUP(W42,勤務シフト一覧!$B$4:$D$106,3,FALSE)),\"\",VLOOKUP(W42,勤務シフト一覧!$B$4:$D$106,3,FALSE))","v":""},{"$f":"IF(ISERROR(VLOOKUP(X42,勤務シフト一覧!$B$4:$D$106,3,FALSE)),\"\",VLOOKUP(X42,勤務シフト一覧!$B$4:$D$106,3,FALSE))","v":""},{"$f":"IF(ISERROR(VLOOKUP(Y42,勤務シフト一覧!$B$4:$D$106,3,FALSE)),\"\",VLOOKUP(Y42,勤務シフト一覧!$B$4:$D$106,3,FALSE))","v":""},{"$f":"IF(ISERROR(VLOOKUP(Z42,勤務シフト一覧!$B$4:$D$106,3,FALSE)),\"\",VLOOKUP(Z42,勤務シフト一覧!$B$4:$D$106,3,FALSE))","v":""},{"$f":"IF(ISERROR(VLOOKUP(AA42,勤務シフト一覧!$B$4:$D$106,3,FALSE)),\"\",VLOOKUP(AA42,勤務シフト一覧!$B$4:$D$106,3,FALSE))","v":""},{"$f":"IF(ISERROR(VLOOKUP(AB42,勤務シフト一覧!$B$4:$D$106,3,FALSE)),\"\",VLOOKUP(AB42,勤務シフト一覧!$B$4:$D$106,3,FALSE))","v":""},{"$f":"IF(ISERROR(VLOOKUP(AC42,勤務シフト一覧!$B$4:$D$106,3,FALSE)),\"\",VLOOKUP(AC42,勤務シフト一覧!$B$4:$D$106,3,FALSE))","v":""},{"$f":"IF(ISERROR(VLOOKUP(AD42,勤務シフト一覧!$B$4:$D$106,3,FALSE)),\"\",VLOOKUP(AD42,勤務シフト一覧!$B$4:$D$106,3,FALSE))","v":""},{"$f":"IF(ISERROR(VLOOKUP(AE42,勤務シフト一覧!$B$4:$D$106,3,FALSE)),\"\",VLOOKUP(AE42,勤務シフト一覧!$B$4:$D$106,3,FALSE))","v":""},{"$f":"IF(ISERROR(VLOOKUP(AF42,勤務シフト一覧!$B$4:$D$106,3,FALSE)),\"\",VLOOKUP(AF42,勤務シフト一覧!$B$4:$D$106,3,FALSE))","v":""},{"$f":"IF(ISERROR(VLOOKUP(AG42,勤務シフト一覧!$B$4:$D$106,3,FALSE)),\"\",VLOOKUP(AG42,勤務シフト一覧!$B$4:$D$106,3,FALSE))","v":""},{"$f":"IF(ISERROR(VLOOKUP(AH42,勤務シフト一覧!$B$4:$D$106,3,FALSE)),\"\",VLOOKUP(AH42,勤務シフト一覧!$B$4:$D$106,3,FALSE))","v":""},0,0,0,0,0,0,0,0,0,0,{"$f":"IF(LEN(職員一覧!D20)<>0,職員一覧!D20,\"\")","v":""},null,{"$f":"IF(勤務シフト一覧!$D42<>0,IF(勤務シフト一覧!$B42<> 0,勤務シフト一覧!$B42,\"\"),\"\")","v":"A免"}]
[null,null,"実施",null,null,null,null,null,null,null,null,null,null,null,null,null,null,null,null,null,null,null,null,null,null,null,null,null,null,null,null,null,null,null,{"$f":"IF(ISERROR(VLOOKUP(D43,勤務シフト一覧!$B$4:$C$106,2,FALSE)),\"\",VLOOKUP(D43,勤務シフト一覧!$B$4:$C$106,2,FALSE))","v":""},{"$f":"IF(ISERROR(VLOOKUP(E43,勤務シフト一覧!$B$4:$C$106,2,FALSE)),\"\",VLOOKUP(E43,勤務シフト一覧!$B$4:$C$106,2,FALSE))","v":""},{"$f":"IF(ISERROR(VLOOKUP(F43,勤務シフト一覧!$B$4:$C$106,2,FALSE)),\"\",VLOOKUP(F43,勤務シフト一覧!$B$4:$C$106,2,FALSE))","v":""},{"$f":"IF(ISERROR(VLOOKUP(G43,勤務シフト一覧!$B$4:$C$106,2,FALSE)),\"\",VLOOKUP(G43,勤務シフト一覧!$B$4:$C$106,2,FALSE))","v":""},{"$f":"IF(ISERROR(VLOOKUP(H43,勤務シフト一覧!$B$4:$C$106,2,FALSE)),\"\",VLOOKUP(H43,勤務シフト一覧!$B$4:$C$106,2,FALSE))","v":""},{"$f":"IF(ISERROR(VLOOKUP(I43,勤務シフト一覧!$B$4:$C$106,2,FALSE)),\"\",VLOOKUP(I43,勤務シフト一覧!$B$4:$C$106,2,FALSE))","v":""},{"$f":"IF(ISERROR(VLOOKUP(J43,勤務シフト一覧!$B$4:$C$106,2,FALSE)),\"\",VLOOKUP(J43,勤務シフト一覧!$B$4:$C$106,2,FALSE))","v":""},{"$f":"IF(ISERROR(VLOOKUP(K43,勤務シフト一覧!$B$4:$C$106,2,FALSE)),\"\",VLOOKUP(K43,勤務シフト一覧!$B$4:$C$106,2,FALSE))","v":""},{"$f":"IF(ISERROR(VLOOKUP(L43,勤務シフト一覧!$B$4:$C$106,2,FALSE)),\"\",VLOOKUP(L43,勤務シフト一覧!$B$4:$C$106,2,FALSE))","v":""},{"$f":"IF(ISERROR(VLOOKUP(M43,勤務シフト一覧!$B$4:$C$106,2,FALSE)),\"\",VLOOKUP(M43,勤務シフト一覧!$B$4:$C$106,2,FALSE))","v":""},{"$f":"IF(ISERROR(VLOOKUP(N43,勤務シフト一覧!$B$4:$C$106,2,FALSE)),\"\",VLOOKUP(N43,勤務シフト一覧!$B$4:$C$106,2,FALSE))","v":""},{"$f":"IF(ISERROR(VLOOKUP(O43,勤務シフト一覧!$B$4:$C$106,2,FALSE)),\"\",VLOOKUP(O43,勤務シフト一覧!$B$4:$C$106,2,FALSE))","v":""},{"$f":"IF(ISERROR(VLOOKUP(P43,勤務シフト一覧!$B$4:$C$106,2,FALSE)),\"\",VLOOKUP(P43,勤務シフト一覧!$B$4:$C$106,2,FALSE))","v":""},{"$f":"IF(ISERROR(VLOOKUP(Q43,勤務シフト一覧!$B$4:$C$106,2,FALSE)),\"\",VLOOKUP(Q43,勤務シフト一覧!$B$4:$C$106,2,FALSE))","v":""},{"$f":"IF(ISERROR(VLOOKUP(R43,勤務シフト一覧!$B$4:$C$106,2,FALSE)),\"\",VLOOKUP(R43,勤務シフト一覧!$B$4:$C$106,2,FALSE))","v":""},{"$f":"IF(ISERROR(VLOOKUP(S43,勤務シフト一覧!$B$4:$C$106,2,FALSE)),\"\",VLOOKUP(S43,勤務シフト一覧!$B$4:$C$106,2,FALSE))","v":""},{"$f":"IF(ISERROR(VLOOKUP(T43,勤務シフト一覧!$B$4:$C$106,2,FALSE)),\"\",VLOOKUP(T43,勤務シフト一覧!$B$4:$C$106,2,FALSE))","v":""},{"$f":"IF(ISERROR(VLOOKUP(U43,勤務シフト一覧!$B$4:$C$106,2,FALSE)),\"\",VLOOKUP(U43,勤務シフト一覧!$B$4:$C$106,2,FALSE))","v":""},{"$f":"IF(ISERROR(VLOOKUP(V43,勤務シフト一覧!$B$4:$C$106,2,FALSE)),\"\",VLOOKUP(V43,勤務シフト一覧!$B$4:$C$106,2,FALSE))","v":""},{"$f":"IF(ISERROR(VLOOKUP(W43,勤務シフト一覧!$B$4:$C$106,2,FALSE)),\"\",VLOOKUP(W43,勤務シフト一覧!$B$4:$C$106,2,FALSE))","v":""},{"$f":"IF(ISERROR(VLOOKUP(X43,勤務シフト一覧!$B$4:$C$106,2,FALSE)),\"\",VLOOKUP(X43,勤務シフト一覧!$B$4:$C$106,2,FALSE))","v":""},{"$f":"IF(ISERROR(VLOOKUP(Y43,勤務シフト一覧!$B$4:$C$106,2,FALSE)),\"\",VLOOKUP(Y43,勤務シフト一覧!$B$4:$C$106,2,FALSE))","v":""},{"$f":"IF(ISERROR(VLOOKUP(Z43,勤務シフト一覧!$B$4:$C$106,2,FALSE)),\"\",VLOOKUP(Z43,勤務シフト一覧!$B$4:$C$106,2,FALSE))","v":""},{"$f":"IF(ISERROR(VLOOKUP(AA43,勤務シフト一覧!$B$4:$C$106,2,FALSE)),\"\",VLOOKUP(AA43,勤務シフト一覧!$B$4:$C$106,2,FALSE))","v":""},{"$f":"IF(ISERROR(VLOOKUP(AB43,勤務シフト一覧!$B$4:$C$106,2,FALSE)),\"\",VLOOKUP(AB43,勤務シフト一覧!$B$4:$C$106,2,FALSE))","v":""},{"$f":"IF(ISERROR(VLOOKUP(AC43,勤務シフト一覧!$B$4:$C$106,2,FALSE)),\"\",VLOOKUP(AC43,勤務シフト一覧!$B$4:$C$106,2,FALSE))","v":""},{"$f":"IF(ISERROR(VLOOKUP(AD43,勤務シフト一覧!$B$4:$C$106,2,FALSE)),\"\",VLOOKUP(AD43,勤務シフト一覧!$B$4:$C$106,2,FALSE))","v":""},{"$f":"IF(ISERROR(VLOOKUP(AE43,勤務シフト一覧!$B$4:$C$106,2,FALSE)),\"\",VLOOKUP(AE43,勤務シフト一覧!$B$4:$C$106,2,FALSE))","v":""},{"$f":"IF(ISERROR(VLOOKUP(AF43,勤務シフト一覧!$B$4:$C$106,2,FALSE)),\"\",VLOOKUP(AF43,勤務シフト一覧!$B$4:$C$106,2,FALSE))","v":""},{"$f":"IF(ISERROR(VLOOKUP(AG43,勤務シフト一覧!$B$4:$C$106,2,FALSE)),\"\",VLOOKUP(AG43,勤務シフト一覧!$B$4:$C$106,2,FALSE))","v":""},{"$f":"IF(ISERROR(VLOOKUP(AH43,勤務シフト一覧!$B$4:$C$106,2,FALSE)),\"\",VLOOKUP(AH43,勤務シフト一覧!$B$4:$C$106,2,FALSE))","v":""},null,{"$f":"IF(ISERROR(VLOOKUP(D43,勤務シフト一覧!$B$4:$D$106,3,FALSE)),\"\",VLOOKUP(D43,勤務シフト一覧!$B$4:$D$106,3,FALSE))","v":""},{"$f":"IF(ISERROR(VLOOKUP(E43,勤務シフト一覧!$B$4:$D$106,3,FALSE)),\"\",VLOOKUP(E43,勤務シフト一覧!$B$4:$D$106,3,FALSE))","v":""},{"$f":"IF(ISERROR(VLOOKUP(F43,勤務シフト一覧!$B$4:$D$106,3,FALSE)),\"\",VLOOKUP(F43,勤務シフト一覧!$B$4:$D$106,3,FALSE))","v":""},{"$f":"IF(ISERROR(VLOOKUP(G43,勤務シフト一覧!$B$4:$D$106,3,FALSE)),\"\",VLOOKUP(G43,勤務シフト一覧!$B$4:$D$106,3,FALSE))","v":""},{"$f":"IF(ISERROR(VLOOKUP(H43,勤務シフト一覧!$B$4:$D$106,3,FALSE)),\"\",VLOOKUP(H43,勤務シフト一覧!$B$4:$D$106,3,FALSE))","v":""},{"$f":"IF(ISERROR(VLOOKUP(I43,勤務シフト一覧!$B$4:$D$106,3,FALSE)),\"\",VLOOKUP(I43,勤務シフト一覧!$B$4:$D$106,3,FALSE))","v":""},{"$f":"IF(ISERROR(VLOOKUP(J43,勤務シフト一覧!$B$4:$D$106,3,FALSE)),\"\",VLOOKUP(J43,勤務シフト一覧!$B$4:$D$106,3,FALSE))","v":""},{"$f":"IF(ISERROR(VLOOKUP(K43,勤務シフト一覧!$B$4:$D$106,3,FALSE)),\"\",VLOOKUP(K43,勤務シフト一覧!$B$4:$D$106,3,FALSE))","v":""},{"$f":"IF(ISERROR(VLOOKUP(L43,勤務シフト一覧!$B$4:$D$106,3,FALSE)),\"\",VLOOKUP(L43,勤務シフト一覧!$B$4:$D$106,3,FALSE))","v":""},{"$f":"IF(ISERROR(VLOOKUP(M43,勤務シフト一覧!$B$4:$D$106,3,FALSE)),\"\",VLOOKUP(M43,勤務シフト一覧!$B$4:$D$106,3,FALSE))","v":""},{"$f":"IF(ISERROR(VLOOKUP(N43,勤務シフト一覧!$B$4:$D$106,3,FALSE)),\"\",VLOOKUP(N43,勤務シフト一覧!$B$4:$D$106,3,FALSE))","v":""},{"$f":"IF(ISERROR(VLOOKUP(O43,勤務シフト一覧!$B$4:$D$106,3,FALSE)),\"\",VLOOKUP(O43,勤務シフト一覧!$B$4:$D$106,3,FALSE))","v":""},{"$f":"IF(ISERROR(VLOOKUP(P43,勤務シフト一覧!$B$4:$D$106,3,FALSE)),\"\",VLOOKUP(P43,勤務シフト一覧!$B$4:$D$106,3,FALSE))","v":""},{"$f":"IF(ISERROR(VLOOKUP(Q43,勤務シフト一覧!$B$4:$D$106,3,FALSE)),\"\",VLOOKUP(Q43,勤務シフト一覧!$B$4:$D$106,3,FALSE))","v":""},{"$f":"IF(ISERROR(VLOOKUP(R43,勤務シフト一覧!$B$4:$D$106,3,FALSE)),\"\",VLOOKUP(R43,勤務シフト一覧!$B$4:$D$106,3,FALSE))","v":""},{"$f":"IF(ISERROR(VLOOKUP(S43,勤務シフト一覧!$B$4:$D$106,3,FALSE)),\"\",VLOOKUP(S43,勤務シフト一覧!$B$4:$D$106,3,FALSE))","v":""},{"$f":"IF(ISERROR(VLOOKUP(T43,勤務シフト一覧!$B$4:$D$106,3,FALSE)),\"\",VLOOKUP(T43,勤務シフト一覧!$B$4:$D$106,3,FALSE))","v":""},{"$f":"IF(ISERROR(VLOOKUP(U43,勤務シフト一覧!$B$4:$D$106,3,FALSE)),\"\",VLOOKUP(U43,勤務シフト一覧!$B$4:$D$106,3,FALSE))","v":""},{"$f":"IF(ISERROR(VLOOKUP(V43,勤務シフト一覧!$B$4:$D$106,3,FALSE)),\"\",VLOOKUP(V43,勤務シフト一覧!$B$4:$D$106,3,FALSE))","v":""},{"$f":"IF(ISERROR(VLOOKUP(W43,勤務シフト一覧!$B$4:$D$106,3,FALSE)),\"\",VLOOKUP(W43,勤務シフト一覧!$B$4:$D$106,3,FALSE))","v":""},{"$f":"IF(ISERROR(VLOOKUP(X43,勤務シフト一覧!$B$4:$D$106,3,FALSE)),\"\",VLOOKUP(X43,勤務シフト一覧!$B$4:$D$106,3,FALSE))","v":""},{"$f":"IF(ISERROR(VLOOKUP(Y43,勤務シフト一覧!$B$4:$D$106,3,FALSE)),\"\",VLOOKUP(Y43,勤務シフト一覧!$B$4:$D$106,3,FALSE))","v":""},{"$f":"IF(ISERROR(VLOOKUP(Z43,勤務シフト一覧!$B$4:$D$106,3,FALSE)),\"\",VLOOKUP(Z43,勤務シフト一覧!$B$4:$D$106,3,FALSE))","v":""},{"$f":"IF(ISERROR(VLOOKUP(AA43,勤務シフト一覧!$B$4:$D$106,3,FALSE)),\"\",VLOOKUP(AA43,勤務シフト一覧!$B$4:$D$106,3,FALSE))","v":""},{"$f":"IF(ISERROR(VLOOKUP(AB43,勤務シフト一覧!$B$4:$D$106,3,FALSE)),\"\",VLOOKUP(AB43,勤務シフト一覧!$B$4:$D$106,3,FALSE))","v":""},{"$f":"IF(ISERROR(VLOOKUP(AC43,勤務シフト一覧!$B$4:$D$106,3,FALSE)),\"\",VLOOKUP(AC43,勤務シフト一覧!$B$4:$D$106,3,FALSE))","v":""},{"$f":"IF(ISERROR(VLOOKUP(AD43,勤務シフト一覧!$B$4:$D$106,3,FALSE)),\"\",VLOOKUP(AD43,勤務シフト一覧!$B$4:$D$106,3,FALSE))","v":""},{"$f":"IF(ISERROR(VLOOKUP(AE43,勤務シフト一覧!$B$4:$D$106,3,FALSE)),\"\",VLOOKUP(AE43,勤務シフト一覧!$B$4:$D$106,3,FALSE))","v":""},{"$f":"IF(ISERROR(VLOOKUP(AF43,勤務シフト一覧!$B$4:$D$106,3,FALSE)),\"\",VLOOKUP(AF43,勤務シフト一覧!$B$4:$D$106,3,FALSE))","v":""},{"$f":"IF(ISERROR(VLOOKUP(AG43,勤務シフト一覧!$B$4:$D$106,3,FALSE)),\"\",VLOOKUP(AG43,勤務シフト一覧!$B$4:$D$106,3,FALSE))","v":""},{"$f":"IF(ISERROR(VLOOKUP(AH43,勤務シフト一覧!$B$4:$D$106,3,FALSE)),\"\",VLOOKUP(AH43,勤務シフト一覧!$B$4:$D$106,3,FALSE))","v":""},0,0,0,0,0,0,0,0,0,0,null,null,{"$f":"IF(勤務シフト一覧!$D43<>0,IF(勤務シフト一覧!$B43<> 0,勤務シフト一覧!$B43,\"\"),\"\")","v":"P免"}]
[{"$f":"IF(LEN(職員一覧!B21)<>0,職員一覧!B21,\"\")","v":""},{"$f":"IF(LEN(職員一覧!C21)<>0,職員一覧!C21,\"\")","v":""},"予定",null,null,null,null,null,null,null,null,null,null,null,null,null,null,null,null,null,null,null,null,null,null,null,null,null,null,null,null,null,null,null,{"$f":"IF(ISERROR(VLOOKUP(D44,勤務シフト一覧!$B$4:$C$106,2,FALSE)),\"\",VLOOKUP(D44,勤務シフト一覧!$B$4:$C$106,2,FALSE))","v":""},{"$f":"IF(ISERROR(VLOOKUP(E44,勤務シフト一覧!$B$4:$C$106,2,FALSE)),\"\",VLOOKUP(E44,勤務シフト一覧!$B$4:$C$106,2,FALSE))","v":""},{"$f":"IF(ISERROR(VLOOKUP(F44,勤務シフト一覧!$B$4:$C$106,2,FALSE)),\"\",VLOOKUP(F44,勤務シフト一覧!$B$4:$C$106,2,FALSE))","v":""},{"$f":"IF(ISERROR(VLOOKUP(G44,勤務シフト一覧!$B$4:$C$106,2,FALSE)),\"\",VLOOKUP(G44,勤務シフト一覧!$B$4:$C$106,2,FALSE))","v":""},{"$f":"IF(ISERROR(VLOOKUP(H44,勤務シフト一覧!$B$4:$C$106,2,FALSE)),\"\",VLOOKUP(H44,勤務シフト一覧!$B$4:$C$106,2,FALSE))","v":""},{"$f":"IF(ISERROR(VLOOKUP(I44,勤務シフト一覧!$B$4:$C$106,2,FALSE)),\"\",VLOOKUP(I44,勤務シフト一覧!$B$4:$C$106,2,FALSE))","v":""},{"$f":"IF(ISERROR(VLOOKUP(J44,勤務シフト一覧!$B$4:$C$106,2,FALSE)),\"\",VLOOKUP(J44,勤務シフト一覧!$B$4:$C$106,2,FALSE))","v":""},{"$f":"IF(ISERROR(VLOOKUP(K44,勤務シフト一覧!$B$4:$C$106,2,FALSE)),\"\",VLOOKUP(K44,勤務シフト一覧!$B$4:$C$106,2,FALSE))","v":""},{"$f":"IF(ISERROR(VLOOKUP(L44,勤務シフト一覧!$B$4:$C$106,2,FALSE)),\"\",VLOOKUP(L44,勤務シフト一覧!$B$4:$C$106,2,FALSE))","v":""},{"$f":"IF(ISERROR(VLOOKUP(M44,勤務シフト一覧!$B$4:$C$106,2,FALSE)),\"\",VLOOKUP(M44,勤務シフト一覧!$B$4:$C$106,2,FALSE))","v":""},{"$f":"IF(ISERROR(VLOOKUP(N44,勤務シフト一覧!$B$4:$C$106,2,FALSE)),\"\",VLOOKUP(N44,勤務シフト一覧!$B$4:$C$106,2,FALSE))","v":""},{"$f":"IF(ISERROR(VLOOKUP(O44,勤務シフト一覧!$B$4:$C$106,2,FALSE)),\"\",VLOOKUP(O44,勤務シフト一覧!$B$4:$C$106,2,FALSE))","v":""},{"$f":"IF(ISERROR(VLOOKUP(P44,勤務シフト一覧!$B$4:$C$106,2,FALSE)),\"\",VLOOKUP(P44,勤務シフト一覧!$B$4:$C$106,2,FALSE))","v":""},{"$f":"IF(ISERROR(VLOOKUP(Q44,勤務シフト一覧!$B$4:$C$106,2,FALSE)),\"\",VLOOKUP(Q44,勤務シフト一覧!$B$4:$C$106,2,FALSE))","v":""},{"$f":"IF(ISERROR(VLOOKUP(R44,勤務シフト一覧!$B$4:$C$106,2,FALSE)),\"\",VLOOKUP(R44,勤務シフト一覧!$B$4:$C$106,2,FALSE))","v":""},{"$f":"IF(ISERROR(VLOOKUP(S44,勤務シフト一覧!$B$4:$C$106,2,FALSE)),\"\",VLOOKUP(S44,勤務シフト一覧!$B$4:$C$106,2,FALSE))","v":""},{"$f":"IF(ISERROR(VLOOKUP(T44,勤務シフト一覧!$B$4:$C$106,2,FALSE)),\"\",VLOOKUP(T44,勤務シフト一覧!$B$4:$C$106,2,FALSE))","v":""},{"$f":"IF(ISERROR(VLOOKUP(U44,勤務シフト一覧!$B$4:$C$106,2,FALSE)),\"\",VLOOKUP(U44,勤務シフト一覧!$B$4:$C$106,2,FALSE))","v":""},{"$f":"IF(ISERROR(VLOOKUP(V44,勤務シフト一覧!$B$4:$C$106,2,FALSE)),\"\",VLOOKUP(V44,勤務シフト一覧!$B$4:$C$106,2,FALSE))","v":""},{"$f":"IF(ISERROR(VLOOKUP(W44,勤務シフト一覧!$B$4:$C$106,2,FALSE)),\"\",VLOOKUP(W44,勤務シフト一覧!$B$4:$C$106,2,FALSE))","v":""},{"$f":"IF(ISERROR(VLOOKUP(X44,勤務シフト一覧!$B$4:$C$106,2,FALSE)),\"\",VLOOKUP(X44,勤務シフト一覧!$B$4:$C$106,2,FALSE))","v":""},{"$f":"IF(ISERROR(VLOOKUP(Y44,勤務シフト一覧!$B$4:$C$106,2,FALSE)),\"\",VLOOKUP(Y44,勤務シフト一覧!$B$4:$C$106,2,FALSE))","v":""},{"$f":"IF(ISERROR(VLOOKUP(Z44,勤務シフト一覧!$B$4:$C$106,2,FALSE)),\"\",VLOOKUP(Z44,勤務シフト一覧!$B$4:$C$106,2,FALSE))","v":""},{"$f":"IF(ISERROR(VLOOKUP(AA44,勤務シフト一覧!$B$4:$C$106,2,FALSE)),\"\",VLOOKUP(AA44,勤務シフト一覧!$B$4:$C$106,2,FALSE))","v":""},{"$f":"IF(ISERROR(VLOOKUP(AB44,勤務シフト一覧!$B$4:$C$106,2,FALSE)),\"\",VLOOKUP(AB44,勤務シフト一覧!$B$4:$C$106,2,FALSE))","v":""},{"$f":"IF(ISERROR(VLOOKUP(AC44,勤務シフト一覧!$B$4:$C$106,2,FALSE)),\"\",VLOOKUP(AC44,勤務シフト一覧!$B$4:$C$106,2,FALSE))","v":""},{"$f":"IF(ISERROR(VLOOKUP(AD44,勤務シフト一覧!$B$4:$C$106,2,FALSE)),\"\",VLOOKUP(AD44,勤務シフト一覧!$B$4:$C$106,2,FALSE))","v":""},{"$f":"IF(ISERROR(VLOOKUP(AE44,勤務シフト一覧!$B$4:$C$106,2,FALSE)),\"\",VLOOKUP(AE44,勤務シフト一覧!$B$4:$C$106,2,FALSE))","v":""},{"$f":"IF(ISERROR(VLOOKUP(AF44,勤務シフト一覧!$B$4:$C$106,2,FALSE)),\"\",VLOOKUP(AF44,勤務シフト一覧!$B$4:$C$106,2,FALSE))","v":""},{"$f":"IF(ISERROR(VLOOKUP(AG44,勤務シフト一覧!$B$4:$C$106,2,FALSE)),\"\",VLOOKUP(AG44,勤務シフト一覧!$B$4:$C$106,2,FALSE))","v":""},{"$f":"IF(ISERROR(VLOOKUP(AH44,勤務シフト一覧!$B$4:$C$106,2,FALSE)),\"\",VLOOKUP(AH44,勤務シフト一覧!$B$4:$C$106,2,FALSE))","v":""},null,{"$f":"IF(ISERROR(VLOOKUP(D44,勤務シフト一覧!$B$4:$D$106,3,FALSE)),\"\",VLOOKUP(D44,勤務シフト一覧!$B$4:$D$106,3,FALSE))","v":""},{"$f":"IF(ISERROR(VLOOKUP(E44,勤務シフト一覧!$B$4:$D$106,3,FALSE)),\"\",VLOOKUP(E44,勤務シフト一覧!$B$4:$D$106,3,FALSE))","v":""},{"$f":"IF(ISERROR(VLOOKUP(F44,勤務シフト一覧!$B$4:$D$106,3,FALSE)),\"\",VLOOKUP(F44,勤務シフト一覧!$B$4:$D$106,3,FALSE))","v":""},{"$f":"IF(ISERROR(VLOOKUP(G44,勤務シフト一覧!$B$4:$D$106,3,FALSE)),\"\",VLOOKUP(G44,勤務シフト一覧!$B$4:$D$106,3,FALSE))","v":""},{"$f":"IF(ISERROR(VLOOKUP(H44,勤務シフト一覧!$B$4:$D$106,3,FALSE)),\"\",VLOOKUP(H44,勤務シフト一覧!$B$4:$D$106,3,FALSE))","v":""},{"$f":"IF(ISERROR(VLOOKUP(I44,勤務シフト一覧!$B$4:$D$106,3,FALSE)),\"\",VLOOKUP(I44,勤務シフト一覧!$B$4:$D$106,3,FALSE))","v":""},{"$f":"IF(ISERROR(VLOOKUP(J44,勤務シフト一覧!$B$4:$D$106,3,FALSE)),\"\",VLOOKUP(J44,勤務シフト一覧!$B$4:$D$106,3,FALSE))","v":""},{"$f":"IF(ISERROR(VLOOKUP(K44,勤務シフト一覧!$B$4:$D$106,3,FALSE)),\"\",VLOOKUP(K44,勤務シフト一覧!$B$4:$D$106,3,FALSE))","v":""},{"$f":"IF(ISERROR(VLOOKUP(L44,勤務シフト一覧!$B$4:$D$106,3,FALSE)),\"\",VLOOKUP(L44,勤務シフト一覧!$B$4:$D$106,3,FALSE))","v":""},{"$f":"IF(ISERROR(VLOOKUP(M44,勤務シフト一覧!$B$4:$D$106,3,FALSE)),\"\",VLOOKUP(M44,勤務シフト一覧!$B$4:$D$106,3,FALSE))","v":""},{"$f":"IF(ISERROR(VLOOKUP(N44,勤務シフト一覧!$B$4:$D$106,3,FALSE)),\"\",VLOOKUP(N44,勤務シフト一覧!$B$4:$D$106,3,FALSE))","v":""},{"$f":"IF(ISERROR(VLOOKUP(O44,勤務シフト一覧!$B$4:$D$106,3,FALSE)),\"\",VLOOKUP(O44,勤務シフト一覧!$B$4:$D$106,3,FALSE))","v":""},{"$f":"IF(ISERROR(VLOOKUP(P44,勤務シフト一覧!$B$4:$D$106,3,FALSE)),\"\",VLOOKUP(P44,勤務シフト一覧!$B$4:$D$106,3,FALSE))","v":""},{"$f":"IF(ISERROR(VLOOKUP(Q44,勤務シフト一覧!$B$4:$D$106,3,FALSE)),\"\",VLOOKUP(Q44,勤務シフト一覧!$B$4:$D$106,3,FALSE))","v":""},{"$f":"IF(ISERROR(VLOOKUP(R44,勤務シフト一覧!$B$4:$D$106,3,FALSE)),\"\",VLOOKUP(R44,勤務シフト一覧!$B$4:$D$106,3,FALSE))","v":""},{"$f":"IF(ISERROR(VLOOKUP(S44,勤務シフト一覧!$B$4:$D$106,3,FALSE)),\"\",VLOOKUP(S44,勤務シフト一覧!$B$4:$D$106,3,FALSE))","v":""},{"$f":"IF(ISERROR(VLOOKUP(T44,勤務シフト一覧!$B$4:$D$106,3,FALSE)),\"\",VLOOKUP(T44,勤務シフト一覧!$B$4:$D$106,3,FALSE))","v":""},{"$f":"IF(ISERROR(VLOOKUP(U44,勤務シフト一覧!$B$4:$D$106,3,FALSE)),\"\",VLOOKUP(U44,勤務シフト一覧!$B$4:$D$106,3,FALSE))","v":""},{"$f":"IF(ISERROR(VLOOKUP(V44,勤務シフト一覧!$B$4:$D$106,3,FALSE)),\"\",VLOOKUP(V44,勤務シフト一覧!$B$4:$D$106,3,FALSE))","v":""},{"$f":"IF(ISERROR(VLOOKUP(W44,勤務シフト一覧!$B$4:$D$106,3,FALSE)),\"\",VLOOKUP(W44,勤務シフト一覧!$B$4:$D$106,3,FALSE))","v":""},{"$f":"IF(ISERROR(VLOOKUP(X44,勤務シフト一覧!$B$4:$D$106,3,FALSE)),\"\",VLOOKUP(X44,勤務シフト一覧!$B$4:$D$106,3,FALSE))","v":""},{"$f":"IF(ISERROR(VLOOKUP(Y44,勤務シフト一覧!$B$4:$D$106,3,FALSE)),\"\",VLOOKUP(Y44,勤務シフト一覧!$B$4:$D$106,3,FALSE))","v":""},{"$f":"IF(ISERROR(VLOOKUP(Z44,勤務シフト一覧!$B$4:$D$106,3,FALSE)),\"\",VLOOKUP(Z44,勤務シフト一覧!$B$4:$D$106,3,FALSE))","v":""},{"$f":"IF(ISERROR(VLOOKUP(AA44,勤務シフト一覧!$B$4:$D$106,3,FALSE)),\"\",VLOOKUP(AA44,勤務シフト一覧!$B$4:$D$106,3,FALSE))","v":""},{"$f":"IF(ISERROR(VLOOKUP(AB44,勤務シフト一覧!$B$4:$D$106,3,FALSE)),\"\",VLOOKUP(AB44,勤務シフト一覧!$B$4:$D$106,3,FALSE))","v":""},{"$f":"IF(ISERROR(VLOOKUP(AC44,勤務シフト一覧!$B$4:$D$106,3,FALSE)),\"\",VLOOKUP(AC44,勤務シフト一覧!$B$4:$D$106,3,FALSE))","v":""},{"$f":"IF(ISERROR(VLOOKUP(AD44,勤務シフト一覧!$B$4:$D$106,3,FALSE)),\"\",VLOOKUP(AD44,勤務シフト一覧!$B$4:$D$106,3,FALSE))","v":""},{"$f":"IF(ISERROR(VLOOKUP(AE44,勤務シフト一覧!$B$4:$D$106,3,FALSE)),\"\",VLOOKUP(AE44,勤務シフト一覧!$B$4:$D$106,3,FALSE))","v":""},{"$f":"IF(ISERROR(VLOOKUP(AF44,勤務シフト一覧!$B$4:$D$106,3,FALSE)),\"\",VLOOKUP(AF44,勤務シフト一覧!$B$4:$D$106,3,FALSE))","v":""},{"$f":"IF(ISERROR(VLOOKUP(AG44,勤務シフト一覧!$B$4:$D$106,3,FALSE)),\"\",VLOOKUP(AG44,勤務シフト一覧!$B$4:$D$106,3,FALSE))","v":""},{"$f":"IF(ISERROR(VLOOKUP(AH44,勤務シフト一覧!$B$4:$D$106,3,FALSE)),\"\",VLOOKUP(AH44,勤務シフト一覧!$B$4:$D$106,3,FALSE))","v":""},0,0,0,0,0,0,0,0,0,0,{"$f":"IF(LEN(職員一覧!D21)<>0,職員一覧!D21,\"\")","v":""},null,{"$f":"IF(勤務シフト一覧!$D44<>0,IF(勤務シフト一覧!$B44<> 0,勤務シフト一覧!$B44,\"\"),\"\")","v":"特／"}]
[null,null,"実施",null,null,null,null,null,null,null,null,null,null,null,null,null,null,null,null,null,null,null,null,null,null,null,null,null,null,null,null,null,null,null,{"$f":"IF(ISERROR(VLOOKUP(D45,勤務シフト一覧!$B$4:$C$106,2,FALSE)),\"\",VLOOKUP(D45,勤務シフト一覧!$B$4:$C$106,2,FALSE))","v":""},{"$f":"IF(ISERROR(VLOOKUP(E45,勤務シフト一覧!$B$4:$C$106,2,FALSE)),\"\",VLOOKUP(E45,勤務シフト一覧!$B$4:$C$106,2,FALSE))","v":""},{"$f":"IF(ISERROR(VLOOKUP(F45,勤務シフト一覧!$B$4:$C$106,2,FALSE)),\"\",VLOOKUP(F45,勤務シフト一覧!$B$4:$C$106,2,FALSE))","v":""},{"$f":"IF(ISERROR(VLOOKUP(G45,勤務シフト一覧!$B$4:$C$106,2,FALSE)),\"\",VLOOKUP(G45,勤務シフト一覧!$B$4:$C$106,2,FALSE))","v":""},{"$f":"IF(ISERROR(VLOOKUP(H45,勤務シフト一覧!$B$4:$C$106,2,FALSE)),\"\",VLOOKUP(H45,勤務シフト一覧!$B$4:$C$106,2,FALSE))","v":""},{"$f":"IF(ISERROR(VLOOKUP(I45,勤務シフト一覧!$B$4:$C$106,2,FALSE)),\"\",VLOOKUP(I45,勤務シフト一覧!$B$4:$C$106,2,FALSE))","v":""},{"$f":"IF(ISERROR(VLOOKUP(J45,勤務シフト一覧!$B$4:$C$106,2,FALSE)),\"\",VLOOKUP(J45,勤務シフト一覧!$B$4:$C$106,2,FALSE))","v":""},{"$f":"IF(ISERROR(VLOOKUP(K45,勤務シフト一覧!$B$4:$C$106,2,FALSE)),\"\",VLOOKUP(K45,勤務シフト一覧!$B$4:$C$106,2,FALSE))","v":""},{"$f":"IF(ISERROR(VLOOKUP(L45,勤務シフト一覧!$B$4:$C$106,2,FALSE)),\"\",VLOOKUP(L45,勤務シフト一覧!$B$4:$C$106,2,FALSE))","v":""},{"$f":"IF(ISERROR(VLOOKUP(M45,勤務シフト一覧!$B$4:$C$106,2,FALSE)),\"\",VLOOKUP(M45,勤務シフト一覧!$B$4:$C$106,2,FALSE))","v":""},{"$f":"IF(ISERROR(VLOOKUP(N45,勤務シフト一覧!$B$4:$C$106,2,FALSE)),\"\",VLOOKUP(N45,勤務シフト一覧!$B$4:$C$106,2,FALSE))","v":""},{"$f":"IF(ISERROR(VLOOKUP(O45,勤務シフト一覧!$B$4:$C$106,2,FALSE)),\"\",VLOOKUP(O45,勤務シフト一覧!$B$4:$C$106,2,FALSE))","v":""},{"$f":"IF(ISERROR(VLOOKUP(P45,勤務シフト一覧!$B$4:$C$106,2,FALSE)),\"\",VLOOKUP(P45,勤務シフト一覧!$B$4:$C$106,2,FALSE))","v":""},{"$f":"IF(ISERROR(VLOOKUP(Q45,勤務シフト一覧!$B$4:$C$106,2,FALSE)),\"\",VLOOKUP(Q45,勤務シフト一覧!$B$4:$C$106,2,FALSE))","v":""},{"$f":"IF(ISERROR(VLOOKUP(R45,勤務シフト一覧!$B$4:$C$106,2,FALSE)),\"\",VLOOKUP(R45,勤務シフト一覧!$B$4:$C$106,2,FALSE))","v":""},{"$f":"IF(ISERROR(VLOOKUP(S45,勤務シフト一覧!$B$4:$C$106,2,FALSE)),\"\",VLOOKUP(S45,勤務シフト一覧!$B$4:$C$106,2,FALSE))","v":""},{"$f":"IF(ISERROR(VLOOKUP(T45,勤務シフト一覧!$B$4:$C$106,2,FALSE)),\"\",VLOOKUP(T45,勤務シフト一覧!$B$4:$C$106,2,FALSE))","v":""},{"$f":"IF(ISERROR(VLOOKUP(U45,勤務シフト一覧!$B$4:$C$106,2,FALSE)),\"\",VLOOKUP(U45,勤務シフト一覧!$B$4:$C$106,2,FALSE))","v":""},{"$f":"IF(ISERROR(VLOOKUP(V45,勤務シフト一覧!$B$4:$C$106,2,FALSE)),\"\",VLOOKUP(V45,勤務シフト一覧!$B$4:$C$106,2,FALSE))","v":""},{"$f":"IF(ISERROR(VLOOKUP(W45,勤務シフト一覧!$B$4:$C$106,2,FALSE)),\"\",VLOOKUP(W45,勤務シフト一覧!$B$4:$C$106,2,FALSE))","v":""},{"$f":"IF(ISERROR(VLOOKUP(X45,勤務シフト一覧!$B$4:$C$106,2,FALSE)),\"\",VLOOKUP(X45,勤務シフト一覧!$B$4:$C$106,2,FALSE))","v":""},{"$f":"IF(ISERROR(VLOOKUP(Y45,勤務シフト一覧!$B$4:$C$106,2,FALSE)),\"\",VLOOKUP(Y45,勤務シフト一覧!$B$4:$C$106,2,FALSE))","v":""},{"$f":"IF(ISERROR(VLOOKUP(Z45,勤務シフト一覧!$B$4:$C$106,2,FALSE)),\"\",VLOOKUP(Z45,勤務シフト一覧!$B$4:$C$106,2,FALSE))","v":""},{"$f":"IF(ISERROR(VLOOKUP(AA45,勤務シフト一覧!$B$4:$C$106,2,FALSE)),\"\",VLOOKUP(AA45,勤務シフト一覧!$B$4:$C$106,2,FALSE))","v":""},{"$f":"IF(ISERROR(VLOOKUP(AB45,勤務シフト一覧!$B$4:$C$106,2,FALSE)),\"\",VLOOKUP(AB45,勤務シフト一覧!$B$4:$C$106,2,FALSE))","v":""},{"$f":"IF(ISERROR(VLOOKUP(AC45,勤務シフト一覧!$B$4:$C$106,2,FALSE)),\"\",VLOOKUP(AC45,勤務シフト一覧!$B$4:$C$106,2,FALSE))","v":""},{"$f":"IF(ISERROR(VLOOKUP(AD45,勤務シフト一覧!$B$4:$C$106,2,FALSE)),\"\",VLOOKUP(AD45,勤務シフト一覧!$B$4:$C$106,2,FALSE))","v":""},{"$f":"IF(ISERROR(VLOOKUP(AE45,勤務シフト一覧!$B$4:$C$106,2,FALSE)),\"\",VLOOKUP(AE45,勤務シフト一覧!$B$4:$C$106,2,FALSE))","v":""},{"$f":"IF(ISERROR(VLOOKUP(AF45,勤務シフト一覧!$B$4:$C$106,2,FALSE)),\"\",VLOOKUP(AF45,勤務シフト一覧!$B$4:$C$106,2,FALSE))","v":""},{"$f":"IF(ISERROR(VLOOKUP(AG45,勤務シフト一覧!$B$4:$C$106,2,FALSE)),\"\",VLOOKUP(AG45,勤務シフト一覧!$B$4:$C$106,2,FALSE))","v":""},{"$f":"IF(ISERROR(VLOOKUP(AH45,勤務シフト一覧!$B$4:$C$106,2,FALSE)),\"\",VLOOKUP(AH45,勤務シフト一覧!$B$4:$C$106,2,FALSE))","v":""},null,{"$f":"IF(ISERROR(VLOOKUP(D45,勤務シフト一覧!$B$4:$D$106,3,FALSE)),\"\",VLOOKUP(D45,勤務シフト一覧!$B$4:$D$106,3,FALSE))","v":""},{"$f":"IF(ISERROR(VLOOKUP(E45,勤務シフト一覧!$B$4:$D$106,3,FALSE)),\"\",VLOOKUP(E45,勤務シフト一覧!$B$4:$D$106,3,FALSE))","v":""},{"$f":"IF(ISERROR(VLOOKUP(F45,勤務シフト一覧!$B$4:$D$106,3,FALSE)),\"\",VLOOKUP(F45,勤務シフト一覧!$B$4:$D$106,3,FALSE))","v":""},{"$f":"IF(ISERROR(VLOOKUP(G45,勤務シフト一覧!$B$4:$D$106,3,FALSE)),\"\",VLOOKUP(G45,勤務シフト一覧!$B$4:$D$106,3,FALSE))","v":""},{"$f":"IF(ISERROR(VLOOKUP(H45,勤務シフト一覧!$B$4:$D$106,3,FALSE)),\"\",VLOOKUP(H45,勤務シフト一覧!$B$4:$D$106,3,FALSE))","v":""},{"$f":"IF(ISERROR(VLOOKUP(I45,勤務シフト一覧!$B$4:$D$106,3,FALSE)),\"\",VLOOKUP(I45,勤務シフト一覧!$B$4:$D$106,3,FALSE))","v":""},{"$f":"IF(ISERROR(VLOOKUP(J45,勤務シフト一覧!$B$4:$D$106,3,FALSE)),\"\",VLOOKUP(J45,勤務シフト一覧!$B$4:$D$106,3,FALSE))","v":""},{"$f":"IF(ISERROR(VLOOKUP(K45,勤務シフト一覧!$B$4:$D$106,3,FALSE)),\"\",VLOOKUP(K45,勤務シフト一覧!$B$4:$D$106,3,FALSE))","v":""},{"$f":"IF(ISERROR(VLOOKUP(L45,勤務シフト一覧!$B$4:$D$106,3,FALSE)),\"\",VLOOKUP(L45,勤務シフト一覧!$B$4:$D$106,3,FALSE))","v":""},{"$f":"IF(ISERROR(VLOOKUP(M45,勤務シフト一覧!$B$4:$D$106,3,FALSE)),\"\",VLOOKUP(M45,勤務シフト一覧!$B$4:$D$106,3,FALSE))","v":""},{"$f":"IF(ISERROR(VLOOKUP(N45,勤務シフト一覧!$B$4:$D$106,3,FALSE)),\"\",VLOOKUP(N45,勤務シフト一覧!$B$4:$D$106,3,FALSE))","v":""},{"$f":"IF(ISERROR(VLOOKUP(O45,勤務シフト一覧!$B$4:$D$106,3,FALSE)),\"\",VLOOKUP(O45,勤務シフト一覧!$B$4:$D$106,3,FALSE))","v":""},{"$f":"IF(ISERROR(VLOOKUP(P45,勤務シフト一覧!$B$4:$D$106,3,FALSE)),\"\",VLOOKUP(P45,勤務シフト一覧!$B$4:$D$106,3,FALSE))","v":""},{"$f":"IF(ISERROR(VLOOKUP(Q45,勤務シフト一覧!$B$4:$D$106,3,FALSE)),\"\",VLOOKUP(Q45,勤務シフト一覧!$B$4:$D$106,3,FALSE))","v":""},{"$f":"IF(ISERROR(VLOOKUP(R45,勤務シフト一覧!$B$4:$D$106,3,FALSE)),\"\",VLOOKUP(R45,勤務シフト一覧!$B$4:$D$106,3,FALSE))","v":""},{"$f":"IF(ISERROR(VLOOKUP(S45,勤務シフト一覧!$B$4:$D$106,3,FALSE)),\"\",VLOOKUP(S45,勤務シフト一覧!$B$4:$D$106,3,FALSE))","v":""},{"$f":"IF(ISERROR(VLOOKUP(T45,勤務シフト一覧!$B$4:$D$106,3,FALSE)),\"\",VLOOKUP(T45,勤務シフト一覧!$B$4:$D$106,3,FALSE))","v":""},{"$f":"IF(ISERROR(VLOOKUP(U45,勤務シフト一覧!$B$4:$D$106,3,FALSE)),\"\",VLOOKUP(U45,勤務シフト一覧!$B$4:$D$106,3,FALSE))","v":""},{"$f":"IF(ISERROR(VLOOKUP(V45,勤務シフト一覧!$B$4:$D$106,3,FALSE)),\"\",VLOOKUP(V45,勤務シフト一覧!$B$4:$D$106,3,FALSE))","v":""},{"$f":"IF(ISERROR(VLOOKUP(W45,勤務シフト一覧!$B$4:$D$106,3,FALSE)),\"\",VLOOKUP(W45,勤務シフト一覧!$B$4:$D$106,3,FALSE))","v":""},{"$f":"IF(ISERROR(VLOOKUP(X45,勤務シフト一覧!$B$4:$D$106,3,FALSE)),\"\",VLOOKUP(X45,勤務シフト一覧!$B$4:$D$106,3,FALSE))","v":""},{"$f":"IF(ISERROR(VLOOKUP(Y45,勤務シフト一覧!$B$4:$D$106,3,FALSE)),\"\",VLOOKUP(Y45,勤務シフト一覧!$B$4:$D$106,3,FALSE))","v":""},{"$f":"IF(ISERROR(VLOOKUP(Z45,勤務シフト一覧!$B$4:$D$106,3,FALSE)),\"\",VLOOKUP(Z45,勤務シフト一覧!$B$4:$D$106,3,FALSE))","v":""},{"$f":"IF(ISERROR(VLOOKUP(AA45,勤務シフト一覧!$B$4:$D$106,3,FALSE)),\"\",VLOOKUP(AA45,勤務シフト一覧!$B$4:$D$106,3,FALSE))","v":""},{"$f":"IF(ISERROR(VLOOKUP(AB45,勤務シフト一覧!$B$4:$D$106,3,FALSE)),\"\",VLOOKUP(AB45,勤務シフト一覧!$B$4:$D$106,3,FALSE))","v":""},{"$f":"IF(ISERROR(VLOOKUP(AC45,勤務シフト一覧!$B$4:$D$106,3,FALSE)),\"\",VLOOKUP(AC45,勤務シフト一覧!$B$4:$D$106,3,FALSE))","v":""},{"$f":"IF(ISERROR(VLOOKUP(AD45,勤務シフト一覧!$B$4:$D$106,3,FALSE)),\"\",VLOOKUP(AD45,勤務シフト一覧!$B$4:$D$106,3,FALSE))","v":""},{"$f":"IF(ISERROR(VLOOKUP(AE45,勤務シフト一覧!$B$4:$D$106,3,FALSE)),\"\",VLOOKUP(AE45,勤務シフト一覧!$B$4:$D$106,3,FALSE))","v":""},{"$f":"IF(ISERROR(VLOOKUP(AF45,勤務シフト一覧!$B$4:$D$106,3,FALSE)),\"\",VLOOKUP(AF45,勤務シフト一覧!$B$4:$D$106,3,FALSE))","v":""},{"$f":"IF(ISERROR(VLOOKUP(AG45,勤務シフト一覧!$B$4:$D$106,3,FALSE)),\"\",VLOOKUP(AG45,勤務シフト一覧!$B$4:$D$106,3,FALSE))","v":""},{"$f":"IF(ISERROR(VLOOKUP(AH45,勤務シフト一覧!$B$4:$D$106,3,FALSE)),\"\",VLOOKUP(AH45,勤務シフト一覧!$B$4:$D$106,3,FALSE))","v":""},0,0,0,0,0,0,0,0,0,0,null,null,{"$f":"IF(勤務シフト一覧!$D45<>0,IF(勤務シフト一覧!$B45<> 0,勤務シフト一覧!$B45,\"\"),\"\")","v":"A特"}]
[{"$f":"IF(LEN(職員一覧!B22)<>0,職員一覧!B22,\"\")","v":""},{"$f":"IF(LEN(職員一覧!C22)<>0,職員一覧!C22,\"\")","v":""},"予定",null,null,null,null,null,null,null,null,null,null,null,null,null,null,null,null,null,null,null,null,null,null,null,null,null,null,null,null,null,null,null,{"$f":"IF(ISERROR(VLOOKUP(D46,勤務シフト一覧!$B$4:$C$106,2,FALSE)),\"\",VLOOKUP(D46,勤務シフト一覧!$B$4:$C$106,2,FALSE))","v":""},{"$f":"IF(ISERROR(VLOOKUP(E46,勤務シフト一覧!$B$4:$C$106,2,FALSE)),\"\",VLOOKUP(E46,勤務シフト一覧!$B$4:$C$106,2,FALSE))","v":""},{"$f":"IF(ISERROR(VLOOKUP(F46,勤務シフト一覧!$B$4:$C$106,2,FALSE)),\"\",VLOOKUP(F46,勤務シフト一覧!$B$4:$C$106,2,FALSE))","v":""},{"$f":"IF(ISERROR(VLOOKUP(G46,勤務シフト一覧!$B$4:$C$106,2,FALSE)),\"\",VLOOKUP(G46,勤務シフト一覧!$B$4:$C$106,2,FALSE))","v":""},{"$f":"IF(ISERROR(VLOOKUP(H46,勤務シフト一覧!$B$4:$C$106,2,FALSE)),\"\",VLOOKUP(H46,勤務シフト一覧!$B$4:$C$106,2,FALSE))","v":""},{"$f":"IF(ISERROR(VLOOKUP(I46,勤務シフト一覧!$B$4:$C$106,2,FALSE)),\"\",VLOOKUP(I46,勤務シフト一覧!$B$4:$C$106,2,FALSE))","v":""},{"$f":"IF(ISERROR(VLOOKUP(J46,勤務シフト一覧!$B$4:$C$106,2,FALSE)),\"\",VLOOKUP(J46,勤務シフト一覧!$B$4:$C$106,2,FALSE))","v":""},{"$f":"IF(ISERROR(VLOOKUP(K46,勤務シフト一覧!$B$4:$C$106,2,FALSE)),\"\",VLOOKUP(K46,勤務シフト一覧!$B$4:$C$106,2,FALSE))","v":""},{"$f":"IF(ISERROR(VLOOKUP(L46,勤務シフト一覧!$B$4:$C$106,2,FALSE)),\"\",VLOOKUP(L46,勤務シフト一覧!$B$4:$C$106,2,FALSE))","v":""},{"$f":"IF(ISERROR(VLOOKUP(M46,勤務シフト一覧!$B$4:$C$106,2,FALSE)),\"\",VLOOKUP(M46,勤務シフト一覧!$B$4:$C$106,2,FALSE))","v":""},{"$f":"IF(ISERROR(VLOOKUP(N46,勤務シフト一覧!$B$4:$C$106,2,FALSE)),\"\",VLOOKUP(N46,勤務シフト一覧!$B$4:$C$106,2,FALSE))","v":""},{"$f":"IF(ISERROR(VLOOKUP(O46,勤務シフト一覧!$B$4:$C$106,2,FALSE)),\"\",VLOOKUP(O46,勤務シフト一覧!$B$4:$C$106,2,FALSE))","v":""},{"$f":"IF(ISERROR(VLOOKUP(P46,勤務シフト一覧!$B$4:$C$106,2,FALSE)),\"\",VLOOKUP(P46,勤務シフト一覧!$B$4:$C$106,2,FALSE))","v":""},{"$f":"IF(ISERROR(VLOOKUP(Q46,勤務シフト一覧!$B$4:$C$106,2,FALSE)),\"\",VLOOKUP(Q46,勤務シフト一覧!$B$4:$C$106,2,FALSE))","v":""},{"$f":"IF(ISERROR(VLOOKUP(R46,勤務シフト一覧!$B$4:$C$106,2,FALSE)),\"\",VLOOKUP(R46,勤務シフト一覧!$B$4:$C$106,2,FALSE))","v":""},{"$f":"IF(ISERROR(VLOOKUP(S46,勤務シフト一覧!$B$4:$C$106,2,FALSE)),\"\",VLOOKUP(S46,勤務シフト一覧!$B$4:$C$106,2,FALSE))","v":""},{"$f":"IF(ISERROR(VLOOKUP(T46,勤務シフト一覧!$B$4:$C$106,2,FALSE)),\"\",VLOOKUP(T46,勤務シフト一覧!$B$4:$C$106,2,FALSE))","v":""},{"$f":"IF(ISERROR(VLOOKUP(U46,勤務シフト一覧!$B$4:$C$106,2,FALSE)),\"\",VLOOKUP(U46,勤務シフト一覧!$B$4:$C$106,2,FALSE))","v":""},{"$f":"IF(ISERROR(VLOOKUP(V46,勤務シフト一覧!$B$4:$C$106,2,FALSE)),\"\",VLOOKUP(V46,勤務シフト一覧!$B$4:$C$106,2,FALSE))","v":""},{"$f":"IF(ISERROR(VLOOKUP(W46,勤務シフト一覧!$B$4:$C$106,2,FALSE)),\"\",VLOOKUP(W46,勤務シフト一覧!$B$4:$C$106,2,FALSE))","v":""},{"$f":"IF(ISERROR(VLOOKUP(X46,勤務シフト一覧!$B$4:$C$106,2,FALSE)),\"\",VLOOKUP(X46,勤務シフト一覧!$B$4:$C$106,2,FALSE))","v":""},{"$f":"IF(ISERROR(VLOOKUP(Y46,勤務シフト一覧!$B$4:$C$106,2,FALSE)),\"\",VLOOKUP(Y46,勤務シフト一覧!$B$4:$C$106,2,FALSE))","v":""},{"$f":"IF(ISERROR(VLOOKUP(Z46,勤務シフト一覧!$B$4:$C$106,2,FALSE)),\"\",VLOOKUP(Z46,勤務シフト一覧!$B$4:$C$106,2,FALSE))","v":""},{"$f":"IF(ISERROR(VLOOKUP(AA46,勤務シフト一覧!$B$4:$C$106,2,FALSE)),\"\",VLOOKUP(AA46,勤務シフト一覧!$B$4:$C$106,2,FALSE))","v":""},{"$f":"IF(ISERROR(VLOOKUP(AB46,勤務シフト一覧!$B$4:$C$106,2,FALSE)),\"\",VLOOKUP(AB46,勤務シフト一覧!$B$4:$C$106,2,FALSE))","v":""},{"$f":"IF(ISERROR(VLOOKUP(AC46,勤務シフト一覧!$B$4:$C$106,2,FALSE)),\"\",VLOOKUP(AC46,勤務シフト一覧!$B$4:$C$106,2,FALSE))","v":""},{"$f":"IF(ISERROR(VLOOKUP(AD46,勤務シフト一覧!$B$4:$C$106,2,FALSE)),\"\",VLOOKUP(AD46,勤務シフト一覧!$B$4:$C$106,2,FALSE))","v":""},{"$f":"IF(ISERROR(VLOOKUP(AE46,勤務シフト一覧!$B$4:$C$106,2,FALSE)),\"\",VLOOKUP(AE46,勤務シフト一覧!$B$4:$C$106,2,FALSE))","v":""},{"$f":"IF(ISERROR(VLOOKUP(AF46,勤務シフト一覧!$B$4:$C$106,2,FALSE)),\"\",VLOOKUP(AF46,勤務シフト一覧!$B$4:$C$106,2,FALSE))","v":""},{"$f":"IF(ISERROR(VLOOKUP(AG46,勤務シフト一覧!$B$4:$C$106,2,FALSE)),\"\",VLOOKUP(AG46,勤務シフト一覧!$B$4:$C$106,2,FALSE))","v":""},{"$f":"IF(ISERROR(VLOOKUP(AH46,勤務シフト一覧!$B$4:$C$106,2,FALSE)),\"\",VLOOKUP(AH46,勤務シフト一覧!$B$4:$C$106,2,FALSE))","v":""},null,{"$f":"IF(ISERROR(VLOOKUP(D46,勤務シフト一覧!$B$4:$D$106,3,FALSE)),\"\",VLOOKUP(D46,勤務シフト一覧!$B$4:$D$106,3,FALSE))","v":""},{"$f":"IF(ISERROR(VLOOKUP(E46,勤務シフト一覧!$B$4:$D$106,3,FALSE)),\"\",VLOOKUP(E46,勤務シフト一覧!$B$4:$D$106,3,FALSE))","v":""},{"$f":"IF(ISERROR(VLOOKUP(F46,勤務シフト一覧!$B$4:$D$106,3,FALSE)),\"\",VLOOKUP(F46,勤務シフト一覧!$B$4:$D$106,3,FALSE))","v":""},{"$f":"IF(ISERROR(VLOOKUP(G46,勤務シフト一覧!$B$4:$D$106,3,FALSE)),\"\",VLOOKUP(G46,勤務シフト一覧!$B$4:$D$106,3,FALSE))","v":""},{"$f":"IF(ISERROR(VLOOKUP(H46,勤務シフト一覧!$B$4:$D$106,3,FALSE)),\"\",VLOOKUP(H46,勤務シフト一覧!$B$4:$D$106,3,FALSE))","v":""},{"$f":"IF(ISERROR(VLOOKUP(I46,勤務シフト一覧!$B$4:$D$106,3,FALSE)),\"\",VLOOKUP(I46,勤務シフト一覧!$B$4:$D$106,3,FALSE))","v":""},{"$f":"IF(ISERROR(VLOOKUP(J46,勤務シフト一覧!$B$4:$D$106,3,FALSE)),\"\",VLOOKUP(J46,勤務シフト一覧!$B$4:$D$106,3,FALSE))","v":""},{"$f":"IF(ISERROR(VLOOKUP(K46,勤務シフト一覧!$B$4:$D$106,3,FALSE)),\"\",VLOOKUP(K46,勤務シフト一覧!$B$4:$D$106,3,FALSE))","v":""},{"$f":"IF(ISERROR(VLOOKUP(L46,勤務シフト一覧!$B$4:$D$106,3,FALSE)),\"\",VLOOKUP(L46,勤務シフト一覧!$B$4:$D$106,3,FALSE))","v":""},{"$f":"IF(ISERROR(VLOOKUP(M46,勤務シフト一覧!$B$4:$D$106,3,FALSE)),\"\",VLOOKUP(M46,勤務シフト一覧!$B$4:$D$106,3,FALSE))","v":""},{"$f":"IF(ISERROR(VLOOKUP(N46,勤務シフト一覧!$B$4:$D$106,3,FALSE)),\"\",VLOOKUP(N46,勤務シフト一覧!$B$4:$D$106,3,FALSE))","v":""},{"$f":"IF(ISERROR(VLOOKUP(O46,勤務シフト一覧!$B$4:$D$106,3,FALSE)),\"\",VLOOKUP(O46,勤務シフト一覧!$B$4:$D$106,3,FALSE))","v":""},{"$f":"IF(ISERROR(VLOOKUP(P46,勤務シフト一覧!$B$4:$D$106,3,FALSE)),\"\",VLOOKUP(P46,勤務シフト一覧!$B$4:$D$106,3,FALSE))","v":""},{"$f":"IF(ISERROR(VLOOKUP(Q46,勤務シフト一覧!$B$4:$D$106,3,FALSE)),\"\",VLOOKUP(Q46,勤務シフト一覧!$B$4:$D$106,3,FALSE))","v":""},{"$f":"IF(ISERROR(VLOOKUP(R46,勤務シフト一覧!$B$4:$D$106,3,FALSE)),\"\",VLOOKUP(R46,勤務シフト一覧!$B$4:$D$106,3,FALSE))","v":""},{"$f":"IF(ISERROR(VLOOKUP(S46,勤務シフト一覧!$B$4:$D$106,3,FALSE)),\"\",VLOOKUP(S46,勤務シフト一覧!$B$4:$D$106,3,FALSE))","v":""},{"$f":"IF(ISERROR(VLOOKUP(T46,勤務シフト一覧!$B$4:$D$106,3,FALSE)),\"\",VLOOKUP(T46,勤務シフト一覧!$B$4:$D$106,3,FALSE))","v":""},{"$f":"IF(ISERROR(VLOOKUP(U46,勤務シフト一覧!$B$4:$D$106,3,FALSE)),\"\",VLOOKUP(U46,勤務シフト一覧!$B$4:$D$106,3,FALSE))","v":""},{"$f":"IF(ISERROR(VLOOKUP(V46,勤務シフト一覧!$B$4:$D$106,3,FALSE)),\"\",VLOOKUP(V46,勤務シフト一覧!$B$4:$D$106,3,FALSE))","v":""},{"$f":"IF(ISERROR(VLOOKUP(W46,勤務シフト一覧!$B$4:$D$106,3,FALSE)),\"\",VLOOKUP(W46,勤務シフト一覧!$B$4:$D$106,3,FALSE))","v":""},{"$f":"IF(ISERROR(VLOOKUP(X46,勤務シフト一覧!$B$4:$D$106,3,FALSE)),\"\",VLOOKUP(X46,勤務シフト一覧!$B$4:$D$106,3,FALSE))","v":""},{"$f":"IF(ISERROR(VLOOKUP(Y46,勤務シフト一覧!$B$4:$D$106,3,FALSE)),\"\",VLOOKUP(Y46,勤務シフト一覧!$B$4:$D$106,3,FALSE))","v":""},{"$f":"IF(ISERROR(VLOOKUP(Z46,勤務シフト一覧!$B$4:$D$106,3,FALSE)),\"\",VLOOKUP(Z46,勤務シフト一覧!$B$4:$D$106,3,FALSE))","v":""},{"$f":"IF(ISERROR(VLOOKUP(AA46,勤務シフト一覧!$B$4:$D$106,3,FALSE)),\"\",VLOOKUP(AA46,勤務シフト一覧!$B$4:$D$106,3,FALSE))","v":""},{"$f":"IF(ISERROR(VLOOKUP(AB46,勤務シフト一覧!$B$4:$D$106,3,FALSE)),\"\",VLOOKUP(AB46,勤務シフト一覧!$B$4:$D$106,3,FALSE))","v":""},{"$f":"IF(ISERROR(VLOOKUP(AC46,勤務シフト一覧!$B$4:$D$106,3,FALSE)),\"\",VLOOKUP(AC46,勤務シフト一覧!$B$4:$D$106,3,FALSE))","v":""},{"$f":"IF(ISERROR(VLOOKUP(AD46,勤務シフト一覧!$B$4:$D$106,3,FALSE)),\"\",VLOOKUP(AD46,勤務シフト一覧!$B$4:$D$106,3,FALSE))","v":""},{"$f":"IF(ISERROR(VLOOKUP(AE46,勤務シフト一覧!$B$4:$D$106,3,FALSE)),\"\",VLOOKUP(AE46,勤務シフト一覧!$B$4:$D$106,3,FALSE))","v":""},{"$f":"IF(ISERROR(VLOOKUP(AF46,勤務シフト一覧!$B$4:$D$106,3,FALSE)),\"\",VLOOKUP(AF46,勤務シフト一覧!$B$4:$D$106,3,FALSE))","v":""},{"$f":"IF(ISERROR(VLOOKUP(AG46,勤務シフト一覧!$B$4:$D$106,3,FALSE)),\"\",VLOOKUP(AG46,勤務シフト一覧!$B$4:$D$106,3,FALSE))","v":""},{"$f":"IF(ISERROR(VLOOKUP(AH46,勤務シフト一覧!$B$4:$D$106,3,FALSE)),\"\",VLOOKUP(AH46,勤務シフト一覧!$B$4:$D$106,3,FALSE))","v":""},0,0,0,0,0,0,0,0,0,0,{"$f":"IF(LEN(職員一覧!D22)<>0,職員一覧!D22,\"\")","v":""},null,{"$f":"IF(勤務シフト一覧!$D46<>0,IF(勤務シフト一覧!$B46<> 0,勤務シフト一覧!$B46,\"\"),\"\")","v":"P特"}]
[null,null,"実施",null,null,null,null,null,null,null,null,null,null,null,null,null,null,null,null,null,null,null,null,null,null,null,null,null,null,null,null,null,null,null,{"$f":"IF(ISERROR(VLOOKUP(D47,勤務シフト一覧!$B$4:$C$106,2,FALSE)),\"\",VLOOKUP(D47,勤務シフト一覧!$B$4:$C$106,2,FALSE))","v":""},{"$f":"IF(ISERROR(VLOOKUP(E47,勤務シフト一覧!$B$4:$C$106,2,FALSE)),\"\",VLOOKUP(E47,勤務シフト一覧!$B$4:$C$106,2,FALSE))","v":""},{"$f":"IF(ISERROR(VLOOKUP(F47,勤務シフト一覧!$B$4:$C$106,2,FALSE)),\"\",VLOOKUP(F47,勤務シフト一覧!$B$4:$C$106,2,FALSE))","v":""},{"$f":"IF(ISERROR(VLOOKUP(G47,勤務シフト一覧!$B$4:$C$106,2,FALSE)),\"\",VLOOKUP(G47,勤務シフト一覧!$B$4:$C$106,2,FALSE))","v":""},{"$f":"IF(ISERROR(VLOOKUP(H47,勤務シフト一覧!$B$4:$C$106,2,FALSE)),\"\",VLOOKUP(H47,勤務シフト一覧!$B$4:$C$106,2,FALSE))","v":""},{"$f":"IF(ISERROR(VLOOKUP(I47,勤務シフト一覧!$B$4:$C$106,2,FALSE)),\"\",VLOOKUP(I47,勤務シフト一覧!$B$4:$C$106,2,FALSE))","v":""},{"$f":"IF(ISERROR(VLOOKUP(J47,勤務シフト一覧!$B$4:$C$106,2,FALSE)),\"\",VLOOKUP(J47,勤務シフト一覧!$B$4:$C$106,2,FALSE))","v":""},{"$f":"IF(ISERROR(VLOOKUP(K47,勤務シフト一覧!$B$4:$C$106,2,FALSE)),\"\",VLOOKUP(K47,勤務シフト一覧!$B$4:$C$106,2,FALSE))","v":""},{"$f":"IF(ISERROR(VLOOKUP(L47,勤務シフト一覧!$B$4:$C$106,2,FALSE)),\"\",VLOOKUP(L47,勤務シフト一覧!$B$4:$C$106,2,FALSE))","v":""},{"$f":"IF(ISERROR(VLOOKUP(M47,勤務シフト一覧!$B$4:$C$106,2,FALSE)),\"\",VLOOKUP(M47,勤務シフト一覧!$B$4:$C$106,2,FALSE))","v":""},{"$f":"IF(ISERROR(VLOOKUP(N47,勤務シフト一覧!$B$4:$C$106,2,FALSE)),\"\",VLOOKUP(N47,勤務シフト一覧!$B$4:$C$106,2,FALSE))","v":""},{"$f":"IF(ISERROR(VLOOKUP(O47,勤務シフト一覧!$B$4:$C$106,2,FALSE)),\"\",VLOOKUP(O47,勤務シフト一覧!$B$4:$C$106,2,FALSE))","v":""},{"$f":"IF(ISERROR(VLOOKUP(P47,勤務シフト一覧!$B$4:$C$106,2,FALSE)),\"\",VLOOKUP(P47,勤務シフト一覧!$B$4:$C$106,2,FALSE))","v":""},{"$f":"IF(ISERROR(VLOOKUP(Q47,勤務シフト一覧!$B$4:$C$106,2,FALSE)),\"\",VLOOKUP(Q47,勤務シフト一覧!$B$4:$C$106,2,FALSE))","v":""},{"$f":"IF(ISERROR(VLOOKUP(R47,勤務シフト一覧!$B$4:$C$106,2,FALSE)),\"\",VLOOKUP(R47,勤務シフト一覧!$B$4:$C$106,2,FALSE))","v":""},{"$f":"IF(ISERROR(VLOOKUP(S47,勤務シフト一覧!$B$4:$C$106,2,FALSE)),\"\",VLOOKUP(S47,勤務シフト一覧!$B$4:$C$106,2,FALSE))","v":""},{"$f":"IF(ISERROR(VLOOKUP(T47,勤務シフト一覧!$B$4:$C$106,2,FALSE)),\"\",VLOOKUP(T47,勤務シフト一覧!$B$4:$C$106,2,FALSE))","v":""},{"$f":"IF(ISERROR(VLOOKUP(U47,勤務シフト一覧!$B$4:$C$106,2,FALSE)),\"\",VLOOKUP(U47,勤務シフト一覧!$B$4:$C$106,2,FALSE))","v":""},{"$f":"IF(ISERROR(VLOOKUP(V47,勤務シフト一覧!$B$4:$C$106,2,FALSE)),\"\",VLOOKUP(V47,勤務シフト一覧!$B$4:$C$106,2,FALSE))","v":""},{"$f":"IF(ISERROR(VLOOKUP(W47,勤務シフト一覧!$B$4:$C$106,2,FALSE)),\"\",VLOOKUP(W47,勤務シフト一覧!$B$4:$C$106,2,FALSE))","v":""},{"$f":"IF(ISERROR(VLOOKUP(X47,勤務シフト一覧!$B$4:$C$106,2,FALSE)),\"\",VLOOKUP(X47,勤務シフト一覧!$B$4:$C$106,2,FALSE))","v":""},{"$f":"IF(ISERROR(VLOOKUP(Y47,勤務シフト一覧!$B$4:$C$106,2,FALSE)),\"\",VLOOKUP(Y47,勤務シフト一覧!$B$4:$C$106,2,FALSE))","v":""},{"$f":"IF(ISERROR(VLOOKUP(Z47,勤務シフト一覧!$B$4:$C$106,2,FALSE)),\"\",VLOOKUP(Z47,勤務シフト一覧!$B$4:$C$106,2,FALSE))","v":""},{"$f":"IF(ISERROR(VLOOKUP(AA47,勤務シフト一覧!$B$4:$C$106,2,FALSE)),\"\",VLOOKUP(AA47,勤務シフト一覧!$B$4:$C$106,2,FALSE))","v":""},{"$f":"IF(ISERROR(VLOOKUP(AB47,勤務シフト一覧!$B$4:$C$106,2,FALSE)),\"\",VLOOKUP(AB47,勤務シフト一覧!$B$4:$C$106,2,FALSE))","v":""},{"$f":"IF(ISERROR(VLOOKUP(AC47,勤務シフト一覧!$B$4:$C$106,2,FALSE)),\"\",VLOOKUP(AC47,勤務シフト一覧!$B$4:$C$106,2,FALSE))","v":""},{"$f":"IF(ISERROR(VLOOKUP(AD47,勤務シフト一覧!$B$4:$C$106,2,FALSE)),\"\",VLOOKUP(AD47,勤務シフト一覧!$B$4:$C$106,2,FALSE))","v":""},{"$f":"IF(ISERROR(VLOOKUP(AE47,勤務シフト一覧!$B$4:$C$106,2,FALSE)),\"\",VLOOKUP(AE47,勤務シフト一覧!$B$4:$C$106,2,FALSE))","v":""},{"$f":"IF(ISERROR(VLOOKUP(AF47,勤務シフト一覧!$B$4:$C$106,2,FALSE)),\"\",VLOOKUP(AF47,勤務シフト一覧!$B$4:$C$106,2,FALSE))","v":""},{"$f":"IF(ISERROR(VLOOKUP(AG47,勤務シフト一覧!$B$4:$C$106,2,FALSE)),\"\",VLOOKUP(AG47,勤務シフト一覧!$B$4:$C$106,2,FALSE))","v":""},{"$f":"IF(ISERROR(VLOOKUP(AH47,勤務シフト一覧!$B$4:$C$106,2,FALSE)),\"\",VLOOKUP(AH47,勤務シフト一覧!$B$4:$C$106,2,FALSE))","v":""},null,{"$f":"IF(ISERROR(VLOOKUP(D47,勤務シフト一覧!$B$4:$D$106,3,FALSE)),\"\",VLOOKUP(D47,勤務シフト一覧!$B$4:$D$106,3,FALSE))","v":""},{"$f":"IF(ISERROR(VLOOKUP(E47,勤務シフト一覧!$B$4:$D$106,3,FALSE)),\"\",VLOOKUP(E47,勤務シフト一覧!$B$4:$D$106,3,FALSE))","v":""},{"$f":"IF(ISERROR(VLOOKUP(F47,勤務シフト一覧!$B$4:$D$106,3,FALSE)),\"\",VLOOKUP(F47,勤務シフト一覧!$B$4:$D$106,3,FALSE))","v":""},{"$f":"IF(ISERROR(VLOOKUP(G47,勤務シフト一覧!$B$4:$D$106,3,FALSE)),\"\",VLOOKUP(G47,勤務シフト一覧!$B$4:$D$106,3,FALSE))","v":""},{"$f":"IF(ISERROR(VLOOKUP(H47,勤務シフト一覧!$B$4:$D$106,3,FALSE)),\"\",VLOOKUP(H47,勤務シフト一覧!$B$4:$D$106,3,FALSE))","v":""},{"$f":"IF(ISERROR(VLOOKUP(I47,勤務シフト一覧!$B$4:$D$106,3,FALSE)),\"\",VLOOKUP(I47,勤務シフト一覧!$B$4:$D$106,3,FALSE))","v":""},{"$f":"IF(ISERROR(VLOOKUP(J47,勤務シフト一覧!$B$4:$D$106,3,FALSE)),\"\",VLOOKUP(J47,勤務シフト一覧!$B$4:$D$106,3,FALSE))","v":""},{"$f":"IF(ISERROR(VLOOKUP(K47,勤務シフト一覧!$B$4:$D$106,3,FALSE)),\"\",VLOOKUP(K47,勤務シフト一覧!$B$4:$D$106,3,FALSE))","v":""},{"$f":"IF(ISERROR(VLOOKUP(L47,勤務シフト一覧!$B$4:$D$106,3,FALSE)),\"\",VLOOKUP(L47,勤務シフト一覧!$B$4:$D$106,3,FALSE))","v":""},{"$f":"IF(ISERROR(VLOOKUP(M47,勤務シフト一覧!$B$4:$D$106,3,FALSE)),\"\",VLOOKUP(M47,勤務シフト一覧!$B$4:$D$106,3,FALSE))","v":""},{"$f":"IF(ISERROR(VLOOKUP(N47,勤務シフト一覧!$B$4:$D$106,3,FALSE)),\"\",VLOOKUP(N47,勤務シフト一覧!$B$4:$D$106,3,FALSE))","v":""},{"$f":"IF(ISERROR(VLOOKUP(O47,勤務シフト一覧!$B$4:$D$106,3,FALSE)),\"\",VLOOKUP(O47,勤務シフト一覧!$B$4:$D$106,3,FALSE))","v":""},{"$f":"IF(ISERROR(VLOOKUP(P47,勤務シフト一覧!$B$4:$D$106,3,FALSE)),\"\",VLOOKUP(P47,勤務シフト一覧!$B$4:$D$106,3,FALSE))","v":""},{"$f":"IF(ISERROR(VLOOKUP(Q47,勤務シフト一覧!$B$4:$D$106,3,FALSE)),\"\",VLOOKUP(Q47,勤務シフト一覧!$B$4:$D$106,3,FALSE))","v":""},{"$f":"IF(ISERROR(VLOOKUP(R47,勤務シフト一覧!$B$4:$D$106,3,FALSE)),\"\",VLOOKUP(R47,勤務シフト一覧!$B$4:$D$106,3,FALSE))","v":""},{"$f":"IF(ISERROR(VLOOKUP(S47,勤務シフト一覧!$B$4:$D$106,3,FALSE)),\"\",VLOOKUP(S47,勤務シフト一覧!$B$4:$D$106,3,FALSE))","v":""},{"$f":"IF(ISERROR(VLOOKUP(T47,勤務シフト一覧!$B$4:$D$106,3,FALSE)),\"\",VLOOKUP(T47,勤務シフト一覧!$B$4:$D$106,3,FALSE))","v":""},{"$f":"IF(ISERROR(VLOOKUP(U47,勤務シフト一覧!$B$4:$D$106,3,FALSE)),\"\",VLOOKUP(U47,勤務シフト一覧!$B$4:$D$106,3,FALSE))","v":""},{"$f":"IF(ISERROR(VLOOKUP(V47,勤務シフト一覧!$B$4:$D$106,3,FALSE)),\"\",VLOOKUP(V47,勤務シフト一覧!$B$4:$D$106,3,FALSE))","v":""},{"$f":"IF(ISERROR(VLOOKUP(W47,勤務シフト一覧!$B$4:$D$106,3,FALSE)),\"\",VLOOKUP(W47,勤務シフト一覧!$B$4:$D$106,3,FALSE))","v":""},{"$f":"IF(ISERROR(VLOOKUP(X47,勤務シフト一覧!$B$4:$D$106,3,FALSE)),\"\",VLOOKUP(X47,勤務シフト一覧!$B$4:$D$106,3,FALSE))","v":""},{"$f":"IF(ISERROR(VLOOKUP(Y47,勤務シフト一覧!$B$4:$D$106,3,FALSE)),\"\",VLOOKUP(Y47,勤務シフト一覧!$B$4:$D$106,3,FALSE))","v":""},{"$f":"IF(ISERROR(VLOOKUP(Z47,勤務シフト一覧!$B$4:$D$106,3,FALSE)),\"\",VLOOKUP(Z47,勤務シフト一覧!$B$4:$D$106,3,FALSE))","v":""},{"$f":"IF(ISERROR(VLOOKUP(AA47,勤務シフト一覧!$B$4:$D$106,3,FALSE)),\"\",VLOOKUP(AA47,勤務シフト一覧!$B$4:$D$106,3,FALSE))","v":""},{"$f":"IF(ISERROR(VLOOKUP(AB47,勤務シフト一覧!$B$4:$D$106,3,FALSE)),\"\",VLOOKUP(AB47,勤務シフト一覧!$B$4:$D$106,3,FALSE))","v":""},{"$f":"IF(ISERROR(VLOOKUP(AC47,勤務シフト一覧!$B$4:$D$106,3,FALSE)),\"\",VLOOKUP(AC47,勤務シフト一覧!$B$4:$D$106,3,FALSE))","v":""},{"$f":"IF(ISERROR(VLOOKUP(AD47,勤務シフト一覧!$B$4:$D$106,3,FALSE)),\"\",VLOOKUP(AD47,勤務シフト一覧!$B$4:$D$106,3,FALSE))","v":""},{"$f":"IF(ISERROR(VLOOKUP(AE47,勤務シフト一覧!$B$4:$D$106,3,FALSE)),\"\",VLOOKUP(AE47,勤務シフト一覧!$B$4:$D$106,3,FALSE))","v":""},{"$f":"IF(ISERROR(VLOOKUP(AF47,勤務シフト一覧!$B$4:$D$106,3,FALSE)),\"\",VLOOKUP(AF47,勤務シフト一覧!$B$4:$D$106,3,FALSE))","v":""},{"$f":"IF(ISERROR(VLOOKUP(AG47,勤務シフト一覧!$B$4:$D$106,3,FALSE)),\"\",VLOOKUP(AG47,勤務シフト一覧!$B$4:$D$106,3,FALSE))","v":""},{"$f":"IF(ISERROR(VLOOKUP(AH47,勤務シフト一覧!$B$4:$D$106,3,FALSE)),\"\",VLOOKUP(AH47,勤務シフト一覧!$B$4:$D$106,3,FALSE))","v":""},0,0,0,0,0,0,0,0,0,0,null,null,{"$f":"IF(勤務シフト一覧!$D47<>0,IF(勤務シフト一覧!$B47<> 0,勤務シフト一覧!$B47,\"\"),\"\")","v":"特年"}]
[{"$f":"IF(LEN(職員一覧!B23)<>0,職員一覧!B23,\"\")","v":""},{"$f":"IF(LEN(職員一覧!C23)<>0,職員一覧!C23,\"\")","v":""},"予定",null,null,null,null,null,null,null,null,null,null,null,null,null,null,null,null,null,null,null,null,null,null,null,null,null,null,null,null,null,null,null,{"$f":"IF(ISERROR(VLOOKUP(D48,勤務シフト一覧!$B$4:$C$106,2,FALSE)),\"\",VLOOKUP(D48,勤務シフト一覧!$B$4:$C$106,2,FALSE))","v":""},{"$f":"IF(ISERROR(VLOOKUP(E48,勤務シフト一覧!$B$4:$C$106,2,FALSE)),\"\",VLOOKUP(E48,勤務シフト一覧!$B$4:$C$106,2,FALSE))","v":""},{"$f":"IF(ISERROR(VLOOKUP(F48,勤務シフト一覧!$B$4:$C$106,2,FALSE)),\"\",VLOOKUP(F48,勤務シフト一覧!$B$4:$C$106,2,FALSE))","v":""},{"$f":"IF(ISERROR(VLOOKUP(G48,勤務シフト一覧!$B$4:$C$106,2,FALSE)),\"\",VLOOKUP(G48,勤務シフト一覧!$B$4:$C$106,2,FALSE))","v":""},{"$f":"IF(ISERROR(VLOOKUP(H48,勤務シフト一覧!$B$4:$C$106,2,FALSE)),\"\",VLOOKUP(H48,勤務シフト一覧!$B$4:$C$106,2,FALSE))","v":""},{"$f":"IF(ISERROR(VLOOKUP(I48,勤務シフト一覧!$B$4:$C$106,2,FALSE)),\"\",VLOOKUP(I48,勤務シフト一覧!$B$4:$C$106,2,FALSE))","v":""},{"$f":"IF(ISERROR(VLOOKUP(J48,勤務シフト一覧!$B$4:$C$106,2,FALSE)),\"\",VLOOKUP(J48,勤務シフト一覧!$B$4:$C$106,2,FALSE))","v":""},{"$f":"IF(ISERROR(VLOOKUP(K48,勤務シフト一覧!$B$4:$C$106,2,FALSE)),\"\",VLOOKUP(K48,勤務シフト一覧!$B$4:$C$106,2,FALSE))","v":""},{"$f":"IF(ISERROR(VLOOKUP(L48,勤務シフト一覧!$B$4:$C$106,2,FALSE)),\"\",VLOOKUP(L48,勤務シフト一覧!$B$4:$C$106,2,FALSE))","v":""},{"$f":"IF(ISERROR(VLOOKUP(M48,勤務シフト一覧!$B$4:$C$106,2,FALSE)),\"\",VLOOKUP(M48,勤務シフト一覧!$B$4:$C$106,2,FALSE))","v":""},{"$f":"IF(ISERROR(VLOOKUP(N48,勤務シフト一覧!$B$4:$C$106,2,FALSE)),\"\",VLOOKUP(N48,勤務シフト一覧!$B$4:$C$106,2,FALSE))","v":""},{"$f":"IF(ISERROR(VLOOKUP(O48,勤務シフト一覧!$B$4:$C$106,2,FALSE)),\"\",VLOOKUP(O48,勤務シフト一覧!$B$4:$C$106,2,FALSE))","v":""},{"$f":"IF(ISERROR(VLOOKUP(P48,勤務シフト一覧!$B$4:$C$106,2,FALSE)),\"\",VLOOKUP(P48,勤務シフト一覧!$B$4:$C$106,2,FALSE))","v":""},{"$f":"IF(ISERROR(VLOOKUP(Q48,勤務シフト一覧!$B$4:$C$106,2,FALSE)),\"\",VLOOKUP(Q48,勤務シフト一覧!$B$4:$C$106,2,FALSE))","v":""},{"$f":"IF(ISERROR(VLOOKUP(R48,勤務シフト一覧!$B$4:$C$106,2,FALSE)),\"\",VLOOKUP(R48,勤務シフト一覧!$B$4:$C$106,2,FALSE))","v":""},{"$f":"IF(ISERROR(VLOOKUP(S48,勤務シフト一覧!$B$4:$C$106,2,FALSE)),\"\",VLOOKUP(S48,勤務シフト一覧!$B$4:$C$106,2,FALSE))","v":""},{"$f":"IF(ISERROR(VLOOKUP(T48,勤務シフト一覧!$B$4:$C$106,2,FALSE)),\"\",VLOOKUP(T48,勤務シフト一覧!$B$4:$C$106,2,FALSE))","v":""},{"$f":"IF(ISERROR(VLOOKUP(U48,勤務シフト一覧!$B$4:$C$106,2,FALSE)),\"\",VLOOKUP(U48,勤務シフト一覧!$B$4:$C$106,2,FALSE))","v":""},{"$f":"IF(ISERROR(VLOOKUP(V48,勤務シフト一覧!$B$4:$C$106,2,FALSE)),\"\",VLOOKUP(V48,勤務シフト一覧!$B$4:$C$106,2,FALSE))","v":""},{"$f":"IF(ISERROR(VLOOKUP(W48,勤務シフト一覧!$B$4:$C$106,2,FALSE)),\"\",VLOOKUP(W48,勤務シフト一覧!$B$4:$C$106,2,FALSE))","v":""},{"$f":"IF(ISERROR(VLOOKUP(X48,勤務シフト一覧!$B$4:$C$106,2,FALSE)),\"\",VLOOKUP(X48,勤務シフト一覧!$B$4:$C$106,2,FALSE))","v":""},{"$f":"IF(ISERROR(VLOOKUP(Y48,勤務シフト一覧!$B$4:$C$106,2,FALSE)),\"\",VLOOKUP(Y48,勤務シフト一覧!$B$4:$C$106,2,FALSE))","v":""},{"$f":"IF(ISERROR(VLOOKUP(Z48,勤務シフト一覧!$B$4:$C$106,2,FALSE)),\"\",VLOOKUP(Z48,勤務シフト一覧!$B$4:$C$106,2,FALSE))","v":""},{"$f":"IF(ISERROR(VLOOKUP(AA48,勤務シフト一覧!$B$4:$C$106,2,FALSE)),\"\",VLOOKUP(AA48,勤務シフト一覧!$B$4:$C$106,2,FALSE))","v":""},{"$f":"IF(ISERROR(VLOOKUP(AB48,勤務シフト一覧!$B$4:$C$106,2,FALSE)),\"\",VLOOKUP(AB48,勤務シフト一覧!$B$4:$C$106,2,FALSE))","v":""},{"$f":"IF(ISERROR(VLOOKUP(AC48,勤務シフト一覧!$B$4:$C$106,2,FALSE)),\"\",VLOOKUP(AC48,勤務シフト一覧!$B$4:$C$106,2,FALSE))","v":""},{"$f":"IF(ISERROR(VLOOKUP(AD48,勤務シフト一覧!$B$4:$C$106,2,FALSE)),\"\",VLOOKUP(AD48,勤務シフト一覧!$B$4:$C$106,2,FALSE))","v":""},{"$f":"IF(ISERROR(VLOOKUP(AE48,勤務シフト一覧!$B$4:$C$106,2,FALSE)),\"\",VLOOKUP(AE48,勤務シフト一覧!$B$4:$C$106,2,FALSE))","v":""},{"$f":"IF(ISERROR(VLOOKUP(AF48,勤務シフト一覧!$B$4:$C$106,2,FALSE)),\"\",VLOOKUP(AF48,勤務シフト一覧!$B$4:$C$106,2,FALSE))","v":""},{"$f":"IF(ISERROR(VLOOKUP(AG48,勤務シフト一覧!$B$4:$C$106,2,FALSE)),\"\",VLOOKUP(AG48,勤務シフト一覧!$B$4:$C$106,2,FALSE))","v":""},{"$f":"IF(ISERROR(VLOOKUP(AH48,勤務シフト一覧!$B$4:$C$106,2,FALSE)),\"\",VLOOKUP(AH48,勤務シフト一覧!$B$4:$C$106,2,FALSE))","v":""},null,{"$f":"IF(ISERROR(VLOOKUP(D48,勤務シフト一覧!$B$4:$D$106,3,FALSE)),\"\",VLOOKUP(D48,勤務シフト一覧!$B$4:$D$106,3,FALSE))","v":""},{"$f":"IF(ISERROR(VLOOKUP(E48,勤務シフト一覧!$B$4:$D$106,3,FALSE)),\"\",VLOOKUP(E48,勤務シフト一覧!$B$4:$D$106,3,FALSE))","v":""},{"$f":"IF(ISERROR(VLOOKUP(F48,勤務シフト一覧!$B$4:$D$106,3,FALSE)),\"\",VLOOKUP(F48,勤務シフト一覧!$B$4:$D$106,3,FALSE))","v":""},{"$f":"IF(ISERROR(VLOOKUP(G48,勤務シフト一覧!$B$4:$D$106,3,FALSE)),\"\",VLOOKUP(G48,勤務シフト一覧!$B$4:$D$106,3,FALSE))","v":""},{"$f":"IF(ISERROR(VLOOKUP(H48,勤務シフト一覧!$B$4:$D$106,3,FALSE)),\"\",VLOOKUP(H48,勤務シフト一覧!$B$4:$D$106,3,FALSE))","v":""},{"$f":"IF(ISERROR(VLOOKUP(I48,勤務シフト一覧!$B$4:$D$106,3,FALSE)),\"\",VLOOKUP(I48,勤務シフト一覧!$B$4:$D$106,3,FALSE))","v":""},{"$f":"IF(ISERROR(VLOOKUP(J48,勤務シフト一覧!$B$4:$D$106,3,FALSE)),\"\",VLOOKUP(J48,勤務シフト一覧!$B$4:$D$106,3,FALSE))","v":""},{"$f":"IF(ISERROR(VLOOKUP(K48,勤務シフト一覧!$B$4:$D$106,3,FALSE)),\"\",VLOOKUP(K48,勤務シフト一覧!$B$4:$D$106,3,FALSE))","v":""},{"$f":"IF(ISERROR(VLOOKUP(L48,勤務シフト一覧!$B$4:$D$106,3,FALSE)),\"\",VLOOKUP(L48,勤務シフト一覧!$B$4:$D$106,3,FALSE))","v":""},{"$f":"IF(ISERROR(VLOOKUP(M48,勤務シフト一覧!$B$4:$D$106,3,FALSE)),\"\",VLOOKUP(M48,勤務シフト一覧!$B$4:$D$106,3,FALSE))","v":""},{"$f":"IF(ISERROR(VLOOKUP(N48,勤務シフト一覧!$B$4:$D$106,3,FALSE)),\"\",VLOOKUP(N48,勤務シフト一覧!$B$4:$D$106,3,FALSE))","v":""},{"$f":"IF(ISERROR(VLOOKUP(O48,勤務シフト一覧!$B$4:$D$106,3,FALSE)),\"\",VLOOKUP(O48,勤務シフト一覧!$B$4:$D$106,3,FALSE))","v":""},{"$f":"IF(ISERROR(VLOOKUP(P48,勤務シフト一覧!$B$4:$D$106,3,FALSE)),\"\",VLOOKUP(P48,勤務シフト一覧!$B$4:$D$106,3,FALSE))","v":""},{"$f":"IF(ISERROR(VLOOKUP(Q48,勤務シフト一覧!$B$4:$D$106,3,FALSE)),\"\",VLOOKUP(Q48,勤務シフト一覧!$B$4:$D$106,3,FALSE))","v":""},{"$f":"IF(ISERROR(VLOOKUP(R48,勤務シフト一覧!$B$4:$D$106,3,FALSE)),\"\",VLOOKUP(R48,勤務シフト一覧!$B$4:$D$106,3,FALSE))","v":""},{"$f":"IF(ISERROR(VLOOKUP(S48,勤務シフト一覧!$B$4:$D$106,3,FALSE)),\"\",VLOOKUP(S48,勤務シフト一覧!$B$4:$D$106,3,FALSE))","v":""},{"$f":"IF(ISERROR(VLOOKUP(T48,勤務シフト一覧!$B$4:$D$106,3,FALSE)),\"\",VLOOKUP(T48,勤務シフト一覧!$B$4:$D$106,3,FALSE))","v":""},{"$f":"IF(ISERROR(VLOOKUP(U48,勤務シフト一覧!$B$4:$D$106,3,FALSE)),\"\",VLOOKUP(U48,勤務シフト一覧!$B$4:$D$106,3,FALSE))","v":""},{"$f":"IF(ISERROR(VLOOKUP(V48,勤務シフト一覧!$B$4:$D$106,3,FALSE)),\"\",VLOOKUP(V48,勤務シフト一覧!$B$4:$D$106,3,FALSE))","v":""},{"$f":"IF(ISERROR(VLOOKUP(W48,勤務シフト一覧!$B$4:$D$106,3,FALSE)),\"\",VLOOKUP(W48,勤務シフト一覧!$B$4:$D$106,3,FALSE))","v":""},{"$f":"IF(ISERROR(VLOOKUP(X48,勤務シフト一覧!$B$4:$D$106,3,FALSE)),\"\",VLOOKUP(X48,勤務シフト一覧!$B$4:$D$106,3,FALSE))","v":""},{"$f":"IF(ISERROR(VLOOKUP(Y48,勤務シフト一覧!$B$4:$D$106,3,FALSE)),\"\",VLOOKUP(Y48,勤務シフト一覧!$B$4:$D$106,3,FALSE))","v":""},{"$f":"IF(ISERROR(VLOOKUP(Z48,勤務シフト一覧!$B$4:$D$106,3,FALSE)),\"\",VLOOKUP(Z48,勤務シフト一覧!$B$4:$D$106,3,FALSE))","v":""},{"$f":"IF(ISERROR(VLOOKUP(AA48,勤務シフト一覧!$B$4:$D$106,3,FALSE)),\"\",VLOOKUP(AA48,勤務シフト一覧!$B$4:$D$106,3,FALSE))","v":""},{"$f":"IF(ISERROR(VLOOKUP(AB48,勤務シフト一覧!$B$4:$D$106,3,FALSE)),\"\",VLOOKUP(AB48,勤務シフト一覧!$B$4:$D$106,3,FALSE))","v":""},{"$f":"IF(ISERROR(VLOOKUP(AC48,勤務シフト一覧!$B$4:$D$106,3,FALSE)),\"\",VLOOKUP(AC48,勤務シフト一覧!$B$4:$D$106,3,FALSE))","v":""},{"$f":"IF(ISERROR(VLOOKUP(AD48,勤務シフト一覧!$B$4:$D$106,3,FALSE)),\"\",VLOOKUP(AD48,勤務シフト一覧!$B$4:$D$106,3,FALSE))","v":""},{"$f":"IF(ISERROR(VLOOKUP(AE48,勤務シフト一覧!$B$4:$D$106,3,FALSE)),\"\",VLOOKUP(AE48,勤務シフト一覧!$B$4:$D$106,3,FALSE))","v":""},{"$f":"IF(ISERROR(VLOOKUP(AF48,勤務シフト一覧!$B$4:$D$106,3,FALSE)),\"\",VLOOKUP(AF48,勤務シフト一覧!$B$4:$D$106,3,FALSE))","v":""},{"$f":"IF(ISERROR(VLOOKUP(AG48,勤務シフト一覧!$B$4:$D$106,3,FALSE)),\"\",VLOOKUP(AG48,勤務シフト一覧!$B$4:$D$106,3,FALSE))","v":""},{"$f":"IF(ISERROR(VLOOKUP(AH48,勤務シフト一覧!$B$4:$D$106,3,FALSE)),\"\",VLOOKUP(AH48,勤務シフト一覧!$B$4:$D$106,3,FALSE))","v":""},0,0,0,0,0,0,0,0,0,0,{"$f":"IF(LEN(職員一覧!D23)<>0,職員一覧!D23,\"\")","v":""},null,{"$f":"IF(勤務シフト一覧!$D48<>0,IF(勤務シフト一覧!$B48<> 0,勤務シフト一覧!$B48,\"\"),\"\")","v":"*日"}]
[null,null,"実施",null,null,null,null,null,null,null,null,null,null,null,null,null,null,null,null,null,null,null,null,null,null,null,null,null,null,null,null,null,null,null,{"$f":"IF(ISERROR(VLOOKUP(D49,勤務シフト一覧!$B$4:$C$106,2,FALSE)),\"\",VLOOKUP(D49,勤務シフト一覧!$B$4:$C$106,2,FALSE))","v":""},{"$f":"IF(ISERROR(VLOOKUP(E49,勤務シフト一覧!$B$4:$C$106,2,FALSE)),\"\",VLOOKUP(E49,勤務シフト一覧!$B$4:$C$106,2,FALSE))","v":""},{"$f":"IF(ISERROR(VLOOKUP(F49,勤務シフト一覧!$B$4:$C$106,2,FALSE)),\"\",VLOOKUP(F49,勤務シフト一覧!$B$4:$C$106,2,FALSE))","v":""},{"$f":"IF(ISERROR(VLOOKUP(G49,勤務シフト一覧!$B$4:$C$106,2,FALSE)),\"\",VLOOKUP(G49,勤務シフト一覧!$B$4:$C$106,2,FALSE))","v":""},{"$f":"IF(ISERROR(VLOOKUP(H49,勤務シフト一覧!$B$4:$C$106,2,FALSE)),\"\",VLOOKUP(H49,勤務シフト一覧!$B$4:$C$106,2,FALSE))","v":""},{"$f":"IF(ISERROR(VLOOKUP(I49,勤務シフト一覧!$B$4:$C$106,2,FALSE)),\"\",VLOOKUP(I49,勤務シフト一覧!$B$4:$C$106,2,FALSE))","v":""},{"$f":"IF(ISERROR(VLOOKUP(J49,勤務シフト一覧!$B$4:$C$106,2,FALSE)),\"\",VLOOKUP(J49,勤務シフト一覧!$B$4:$C$106,2,FALSE))","v":""},{"$f":"IF(ISERROR(VLOOKUP(K49,勤務シフト一覧!$B$4:$C$106,2,FALSE)),\"\",VLOOKUP(K49,勤務シフト一覧!$B$4:$C$106,2,FALSE))","v":""},{"$f":"IF(ISERROR(VLOOKUP(L49,勤務シフト一覧!$B$4:$C$106,2,FALSE)),\"\",VLOOKUP(L49,勤務シフト一覧!$B$4:$C$106,2,FALSE))","v":""},{"$f":"IF(ISERROR(VLOOKUP(M49,勤務シフト一覧!$B$4:$C$106,2,FALSE)),\"\",VLOOKUP(M49,勤務シフト一覧!$B$4:$C$106,2,FALSE))","v":""},{"$f":"IF(ISERROR(VLOOKUP(N49,勤務シフト一覧!$B$4:$C$106,2,FALSE)),\"\",VLOOKUP(N49,勤務シフト一覧!$B$4:$C$106,2,FALSE))","v":""},{"$f":"IF(ISERROR(VLOOKUP(O49,勤務シフト一覧!$B$4:$C$106,2,FALSE)),\"\",VLOOKUP(O49,勤務シフト一覧!$B$4:$C$106,2,FALSE))","v":""},{"$f":"IF(ISERROR(VLOOKUP(P49,勤務シフト一覧!$B$4:$C$106,2,FALSE)),\"\",VLOOKUP(P49,勤務シフト一覧!$B$4:$C$106,2,FALSE))","v":""},{"$f":"IF(ISERROR(VLOOKUP(Q49,勤務シフト一覧!$B$4:$C$106,2,FALSE)),\"\",VLOOKUP(Q49,勤務シフト一覧!$B$4:$C$106,2,FALSE))","v":""},{"$f":"IF(ISERROR(VLOOKUP(R49,勤務シフト一覧!$B$4:$C$106,2,FALSE)),\"\",VLOOKUP(R49,勤務シフト一覧!$B$4:$C$106,2,FALSE))","v":""},{"$f":"IF(ISERROR(VLOOKUP(S49,勤務シフト一覧!$B$4:$C$106,2,FALSE)),\"\",VLOOKUP(S49,勤務シフト一覧!$B$4:$C$106,2,FALSE))","v":""},{"$f":"IF(ISERROR(VLOOKUP(T49,勤務シフト一覧!$B$4:$C$106,2,FALSE)),\"\",VLOOKUP(T49,勤務シフト一覧!$B$4:$C$106,2,FALSE))","v":""},{"$f":"IF(ISERROR(VLOOKUP(U49,勤務シフト一覧!$B$4:$C$106,2,FALSE)),\"\",VLOOKUP(U49,勤務シフト一覧!$B$4:$C$106,2,FALSE))","v":""},{"$f":"IF(ISERROR(VLOOKUP(V49,勤務シフト一覧!$B$4:$C$106,2,FALSE)),\"\",VLOOKUP(V49,勤務シフト一覧!$B$4:$C$106,2,FALSE))","v":""},{"$f":"IF(ISERROR(VLOOKUP(W49,勤務シフト一覧!$B$4:$C$106,2,FALSE)),\"\",VLOOKUP(W49,勤務シフト一覧!$B$4:$C$106,2,FALSE))","v":""},{"$f":"IF(ISERROR(VLOOKUP(X49,勤務シフト一覧!$B$4:$C$106,2,FALSE)),\"\",VLOOKUP(X49,勤務シフト一覧!$B$4:$C$106,2,FALSE))","v":""},{"$f":"IF(ISERROR(VLOOKUP(Y49,勤務シフト一覧!$B$4:$C$106,2,FALSE)),\"\",VLOOKUP(Y49,勤務シフト一覧!$B$4:$C$106,2,FALSE))","v":""},{"$f":"IF(ISERROR(VLOOKUP(Z49,勤務シフト一覧!$B$4:$C$106,2,FALSE)),\"\",VLOOKUP(Z49,勤務シフト一覧!$B$4:$C$106,2,FALSE))","v":""},{"$f":"IF(ISERROR(VLOOKUP(AA49,勤務シフト一覧!$B$4:$C$106,2,FALSE)),\"\",VLOOKUP(AA49,勤務シフト一覧!$B$4:$C$106,2,FALSE))","v":""},{"$f":"IF(ISERROR(VLOOKUP(AB49,勤務シフト一覧!$B$4:$C$106,2,FALSE)),\"\",VLOOKUP(AB49,勤務シフト一覧!$B$4:$C$106,2,FALSE))","v":""},{"$f":"IF(ISERROR(VLOOKUP(AC49,勤務シフト一覧!$B$4:$C$106,2,FALSE)),\"\",VLOOKUP(AC49,勤務シフト一覧!$B$4:$C$106,2,FALSE))","v":""},{"$f":"IF(ISERROR(VLOOKUP(AD49,勤務シフト一覧!$B$4:$C$106,2,FALSE)),\"\",VLOOKUP(AD49,勤務シフト一覧!$B$4:$C$106,2,FALSE))","v":""},{"$f":"IF(ISERROR(VLOOKUP(AE49,勤務シフト一覧!$B$4:$C$106,2,FALSE)),\"\",VLOOKUP(AE49,勤務シフト一覧!$B$4:$C$106,2,FALSE))","v":""},{"$f":"IF(ISERROR(VLOOKUP(AF49,勤務シフト一覧!$B$4:$C$106,2,FALSE)),\"\",VLOOKUP(AF49,勤務シフト一覧!$B$4:$C$106,2,FALSE))","v":""},{"$f":"IF(ISERROR(VLOOKUP(AG49,勤務シフト一覧!$B$4:$C$106,2,FALSE)),\"\",VLOOKUP(AG49,勤務シフト一覧!$B$4:$C$106,2,FALSE))","v":""},{"$f":"IF(ISERROR(VLOOKUP(AH49,勤務シフト一覧!$B$4:$C$106,2,FALSE)),\"\",VLOOKUP(AH49,勤務シフト一覧!$B$4:$C$106,2,FALSE))","v":""},null,{"$f":"IF(ISERROR(VLOOKUP(D49,勤務シフト一覧!$B$4:$D$106,3,FALSE)),\"\",VLOOKUP(D49,勤務シフト一覧!$B$4:$D$106,3,FALSE))","v":""},{"$f":"IF(ISERROR(VLOOKUP(E49,勤務シフト一覧!$B$4:$D$106,3,FALSE)),\"\",VLOOKUP(E49,勤務シフト一覧!$B$4:$D$106,3,FALSE))","v":""},{"$f":"IF(ISERROR(VLOOKUP(F49,勤務シフト一覧!$B$4:$D$106,3,FALSE)),\"\",VLOOKUP(F49,勤務シフト一覧!$B$4:$D$106,3,FALSE))","v":""},{"$f":"IF(ISERROR(VLOOKUP(G49,勤務シフト一覧!$B$4:$D$106,3,FALSE)),\"\",VLOOKUP(G49,勤務シフト一覧!$B$4:$D$106,3,FALSE))","v":""},{"$f":"IF(ISERROR(VLOOKUP(H49,勤務シフト一覧!$B$4:$D$106,3,FALSE)),\"\",VLOOKUP(H49,勤務シフト一覧!$B$4:$D$106,3,FALSE))","v":""},{"$f":"IF(ISERROR(VLOOKUP(I49,勤務シフト一覧!$B$4:$D$106,3,FALSE)),\"\",VLOOKUP(I49,勤務シフト一覧!$B$4:$D$106,3,FALSE))","v":""},{"$f":"IF(ISERROR(VLOOKUP(J49,勤務シフト一覧!$B$4:$D$106,3,FALSE)),\"\",VLOOKUP(J49,勤務シフト一覧!$B$4:$D$106,3,FALSE))","v":""},{"$f":"IF(ISERROR(VLOOKUP(K49,勤務シフト一覧!$B$4:$D$106,3,FALSE)),\"\",VLOOKUP(K49,勤務シフト一覧!$B$4:$D$106,3,FALSE))","v":""},{"$f":"IF(ISERROR(VLOOKUP(L49,勤務シフト一覧!$B$4:$D$106,3,FALSE)),\"\",VLOOKUP(L49,勤務シフト一覧!$B$4:$D$106,3,FALSE))","v":""},{"$f":"IF(ISERROR(VLOOKUP(M49,勤務シフト一覧!$B$4:$D$106,3,FALSE)),\"\",VLOOKUP(M49,勤務シフト一覧!$B$4:$D$106,3,FALSE))","v":""},{"$f":"IF(ISERROR(VLOOKUP(N49,勤務シフト一覧!$B$4:$D$106,3,FALSE)),\"\",VLOOKUP(N49,勤務シフト一覧!$B$4:$D$106,3,FALSE))","v":""},{"$f":"IF(ISERROR(VLOOKUP(O49,勤務シフト一覧!$B$4:$D$106,3,FALSE)),\"\",VLOOKUP(O49,勤務シフト一覧!$B$4:$D$106,3,FALSE))","v":""},{"$f":"IF(ISERROR(VLOOKUP(P49,勤務シフト一覧!$B$4:$D$106,3,FALSE)),\"\",VLOOKUP(P49,勤務シフト一覧!$B$4:$D$106,3,FALSE))","v":""},{"$f":"IF(ISERROR(VLOOKUP(Q49,勤務シフト一覧!$B$4:$D$106,3,FALSE)),\"\",VLOOKUP(Q49,勤務シフト一覧!$B$4:$D$106,3,FALSE))","v":""},{"$f":"IF(ISERROR(VLOOKUP(R49,勤務シフト一覧!$B$4:$D$106,3,FALSE)),\"\",VLOOKUP(R49,勤務シフト一覧!$B$4:$D$106,3,FALSE))","v":""},{"$f":"IF(ISERROR(VLOOKUP(S49,勤務シフト一覧!$B$4:$D$106,3,FALSE)),\"\",VLOOKUP(S49,勤務シフト一覧!$B$4:$D$106,3,FALSE))","v":""},{"$f":"IF(ISERROR(VLOOKUP(T49,勤務シフト一覧!$B$4:$D$106,3,FALSE)),\"\",VLOOKUP(T49,勤務シフト一覧!$B$4:$D$106,3,FALSE))","v":""},{"$f":"IF(ISERROR(VLOOKUP(U49,勤務シフト一覧!$B$4:$D$106,3,FALSE)),\"\",VLOOKUP(U49,勤務シフト一覧!$B$4:$D$106,3,FALSE))","v":""},{"$f":"IF(ISERROR(VLOOKUP(V49,勤務シフト一覧!$B$4:$D$106,3,FALSE)),\"\",VLOOKUP(V49,勤務シフト一覧!$B$4:$D$106,3,FALSE))","v":""},{"$f":"IF(ISERROR(VLOOKUP(W49,勤務シフト一覧!$B$4:$D$106,3,FALSE)),\"\",VLOOKUP(W49,勤務シフト一覧!$B$4:$D$106,3,FALSE))","v":""},{"$f":"IF(ISERROR(VLOOKUP(X49,勤務シフト一覧!$B$4:$D$106,3,FALSE)),\"\",VLOOKUP(X49,勤務シフト一覧!$B$4:$D$106,3,FALSE))","v":""},{"$f":"IF(ISERROR(VLOOKUP(Y49,勤務シフト一覧!$B$4:$D$106,3,FALSE)),\"\",VLOOKUP(Y49,勤務シフト一覧!$B$4:$D$106,3,FALSE))","v":""},{"$f":"IF(ISERROR(VLOOKUP(Z49,勤務シフト一覧!$B$4:$D$106,3,FALSE)),\"\",VLOOKUP(Z49,勤務シフト一覧!$B$4:$D$106,3,FALSE))","v":""},{"$f":"IF(ISERROR(VLOOKUP(AA49,勤務シフト一覧!$B$4:$D$106,3,FALSE)),\"\",VLOOKUP(AA49,勤務シフト一覧!$B$4:$D$106,3,FALSE))","v":""},{"$f":"IF(ISERROR(VLOOKUP(AB49,勤務シフト一覧!$B$4:$D$106,3,FALSE)),\"\",VLOOKUP(AB49,勤務シフト一覧!$B$4:$D$106,3,FALSE))","v":""},{"$f":"IF(ISERROR(VLOOKUP(AC49,勤務シフト一覧!$B$4:$D$106,3,FALSE)),\"\",VLOOKUP(AC49,勤務シフト一覧!$B$4:$D$106,3,FALSE))","v":""},{"$f":"IF(ISERROR(VLOOKUP(AD49,勤務シフト一覧!$B$4:$D$106,3,FALSE)),\"\",VLOOKUP(AD49,勤務シフト一覧!$B$4:$D$106,3,FALSE))","v":""},{"$f":"IF(ISERROR(VLOOKUP(AE49,勤務シフト一覧!$B$4:$D$106,3,FALSE)),\"\",VLOOKUP(AE49,勤務シフト一覧!$B$4:$D$106,3,FALSE))","v":""},{"$f":"IF(ISERROR(VLOOKUP(AF49,勤務シフト一覧!$B$4:$D$106,3,FALSE)),\"\",VLOOKUP(AF49,勤務シフト一覧!$B$4:$D$106,3,FALSE))","v":""},{"$f":"IF(ISERROR(VLOOKUP(AG49,勤務シフト一覧!$B$4:$D$106,3,FALSE)),\"\",VLOOKUP(AG49,勤務シフト一覧!$B$4:$D$106,3,FALSE))","v":""},{"$f":"IF(ISERROR(VLOOKUP(AH49,勤務シフト一覧!$B$4:$D$106,3,FALSE)),\"\",VLOOKUP(AH49,勤務シフト一覧!$B$4:$D$106,3,FALSE))","v":""},0,0,0,0,0,0,0,0,0,0,null,null,{"$f":"IF(勤務シフト一覧!$D49<>0,IF(勤務シフト一覧!$B49<> 0,勤務シフト一覧!$B49,\"\"),\"\")","v":"*準"}]
[{"$f":"IF(LEN(職員一覧!B24)<>0,職員一覧!B24,\"\")","v":""},{"$f":"IF(LEN(職員一覧!C24)<>0,職員一覧!C24,\"\")","v":""},"予定",null,null,null,null,null,null,null,null,null,null,null,null,null,null,null,null,null,null,null,null,null,null,null,null,null,null,null,null,null,null,null,{"$f":"IF(ISERROR(VLOOKUP(D50,勤務シフト一覧!$B$4:$C$106,2,FALSE)),\"\",VLOOKUP(D50,勤務シフト一覧!$B$4:$C$106,2,FALSE))","v":""},{"$f":"IF(ISERROR(VLOOKUP(E50,勤務シフト一覧!$B$4:$C$106,2,FALSE)),\"\",VLOOKUP(E50,勤務シフト一覧!$B$4:$C$106,2,FALSE))","v":""},{"$f":"IF(ISERROR(VLOOKUP(F50,勤務シフト一覧!$B$4:$C$106,2,FALSE)),\"\",VLOOKUP(F50,勤務シフト一覧!$B$4:$C$106,2,FALSE))","v":""},{"$f":"IF(ISERROR(VLOOKUP(G50,勤務シフト一覧!$B$4:$C$106,2,FALSE)),\"\",VLOOKUP(G50,勤務シフト一覧!$B$4:$C$106,2,FALSE))","v":""},{"$f":"IF(ISERROR(VLOOKUP(H50,勤務シフト一覧!$B$4:$C$106,2,FALSE)),\"\",VLOOKUP(H50,勤務シフト一覧!$B$4:$C$106,2,FALSE))","v":""},{"$f":"IF(ISERROR(VLOOKUP(I50,勤務シフト一覧!$B$4:$C$106,2,FALSE)),\"\",VLOOKUP(I50,勤務シフト一覧!$B$4:$C$106,2,FALSE))","v":""},{"$f":"IF(ISERROR(VLOOKUP(J50,勤務シフト一覧!$B$4:$C$106,2,FALSE)),\"\",VLOOKUP(J50,勤務シフト一覧!$B$4:$C$106,2,FALSE))","v":""},{"$f":"IF(ISERROR(VLOOKUP(K50,勤務シフト一覧!$B$4:$C$106,2,FALSE)),\"\",VLOOKUP(K50,勤務シフト一覧!$B$4:$C$106,2,FALSE))","v":""},{"$f":"IF(ISERROR(VLOOKUP(L50,勤務シフト一覧!$B$4:$C$106,2,FALSE)),\"\",VLOOKUP(L50,勤務シフト一覧!$B$4:$C$106,2,FALSE))","v":""},{"$f":"IF(ISERROR(VLOOKUP(M50,勤務シフト一覧!$B$4:$C$106,2,FALSE)),\"\",VLOOKUP(M50,勤務シフト一覧!$B$4:$C$106,2,FALSE))","v":""},{"$f":"IF(ISERROR(VLOOKUP(N50,勤務シフト一覧!$B$4:$C$106,2,FALSE)),\"\",VLOOKUP(N50,勤務シフト一覧!$B$4:$C$106,2,FALSE))","v":""},{"$f":"IF(ISERROR(VLOOKUP(O50,勤務シフト一覧!$B$4:$C$106,2,FALSE)),\"\",VLOOKUP(O50,勤務シフト一覧!$B$4:$C$106,2,FALSE))","v":""},{"$f":"IF(ISERROR(VLOOKUP(P50,勤務シフト一覧!$B$4:$C$106,2,FALSE)),\"\",VLOOKUP(P50,勤務シフト一覧!$B$4:$C$106,2,FALSE))","v":""},{"$f":"IF(ISERROR(VLOOKUP(Q50,勤務シフト一覧!$B$4:$C$106,2,FALSE)),\"\",VLOOKUP(Q50,勤務シフト一覧!$B$4:$C$106,2,FALSE))","v":""},{"$f":"IF(ISERROR(VLOOKUP(R50,勤務シフト一覧!$B$4:$C$106,2,FALSE)),\"\",VLOOKUP(R50,勤務シフト一覧!$B$4:$C$106,2,FALSE))","v":""},{"$f":"IF(ISERROR(VLOOKUP(S50,勤務シフト一覧!$B$4:$C$106,2,FALSE)),\"\",VLOOKUP(S50,勤務シフト一覧!$B$4:$C$106,2,FALSE))","v":""},{"$f":"IF(ISERROR(VLOOKUP(T50,勤務シフト一覧!$B$4:$C$106,2,FALSE)),\"\",VLOOKUP(T50,勤務シフト一覧!$B$4:$C$106,2,FALSE))","v":""},{"$f":"IF(ISERROR(VLOOKUP(U50,勤務シフト一覧!$B$4:$C$106,2,FALSE)),\"\",VLOOKUP(U50,勤務シフト一覧!$B$4:$C$106,2,FALSE))","v":""},{"$f":"IF(ISERROR(VLOOKUP(V50,勤務シフト一覧!$B$4:$C$106,2,FALSE)),\"\",VLOOKUP(V50,勤務シフト一覧!$B$4:$C$106,2,FALSE))","v":""},{"$f":"IF(ISERROR(VLOOKUP(W50,勤務シフト一覧!$B$4:$C$106,2,FALSE)),\"\",VLOOKUP(W50,勤務シフト一覧!$B$4:$C$106,2,FALSE))","v":""},{"$f":"IF(ISERROR(VLOOKUP(X50,勤務シフト一覧!$B$4:$C$106,2,FALSE)),\"\",VLOOKUP(X50,勤務シフト一覧!$B$4:$C$106,2,FALSE))","v":""},{"$f":"IF(ISERROR(VLOOKUP(Y50,勤務シフト一覧!$B$4:$C$106,2,FALSE)),\"\",VLOOKUP(Y50,勤務シフト一覧!$B$4:$C$106,2,FALSE))","v":""},{"$f":"IF(ISERROR(VLOOKUP(Z50,勤務シフト一覧!$B$4:$C$106,2,FALSE)),\"\",VLOOKUP(Z50,勤務シフト一覧!$B$4:$C$106,2,FALSE))","v":""},{"$f":"IF(ISERROR(VLOOKUP(AA50,勤務シフト一覧!$B$4:$C$106,2,FALSE)),\"\",VLOOKUP(AA50,勤務シフト一覧!$B$4:$C$106,2,FALSE))","v":""},{"$f":"IF(ISERROR(VLOOKUP(AB50,勤務シフト一覧!$B$4:$C$106,2,FALSE)),\"\",VLOOKUP(AB50,勤務シフト一覧!$B$4:$C$106,2,FALSE))","v":""},{"$f":"IF(ISERROR(VLOOKUP(AC50,勤務シフト一覧!$B$4:$C$106,2,FALSE)),\"\",VLOOKUP(AC50,勤務シフト一覧!$B$4:$C$106,2,FALSE))","v":""},{"$f":"IF(ISERROR(VLOOKUP(AD50,勤務シフト一覧!$B$4:$C$106,2,FALSE)),\"\",VLOOKUP(AD50,勤務シフト一覧!$B$4:$C$106,2,FALSE))","v":""},{"$f":"IF(ISERROR(VLOOKUP(AE50,勤務シフト一覧!$B$4:$C$106,2,FALSE)),\"\",VLOOKUP(AE50,勤務シフト一覧!$B$4:$C$106,2,FALSE))","v":""},{"$f":"IF(ISERROR(VLOOKUP(AF50,勤務シフト一覧!$B$4:$C$106,2,FALSE)),\"\",VLOOKUP(AF50,勤務シフト一覧!$B$4:$C$106,2,FALSE))","v":""},{"$f":"IF(ISERROR(VLOOKUP(AG50,勤務シフト一覧!$B$4:$C$106,2,FALSE)),\"\",VLOOKUP(AG50,勤務シフト一覧!$B$4:$C$106,2,FALSE))","v":""},{"$f":"IF(ISERROR(VLOOKUP(AH50,勤務シフト一覧!$B$4:$C$106,2,FALSE)),\"\",VLOOKUP(AH50,勤務シフト一覧!$B$4:$C$106,2,FALSE))","v":""},null,{"$f":"IF(ISERROR(VLOOKUP(D50,勤務シフト一覧!$B$4:$D$106,3,FALSE)),\"\",VLOOKUP(D50,勤務シフト一覧!$B$4:$D$106,3,FALSE))","v":""},{"$f":"IF(ISERROR(VLOOKUP(E50,勤務シフト一覧!$B$4:$D$106,3,FALSE)),\"\",VLOOKUP(E50,勤務シフト一覧!$B$4:$D$106,3,FALSE))","v":""},{"$f":"IF(ISERROR(VLOOKUP(F50,勤務シフト一覧!$B$4:$D$106,3,FALSE)),\"\",VLOOKUP(F50,勤務シフト一覧!$B$4:$D$106,3,FALSE))","v":""},{"$f":"IF(ISERROR(VLOOKUP(G50,勤務シフト一覧!$B$4:$D$106,3,FALSE)),\"\",VLOOKUP(G50,勤務シフト一覧!$B$4:$D$106,3,FALSE))","v":""},{"$f":"IF(ISERROR(VLOOKUP(H50,勤務シフト一覧!$B$4:$D$106,3,FALSE)),\"\",VLOOKUP(H50,勤務シフト一覧!$B$4:$D$106,3,FALSE))","v":""},{"$f":"IF(ISERROR(VLOOKUP(I50,勤務シフト一覧!$B$4:$D$106,3,FALSE)),\"\",VLOOKUP(I50,勤務シフト一覧!$B$4:$D$106,3,FALSE))","v":""},{"$f":"IF(ISERROR(VLOOKUP(J50,勤務シフト一覧!$B$4:$D$106,3,FALSE)),\"\",VLOOKUP(J50,勤務シフト一覧!$B$4:$D$106,3,FALSE))","v":""},{"$f":"IF(ISERROR(VLOOKUP(K50,勤務シフト一覧!$B$4:$D$106,3,FALSE)),\"\",VLOOKUP(K50,勤務シフト一覧!$B$4:$D$106,3,FALSE))","v":""},{"$f":"IF(ISERROR(VLOOKUP(L50,勤務シフト一覧!$B$4:$D$106,3,FALSE)),\"\",VLOOKUP(L50,勤務シフト一覧!$B$4:$D$106,3,FALSE))","v":""},{"$f":"IF(ISERROR(VLOOKUP(M50,勤務シフト一覧!$B$4:$D$106,3,FALSE)),\"\",VLOOKUP(M50,勤務シフト一覧!$B$4:$D$106,3,FALSE))","v":""},{"$f":"IF(ISERROR(VLOOKUP(N50,勤務シフト一覧!$B$4:$D$106,3,FALSE)),\"\",VLOOKUP(N50,勤務シフト一覧!$B$4:$D$106,3,FALSE))","v":""},{"$f":"IF(ISERROR(VLOOKUP(O50,勤務シフト一覧!$B$4:$D$106,3,FALSE)),\"\",VLOOKUP(O50,勤務シフト一覧!$B$4:$D$106,3,FALSE))","v":""},{"$f":"IF(ISERROR(VLOOKUP(P50,勤務シフト一覧!$B$4:$D$106,3,FALSE)),\"\",VLOOKUP(P50,勤務シフト一覧!$B$4:$D$106,3,FALSE))","v":""},{"$f":"IF(ISERROR(VLOOKUP(Q50,勤務シフト一覧!$B$4:$D$106,3,FALSE)),\"\",VLOOKUP(Q50,勤務シフト一覧!$B$4:$D$106,3,FALSE))","v":""},{"$f":"IF(ISERROR(VLOOKUP(R50,勤務シフト一覧!$B$4:$D$106,3,FALSE)),\"\",VLOOKUP(R50,勤務シフト一覧!$B$4:$D$106,3,FALSE))","v":""},{"$f":"IF(ISERROR(VLOOKUP(S50,勤務シフト一覧!$B$4:$D$106,3,FALSE)),\"\",VLOOKUP(S50,勤務シフト一覧!$B$4:$D$106,3,FALSE))","v":""},{"$f":"IF(ISERROR(VLOOKUP(T50,勤務シフト一覧!$B$4:$D$106,3,FALSE)),\"\",VLOOKUP(T50,勤務シフト一覧!$B$4:$D$106,3,FALSE))","v":""},{"$f":"IF(ISERROR(VLOOKUP(U50,勤務シフト一覧!$B$4:$D$106,3,FALSE)),\"\",VLOOKUP(U50,勤務シフト一覧!$B$4:$D$106,3,FALSE))","v":""},{"$f":"IF(ISERROR(VLOOKUP(V50,勤務シフト一覧!$B$4:$D$106,3,FALSE)),\"\",VLOOKUP(V50,勤務シフト一覧!$B$4:$D$106,3,FALSE))","v":""},{"$f":"IF(ISERROR(VLOOKUP(W50,勤務シフト一覧!$B$4:$D$106,3,FALSE)),\"\",VLOOKUP(W50,勤務シフト一覧!$B$4:$D$106,3,FALSE))","v":""},{"$f":"IF(ISERROR(VLOOKUP(X50,勤務シフト一覧!$B$4:$D$106,3,FALSE)),\"\",VLOOKUP(X50,勤務シフト一覧!$B$4:$D$106,3,FALSE))","v":""},{"$f":"IF(ISERROR(VLOOKUP(Y50,勤務シフト一覧!$B$4:$D$106,3,FALSE)),\"\",VLOOKUP(Y50,勤務シフト一覧!$B$4:$D$106,3,FALSE))","v":""},{"$f":"IF(ISERROR(VLOOKUP(Z50,勤務シフト一覧!$B$4:$D$106,3,FALSE)),\"\",VLOOKUP(Z50,勤務シフト一覧!$B$4:$D$106,3,FALSE))","v":""},{"$f":"IF(ISERROR(VLOOKUP(AA50,勤務シフト一覧!$B$4:$D$106,3,FALSE)),\"\",VLOOKUP(AA50,勤務シフト一覧!$B$4:$D$106,3,FALSE))","v":""},{"$f":"IF(ISERROR(VLOOKUP(AB50,勤務シフト一覧!$B$4:$D$106,3,FALSE)),\"\",VLOOKUP(AB50,勤務シフト一覧!$B$4:$D$106,3,FALSE))","v":""},{"$f":"IF(ISERROR(VLOOKUP(AC50,勤務シフト一覧!$B$4:$D$106,3,FALSE)),\"\",VLOOKUP(AC50,勤務シフト一覧!$B$4:$D$106,3,FALSE))","v":""},{"$f":"IF(ISERROR(VLOOKUP(AD50,勤務シフト一覧!$B$4:$D$106,3,FALSE)),\"\",VLOOKUP(AD50,勤務シフト一覧!$B$4:$D$106,3,FALSE))","v":""},{"$f":"IF(ISERROR(VLOOKUP(AE50,勤務シフト一覧!$B$4:$D$106,3,FALSE)),\"\",VLOOKUP(AE50,勤務シフト一覧!$B$4:$D$106,3,FALSE))","v":""},{"$f":"IF(ISERROR(VLOOKUP(AF50,勤務シフト一覧!$B$4:$D$106,3,FALSE)),\"\",VLOOKUP(AF50,勤務シフト一覧!$B$4:$D$106,3,FALSE))","v":""},{"$f":"IF(ISERROR(VLOOKUP(AG50,勤務シフト一覧!$B$4:$D$106,3,FALSE)),\"\",VLOOKUP(AG50,勤務シフト一覧!$B$4:$D$106,3,FALSE))","v":""},{"$f":"IF(ISERROR(VLOOKUP(AH50,勤務シフト一覧!$B$4:$D$106,3,FALSE)),\"\",VLOOKUP(AH50,勤務シフト一覧!$B$4:$D$106,3,FALSE))","v":""},0,0,0,0,0,0,0,0,0,0,{"$f":"IF(LEN(職員一覧!D24)<>0,職員一覧!D24,\"\")","v":""},null,{"$f":"IF(勤務シフト一覧!$D50<>0,IF(勤務シフト一覧!$B50<> 0,勤務シフト一覧!$B50,\"\"),\"\")","v":"*／"}]
[null,null,"実施",null,null,null,null,null,null,null,null,null,null,null,null,null,null,null,null,null,null,null,null,null,null,null,null,null,null,null,null,null,null,null,{"$f":"IF(ISERROR(VLOOKUP(D51,勤務シフト一覧!$B$4:$C$106,2,FALSE)),\"\",VLOOKUP(D51,勤務シフト一覧!$B$4:$C$106,2,FALSE))","v":""},{"$f":"IF(ISERROR(VLOOKUP(E51,勤務シフト一覧!$B$4:$C$106,2,FALSE)),\"\",VLOOKUP(E51,勤務シフト一覧!$B$4:$C$106,2,FALSE))","v":""},{"$f":"IF(ISERROR(VLOOKUP(F51,勤務シフト一覧!$B$4:$C$106,2,FALSE)),\"\",VLOOKUP(F51,勤務シフト一覧!$B$4:$C$106,2,FALSE))","v":""},{"$f":"IF(ISERROR(VLOOKUP(G51,勤務シフト一覧!$B$4:$C$106,2,FALSE)),\"\",VLOOKUP(G51,勤務シフト一覧!$B$4:$C$106,2,FALSE))","v":""},{"$f":"IF(ISERROR(VLOOKUP(H51,勤務シフト一覧!$B$4:$C$106,2,FALSE)),\"\",VLOOKUP(H51,勤務シフト一覧!$B$4:$C$106,2,FALSE))","v":""},{"$f":"IF(ISERROR(VLOOKUP(I51,勤務シフト一覧!$B$4:$C$106,2,FALSE)),\"\",VLOOKUP(I51,勤務シフト一覧!$B$4:$C$106,2,FALSE))","v":""},{"$f":"IF(ISERROR(VLOOKUP(J51,勤務シフト一覧!$B$4:$C$106,2,FALSE)),\"\",VLOOKUP(J51,勤務シフト一覧!$B$4:$C$106,2,FALSE))","v":""},{"$f":"IF(ISERROR(VLOOKUP(K51,勤務シフト一覧!$B$4:$C$106,2,FALSE)),\"\",VLOOKUP(K51,勤務シフト一覧!$B$4:$C$106,2,FALSE))","v":""},{"$f":"IF(ISERROR(VLOOKUP(L51,勤務シフト一覧!$B$4:$C$106,2,FALSE)),\"\",VLOOKUP(L51,勤務シフト一覧!$B$4:$C$106,2,FALSE))","v":""},{"$f":"IF(ISERROR(VLOOKUP(M51,勤務シフト一覧!$B$4:$C$106,2,FALSE)),\"\",VLOOKUP(M51,勤務シフト一覧!$B$4:$C$106,2,FALSE))","v":""},{"$f":"IF(ISERROR(VLOOKUP(N51,勤務シフト一覧!$B$4:$C$106,2,FALSE)),\"\",VLOOKUP(N51,勤務シフト一覧!$B$4:$C$106,2,FALSE))","v":""},{"$f":"IF(ISERROR(VLOOKUP(O51,勤務シフト一覧!$B$4:$C$106,2,FALSE)),\"\",VLOOKUP(O51,勤務シフト一覧!$B$4:$C$106,2,FALSE))","v":""},{"$f":"IF(ISERROR(VLOOKUP(P51,勤務シフト一覧!$B$4:$C$106,2,FALSE)),\"\",VLOOKUP(P51,勤務シフト一覧!$B$4:$C$106,2,FALSE))","v":""},{"$f":"IF(ISERROR(VLOOKUP(Q51,勤務シフト一覧!$B$4:$C$106,2,FALSE)),\"\",VLOOKUP(Q51,勤務シフト一覧!$B$4:$C$106,2,FALSE))","v":""},{"$f":"IF(ISERROR(VLOOKUP(R51,勤務シフト一覧!$B$4:$C$106,2,FALSE)),\"\",VLOOKUP(R51,勤務シフト一覧!$B$4:$C$106,2,FALSE))","v":""},{"$f":"IF(ISERROR(VLOOKUP(S51,勤務シフト一覧!$B$4:$C$106,2,FALSE)),\"\",VLOOKUP(S51,勤務シフト一覧!$B$4:$C$106,2,FALSE))","v":""},{"$f":"IF(ISERROR(VLOOKUP(T51,勤務シフト一覧!$B$4:$C$106,2,FALSE)),\"\",VLOOKUP(T51,勤務シフト一覧!$B$4:$C$106,2,FALSE))","v":""},{"$f":"IF(ISERROR(VLOOKUP(U51,勤務シフト一覧!$B$4:$C$106,2,FALSE)),\"\",VLOOKUP(U51,勤務シフト一覧!$B$4:$C$106,2,FALSE))","v":""},{"$f":"IF(ISERROR(VLOOKUP(V51,勤務シフト一覧!$B$4:$C$106,2,FALSE)),\"\",VLOOKUP(V51,勤務シフト一覧!$B$4:$C$106,2,FALSE))","v":""},{"$f":"IF(ISERROR(VLOOKUP(W51,勤務シフト一覧!$B$4:$C$106,2,FALSE)),\"\",VLOOKUP(W51,勤務シフト一覧!$B$4:$C$106,2,FALSE))","v":""},{"$f":"IF(ISERROR(VLOOKUP(X51,勤務シフト一覧!$B$4:$C$106,2,FALSE)),\"\",VLOOKUP(X51,勤務シフト一覧!$B$4:$C$106,2,FALSE))","v":""},{"$f":"IF(ISERROR(VLOOKUP(Y51,勤務シフト一覧!$B$4:$C$106,2,FALSE)),\"\",VLOOKUP(Y51,勤務シフト一覧!$B$4:$C$106,2,FALSE))","v":""},{"$f":"IF(ISERROR(VLOOKUP(Z51,勤務シフト一覧!$B$4:$C$106,2,FALSE)),\"\",VLOOKUP(Z51,勤務シフト一覧!$B$4:$C$106,2,FALSE))","v":""},{"$f":"IF(ISERROR(VLOOKUP(AA51,勤務シフト一覧!$B$4:$C$106,2,FALSE)),\"\",VLOOKUP(AA51,勤務シフト一覧!$B$4:$C$106,2,FALSE))","v":""},{"$f":"IF(ISERROR(VLOOKUP(AB51,勤務シフト一覧!$B$4:$C$106,2,FALSE)),\"\",VLOOKUP(AB51,勤務シフト一覧!$B$4:$C$106,2,FALSE))","v":""},{"$f":"IF(ISERROR(VLOOKUP(AC51,勤務シフト一覧!$B$4:$C$106,2,FALSE)),\"\",VLOOKUP(AC51,勤務シフト一覧!$B$4:$C$106,2,FALSE))","v":""},{"$f":"IF(ISERROR(VLOOKUP(AD51,勤務シフト一覧!$B$4:$C$106,2,FALSE)),\"\",VLOOKUP(AD51,勤務シフト一覧!$B$4:$C$106,2,FALSE))","v":""},{"$f":"IF(ISERROR(VLOOKUP(AE51,勤務シフト一覧!$B$4:$C$106,2,FALSE)),\"\",VLOOKUP(AE51,勤務シフト一覧!$B$4:$C$106,2,FALSE))","v":""},{"$f":"IF(ISERROR(VLOOKUP(AF51,勤務シフト一覧!$B$4:$C$106,2,FALSE)),\"\",VLOOKUP(AF51,勤務シフト一覧!$B$4:$C$106,2,FALSE))","v":""},{"$f":"IF(ISERROR(VLOOKUP(AG51,勤務シフト一覧!$B$4:$C$106,2,FALSE)),\"\",VLOOKUP(AG51,勤務シフト一覧!$B$4:$C$106,2,FALSE))","v":""},{"$f":"IF(ISERROR(VLOOKUP(AH51,勤務シフト一覧!$B$4:$C$106,2,FALSE)),\"\",VLOOKUP(AH51,勤務シフト一覧!$B$4:$C$106,2,FALSE))","v":""},null,{"$f":"IF(ISERROR(VLOOKUP(D51,勤務シフト一覧!$B$4:$D$106,3,FALSE)),\"\",VLOOKUP(D51,勤務シフト一覧!$B$4:$D$106,3,FALSE))","v":""},{"$f":"IF(ISERROR(VLOOKUP(E51,勤務シフト一覧!$B$4:$D$106,3,FALSE)),\"\",VLOOKUP(E51,勤務シフト一覧!$B$4:$D$106,3,FALSE))","v":""},{"$f":"IF(ISERROR(VLOOKUP(F51,勤務シフト一覧!$B$4:$D$106,3,FALSE)),\"\",VLOOKUP(F51,勤務シフト一覧!$B$4:$D$106,3,FALSE))","v":""},{"$f":"IF(ISERROR(VLOOKUP(G51,勤務シフト一覧!$B$4:$D$106,3,FALSE)),\"\",VLOOKUP(G51,勤務シフト一覧!$B$4:$D$106,3,FALSE))","v":""},{"$f":"IF(ISERROR(VLOOKUP(H51,勤務シフト一覧!$B$4:$D$106,3,FALSE)),\"\",VLOOKUP(H51,勤務シフト一覧!$B$4:$D$106,3,FALSE))","v":""},{"$f":"IF(ISERROR(VLOOKUP(I51,勤務シフト一覧!$B$4:$D$106,3,FALSE)),\"\",VLOOKUP(I51,勤務シフト一覧!$B$4:$D$106,3,FALSE))","v":""},{"$f":"IF(ISERROR(VLOOKUP(J51,勤務シフト一覧!$B$4:$D$106,3,FALSE)),\"\",VLOOKUP(J51,勤務シフト一覧!$B$4:$D$106,3,FALSE))","v":""},{"$f":"IF(ISERROR(VLOOKUP(K51,勤務シフト一覧!$B$4:$D$106,3,FALSE)),\"\",VLOOKUP(K51,勤務シフト一覧!$B$4:$D$106,3,FALSE))","v":""},{"$f":"IF(ISERROR(VLOOKUP(L51,勤務シフト一覧!$B$4:$D$106,3,FALSE)),\"\",VLOOKUP(L51,勤務シフト一覧!$B$4:$D$106,3,FALSE))","v":""},{"$f":"IF(ISERROR(VLOOKUP(M51,勤務シフト一覧!$B$4:$D$106,3,FALSE)),\"\",VLOOKUP(M51,勤務シフト一覧!$B$4:$D$106,3,FALSE))","v":""},{"$f":"IF(ISERROR(VLOOKUP(N51,勤務シフト一覧!$B$4:$D$106,3,FALSE)),\"\",VLOOKUP(N51,勤務シフト一覧!$B$4:$D$106,3,FALSE))","v":""},{"$f":"IF(ISERROR(VLOOKUP(O51,勤務シフト一覧!$B$4:$D$106,3,FALSE)),\"\",VLOOKUP(O51,勤務シフト一覧!$B$4:$D$106,3,FALSE))","v":""},{"$f":"IF(ISERROR(VLOOKUP(P51,勤務シフト一覧!$B$4:$D$106,3,FALSE)),\"\",VLOOKUP(P51,勤務シフト一覧!$B$4:$D$106,3,FALSE))","v":""},{"$f":"IF(ISERROR(VLOOKUP(Q51,勤務シフト一覧!$B$4:$D$106,3,FALSE)),\"\",VLOOKUP(Q51,勤務シフト一覧!$B$4:$D$106,3,FALSE))","v":""},{"$f":"IF(ISERROR(VLOOKUP(R51,勤務シフト一覧!$B$4:$D$106,3,FALSE)),\"\",VLOOKUP(R51,勤務シフト一覧!$B$4:$D$106,3,FALSE))","v":""},{"$f":"IF(ISERROR(VLOOKUP(S51,勤務シフト一覧!$B$4:$D$106,3,FALSE)),\"\",VLOOKUP(S51,勤務シフト一覧!$B$4:$D$106,3,FALSE))","v":""},{"$f":"IF(ISERROR(VLOOKUP(T51,勤務シフト一覧!$B$4:$D$106,3,FALSE)),\"\",VLOOKUP(T51,勤務シフト一覧!$B$4:$D$106,3,FALSE))","v":""},{"$f":"IF(ISERROR(VLOOKUP(U51,勤務シフト一覧!$B$4:$D$106,3,FALSE)),\"\",VLOOKUP(U51,勤務シフト一覧!$B$4:$D$106,3,FALSE))","v":""},{"$f":"IF(ISERROR(VLOOKUP(V51,勤務シフト一覧!$B$4:$D$106,3,FALSE)),\"\",VLOOKUP(V51,勤務シフト一覧!$B$4:$D$106,3,FALSE))","v":""},{"$f":"IF(ISERROR(VLOOKUP(W51,勤務シフト一覧!$B$4:$D$106,3,FALSE)),\"\",VLOOKUP(W51,勤務シフト一覧!$B$4:$D$106,3,FALSE))","v":""},{"$f":"IF(ISERROR(VLOOKUP(X51,勤務シフト一覧!$B$4:$D$106,3,FALSE)),\"\",VLOOKUP(X51,勤務シフト一覧!$B$4:$D$106,3,FALSE))","v":""},{"$f":"IF(ISERROR(VLOOKUP(Y51,勤務シフト一覧!$B$4:$D$106,3,FALSE)),\"\",VLOOKUP(Y51,勤務シフト一覧!$B$4:$D$106,3,FALSE))","v":""},{"$f":"IF(ISERROR(VLOOKUP(Z51,勤務シフト一覧!$B$4:$D$106,3,FALSE)),\"\",VLOOKUP(Z51,勤務シフト一覧!$B$4:$D$106,3,FALSE))","v":""},{"$f":"IF(ISERROR(VLOOKUP(AA51,勤務シフト一覧!$B$4:$D$106,3,FALSE)),\"\",VLOOKUP(AA51,勤務シフト一覧!$B$4:$D$106,3,FALSE))","v":""},{"$f":"IF(ISERROR(VLOOKUP(AB51,勤務シフト一覧!$B$4:$D$106,3,FALSE)),\"\",VLOOKUP(AB51,勤務シフト一覧!$B$4:$D$106,3,FALSE))","v":""},{"$f":"IF(ISERROR(VLOOKUP(AC51,勤務シフト一覧!$B$4:$D$106,3,FALSE)),\"\",VLOOKUP(AC51,勤務シフト一覧!$B$4:$D$106,3,FALSE))","v":""},{"$f":"IF(ISERROR(VLOOKUP(AD51,勤務シフト一覧!$B$4:$D$106,3,FALSE)),\"\",VLOOKUP(AD51,勤務シフト一覧!$B$4:$D$106,3,FALSE))","v":""},{"$f":"IF(ISERROR(VLOOKUP(AE51,勤務シフト一覧!$B$4:$D$106,3,FALSE)),\"\",VLOOKUP(AE51,勤務シフト一覧!$B$4:$D$106,3,FALSE))","v":""},{"$f":"IF(ISERROR(VLOOKUP(AF51,勤務シフト一覧!$B$4:$D$106,3,FALSE)),\"\",VLOOKUP(AF51,勤務シフト一覧!$B$4:$D$106,3,FALSE))","v":""},{"$f":"IF(ISERROR(VLOOKUP(AG51,勤務シフト一覧!$B$4:$D$106,3,FALSE)),\"\",VLOOKUP(AG51,勤務シフト一覧!$B$4:$D$106,3,FALSE))","v":""},{"$f":"IF(ISERROR(VLOOKUP(AH51,勤務シフト一覧!$B$4:$D$106,3,FALSE)),\"\",VLOOKUP(AH51,勤務シフト一覧!$B$4:$D$106,3,FALSE))","v":""},0,0,0,0,0,0,0,0,0,0,null,null,{"$f":"IF(勤務シフト一覧!$D51<>0,IF(勤務シフト一覧!$B51<> 0,勤務シフト一覧!$B51,\"\"),\"\")","v":"*指／"}]
[{"$f":"IF(LEN(職員一覧!B25)<>0,職員一覧!B25,\"\")","v":""},{"$f":"IF(LEN(職員一覧!C25)<>0,職員一覧!C25,\"\")","v":""},"予定",null,null,null,null,null,null,null,null,null,null,null,null,null,null,null,null,null,null,null,null,null,null,null,null,null,null,null,null,null,null,null,{"$f":"IF(ISERROR(VLOOKUP(D52,勤務シフト一覧!$B$4:$C$106,2,FALSE)),\"\",VLOOKUP(D52,勤務シフト一覧!$B$4:$C$106,2,FALSE))","v":""},{"$f":"IF(ISERROR(VLOOKUP(E52,勤務シフト一覧!$B$4:$C$106,2,FALSE)),\"\",VLOOKUP(E52,勤務シフト一覧!$B$4:$C$106,2,FALSE))","v":""},{"$f":"IF(ISERROR(VLOOKUP(F52,勤務シフト一覧!$B$4:$C$106,2,FALSE)),\"\",VLOOKUP(F52,勤務シフト一覧!$B$4:$C$106,2,FALSE))","v":""},{"$f":"IF(ISERROR(VLOOKUP(G52,勤務シフト一覧!$B$4:$C$106,2,FALSE)),\"\",VLOOKUP(G52,勤務シフト一覧!$B$4:$C$106,2,FALSE))","v":""},{"$f":"IF(ISERROR(VLOOKUP(H52,勤務シフト一覧!$B$4:$C$106,2,FALSE)),\"\",VLOOKUP(H52,勤務シフト一覧!$B$4:$C$106,2,FALSE))","v":""},{"$f":"IF(ISERROR(VLOOKUP(I52,勤務シフト一覧!$B$4:$C$106,2,FALSE)),\"\",VLOOKUP(I52,勤務シフト一覧!$B$4:$C$106,2,FALSE))","v":""},{"$f":"IF(ISERROR(VLOOKUP(J52,勤務シフト一覧!$B$4:$C$106,2,FALSE)),\"\",VLOOKUP(J52,勤務シフト一覧!$B$4:$C$106,2,FALSE))","v":""},{"$f":"IF(ISERROR(VLOOKUP(K52,勤務シフト一覧!$B$4:$C$106,2,FALSE)),\"\",VLOOKUP(K52,勤務シフト一覧!$B$4:$C$106,2,FALSE))","v":""},{"$f":"IF(ISERROR(VLOOKUP(L52,勤務シフト一覧!$B$4:$C$106,2,FALSE)),\"\",VLOOKUP(L52,勤務シフト一覧!$B$4:$C$106,2,FALSE))","v":""},{"$f":"IF(ISERROR(VLOOKUP(M52,勤務シフト一覧!$B$4:$C$106,2,FALSE)),\"\",VLOOKUP(M52,勤務シフト一覧!$B$4:$C$106,2,FALSE))","v":""},{"$f":"IF(ISERROR(VLOOKUP(N52,勤務シフト一覧!$B$4:$C$106,2,FALSE)),\"\",VLOOKUP(N52,勤務シフト一覧!$B$4:$C$106,2,FALSE))","v":""},{"$f":"IF(ISERROR(VLOOKUP(O52,勤務シフト一覧!$B$4:$C$106,2,FALSE)),\"\",VLOOKUP(O52,勤務シフト一覧!$B$4:$C$106,2,FALSE))","v":""},{"$f":"IF(ISERROR(VLOOKUP(P52,勤務シフト一覧!$B$4:$C$106,2,FALSE)),\"\",VLOOKUP(P52,勤務シフト一覧!$B$4:$C$106,2,FALSE))","v":""},{"$f":"IF(ISERROR(VLOOKUP(Q52,勤務シフト一覧!$B$4:$C$106,2,FALSE)),\"\",VLOOKUP(Q52,勤務シフト一覧!$B$4:$C$106,2,FALSE))","v":""},{"$f":"IF(ISERROR(VLOOKUP(R52,勤務シフト一覧!$B$4:$C$106,2,FALSE)),\"\",VLOOKUP(R52,勤務シフト一覧!$B$4:$C$106,2,FALSE))","v":""},{"$f":"IF(ISERROR(VLOOKUP(S52,勤務シフト一覧!$B$4:$C$106,2,FALSE)),\"\",VLOOKUP(S52,勤務シフト一覧!$B$4:$C$106,2,FALSE))","v":""},{"$f":"IF(ISERROR(VLOOKUP(T52,勤務シフト一覧!$B$4:$C$106,2,FALSE)),\"\",VLOOKUP(T52,勤務シフト一覧!$B$4:$C$106,2,FALSE))","v":""},{"$f":"IF(ISERROR(VLOOKUP(U52,勤務シフト一覧!$B$4:$C$106,2,FALSE)),\"\",VLOOKUP(U52,勤務シフト一覧!$B$4:$C$106,2,FALSE))","v":""},{"$f":"IF(ISERROR(VLOOKUP(V52,勤務シフト一覧!$B$4:$C$106,2,FALSE)),\"\",VLOOKUP(V52,勤務シフト一覧!$B$4:$C$106,2,FALSE))","v":""},{"$f":"IF(ISERROR(VLOOKUP(W52,勤務シフト一覧!$B$4:$C$106,2,FALSE)),\"\",VLOOKUP(W52,勤務シフト一覧!$B$4:$C$106,2,FALSE))","v":""},{"$f":"IF(ISERROR(VLOOKUP(X52,勤務シフト一覧!$B$4:$C$106,2,FALSE)),\"\",VLOOKUP(X52,勤務シフト一覧!$B$4:$C$106,2,FALSE))","v":""},{"$f":"IF(ISERROR(VLOOKUP(Y52,勤務シフト一覧!$B$4:$C$106,2,FALSE)),\"\",VLOOKUP(Y52,勤務シフト一覧!$B$4:$C$106,2,FALSE))","v":""},{"$f":"IF(ISERROR(VLOOKUP(Z52,勤務シフト一覧!$B$4:$C$106,2,FALSE)),\"\",VLOOKUP(Z52,勤務シフト一覧!$B$4:$C$106,2,FALSE))","v":""},{"$f":"IF(ISERROR(VLOOKUP(AA52,勤務シフト一覧!$B$4:$C$106,2,FALSE)),\"\",VLOOKUP(AA52,勤務シフト一覧!$B$4:$C$106,2,FALSE))","v":""},{"$f":"IF(ISERROR(VLOOKUP(AB52,勤務シフト一覧!$B$4:$C$106,2,FALSE)),\"\",VLOOKUP(AB52,勤務シフト一覧!$B$4:$C$106,2,FALSE))","v":""},{"$f":"IF(ISERROR(VLOOKUP(AC52,勤務シフト一覧!$B$4:$C$106,2,FALSE)),\"\",VLOOKUP(AC52,勤務シフト一覧!$B$4:$C$106,2,FALSE))","v":""},{"$f":"IF(ISERROR(VLOOKUP(AD52,勤務シフト一覧!$B$4:$C$106,2,FALSE)),\"\",VLOOKUP(AD52,勤務シフト一覧!$B$4:$C$106,2,FALSE))","v":""},{"$f":"IF(ISERROR(VLOOKUP(AE52,勤務シフト一覧!$B$4:$C$106,2,FALSE)),\"\",VLOOKUP(AE52,勤務シフト一覧!$B$4:$C$106,2,FALSE))","v":""},{"$f":"IF(ISERROR(VLOOKUP(AF52,勤務シフト一覧!$B$4:$C$106,2,FALSE)),\"\",VLOOKUP(AF52,勤務シフト一覧!$B$4:$C$106,2,FALSE))","v":""},{"$f":"IF(ISERROR(VLOOKUP(AG52,勤務シフト一覧!$B$4:$C$106,2,FALSE)),\"\",VLOOKUP(AG52,勤務シフト一覧!$B$4:$C$106,2,FALSE))","v":""},{"$f":"IF(ISERROR(VLOOKUP(AH52,勤務シフト一覧!$B$4:$C$106,2,FALSE)),\"\",VLOOKUP(AH52,勤務シフト一覧!$B$4:$C$106,2,FALSE))","v":""},null,{"$f":"IF(ISERROR(VLOOKUP(D52,勤務シフト一覧!$B$4:$D$106,3,FALSE)),\"\",VLOOKUP(D52,勤務シフト一覧!$B$4:$D$106,3,FALSE))","v":""},{"$f":"IF(ISERROR(VLOOKUP(E52,勤務シフト一覧!$B$4:$D$106,3,FALSE)),\"\",VLOOKUP(E52,勤務シフト一覧!$B$4:$D$106,3,FALSE))","v":""},{"$f":"IF(ISERROR(VLOOKUP(F52,勤務シフト一覧!$B$4:$D$106,3,FALSE)),\"\",VLOOKUP(F52,勤務シフト一覧!$B$4:$D$106,3,FALSE))","v":""},{"$f":"IF(ISERROR(VLOOKUP(G52,勤務シフト一覧!$B$4:$D$106,3,FALSE)),\"\",VLOOKUP(G52,勤務シフト一覧!$B$4:$D$106,3,FALSE))","v":""},{"$f":"IF(ISERROR(VLOOKUP(H52,勤務シフト一覧!$B$4:$D$106,3,FALSE)),\"\",VLOOKUP(H52,勤務シフト一覧!$B$4:$D$106,3,FALSE))","v":""},{"$f":"IF(ISERROR(VLOOKUP(I52,勤務シフト一覧!$B$4:$D$106,3,FALSE)),\"\",VLOOKUP(I52,勤務シフト一覧!$B$4:$D$106,3,FALSE))","v":""},{"$f":"IF(ISERROR(VLOOKUP(J52,勤務シフト一覧!$B$4:$D$106,3,FALSE)),\"\",VLOOKUP(J52,勤務シフト一覧!$B$4:$D$106,3,FALSE))","v":""},{"$f":"IF(ISERROR(VLOOKUP(K52,勤務シフト一覧!$B$4:$D$106,3,FALSE)),\"\",VLOOKUP(K52,勤務シフト一覧!$B$4:$D$106,3,FALSE))","v":""},{"$f":"IF(ISERROR(VLOOKUP(L52,勤務シフト一覧!$B$4:$D$106,3,FALSE)),\"\",VLOOKUP(L52,勤務シフト一覧!$B$4:$D$106,3,FALSE))","v":""},{"$f":"IF(ISERROR(VLOOKUP(M52,勤務シフト一覧!$B$4:$D$106,3,FALSE)),\"\",VLOOKUP(M52,勤務シフト一覧!$B$4:$D$106,3,FALSE))","v":""},{"$f":"IF(ISERROR(VLOOKUP(N52,勤務シフト一覧!$B$4:$D$106,3,FALSE)),\"\",VLOOKUP(N52,勤務シフト一覧!$B$4:$D$106,3,FALSE))","v":""},{"$f":"IF(ISERROR(VLOOKUP(O52,勤務シフト一覧!$B$4:$D$106,3,FALSE)),\"\",VLOOKUP(O52,勤務シフト一覧!$B$4:$D$106,3,FALSE))","v":""},{"$f":"IF(ISERROR(VLOOKUP(P52,勤務シフト一覧!$B$4:$D$106,3,FALSE)),\"\",VLOOKUP(P52,勤務シフト一覧!$B$4:$D$106,3,FALSE))","v":""},{"$f":"IF(ISERROR(VLOOKUP(Q52,勤務シフト一覧!$B$4:$D$106,3,FALSE)),\"\",VLOOKUP(Q52,勤務シフト一覧!$B$4:$D$106,3,FALSE))","v":""},{"$f":"IF(ISERROR(VLOOKUP(R52,勤務シフト一覧!$B$4:$D$106,3,FALSE)),\"\",VLOOKUP(R52,勤務シフト一覧!$B$4:$D$106,3,FALSE))","v":""},{"$f":"IF(ISERROR(VLOOKUP(S52,勤務シフト一覧!$B$4:$D$106,3,FALSE)),\"\",VLOOKUP(S52,勤務シフト一覧!$B$4:$D$106,3,FALSE))","v":""},{"$f":"IF(ISERROR(VLOOKUP(T52,勤務シフト一覧!$B$4:$D$106,3,FALSE)),\"\",VLOOKUP(T52,勤務シフト一覧!$B$4:$D$106,3,FALSE))","v":""},{"$f":"IF(ISERROR(VLOOKUP(U52,勤務シフト一覧!$B$4:$D$106,3,FALSE)),\"\",VLOOKUP(U52,勤務シフト一覧!$B$4:$D$106,3,FALSE))","v":""},{"$f":"IF(ISERROR(VLOOKUP(V52,勤務シフト一覧!$B$4:$D$106,3,FALSE)),\"\",VLOOKUP(V52,勤務シフト一覧!$B$4:$D$106,3,FALSE))","v":""},{"$f":"IF(ISERROR(VLOOKUP(W52,勤務シフト一覧!$B$4:$D$106,3,FALSE)),\"\",VLOOKUP(W52,勤務シフト一覧!$B$4:$D$106,3,FALSE))","v":""},{"$f":"IF(ISERROR(VLOOKUP(X52,勤務シフト一覧!$B$4:$D$106,3,FALSE)),\"\",VLOOKUP(X52,勤務シフト一覧!$B$4:$D$106,3,FALSE))","v":""},{"$f":"IF(ISERROR(VLOOKUP(Y52,勤務シフト一覧!$B$4:$D$106,3,FALSE)),\"\",VLOOKUP(Y52,勤務シフト一覧!$B$4:$D$106,3,FALSE))","v":""},{"$f":"IF(ISERROR(VLOOKUP(Z52,勤務シフト一覧!$B$4:$D$106,3,FALSE)),\"\",VLOOKUP(Z52,勤務シフト一覧!$B$4:$D$106,3,FALSE))","v":""},{"$f":"IF(ISERROR(VLOOKUP(AA52,勤務シフト一覧!$B$4:$D$106,3,FALSE)),\"\",VLOOKUP(AA52,勤務シフト一覧!$B$4:$D$106,3,FALSE))","v":""},{"$f":"IF(ISERROR(VLOOKUP(AB52,勤務シフト一覧!$B$4:$D$106,3,FALSE)),\"\",VLOOKUP(AB52,勤務シフト一覧!$B$4:$D$106,3,FALSE))","v":""},{"$f":"IF(ISERROR(VLOOKUP(AC52,勤務シフト一覧!$B$4:$D$106,3,FALSE)),\"\",VLOOKUP(AC52,勤務シフト一覧!$B$4:$D$106,3,FALSE))","v":""},{"$f":"IF(ISERROR(VLOOKUP(AD52,勤務シフト一覧!$B$4:$D$106,3,FALSE)),\"\",VLOOKUP(AD52,勤務シフト一覧!$B$4:$D$106,3,FALSE))","v":""},{"$f":"IF(ISERROR(VLOOKUP(AE52,勤務シフト一覧!$B$4:$D$106,3,FALSE)),\"\",VLOOKUP(AE52,勤務シフト一覧!$B$4:$D$106,3,FALSE))","v":""},{"$f":"IF(ISERROR(VLOOKUP(AF52,勤務シフト一覧!$B$4:$D$106,3,FALSE)),\"\",VLOOKUP(AF52,勤務シフト一覧!$B$4:$D$106,3,FALSE))","v":""},{"$f":"IF(ISERROR(VLOOKUP(AG52,勤務シフト一覧!$B$4:$D$106,3,FALSE)),\"\",VLOOKUP(AG52,勤務シフト一覧!$B$4:$D$106,3,FALSE))","v":""},{"$f":"IF(ISERROR(VLOOKUP(AH52,勤務シフト一覧!$B$4:$D$106,3,FALSE)),\"\",VLOOKUP(AH52,勤務シフト一覧!$B$4:$D$106,3,FALSE))","v":""},0,0,0,0,0,0,0,0,0,0,{"$f":"IF(LEN(職員一覧!D25)<>0,職員一覧!D25,\"\")","v":""},null,{"$f":"IF(勤務シフト一覧!$D52<>0,IF(勤務シフト一覧!$B52<> 0,勤務シフト一覧!$B52,\"\"),\"\")","v":"*1000"}]
[null,null,"実施",null,null,null,null,null,null,null,null,null,null,null,null,null,null,null,null,null,null,null,null,null,null,null,null,null,null,null,null,null,null,null,{"$f":"IF(ISERROR(VLOOKUP(D53,勤務シフト一覧!$B$4:$C$106,2,FALSE)),\"\",VLOOKUP(D53,勤務シフト一覧!$B$4:$C$106,2,FALSE))","v":""},{"$f":"IF(ISERROR(VLOOKUP(E53,勤務シフト一覧!$B$4:$C$106,2,FALSE)),\"\",VLOOKUP(E53,勤務シフト一覧!$B$4:$C$106,2,FALSE))","v":""},{"$f":"IF(ISERROR(VLOOKUP(F53,勤務シフト一覧!$B$4:$C$106,2,FALSE)),\"\",VLOOKUP(F53,勤務シフト一覧!$B$4:$C$106,2,FALSE))","v":""},{"$f":"IF(ISERROR(VLOOKUP(G53,勤務シフト一覧!$B$4:$C$106,2,FALSE)),\"\",VLOOKUP(G53,勤務シフト一覧!$B$4:$C$106,2,FALSE))","v":""},{"$f":"IF(ISERROR(VLOOKUP(H53,勤務シフト一覧!$B$4:$C$106,2,FALSE)),\"\",VLOOKUP(H53,勤務シフト一覧!$B$4:$C$106,2,FALSE))","v":""},{"$f":"IF(ISERROR(VLOOKUP(I53,勤務シフト一覧!$B$4:$C$106,2,FALSE)),\"\",VLOOKUP(I53,勤務シフト一覧!$B$4:$C$106,2,FALSE))","v":""},{"$f":"IF(ISERROR(VLOOKUP(J53,勤務シフト一覧!$B$4:$C$106,2,FALSE)),\"\",VLOOKUP(J53,勤務シフト一覧!$B$4:$C$106,2,FALSE))","v":""},{"$f":"IF(ISERROR(VLOOKUP(K53,勤務シフト一覧!$B$4:$C$106,2,FALSE)),\"\",VLOOKUP(K53,勤務シフト一覧!$B$4:$C$106,2,FALSE))","v":""},{"$f":"IF(ISERROR(VLOOKUP(L53,勤務シフト一覧!$B$4:$C$106,2,FALSE)),\"\",VLOOKUP(L53,勤務シフト一覧!$B$4:$C$106,2,FALSE))","v":""},{"$f":"IF(ISERROR(VLOOKUP(M53,勤務シフト一覧!$B$4:$C$106,2,FALSE)),\"\",VLOOKUP(M53,勤務シフト一覧!$B$4:$C$106,2,FALSE))","v":""},{"$f":"IF(ISERROR(VLOOKUP(N53,勤務シフト一覧!$B$4:$C$106,2,FALSE)),\"\",VLOOKUP(N53,勤務シフト一覧!$B$4:$C$106,2,FALSE))","v":""},{"$f":"IF(ISERROR(VLOOKUP(O53,勤務シフト一覧!$B$4:$C$106,2,FALSE)),\"\",VLOOKUP(O53,勤務シフト一覧!$B$4:$C$106,2,FALSE))","v":""},{"$f":"IF(ISERROR(VLOOKUP(P53,勤務シフト一覧!$B$4:$C$106,2,FALSE)),\"\",VLOOKUP(P53,勤務シフト一覧!$B$4:$C$106,2,FALSE))","v":""},{"$f":"IF(ISERROR(VLOOKUP(Q53,勤務シフト一覧!$B$4:$C$106,2,FALSE)),\"\",VLOOKUP(Q53,勤務シフト一覧!$B$4:$C$106,2,FALSE))","v":""},{"$f":"IF(ISERROR(VLOOKUP(R53,勤務シフト一覧!$B$4:$C$106,2,FALSE)),\"\",VLOOKUP(R53,勤務シフト一覧!$B$4:$C$106,2,FALSE))","v":""},{"$f":"IF(ISERROR(VLOOKUP(S53,勤務シフト一覧!$B$4:$C$106,2,FALSE)),\"\",VLOOKUP(S53,勤務シフト一覧!$B$4:$C$106,2,FALSE))","v":""},{"$f":"IF(ISERROR(VLOOKUP(T53,勤務シフト一覧!$B$4:$C$106,2,FALSE)),\"\",VLOOKUP(T53,勤務シフト一覧!$B$4:$C$106,2,FALSE))","v":""},{"$f":"IF(ISERROR(VLOOKUP(U53,勤務シフト一覧!$B$4:$C$106,2,FALSE)),\"\",VLOOKUP(U53,勤務シフト一覧!$B$4:$C$106,2,FALSE))","v":""},{"$f":"IF(ISERROR(VLOOKUP(V53,勤務シフト一覧!$B$4:$C$106,2,FALSE)),\"\",VLOOKUP(V53,勤務シフト一覧!$B$4:$C$106,2,FALSE))","v":""},{"$f":"IF(ISERROR(VLOOKUP(W53,勤務シフト一覧!$B$4:$C$106,2,FALSE)),\"\",VLOOKUP(W53,勤務シフト一覧!$B$4:$C$106,2,FALSE))","v":""},{"$f":"IF(ISERROR(VLOOKUP(X53,勤務シフト一覧!$B$4:$C$106,2,FALSE)),\"\",VLOOKUP(X53,勤務シフト一覧!$B$4:$C$106,2,FALSE))","v":""},{"$f":"IF(ISERROR(VLOOKUP(Y53,勤務シフト一覧!$B$4:$C$106,2,FALSE)),\"\",VLOOKUP(Y53,勤務シフト一覧!$B$4:$C$106,2,FALSE))","v":""},{"$f":"IF(ISERROR(VLOOKUP(Z53,勤務シフト一覧!$B$4:$C$106,2,FALSE)),\"\",VLOOKUP(Z53,勤務シフト一覧!$B$4:$C$106,2,FALSE))","v":""},{"$f":"IF(ISERROR(VLOOKUP(AA53,勤務シフト一覧!$B$4:$C$106,2,FALSE)),\"\",VLOOKUP(AA53,勤務シフト一覧!$B$4:$C$106,2,FALSE))","v":""},{"$f":"IF(ISERROR(VLOOKUP(AB53,勤務シフト一覧!$B$4:$C$106,2,FALSE)),\"\",VLOOKUP(AB53,勤務シフト一覧!$B$4:$C$106,2,FALSE))","v":""},{"$f":"IF(ISERROR(VLOOKUP(AC53,勤務シフト一覧!$B$4:$C$106,2,FALSE)),\"\",VLOOKUP(AC53,勤務シフト一覧!$B$4:$C$106,2,FALSE))","v":""},{"$f":"IF(ISERROR(VLOOKUP(AD53,勤務シフト一覧!$B$4:$C$106,2,FALSE)),\"\",VLOOKUP(AD53,勤務シフト一覧!$B$4:$C$106,2,FALSE))","v":""},{"$f":"IF(ISERROR(VLOOKUP(AE53,勤務シフト一覧!$B$4:$C$106,2,FALSE)),\"\",VLOOKUP(AE53,勤務シフト一覧!$B$4:$C$106,2,FALSE))","v":""},{"$f":"IF(ISERROR(VLOOKUP(AF53,勤務シフト一覧!$B$4:$C$106,2,FALSE)),\"\",VLOOKUP(AF53,勤務シフト一覧!$B$4:$C$106,2,FALSE))","v":""},{"$f":"IF(ISERROR(VLOOKUP(AG53,勤務シフト一覧!$B$4:$C$106,2,FALSE)),\"\",VLOOKUP(AG53,勤務シフト一覧!$B$4:$C$106,2,FALSE))","v":""},{"$f":"IF(ISERROR(VLOOKUP(AH53,勤務シフト一覧!$B$4:$C$106,2,FALSE)),\"\",VLOOKUP(AH53,勤務シフト一覧!$B$4:$C$106,2,FALSE))","v":""},null,{"$f":"IF(ISERROR(VLOOKUP(D53,勤務シフト一覧!$B$4:$D$106,3,FALSE)),\"\",VLOOKUP(D53,勤務シフト一覧!$B$4:$D$106,3,FALSE))","v":""},{"$f":"IF(ISERROR(VLOOKUP(E53,勤務シフト一覧!$B$4:$D$106,3,FALSE)),\"\",VLOOKUP(E53,勤務シフト一覧!$B$4:$D$106,3,FALSE))","v":""},{"$f":"IF(ISERROR(VLOOKUP(F53,勤務シフト一覧!$B$4:$D$106,3,FALSE)),\"\",VLOOKUP(F53,勤務シフト一覧!$B$4:$D$106,3,FALSE))","v":""},{"$f":"IF(ISERROR(VLOOKUP(G53,勤務シフト一覧!$B$4:$D$106,3,FALSE)),\"\",VLOOKUP(G53,勤務シフト一覧!$B$4:$D$106,3,FALSE))","v":""},{"$f":"IF(ISERROR(VLOOKUP(H53,勤務シフト一覧!$B$4:$D$106,3,FALSE)),\"\",VLOOKUP(H53,勤務シフト一覧!$B$4:$D$106,3,FALSE))","v":""},{"$f":"IF(ISERROR(VLOOKUP(I53,勤務シフト一覧!$B$4:$D$106,3,FALSE)),\"\",VLOOKUP(I53,勤務シフト一覧!$B$4:$D$106,3,FALSE))","v":""},{"$f":"IF(ISERROR(VLOOKUP(J53,勤務シフト一覧!$B$4:$D$106,3,FALSE)),\"\",VLOOKUP(J53,勤務シフト一覧!$B$4:$D$106,3,FALSE))","v":""},{"$f":"IF(ISERROR(VLOOKUP(K53,勤務シフト一覧!$B$4:$D$106,3,FALSE)),\"\",VLOOKUP(K53,勤務シフト一覧!$B$4:$D$106,3,FALSE))","v":""},{"$f":"IF(ISERROR(VLOOKUP(L53,勤務シフト一覧!$B$4:$D$106,3,FALSE)),\"\",VLOOKUP(L53,勤務シフト一覧!$B$4:$D$106,3,FALSE))","v":""},{"$f":"IF(ISERROR(VLOOKUP(M53,勤務シフト一覧!$B$4:$D$106,3,FALSE)),\"\",VLOOKUP(M53,勤務シフト一覧!$B$4:$D$106,3,FALSE))","v":""},{"$f":"IF(ISERROR(VLOOKUP(N53,勤務シフト一覧!$B$4:$D$106,3,FALSE)),\"\",VLOOKUP(N53,勤務シフト一覧!$B$4:$D$106,3,FALSE))","v":""},{"$f":"IF(ISERROR(VLOOKUP(O53,勤務シフト一覧!$B$4:$D$106,3,FALSE)),\"\",VLOOKUP(O53,勤務シフト一覧!$B$4:$D$106,3,FALSE))","v":""},{"$f":"IF(ISERROR(VLOOKUP(P53,勤務シフト一覧!$B$4:$D$106,3,FALSE)),\"\",VLOOKUP(P53,勤務シフト一覧!$B$4:$D$106,3,FALSE))","v":""},{"$f":"IF(ISERROR(VLOOKUP(Q53,勤務シフト一覧!$B$4:$D$106,3,FALSE)),\"\",VLOOKUP(Q53,勤務シフト一覧!$B$4:$D$106,3,FALSE))","v":""},{"$f":"IF(ISERROR(VLOOKUP(R53,勤務シフト一覧!$B$4:$D$106,3,FALSE)),\"\",VLOOKUP(R53,勤務シフト一覧!$B$4:$D$106,3,FALSE))","v":""},{"$f":"IF(ISERROR(VLOOKUP(S53,勤務シフト一覧!$B$4:$D$106,3,FALSE)),\"\",VLOOKUP(S53,勤務シフト一覧!$B$4:$D$106,3,FALSE))","v":""},{"$f":"IF(ISERROR(VLOOKUP(T53,勤務シフト一覧!$B$4:$D$106,3,FALSE)),\"\",VLOOKUP(T53,勤務シフト一覧!$B$4:$D$106,3,FALSE))","v":""},{"$f":"IF(ISERROR(VLOOKUP(U53,勤務シフト一覧!$B$4:$D$106,3,FALSE)),\"\",VLOOKUP(U53,勤務シフト一覧!$B$4:$D$106,3,FALSE))","v":""},{"$f":"IF(ISERROR(VLOOKUP(V53,勤務シフト一覧!$B$4:$D$106,3,FALSE)),\"\",VLOOKUP(V53,勤務シフト一覧!$B$4:$D$106,3,FALSE))","v":""},{"$f":"IF(ISERROR(VLOOKUP(W53,勤務シフト一覧!$B$4:$D$106,3,FALSE)),\"\",VLOOKUP(W53,勤務シフト一覧!$B$4:$D$106,3,FALSE))","v":""},{"$f":"IF(ISERROR(VLOOKUP(X53,勤務シフト一覧!$B$4:$D$106,3,FALSE)),\"\",VLOOKUP(X53,勤務シフト一覧!$B$4:$D$106,3,FALSE))","v":""},{"$f":"IF(ISERROR(VLOOKUP(Y53,勤務シフト一覧!$B$4:$D$106,3,FALSE)),\"\",VLOOKUP(Y53,勤務シフト一覧!$B$4:$D$106,3,FALSE))","v":""},{"$f":"IF(ISERROR(VLOOKUP(Z53,勤務シフト一覧!$B$4:$D$106,3,FALSE)),\"\",VLOOKUP(Z53,勤務シフト一覧!$B$4:$D$106,3,FALSE))","v":""},{"$f":"IF(ISERROR(VLOOKUP(AA53,勤務シフト一覧!$B$4:$D$106,3,FALSE)),\"\",VLOOKUP(AA53,勤務シフト一覧!$B$4:$D$106,3,FALSE))","v":""},{"$f":"IF(ISERROR(VLOOKUP(AB53,勤務シフト一覧!$B$4:$D$106,3,FALSE)),\"\",VLOOKUP(AB53,勤務シフト一覧!$B$4:$D$106,3,FALSE))","v":""},{"$f":"IF(ISERROR(VLOOKUP(AC53,勤務シフト一覧!$B$4:$D$106,3,FALSE)),\"\",VLOOKUP(AC53,勤務シフト一覧!$B$4:$D$106,3,FALSE))","v":""},{"$f":"IF(ISERROR(VLOOKUP(AD53,勤務シフト一覧!$B$4:$D$106,3,FALSE)),\"\",VLOOKUP(AD53,勤務シフト一覧!$B$4:$D$106,3,FALSE))","v":""},{"$f":"IF(ISERROR(VLOOKUP(AE53,勤務シフト一覧!$B$4:$D$106,3,FALSE)),\"\",VLOOKUP(AE53,勤務シフト一覧!$B$4:$D$106,3,FALSE))","v":""},{"$f":"IF(ISERROR(VLOOKUP(AF53,勤務シフト一覧!$B$4:$D$106,3,FALSE)),\"\",VLOOKUP(AF53,勤務シフト一覧!$B$4:$D$106,3,FALSE))","v":""},{"$f":"IF(ISERROR(VLOOKUP(AG53,勤務シフト一覧!$B$4:$D$106,3,FALSE)),\"\",VLOOKUP(AG53,勤務シフト一覧!$B$4:$D$106,3,FALSE))","v":""},{"$f":"IF(ISERROR(VLOOKUP(AH53,勤務シフト一覧!$B$4:$D$106,3,FALSE)),\"\",VLOOKUP(AH53,勤務シフト一覧!$B$4:$D$106,3,FALSE))","v":""},0,0,0,0,0,0,0,0,0,0,null,null,{"$f":"IF(勤務シフト一覧!$D53<>0,IF(勤務シフト一覧!$B53<> 0,勤務シフト一覧!$B53,\"\"),\"\")","v":"*1230"}]
[{"$f":"IF(LEN(職員一覧!B26)<>0,職員一覧!B26,\"\")","v":""},{"$f":"IF(LEN(職員一覧!C26)<>0,職員一覧!C26,\"\")","v":""},"予定",null,null,null,null,null,null,null,null,null,null,null,null,null,null,null,null,null,null,null,null,null,null,null,null,null,null,null,null,null,null,null,{"$f":"IF(ISERROR(VLOOKUP(D54,勤務シフト一覧!$B$4:$C$106,2,FALSE)),\"\",VLOOKUP(D54,勤務シフト一覧!$B$4:$C$106,2,FALSE))","v":""},{"$f":"IF(ISERROR(VLOOKUP(E54,勤務シフト一覧!$B$4:$C$106,2,FALSE)),\"\",VLOOKUP(E54,勤務シフト一覧!$B$4:$C$106,2,FALSE))","v":""},{"$f":"IF(ISERROR(VLOOKUP(F54,勤務シフト一覧!$B$4:$C$106,2,FALSE)),\"\",VLOOKUP(F54,勤務シフト一覧!$B$4:$C$106,2,FALSE))","v":""},{"$f":"IF(ISERROR(VLOOKUP(G54,勤務シフト一覧!$B$4:$C$106,2,FALSE)),\"\",VLOOKUP(G54,勤務シフト一覧!$B$4:$C$106,2,FALSE))","v":""},{"$f":"IF(ISERROR(VLOOKUP(H54,勤務シフト一覧!$B$4:$C$106,2,FALSE)),\"\",VLOOKUP(H54,勤務シフト一覧!$B$4:$C$106,2,FALSE))","v":""},{"$f":"IF(ISERROR(VLOOKUP(I54,勤務シフト一覧!$B$4:$C$106,2,FALSE)),\"\",VLOOKUP(I54,勤務シフト一覧!$B$4:$C$106,2,FALSE))","v":""},{"$f":"IF(ISERROR(VLOOKUP(J54,勤務シフト一覧!$B$4:$C$106,2,FALSE)),\"\",VLOOKUP(J54,勤務シフト一覧!$B$4:$C$106,2,FALSE))","v":""},{"$f":"IF(ISERROR(VLOOKUP(K54,勤務シフト一覧!$B$4:$C$106,2,FALSE)),\"\",VLOOKUP(K54,勤務シフト一覧!$B$4:$C$106,2,FALSE))","v":""},{"$f":"IF(ISERROR(VLOOKUP(L54,勤務シフト一覧!$B$4:$C$106,2,FALSE)),\"\",VLOOKUP(L54,勤務シフト一覧!$B$4:$C$106,2,FALSE))","v":""},{"$f":"IF(ISERROR(VLOOKUP(M54,勤務シフト一覧!$B$4:$C$106,2,FALSE)),\"\",VLOOKUP(M54,勤務シフト一覧!$B$4:$C$106,2,FALSE))","v":""},{"$f":"IF(ISERROR(VLOOKUP(N54,勤務シフト一覧!$B$4:$C$106,2,FALSE)),\"\",VLOOKUP(N54,勤務シフト一覧!$B$4:$C$106,2,FALSE))","v":""},{"$f":"IF(ISERROR(VLOOKUP(O54,勤務シフト一覧!$B$4:$C$106,2,FALSE)),\"\",VLOOKUP(O54,勤務シフト一覧!$B$4:$C$106,2,FALSE))","v":""},{"$f":"IF(ISERROR(VLOOKUP(P54,勤務シフト一覧!$B$4:$C$106,2,FALSE)),\"\",VLOOKUP(P54,勤務シフト一覧!$B$4:$C$106,2,FALSE))","v":""},{"$f":"IF(ISERROR(VLOOKUP(Q54,勤務シフト一覧!$B$4:$C$106,2,FALSE)),\"\",VLOOKUP(Q54,勤務シフト一覧!$B$4:$C$106,2,FALSE))","v":""},{"$f":"IF(ISERROR(VLOOKUP(R54,勤務シフト一覧!$B$4:$C$106,2,FALSE)),\"\",VLOOKUP(R54,勤務シフト一覧!$B$4:$C$106,2,FALSE))","v":""},{"$f":"IF(ISERROR(VLOOKUP(S54,勤務シフト一覧!$B$4:$C$106,2,FALSE)),\"\",VLOOKUP(S54,勤務シフト一覧!$B$4:$C$106,2,FALSE))","v":""},{"$f":"IF(ISERROR(VLOOKUP(T54,勤務シフト一覧!$B$4:$C$106,2,FALSE)),\"\",VLOOKUP(T54,勤務シフト一覧!$B$4:$C$106,2,FALSE))","v":""},{"$f":"IF(ISERROR(VLOOKUP(U54,勤務シフト一覧!$B$4:$C$106,2,FALSE)),\"\",VLOOKUP(U54,勤務シフト一覧!$B$4:$C$106,2,FALSE))","v":""},{"$f":"IF(ISERROR(VLOOKUP(V54,勤務シフト一覧!$B$4:$C$106,2,FALSE)),\"\",VLOOKUP(V54,勤務シフト一覧!$B$4:$C$106,2,FALSE))","v":""},{"$f":"IF(ISERROR(VLOOKUP(W54,勤務シフト一覧!$B$4:$C$106,2,FALSE)),\"\",VLOOKUP(W54,勤務シフト一覧!$B$4:$C$106,2,FALSE))","v":""},{"$f":"IF(ISERROR(VLOOKUP(X54,勤務シフト一覧!$B$4:$C$106,2,FALSE)),\"\",VLOOKUP(X54,勤務シフト一覧!$B$4:$C$106,2,FALSE))","v":""},{"$f":"IF(ISERROR(VLOOKUP(Y54,勤務シフト一覧!$B$4:$C$106,2,FALSE)),\"\",VLOOKUP(Y54,勤務シフト一覧!$B$4:$C$106,2,FALSE))","v":""},{"$f":"IF(ISERROR(VLOOKUP(Z54,勤務シフト一覧!$B$4:$C$106,2,FALSE)),\"\",VLOOKUP(Z54,勤務シフト一覧!$B$4:$C$106,2,FALSE))","v":""},{"$f":"IF(ISERROR(VLOOKUP(AA54,勤務シフト一覧!$B$4:$C$106,2,FALSE)),\"\",VLOOKUP(AA54,勤務シフト一覧!$B$4:$C$106,2,FALSE))","v":""},{"$f":"IF(ISERROR(VLOOKUP(AB54,勤務シフト一覧!$B$4:$C$106,2,FALSE)),\"\",VLOOKUP(AB54,勤務シフト一覧!$B$4:$C$106,2,FALSE))","v":""},{"$f":"IF(ISERROR(VLOOKUP(AC54,勤務シフト一覧!$B$4:$C$106,2,FALSE)),\"\",VLOOKUP(AC54,勤務シフト一覧!$B$4:$C$106,2,FALSE))","v":""},{"$f":"IF(ISERROR(VLOOKUP(AD54,勤務シフト一覧!$B$4:$C$106,2,FALSE)),\"\",VLOOKUP(AD54,勤務シフト一覧!$B$4:$C$106,2,FALSE))","v":""},{"$f":"IF(ISERROR(VLOOKUP(AE54,勤務シフト一覧!$B$4:$C$106,2,FALSE)),\"\",VLOOKUP(AE54,勤務シフト一覧!$B$4:$C$106,2,FALSE))","v":""},{"$f":"IF(ISERROR(VLOOKUP(AF54,勤務シフト一覧!$B$4:$C$106,2,FALSE)),\"\",VLOOKUP(AF54,勤務シフト一覧!$B$4:$C$106,2,FALSE))","v":""},{"$f":"IF(ISERROR(VLOOKUP(AG54,勤務シフト一覧!$B$4:$C$106,2,FALSE)),\"\",VLOOKUP(AG54,勤務シフト一覧!$B$4:$C$106,2,FALSE))","v":""},{"$f":"IF(ISERROR(VLOOKUP(AH54,勤務シフト一覧!$B$4:$C$106,2,FALSE)),\"\",VLOOKUP(AH54,勤務シフト一覧!$B$4:$C$106,2,FALSE))","v":""},null,{"$f":"IF(ISERROR(VLOOKUP(D54,勤務シフト一覧!$B$4:$D$106,3,FALSE)),\"\",VLOOKUP(D54,勤務シフト一覧!$B$4:$D$106,3,FALSE))","v":""},{"$f":"IF(ISERROR(VLOOKUP(E54,勤務シフト一覧!$B$4:$D$106,3,FALSE)),\"\",VLOOKUP(E54,勤務シフト一覧!$B$4:$D$106,3,FALSE))","v":""},{"$f":"IF(ISERROR(VLOOKUP(F54,勤務シフト一覧!$B$4:$D$106,3,FALSE)),\"\",VLOOKUP(F54,勤務シフト一覧!$B$4:$D$106,3,FALSE))","v":""},{"$f":"IF(ISERROR(VLOOKUP(G54,勤務シフト一覧!$B$4:$D$106,3,FALSE)),\"\",VLOOKUP(G54,勤務シフト一覧!$B$4:$D$106,3,FALSE))","v":""},{"$f":"IF(ISERROR(VLOOKUP(H54,勤務シフト一覧!$B$4:$D$106,3,FALSE)),\"\",VLOOKUP(H54,勤務シフト一覧!$B$4:$D$106,3,FALSE))","v":""},{"$f":"IF(ISERROR(VLOOKUP(I54,勤務シフト一覧!$B$4:$D$106,3,FALSE)),\"\",VLOOKUP(I54,勤務シフト一覧!$B$4:$D$106,3,FALSE))","v":""},{"$f":"IF(ISERROR(VLOOKUP(J54,勤務シフト一覧!$B$4:$D$106,3,FALSE)),\"\",VLOOKUP(J54,勤務シフト一覧!$B$4:$D$106,3,FALSE))","v":""},{"$f":"IF(ISERROR(VLOOKUP(K54,勤務シフト一覧!$B$4:$D$106,3,FALSE)),\"\",VLOOKUP(K54,勤務シフト一覧!$B$4:$D$106,3,FALSE))","v":""},{"$f":"IF(ISERROR(VLOOKUP(L54,勤務シフト一覧!$B$4:$D$106,3,FALSE)),\"\",VLOOKUP(L54,勤務シフト一覧!$B$4:$D$106,3,FALSE))","v":""},{"$f":"IF(ISERROR(VLOOKUP(M54,勤務シフト一覧!$B$4:$D$106,3,FALSE)),\"\",VLOOKUP(M54,勤務シフト一覧!$B$4:$D$106,3,FALSE))","v":""},{"$f":"IF(ISERROR(VLOOKUP(N54,勤務シフト一覧!$B$4:$D$106,3,FALSE)),\"\",VLOOKUP(N54,勤務シフト一覧!$B$4:$D$106,3,FALSE))","v":""},{"$f":"IF(ISERROR(VLOOKUP(O54,勤務シフト一覧!$B$4:$D$106,3,FALSE)),\"\",VLOOKUP(O54,勤務シフト一覧!$B$4:$D$106,3,FALSE))","v":""},{"$f":"IF(ISERROR(VLOOKUP(P54,勤務シフト一覧!$B$4:$D$106,3,FALSE)),\"\",VLOOKUP(P54,勤務シフト一覧!$B$4:$D$106,3,FALSE))","v":""},{"$f":"IF(ISERROR(VLOOKUP(Q54,勤務シフト一覧!$B$4:$D$106,3,FALSE)),\"\",VLOOKUP(Q54,勤務シフト一覧!$B$4:$D$106,3,FALSE))","v":""},{"$f":"IF(ISERROR(VLOOKUP(R54,勤務シフト一覧!$B$4:$D$106,3,FALSE)),\"\",VLOOKUP(R54,勤務シフト一覧!$B$4:$D$106,3,FALSE))","v":""},{"$f":"IF(ISERROR(VLOOKUP(S54,勤務シフト一覧!$B$4:$D$106,3,FALSE)),\"\",VLOOKUP(S54,勤務シフト一覧!$B$4:$D$106,3,FALSE))","v":""},{"$f":"IF(ISERROR(VLOOKUP(T54,勤務シフト一覧!$B$4:$D$106,3,FALSE)),\"\",VLOOKUP(T54,勤務シフト一覧!$B$4:$D$106,3,FALSE))","v":""},{"$f":"IF(ISERROR(VLOOKUP(U54,勤務シフト一覧!$B$4:$D$106,3,FALSE)),\"\",VLOOKUP(U54,勤務シフト一覧!$B$4:$D$106,3,FALSE))","v":""},{"$f":"IF(ISERROR(VLOOKUP(V54,勤務シフト一覧!$B$4:$D$106,3,FALSE)),\"\",VLOOKUP(V54,勤務シフト一覧!$B$4:$D$106,3,FALSE))","v":""},{"$f":"IF(ISERROR(VLOOKUP(W54,勤務シフト一覧!$B$4:$D$106,3,FALSE)),\"\",VLOOKUP(W54,勤務シフト一覧!$B$4:$D$106,3,FALSE))","v":""},{"$f":"IF(ISERROR(VLOOKUP(X54,勤務シフト一覧!$B$4:$D$106,3,FALSE)),\"\",VLOOKUP(X54,勤務シフト一覧!$B$4:$D$106,3,FALSE))","v":""},{"$f":"IF(ISERROR(VLOOKUP(Y54,勤務シフト一覧!$B$4:$D$106,3,FALSE)),\"\",VLOOKUP(Y54,勤務シフト一覧!$B$4:$D$106,3,FALSE))","v":""},{"$f":"IF(ISERROR(VLOOKUP(Z54,勤務シフト一覧!$B$4:$D$106,3,FALSE)),\"\",VLOOKUP(Z54,勤務シフト一覧!$B$4:$D$106,3,FALSE))","v":""},{"$f":"IF(ISERROR(VLOOKUP(AA54,勤務シフト一覧!$B$4:$D$106,3,FALSE)),\"\",VLOOKUP(AA54,勤務シフト一覧!$B$4:$D$106,3,FALSE))","v":""},{"$f":"IF(ISERROR(VLOOKUP(AB54,勤務シフト一覧!$B$4:$D$106,3,FALSE)),\"\",VLOOKUP(AB54,勤務シフト一覧!$B$4:$D$106,3,FALSE))","v":""},{"$f":"IF(ISERROR(VLOOKUP(AC54,勤務シフト一覧!$B$4:$D$106,3,FALSE)),\"\",VLOOKUP(AC54,勤務シフト一覧!$B$4:$D$106,3,FALSE))","v":""},{"$f":"IF(ISERROR(VLOOKUP(AD54,勤務シフト一覧!$B$4:$D$106,3,FALSE)),\"\",VLOOKUP(AD54,勤務シフト一覧!$B$4:$D$106,3,FALSE))","v":""},{"$f":"IF(ISERROR(VLOOKUP(AE54,勤務シフト一覧!$B$4:$D$106,3,FALSE)),\"\",VLOOKUP(AE54,勤務シフト一覧!$B$4:$D$106,3,FALSE))","v":""},{"$f":"IF(ISERROR(VLOOKUP(AF54,勤務シフト一覧!$B$4:$D$106,3,FALSE)),\"\",VLOOKUP(AF54,勤務シフト一覧!$B$4:$D$106,3,FALSE))","v":""},{"$f":"IF(ISERROR(VLOOKUP(AG54,勤務シフト一覧!$B$4:$D$106,3,FALSE)),\"\",VLOOKUP(AG54,勤務シフト一覧!$B$4:$D$106,3,FALSE))","v":""},{"$f":"IF(ISERROR(VLOOKUP(AH54,勤務シフト一覧!$B$4:$D$106,3,FALSE)),\"\",VLOOKUP(AH54,勤務シフト一覧!$B$4:$D$106,3,FALSE))","v":""},0,0,0,0,0,0,0,0,0,0,{"$f":"IF(LEN(職員一覧!D26)<>0,職員一覧!D26,\"\")","v":""},null,{"$f":"IF(勤務シフト一覧!$D54<>0,IF(勤務シフト一覧!$B54<> 0,勤務シフト一覧!$B54,\"\"),\"\")","v":"*祭／"}]
[null,null,"実施",null,null,null,null,null,null,null,null,null,null,null,null,null,null,null,null,null,null,null,null,null,null,null,null,null,null,null,null,null,null,null,{"$f":"IF(ISERROR(VLOOKUP(D55,勤務シフト一覧!$B$4:$C$106,2,FALSE)),\"\",VLOOKUP(D55,勤務シフト一覧!$B$4:$C$106,2,FALSE))","v":""},{"$f":"IF(ISERROR(VLOOKUP(E55,勤務シフト一覧!$B$4:$C$106,2,FALSE)),\"\",VLOOKUP(E55,勤務シフト一覧!$B$4:$C$106,2,FALSE))","v":""},{"$f":"IF(ISERROR(VLOOKUP(F55,勤務シフト一覧!$B$4:$C$106,2,FALSE)),\"\",VLOOKUP(F55,勤務シフト一覧!$B$4:$C$106,2,FALSE))","v":""},{"$f":"IF(ISERROR(VLOOKUP(G55,勤務シフト一覧!$B$4:$C$106,2,FALSE)),\"\",VLOOKUP(G55,勤務シフト一覧!$B$4:$C$106,2,FALSE))","v":""},{"$f":"IF(ISERROR(VLOOKUP(H55,勤務シフト一覧!$B$4:$C$106,2,FALSE)),\"\",VLOOKUP(H55,勤務シフト一覧!$B$4:$C$106,2,FALSE))","v":""},{"$f":"IF(ISERROR(VLOOKUP(I55,勤務シフト一覧!$B$4:$C$106,2,FALSE)),\"\",VLOOKUP(I55,勤務シフト一覧!$B$4:$C$106,2,FALSE))","v":""},{"$f":"IF(ISERROR(VLOOKUP(J55,勤務シフト一覧!$B$4:$C$106,2,FALSE)),\"\",VLOOKUP(J55,勤務シフト一覧!$B$4:$C$106,2,FALSE))","v":""},{"$f":"IF(ISERROR(VLOOKUP(K55,勤務シフト一覧!$B$4:$C$106,2,FALSE)),\"\",VLOOKUP(K55,勤務シフト一覧!$B$4:$C$106,2,FALSE))","v":""},{"$f":"IF(ISERROR(VLOOKUP(L55,勤務シフト一覧!$B$4:$C$106,2,FALSE)),\"\",VLOOKUP(L55,勤務シフト一覧!$B$4:$C$106,2,FALSE))","v":""},{"$f":"IF(ISERROR(VLOOKUP(M55,勤務シフト一覧!$B$4:$C$106,2,FALSE)),\"\",VLOOKUP(M55,勤務シフト一覧!$B$4:$C$106,2,FALSE))","v":""},{"$f":"IF(ISERROR(VLOOKUP(N55,勤務シフト一覧!$B$4:$C$106,2,FALSE)),\"\",VLOOKUP(N55,勤務シフト一覧!$B$4:$C$106,2,FALSE))","v":""},{"$f":"IF(ISERROR(VLOOKUP(O55,勤務シフト一覧!$B$4:$C$106,2,FALSE)),\"\",VLOOKUP(O55,勤務シフト一覧!$B$4:$C$106,2,FALSE))","v":""},{"$f":"IF(ISERROR(VLOOKUP(P55,勤務シフト一覧!$B$4:$C$106,2,FALSE)),\"\",VLOOKUP(P55,勤務シフト一覧!$B$4:$C$106,2,FALSE))","v":""},{"$f":"IF(ISERROR(VLOOKUP(Q55,勤務シフト一覧!$B$4:$C$106,2,FALSE)),\"\",VLOOKUP(Q55,勤務シフト一覧!$B$4:$C$106,2,FALSE))","v":""},{"$f":"IF(ISERROR(VLOOKUP(R55,勤務シフト一覧!$B$4:$C$106,2,FALSE)),\"\",VLOOKUP(R55,勤務シフト一覧!$B$4:$C$106,2,FALSE))","v":""},{"$f":"IF(ISERROR(VLOOKUP(S55,勤務シフト一覧!$B$4:$C$106,2,FALSE)),\"\",VLOOKUP(S55,勤務シフト一覧!$B$4:$C$106,2,FALSE))","v":""},{"$f":"IF(ISERROR(VLOOKUP(T55,勤務シフト一覧!$B$4:$C$106,2,FALSE)),\"\",VLOOKUP(T55,勤務シフト一覧!$B$4:$C$106,2,FALSE))","v":""},{"$f":"IF(ISERROR(VLOOKUP(U55,勤務シフト一覧!$B$4:$C$106,2,FALSE)),\"\",VLOOKUP(U55,勤務シフト一覧!$B$4:$C$106,2,FALSE))","v":""},{"$f":"IF(ISERROR(VLOOKUP(V55,勤務シフト一覧!$B$4:$C$106,2,FALSE)),\"\",VLOOKUP(V55,勤務シフト一覧!$B$4:$C$106,2,FALSE))","v":""},{"$f":"IF(ISERROR(VLOOKUP(W55,勤務シフト一覧!$B$4:$C$106,2,FALSE)),\"\",VLOOKUP(W55,勤務シフト一覧!$B$4:$C$106,2,FALSE))","v":""},{"$f":"IF(ISERROR(VLOOKUP(X55,勤務シフト一覧!$B$4:$C$106,2,FALSE)),\"\",VLOOKUP(X55,勤務シフト一覧!$B$4:$C$106,2,FALSE))","v":""},{"$f":"IF(ISERROR(VLOOKUP(Y55,勤務シフト一覧!$B$4:$C$106,2,FALSE)),\"\",VLOOKUP(Y55,勤務シフト一覧!$B$4:$C$106,2,FALSE))","v":""},{"$f":"IF(ISERROR(VLOOKUP(Z55,勤務シフト一覧!$B$4:$C$106,2,FALSE)),\"\",VLOOKUP(Z55,勤務シフト一覧!$B$4:$C$106,2,FALSE))","v":""},{"$f":"IF(ISERROR(VLOOKUP(AA55,勤務シフト一覧!$B$4:$C$106,2,FALSE)),\"\",VLOOKUP(AA55,勤務シフト一覧!$B$4:$C$106,2,FALSE))","v":""},{"$f":"IF(ISERROR(VLOOKUP(AB55,勤務シフト一覧!$B$4:$C$106,2,FALSE)),\"\",VLOOKUP(AB55,勤務シフト一覧!$B$4:$C$106,2,FALSE))","v":""},{"$f":"IF(ISERROR(VLOOKUP(AC55,勤務シフト一覧!$B$4:$C$106,2,FALSE)),\"\",VLOOKUP(AC55,勤務シフト一覧!$B$4:$C$106,2,FALSE))","v":""},{"$f":"IF(ISERROR(VLOOKUP(AD55,勤務シフト一覧!$B$4:$C$106,2,FALSE)),\"\",VLOOKUP(AD55,勤務シフト一覧!$B$4:$C$106,2,FALSE))","v":""},{"$f":"IF(ISERROR(VLOOKUP(AE55,勤務シフト一覧!$B$4:$C$106,2,FALSE)),\"\",VLOOKUP(AE55,勤務シフト一覧!$B$4:$C$106,2,FALSE))","v":""},{"$f":"IF(ISERROR(VLOOKUP(AF55,勤務シフト一覧!$B$4:$C$106,2,FALSE)),\"\",VLOOKUP(AF55,勤務シフト一覧!$B$4:$C$106,2,FALSE))","v":""},{"$f":"IF(ISERROR(VLOOKUP(AG55,勤務シフト一覧!$B$4:$C$106,2,FALSE)),\"\",VLOOKUP(AG55,勤務シフト一覧!$B$4:$C$106,2,FALSE))","v":""},{"$f":"IF(ISERROR(VLOOKUP(AH55,勤務シフト一覧!$B$4:$C$106,2,FALSE)),\"\",VLOOKUP(AH55,勤務シフト一覧!$B$4:$C$106,2,FALSE))","v":""},null,{"$f":"IF(ISERROR(VLOOKUP(D55,勤務シフト一覧!$B$4:$D$106,3,FALSE)),\"\",VLOOKUP(D55,勤務シフト一覧!$B$4:$D$106,3,FALSE))","v":""},{"$f":"IF(ISERROR(VLOOKUP(E55,勤務シフト一覧!$B$4:$D$106,3,FALSE)),\"\",VLOOKUP(E55,勤務シフト一覧!$B$4:$D$106,3,FALSE))","v":""},{"$f":"IF(ISERROR(VLOOKUP(F55,勤務シフト一覧!$B$4:$D$106,3,FALSE)),\"\",VLOOKUP(F55,勤務シフト一覧!$B$4:$D$106,3,FALSE))","v":""},{"$f":"IF(ISERROR(VLOOKUP(G55,勤務シフト一覧!$B$4:$D$106,3,FALSE)),\"\",VLOOKUP(G55,勤務シフト一覧!$B$4:$D$106,3,FALSE))","v":""},{"$f":"IF(ISERROR(VLOOKUP(H55,勤務シフト一覧!$B$4:$D$106,3,FALSE)),\"\",VLOOKUP(H55,勤務シフト一覧!$B$4:$D$106,3,FALSE))","v":""},{"$f":"IF(ISERROR(VLOOKUP(I55,勤務シフト一覧!$B$4:$D$106,3,FALSE)),\"\",VLOOKUP(I55,勤務シフト一覧!$B$4:$D$106,3,FALSE))","v":""},{"$f":"IF(ISERROR(VLOOKUP(J55,勤務シフト一覧!$B$4:$D$106,3,FALSE)),\"\",VLOOKUP(J55,勤務シフト一覧!$B$4:$D$106,3,FALSE))","v":""},{"$f":"IF(ISERROR(VLOOKUP(K55,勤務シフト一覧!$B$4:$D$106,3,FALSE)),\"\",VLOOKUP(K55,勤務シフト一覧!$B$4:$D$106,3,FALSE))","v":""},{"$f":"IF(ISERROR(VLOOKUP(L55,勤務シフト一覧!$B$4:$D$106,3,FALSE)),\"\",VLOOKUP(L55,勤務シフト一覧!$B$4:$D$106,3,FALSE))","v":""},{"$f":"IF(ISERROR(VLOOKUP(M55,勤務シフト一覧!$B$4:$D$106,3,FALSE)),\"\",VLOOKUP(M55,勤務シフト一覧!$B$4:$D$106,3,FALSE))","v":""},{"$f":"IF(ISERROR(VLOOKUP(N55,勤務シフト一覧!$B$4:$D$106,3,FALSE)),\"\",VLOOKUP(N55,勤務シフト一覧!$B$4:$D$106,3,FALSE))","v":""},{"$f":"IF(ISERROR(VLOOKUP(O55,勤務シフト一覧!$B$4:$D$106,3,FALSE)),\"\",VLOOKUP(O55,勤務シフト一覧!$B$4:$D$106,3,FALSE))","v":""},{"$f":"IF(ISERROR(VLOOKUP(P55,勤務シフト一覧!$B$4:$D$106,3,FALSE)),\"\",VLOOKUP(P55,勤務シフト一覧!$B$4:$D$106,3,FALSE))","v":""},{"$f":"IF(ISERROR(VLOOKUP(Q55,勤務シフト一覧!$B$4:$D$106,3,FALSE)),\"\",VLOOKUP(Q55,勤務シフト一覧!$B$4:$D$106,3,FALSE))","v":""},{"$f":"IF(ISERROR(VLOOKUP(R55,勤務シフト一覧!$B$4:$D$106,3,FALSE)),\"\",VLOOKUP(R55,勤務シフト一覧!$B$4:$D$106,3,FALSE))","v":""},{"$f":"IF(ISERROR(VLOOKUP(S55,勤務シフト一覧!$B$4:$D$106,3,FALSE)),\"\",VLOOKUP(S55,勤務シフト一覧!$B$4:$D$106,3,FALSE))","v":""},{"$f":"IF(ISERROR(VLOOKUP(T55,勤務シフト一覧!$B$4:$D$106,3,FALSE)),\"\",VLOOKUP(T55,勤務シフト一覧!$B$4:$D$106,3,FALSE))","v":""},{"$f":"IF(ISERROR(VLOOKUP(U55,勤務シフト一覧!$B$4:$D$106,3,FALSE)),\"\",VLOOKUP(U55,勤務シフト一覧!$B$4:$D$106,3,FALSE))","v":""},{"$f":"IF(ISERROR(VLOOKUP(V55,勤務シフト一覧!$B$4:$D$106,3,FALSE)),\"\",VLOOKUP(V55,勤務シフト一覧!$B$4:$D$106,3,FALSE))","v":""},{"$f":"IF(ISERROR(VLOOKUP(W55,勤務シフト一覧!$B$4:$D$106,3,FALSE)),\"\",VLOOKUP(W55,勤務シフト一覧!$B$4:$D$106,3,FALSE))","v":""},{"$f":"IF(ISERROR(VLOOKUP(X55,勤務シフト一覧!$B$4:$D$106,3,FALSE)),\"\",VLOOKUP(X55,勤務シフト一覧!$B$4:$D$106,3,FALSE))","v":""},{"$f":"IF(ISERROR(VLOOKUP(Y55,勤務シフト一覧!$B$4:$D$106,3,FALSE)),\"\",VLOOKUP(Y55,勤務シフト一覧!$B$4:$D$106,3,FALSE))","v":""},{"$f":"IF(ISERROR(VLOOKUP(Z55,勤務シフト一覧!$B$4:$D$106,3,FALSE)),\"\",VLOOKUP(Z55,勤務シフト一覧!$B$4:$D$106,3,FALSE))","v":""},{"$f":"IF(ISERROR(VLOOKUP(AA55,勤務シフト一覧!$B$4:$D$106,3,FALSE)),\"\",VLOOKUP(AA55,勤務シフト一覧!$B$4:$D$106,3,FALSE))","v":""},{"$f":"IF(ISERROR(VLOOKUP(AB55,勤務シフト一覧!$B$4:$D$106,3,FALSE)),\"\",VLOOKUP(AB55,勤務シフト一覧!$B$4:$D$106,3,FALSE))","v":""},{"$f":"IF(ISERROR(VLOOKUP(AC55,勤務シフト一覧!$B$4:$D$106,3,FALSE)),\"\",VLOOKUP(AC55,勤務シフト一覧!$B$4:$D$106,3,FALSE))","v":""},{"$f":"IF(ISERROR(VLOOKUP(AD55,勤務シフト一覧!$B$4:$D$106,3,FALSE)),\"\",VLOOKUP(AD55,勤務シフト一覧!$B$4:$D$106,3,FALSE))","v":""},{"$f":"IF(ISERROR(VLOOKUP(AE55,勤務シフト一覧!$B$4:$D$106,3,FALSE)),\"\",VLOOKUP(AE55,勤務シフト一覧!$B$4:$D$106,3,FALSE))","v":""},{"$f":"IF(ISERROR(VLOOKUP(AF55,勤務シフト一覧!$B$4:$D$106,3,FALSE)),\"\",VLOOKUP(AF55,勤務シフト一覧!$B$4:$D$106,3,FALSE))","v":""},{"$f":"IF(ISERROR(VLOOKUP(AG55,勤務シフト一覧!$B$4:$D$106,3,FALSE)),\"\",VLOOKUP(AG55,勤務シフト一覧!$B$4:$D$106,3,FALSE))","v":""},{"$f":"IF(ISERROR(VLOOKUP(AH55,勤務シフト一覧!$B$4:$D$106,3,FALSE)),\"\",VLOOKUP(AH55,勤務シフト一覧!$B$4:$D$106,3,FALSE))","v":""},0,0,0,0,0,0,0,0,0,0,null,null,{"$f":"IF(勤務シフト一覧!$D55<>0,IF(勤務シフト一覧!$B55<> 0,勤務シフト一覧!$B55,\"\"),\"\")","v":"*祭代"}]
[{"$f":"IF(LEN(職員一覧!B27)<>0,職員一覧!B27,\"\")","v":""},{"$f":"IF(LEN(職員一覧!C27)<>0,職員一覧!C27,\"\")","v":""},"予定",null,null,null,null,null,null,null,null,null,null,null,null,null,null,null,null,null,null,null,null,null,null,null,null,null,null,null,null,null,null,null,{"$f":"IF(ISERROR(VLOOKUP(D56,勤務シフト一覧!$B$4:$C$106,2,FALSE)),\"\",VLOOKUP(D56,勤務シフト一覧!$B$4:$C$106,2,FALSE))","v":""},{"$f":"IF(ISERROR(VLOOKUP(E56,勤務シフト一覧!$B$4:$C$106,2,FALSE)),\"\",VLOOKUP(E56,勤務シフト一覧!$B$4:$C$106,2,FALSE))","v":""},{"$f":"IF(ISERROR(VLOOKUP(F56,勤務シフト一覧!$B$4:$C$106,2,FALSE)),\"\",VLOOKUP(F56,勤務シフト一覧!$B$4:$C$106,2,FALSE))","v":""},{"$f":"IF(ISERROR(VLOOKUP(G56,勤務シフト一覧!$B$4:$C$106,2,FALSE)),\"\",VLOOKUP(G56,勤務シフト一覧!$B$4:$C$106,2,FALSE))","v":""},{"$f":"IF(ISERROR(VLOOKUP(H56,勤務シフト一覧!$B$4:$C$106,2,FALSE)),\"\",VLOOKUP(H56,勤務シフト一覧!$B$4:$C$106,2,FALSE))","v":""},{"$f":"IF(ISERROR(VLOOKUP(I56,勤務シフト一覧!$B$4:$C$106,2,FALSE)),\"\",VLOOKUP(I56,勤務シフト一覧!$B$4:$C$106,2,FALSE))","v":""},{"$f":"IF(ISERROR(VLOOKUP(J56,勤務シフト一覧!$B$4:$C$106,2,FALSE)),\"\",VLOOKUP(J56,勤務シフト一覧!$B$4:$C$106,2,FALSE))","v":""},{"$f":"IF(ISERROR(VLOOKUP(K56,勤務シフト一覧!$B$4:$C$106,2,FALSE)),\"\",VLOOKUP(K56,勤務シフト一覧!$B$4:$C$106,2,FALSE))","v":""},{"$f":"IF(ISERROR(VLOOKUP(L56,勤務シフト一覧!$B$4:$C$106,2,FALSE)),\"\",VLOOKUP(L56,勤務シフト一覧!$B$4:$C$106,2,FALSE))","v":""},{"$f":"IF(ISERROR(VLOOKUP(M56,勤務シフト一覧!$B$4:$C$106,2,FALSE)),\"\",VLOOKUP(M56,勤務シフト一覧!$B$4:$C$106,2,FALSE))","v":""},{"$f":"IF(ISERROR(VLOOKUP(N56,勤務シフト一覧!$B$4:$C$106,2,FALSE)),\"\",VLOOKUP(N56,勤務シフト一覧!$B$4:$C$106,2,FALSE))","v":""},{"$f":"IF(ISERROR(VLOOKUP(O56,勤務シフト一覧!$B$4:$C$106,2,FALSE)),\"\",VLOOKUP(O56,勤務シフト一覧!$B$4:$C$106,2,FALSE))","v":""},{"$f":"IF(ISERROR(VLOOKUP(P56,勤務シフト一覧!$B$4:$C$106,2,FALSE)),\"\",VLOOKUP(P56,勤務シフト一覧!$B$4:$C$106,2,FALSE))","v":""},{"$f":"IF(ISERROR(VLOOKUP(Q56,勤務シフト一覧!$B$4:$C$106,2,FALSE)),\"\",VLOOKUP(Q56,勤務シフト一覧!$B$4:$C$106,2,FALSE))","v":""},{"$f":"IF(ISERROR(VLOOKUP(R56,勤務シフト一覧!$B$4:$C$106,2,FALSE)),\"\",VLOOKUP(R56,勤務シフト一覧!$B$4:$C$106,2,FALSE))","v":""},{"$f":"IF(ISERROR(VLOOKUP(S56,勤務シフト一覧!$B$4:$C$106,2,FALSE)),\"\",VLOOKUP(S56,勤務シフト一覧!$B$4:$C$106,2,FALSE))","v":""},{"$f":"IF(ISERROR(VLOOKUP(T56,勤務シフト一覧!$B$4:$C$106,2,FALSE)),\"\",VLOOKUP(T56,勤務シフト一覧!$B$4:$C$106,2,FALSE))","v":""},{"$f":"IF(ISERROR(VLOOKUP(U56,勤務シフト一覧!$B$4:$C$106,2,FALSE)),\"\",VLOOKUP(U56,勤務シフト一覧!$B$4:$C$106,2,FALSE))","v":""},{"$f":"IF(ISERROR(VLOOKUP(V56,勤務シフト一覧!$B$4:$C$106,2,FALSE)),\"\",VLOOKUP(V56,勤務シフト一覧!$B$4:$C$106,2,FALSE))","v":""},{"$f":"IF(ISERROR(VLOOKUP(W56,勤務シフト一覧!$B$4:$C$106,2,FALSE)),\"\",VLOOKUP(W56,勤務シフト一覧!$B$4:$C$106,2,FALSE))","v":""},{"$f":"IF(ISERROR(VLOOKUP(X56,勤務シフト一覧!$B$4:$C$106,2,FALSE)),\"\",VLOOKUP(X56,勤務シフト一覧!$B$4:$C$106,2,FALSE))","v":""},{"$f":"IF(ISERROR(VLOOKUP(Y56,勤務シフト一覧!$B$4:$C$106,2,FALSE)),\"\",VLOOKUP(Y56,勤務シフト一覧!$B$4:$C$106,2,FALSE))","v":""},{"$f":"IF(ISERROR(VLOOKUP(Z56,勤務シフト一覧!$B$4:$C$106,2,FALSE)),\"\",VLOOKUP(Z56,勤務シフト一覧!$B$4:$C$106,2,FALSE))","v":""},{"$f":"IF(ISERROR(VLOOKUP(AA56,勤務シフト一覧!$B$4:$C$106,2,FALSE)),\"\",VLOOKUP(AA56,勤務シフト一覧!$B$4:$C$106,2,FALSE))","v":""},{"$f":"IF(ISERROR(VLOOKUP(AB56,勤務シフト一覧!$B$4:$C$106,2,FALSE)),\"\",VLOOKUP(AB56,勤務シフト一覧!$B$4:$C$106,2,FALSE))","v":""},{"$f":"IF(ISERROR(VLOOKUP(AC56,勤務シフト一覧!$B$4:$C$106,2,FALSE)),\"\",VLOOKUP(AC56,勤務シフト一覧!$B$4:$C$106,2,FALSE))","v":""},{"$f":"IF(ISERROR(VLOOKUP(AD56,勤務シフト一覧!$B$4:$C$106,2,FALSE)),\"\",VLOOKUP(AD56,勤務シフト一覧!$B$4:$C$106,2,FALSE))","v":""},{"$f":"IF(ISERROR(VLOOKUP(AE56,勤務シフト一覧!$B$4:$C$106,2,FALSE)),\"\",VLOOKUP(AE56,勤務シフト一覧!$B$4:$C$106,2,FALSE))","v":""},{"$f":"IF(ISERROR(VLOOKUP(AF56,勤務シフト一覧!$B$4:$C$106,2,FALSE)),\"\",VLOOKUP(AF56,勤務シフト一覧!$B$4:$C$106,2,FALSE))","v":""},{"$f":"IF(ISERROR(VLOOKUP(AG56,勤務シフト一覧!$B$4:$C$106,2,FALSE)),\"\",VLOOKUP(AG56,勤務シフト一覧!$B$4:$C$106,2,FALSE))","v":""},{"$f":"IF(ISERROR(VLOOKUP(AH56,勤務シフト一覧!$B$4:$C$106,2,FALSE)),\"\",VLOOKUP(AH56,勤務シフト一覧!$B$4:$C$106,2,FALSE))","v":""},null,{"$f":"IF(ISERROR(VLOOKUP(D56,勤務シフト一覧!$B$4:$D$106,3,FALSE)),\"\",VLOOKUP(D56,勤務シフト一覧!$B$4:$D$106,3,FALSE))","v":""},{"$f":"IF(ISERROR(VLOOKUP(E56,勤務シフト一覧!$B$4:$D$106,3,FALSE)),\"\",VLOOKUP(E56,勤務シフト一覧!$B$4:$D$106,3,FALSE))","v":""},{"$f":"IF(ISERROR(VLOOKUP(F56,勤務シフト一覧!$B$4:$D$106,3,FALSE)),\"\",VLOOKUP(F56,勤務シフト一覧!$B$4:$D$106,3,FALSE))","v":""},{"$f":"IF(ISERROR(VLOOKUP(G56,勤務シフト一覧!$B$4:$D$106,3,FALSE)),\"\",VLOOKUP(G56,勤務シフト一覧!$B$4:$D$106,3,FALSE))","v":""},{"$f":"IF(ISERROR(VLOOKUP(H56,勤務シフト一覧!$B$4:$D$106,3,FALSE)),\"\",VLOOKUP(H56,勤務シフト一覧!$B$4:$D$106,3,FALSE))","v":""},{"$f":"IF(ISERROR(VLOOKUP(I56,勤務シフト一覧!$B$4:$D$106,3,FALSE)),\"\",VLOOKUP(I56,勤務シフト一覧!$B$4:$D$106,3,FALSE))","v":""},{"$f":"IF(ISERROR(VLOOKUP(J56,勤務シフト一覧!$B$4:$D$106,3,FALSE)),\"\",VLOOKUP(J56,勤務シフト一覧!$B$4:$D$106,3,FALSE))","v":""},{"$f":"IF(ISERROR(VLOOKUP(K56,勤務シフト一覧!$B$4:$D$106,3,FALSE)),\"\",VLOOKUP(K56,勤務シフト一覧!$B$4:$D$106,3,FALSE))","v":""},{"$f":"IF(ISERROR(VLOOKUP(L56,勤務シフト一覧!$B$4:$D$106,3,FALSE)),\"\",VLOOKUP(L56,勤務シフト一覧!$B$4:$D$106,3,FALSE))","v":""},{"$f":"IF(ISERROR(VLOOKUP(M56,勤務シフト一覧!$B$4:$D$106,3,FALSE)),\"\",VLOOKUP(M56,勤務シフト一覧!$B$4:$D$106,3,FALSE))","v":""},{"$f":"IF(ISERROR(VLOOKUP(N56,勤務シフト一覧!$B$4:$D$106,3,FALSE)),\"\",VLOOKUP(N56,勤務シフト一覧!$B$4:$D$106,3,FALSE))","v":""},{"$f":"IF(ISERROR(VLOOKUP(O56,勤務シフト一覧!$B$4:$D$106,3,FALSE)),\"\",VLOOKUP(O56,勤務シフト一覧!$B$4:$D$106,3,FALSE))","v":""},{"$f":"IF(ISERROR(VLOOKUP(P56,勤務シフト一覧!$B$4:$D$106,3,FALSE)),\"\",VLOOKUP(P56,勤務シフト一覧!$B$4:$D$106,3,FALSE))","v":""},{"$f":"IF(ISERROR(VLOOKUP(Q56,勤務シフト一覧!$B$4:$D$106,3,FALSE)),\"\",VLOOKUP(Q56,勤務シフト一覧!$B$4:$D$106,3,FALSE))","v":""},{"$f":"IF(ISERROR(VLOOKUP(R56,勤務シフト一覧!$B$4:$D$106,3,FALSE)),\"\",VLOOKUP(R56,勤務シフト一覧!$B$4:$D$106,3,FALSE))","v":""},{"$f":"IF(ISERROR(VLOOKUP(S56,勤務シフト一覧!$B$4:$D$106,3,FALSE)),\"\",VLOOKUP(S56,勤務シフト一覧!$B$4:$D$106,3,FALSE))","v":""},{"$f":"IF(ISERROR(VLOOKUP(T56,勤務シフト一覧!$B$4:$D$106,3,FALSE)),\"\",VLOOKUP(T56,勤務シフト一覧!$B$4:$D$106,3,FALSE))","v":""},{"$f":"IF(ISERROR(VLOOKUP(U56,勤務シフト一覧!$B$4:$D$106,3,FALSE)),\"\",VLOOKUP(U56,勤務シフト一覧!$B$4:$D$106,3,FALSE))","v":""},{"$f":"IF(ISERROR(VLOOKUP(V56,勤務シフト一覧!$B$4:$D$106,3,FALSE)),\"\",VLOOKUP(V56,勤務シフト一覧!$B$4:$D$106,3,FALSE))","v":""},{"$f":"IF(ISERROR(VLOOKUP(W56,勤務シフト一覧!$B$4:$D$106,3,FALSE)),\"\",VLOOKUP(W56,勤務シフト一覧!$B$4:$D$106,3,FALSE))","v":""},{"$f":"IF(ISERROR(VLOOKUP(X56,勤務シフト一覧!$B$4:$D$106,3,FALSE)),\"\",VLOOKUP(X56,勤務シフト一覧!$B$4:$D$106,3,FALSE))","v":""},{"$f":"IF(ISERROR(VLOOKUP(Y56,勤務シフト一覧!$B$4:$D$106,3,FALSE)),\"\",VLOOKUP(Y56,勤務シフト一覧!$B$4:$D$106,3,FALSE))","v":""},{"$f":"IF(ISERROR(VLOOKUP(Z56,勤務シフト一覧!$B$4:$D$106,3,FALSE)),\"\",VLOOKUP(Z56,勤務シフト一覧!$B$4:$D$106,3,FALSE))","v":""},{"$f":"IF(ISERROR(VLOOKUP(AA56,勤務シフト一覧!$B$4:$D$106,3,FALSE)),\"\",VLOOKUP(AA56,勤務シフト一覧!$B$4:$D$106,3,FALSE))","v":""},{"$f":"IF(ISERROR(VLOOKUP(AB56,勤務シフト一覧!$B$4:$D$106,3,FALSE)),\"\",VLOOKUP(AB56,勤務シフト一覧!$B$4:$D$106,3,FALSE))","v":""},{"$f":"IF(ISERROR(VLOOKUP(AC56,勤務シフト一覧!$B$4:$D$106,3,FALSE)),\"\",VLOOKUP(AC56,勤務シフト一覧!$B$4:$D$106,3,FALSE))","v":""},{"$f":"IF(ISERROR(VLOOKUP(AD56,勤務シフト一覧!$B$4:$D$106,3,FALSE)),\"\",VLOOKUP(AD56,勤務シフト一覧!$B$4:$D$106,3,FALSE))","v":""},{"$f":"IF(ISERROR(VLOOKUP(AE56,勤務シフト一覧!$B$4:$D$106,3,FALSE)),\"\",VLOOKUP(AE56,勤務シフト一覧!$B$4:$D$106,3,FALSE))","v":""},{"$f":"IF(ISERROR(VLOOKUP(AF56,勤務シフト一覧!$B$4:$D$106,3,FALSE)),\"\",VLOOKUP(AF56,勤務シフト一覧!$B$4:$D$106,3,FALSE))","v":""},{"$f":"IF(ISERROR(VLOOKUP(AG56,勤務シフト一覧!$B$4:$D$106,3,FALSE)),\"\",VLOOKUP(AG56,勤務シフト一覧!$B$4:$D$106,3,FALSE))","v":""},{"$f":"IF(ISERROR(VLOOKUP(AH56,勤務シフト一覧!$B$4:$D$106,3,FALSE)),\"\",VLOOKUP(AH56,勤務シフト一覧!$B$4:$D$106,3,FALSE))","v":""},0,0,0,0,0,0,0,0,0,0,{"$f":"IF(LEN(職員一覧!D27)<>0,職員一覧!D27,\"\")","v":""},null,{"$f":"IF(勤務シフト一覧!$D57<>0,IF(勤務シフト一覧!$B57<> 0,勤務シフト一覧!$B57,\"\"),\"\")","v":"介／"}]
[null,null,"実施",null,null,null,null,null,null,null,null,null,null,null,null,null,null,null,null,null,null,null,null,null,null,null,null,null,null,null,null,null,null,null,{"$f":"IF(ISERROR(VLOOKUP(D57,勤務シフト一覧!$B$4:$C$106,2,FALSE)),\"\",VLOOKUP(D57,勤務シフト一覧!$B$4:$C$106,2,FALSE))","v":""},{"$f":"IF(ISERROR(VLOOKUP(E57,勤務シフト一覧!$B$4:$C$106,2,FALSE)),\"\",VLOOKUP(E57,勤務シフト一覧!$B$4:$C$106,2,FALSE))","v":""},{"$f":"IF(ISERROR(VLOOKUP(F57,勤務シフト一覧!$B$4:$C$106,2,FALSE)),\"\",VLOOKUP(F57,勤務シフト一覧!$B$4:$C$106,2,FALSE))","v":""},{"$f":"IF(ISERROR(VLOOKUP(G57,勤務シフト一覧!$B$4:$C$106,2,FALSE)),\"\",VLOOKUP(G57,勤務シフト一覧!$B$4:$C$106,2,FALSE))","v":""},{"$f":"IF(ISERROR(VLOOKUP(H57,勤務シフト一覧!$B$4:$C$106,2,FALSE)),\"\",VLOOKUP(H57,勤務シフト一覧!$B$4:$C$106,2,FALSE))","v":""},{"$f":"IF(ISERROR(VLOOKUP(I57,勤務シフト一覧!$B$4:$C$106,2,FALSE)),\"\",VLOOKUP(I57,勤務シフト一覧!$B$4:$C$106,2,FALSE))","v":""},{"$f":"IF(ISERROR(VLOOKUP(J57,勤務シフト一覧!$B$4:$C$106,2,FALSE)),\"\",VLOOKUP(J57,勤務シフト一覧!$B$4:$C$106,2,FALSE))","v":""},{"$f":"IF(ISERROR(VLOOKUP(K57,勤務シフト一覧!$B$4:$C$106,2,FALSE)),\"\",VLOOKUP(K57,勤務シフト一覧!$B$4:$C$106,2,FALSE))","v":""},{"$f":"IF(ISERROR(VLOOKUP(L57,勤務シフト一覧!$B$4:$C$106,2,FALSE)),\"\",VLOOKUP(L57,勤務シフト一覧!$B$4:$C$106,2,FALSE))","v":""},{"$f":"IF(ISERROR(VLOOKUP(M57,勤務シフト一覧!$B$4:$C$106,2,FALSE)),\"\",VLOOKUP(M57,勤務シフト一覧!$B$4:$C$106,2,FALSE))","v":""},{"$f":"IF(ISERROR(VLOOKUP(N57,勤務シフト一覧!$B$4:$C$106,2,FALSE)),\"\",VLOOKUP(N57,勤務シフト一覧!$B$4:$C$106,2,FALSE))","v":""},{"$f":"IF(ISERROR(VLOOKUP(O57,勤務シフト一覧!$B$4:$C$106,2,FALSE)),\"\",VLOOKUP(O57,勤務シフト一覧!$B$4:$C$106,2,FALSE))","v":""},{"$f":"IF(ISERROR(VLOOKUP(P57,勤務シフト一覧!$B$4:$C$106,2,FALSE)),\"\",VLOOKUP(P57,勤務シフト一覧!$B$4:$C$106,2,FALSE))","v":""},{"$f":"IF(ISERROR(VLOOKUP(Q57,勤務シフト一覧!$B$4:$C$106,2,FALSE)),\"\",VLOOKUP(Q57,勤務シフト一覧!$B$4:$C$106,2,FALSE))","v":""},{"$f":"IF(ISERROR(VLOOKUP(R57,勤務シフト一覧!$B$4:$C$106,2,FALSE)),\"\",VLOOKUP(R57,勤務シフト一覧!$B$4:$C$106,2,FALSE))","v":""},{"$f":"IF(ISERROR(VLOOKUP(S57,勤務シフト一覧!$B$4:$C$106,2,FALSE)),\"\",VLOOKUP(S57,勤務シフト一覧!$B$4:$C$106,2,FALSE))","v":""},{"$f":"IF(ISERROR(VLOOKUP(T57,勤務シフト一覧!$B$4:$C$106,2,FALSE)),\"\",VLOOKUP(T57,勤務シフト一覧!$B$4:$C$106,2,FALSE))","v":""},{"$f":"IF(ISERROR(VLOOKUP(U57,勤務シフト一覧!$B$4:$C$106,2,FALSE)),\"\",VLOOKUP(U57,勤務シフト一覧!$B$4:$C$106,2,FALSE))","v":""},{"$f":"IF(ISERROR(VLOOKUP(V57,勤務シフト一覧!$B$4:$C$106,2,FALSE)),\"\",VLOOKUP(V57,勤務シフト一覧!$B$4:$C$106,2,FALSE))","v":""},{"$f":"IF(ISERROR(VLOOKUP(W57,勤務シフト一覧!$B$4:$C$106,2,FALSE)),\"\",VLOOKUP(W57,勤務シフト一覧!$B$4:$C$106,2,FALSE))","v":""},{"$f":"IF(ISERROR(VLOOKUP(X57,勤務シフト一覧!$B$4:$C$106,2,FALSE)),\"\",VLOOKUP(X57,勤務シフト一覧!$B$4:$C$106,2,FALSE))","v":""},{"$f":"IF(ISERROR(VLOOKUP(Y57,勤務シフト一覧!$B$4:$C$106,2,FALSE)),\"\",VLOOKUP(Y57,勤務シフト一覧!$B$4:$C$106,2,FALSE))","v":""},{"$f":"IF(ISERROR(VLOOKUP(Z57,勤務シフト一覧!$B$4:$C$106,2,FALSE)),\"\",VLOOKUP(Z57,勤務シフト一覧!$B$4:$C$106,2,FALSE))","v":""},{"$f":"IF(ISERROR(VLOOKUP(AA57,勤務シフト一覧!$B$4:$C$106,2,FALSE)),\"\",VLOOKUP(AA57,勤務シフト一覧!$B$4:$C$106,2,FALSE))","v":""},{"$f":"IF(ISERROR(VLOOKUP(AB57,勤務シフト一覧!$B$4:$C$106,2,FALSE)),\"\",VLOOKUP(AB57,勤務シフト一覧!$B$4:$C$106,2,FALSE))","v":""},{"$f":"IF(ISERROR(VLOOKUP(AC57,勤務シフト一覧!$B$4:$C$106,2,FALSE)),\"\",VLOOKUP(AC57,勤務シフト一覧!$B$4:$C$106,2,FALSE))","v":""},{"$f":"IF(ISERROR(VLOOKUP(AD57,勤務シフト一覧!$B$4:$C$106,2,FALSE)),\"\",VLOOKUP(AD57,勤務シフト一覧!$B$4:$C$106,2,FALSE))","v":""},{"$f":"IF(ISERROR(VLOOKUP(AE57,勤務シフト一覧!$B$4:$C$106,2,FALSE)),\"\",VLOOKUP(AE57,勤務シフト一覧!$B$4:$C$106,2,FALSE))","v":""},{"$f":"IF(ISERROR(VLOOKUP(AF57,勤務シフト一覧!$B$4:$C$106,2,FALSE)),\"\",VLOOKUP(AF57,勤務シフト一覧!$B$4:$C$106,2,FALSE))","v":""},{"$f":"IF(ISERROR(VLOOKUP(AG57,勤務シフト一覧!$B$4:$C$106,2,FALSE)),\"\",VLOOKUP(AG57,勤務シフト一覧!$B$4:$C$106,2,FALSE))","v":""},{"$f":"IF(ISERROR(VLOOKUP(AH57,勤務シフト一覧!$B$4:$C$106,2,FALSE)),\"\",VLOOKUP(AH57,勤務シフト一覧!$B$4:$C$106,2,FALSE))","v":""},null,{"$f":"IF(ISERROR(VLOOKUP(D57,勤務シフト一覧!$B$4:$D$106,3,FALSE)),\"\",VLOOKUP(D57,勤務シフト一覧!$B$4:$D$106,3,FALSE))","v":""},{"$f":"IF(ISERROR(VLOOKUP(E57,勤務シフト一覧!$B$4:$D$106,3,FALSE)),\"\",VLOOKUP(E57,勤務シフト一覧!$B$4:$D$106,3,FALSE))","v":""},{"$f":"IF(ISERROR(VLOOKUP(F57,勤務シフト一覧!$B$4:$D$106,3,FALSE)),\"\",VLOOKUP(F57,勤務シフト一覧!$B$4:$D$106,3,FALSE))","v":""},{"$f":"IF(ISERROR(VLOOKUP(G57,勤務シフト一覧!$B$4:$D$106,3,FALSE)),\"\",VLOOKUP(G57,勤務シフト一覧!$B$4:$D$106,3,FALSE))","v":""},{"$f":"IF(ISERROR(VLOOKUP(H57,勤務シフト一覧!$B$4:$D$106,3,FALSE)),\"\",VLOOKUP(H57,勤務シフト一覧!$B$4:$D$106,3,FALSE))","v":""},{"$f":"IF(ISERROR(VLOOKUP(I57,勤務シフト一覧!$B$4:$D$106,3,FALSE)),\"\",VLOOKUP(I57,勤務シフト一覧!$B$4:$D$106,3,FALSE))","v":""},{"$f":"IF(ISERROR(VLOOKUP(J57,勤務シフト一覧!$B$4:$D$106,3,FALSE)),\"\",VLOOKUP(J57,勤務シフト一覧!$B$4:$D$106,3,FALSE))","v":""},{"$f":"IF(ISERROR(VLOOKUP(K57,勤務シフト一覧!$B$4:$D$106,3,FALSE)),\"\",VLOOKUP(K57,勤務シフト一覧!$B$4:$D$106,3,FALSE))","v":""},{"$f":"IF(ISERROR(VLOOKUP(L57,勤務シフト一覧!$B$4:$D$106,3,FALSE)),\"\",VLOOKUP(L57,勤務シフト一覧!$B$4:$D$106,3,FALSE))","v":""},{"$f":"IF(ISERROR(VLOOKUP(M57,勤務シフト一覧!$B$4:$D$106,3,FALSE)),\"\",VLOOKUP(M57,勤務シフト一覧!$B$4:$D$106,3,FALSE))","v":""},{"$f":"IF(ISERROR(VLOOKUP(N57,勤務シフト一覧!$B$4:$D$106,3,FALSE)),\"\",VLOOKUP(N57,勤務シフト一覧!$B$4:$D$106,3,FALSE))","v":""},{"$f":"IF(ISERROR(VLOOKUP(O57,勤務シフト一覧!$B$4:$D$106,3,FALSE)),\"\",VLOOKUP(O57,勤務シフト一覧!$B$4:$D$106,3,FALSE))","v":""},{"$f":"IF(ISERROR(VLOOKUP(P57,勤務シフト一覧!$B$4:$D$106,3,FALSE)),\"\",VLOOKUP(P57,勤務シフト一覧!$B$4:$D$106,3,FALSE))","v":""},{"$f":"IF(ISERROR(VLOOKUP(Q57,勤務シフト一覧!$B$4:$D$106,3,FALSE)),\"\",VLOOKUP(Q57,勤務シフト一覧!$B$4:$D$106,3,FALSE))","v":""},{"$f":"IF(ISERROR(VLOOKUP(R57,勤務シフト一覧!$B$4:$D$106,3,FALSE)),\"\",VLOOKUP(R57,勤務シフト一覧!$B$4:$D$106,3,FALSE))","v":""},{"$f":"IF(ISERROR(VLOOKUP(S57,勤務シフト一覧!$B$4:$D$106,3,FALSE)),\"\",VLOOKUP(S57,勤務シフト一覧!$B$4:$D$106,3,FALSE))","v":""},{"$f":"IF(ISERROR(VLOOKUP(T57,勤務シフト一覧!$B$4:$D$106,3,FALSE)),\"\",VLOOKUP(T57,勤務シフト一覧!$B$4:$D$106,3,FALSE))","v":""},{"$f":"IF(ISERROR(VLOOKUP(U57,勤務シフト一覧!$B$4:$D$106,3,FALSE)),\"\",VLOOKUP(U57,勤務シフト一覧!$B$4:$D$106,3,FALSE))","v":""},{"$f":"IF(ISERROR(VLOOKUP(V57,勤務シフト一覧!$B$4:$D$106,3,FALSE)),\"\",VLOOKUP(V57,勤務シフト一覧!$B$4:$D$106,3,FALSE))","v":""},{"$f":"IF(ISERROR(VLOOKUP(W57,勤務シフト一覧!$B$4:$D$106,3,FALSE)),\"\",VLOOKUP(W57,勤務シフト一覧!$B$4:$D$106,3,FALSE))","v":""},{"$f":"IF(ISERROR(VLOOKUP(X57,勤務シフト一覧!$B$4:$D$106,3,FALSE)),\"\",VLOOKUP(X57,勤務シフト一覧!$B$4:$D$106,3,FALSE))","v":""},{"$f":"IF(ISERROR(VLOOKUP(Y57,勤務シフト一覧!$B$4:$D$106,3,FALSE)),\"\",VLOOKUP(Y57,勤務シフト一覧!$B$4:$D$106,3,FALSE))","v":""},{"$f":"IF(ISERROR(VLOOKUP(Z57,勤務シフト一覧!$B$4:$D$106,3,FALSE)),\"\",VLOOKUP(Z57,勤務シフト一覧!$B$4:$D$106,3,FALSE))","v":""},{"$f":"IF(ISERROR(VLOOKUP(AA57,勤務シフト一覧!$B$4:$D$106,3,FALSE)),\"\",VLOOKUP(AA57,勤務シフト一覧!$B$4:$D$106,3,FALSE))","v":""},{"$f":"IF(ISERROR(VLOOKUP(AB57,勤務シフト一覧!$B$4:$D$106,3,FALSE)),\"\",VLOOKUP(AB57,勤務シフト一覧!$B$4:$D$106,3,FALSE))","v":""},{"$f":"IF(ISERROR(VLOOKUP(AC57,勤務シフト一覧!$B$4:$D$106,3,FALSE)),\"\",VLOOKUP(AC57,勤務シフト一覧!$B$4:$D$106,3,FALSE))","v":""},{"$f":"IF(ISERROR(VLOOKUP(AD57,勤務シフト一覧!$B$4:$D$106,3,FALSE)),\"\",VLOOKUP(AD57,勤務シフト一覧!$B$4:$D$106,3,FALSE))","v":""},{"$f":"IF(ISERROR(VLOOKUP(AE57,勤務シフト一覧!$B$4:$D$106,3,FALSE)),\"\",VLOOKUP(AE57,勤務シフト一覧!$B$4:$D$106,3,FALSE))","v":""},{"$f":"IF(ISERROR(VLOOKUP(AF57,勤務シフト一覧!$B$4:$D$106,3,FALSE)),\"\",VLOOKUP(AF57,勤務シフト一覧!$B$4:$D$106,3,FALSE))","v":""},{"$f":"IF(ISERROR(VLOOKUP(AG57,勤務シフト一覧!$B$4:$D$106,3,FALSE)),\"\",VLOOKUP(AG57,勤務シフト一覧!$B$4:$D$106,3,FALSE))","v":""},{"$f":"IF(ISERROR(VLOOKUP(AH57,勤務シフト一覧!$B$4:$D$106,3,FALSE)),\"\",VLOOKUP(AH57,勤務シフト一覧!$B$4:$D$106,3,FALSE))","v":""},0,0,0,0,0,0,0,0,0,0,null,null,{"$f":"IF(勤務シフト一覧!$D58<>0,IF(勤務シフト一覧!$B58<> 0,勤務シフト一覧!$B58,\"\"),\"\")","v":"祭日"}]
[{"$f":"IF(LEN(職員一覧!B28)<>0,職員一覧!B28,\"\")","v":""},{"$f":"IF(LEN(職員一覧!C28)<>0,職員一覧!C28,\"\")","v":""},"予定",null,null,null,null,null,null,null,null,null,null,null,null,null,null,null,null,null,null,null,null,null,null,null,null,null,null,null,null,null,null,null,{"$f":"IF(ISERROR(VLOOKUP(D58,勤務シフト一覧!$B$4:$C$106,2,FALSE)),\"\",VLOOKUP(D58,勤務シフト一覧!$B$4:$C$106,2,FALSE))","v":""},{"$f":"IF(ISERROR(VLOOKUP(E58,勤務シフト一覧!$B$4:$C$106,2,FALSE)),\"\",VLOOKUP(E58,勤務シフト一覧!$B$4:$C$106,2,FALSE))","v":""},{"$f":"IF(ISERROR(VLOOKUP(F58,勤務シフト一覧!$B$4:$C$106,2,FALSE)),\"\",VLOOKUP(F58,勤務シフト一覧!$B$4:$C$106,2,FALSE))","v":""},{"$f":"IF(ISERROR(VLOOKUP(G58,勤務シフト一覧!$B$4:$C$106,2,FALSE)),\"\",VLOOKUP(G58,勤務シフト一覧!$B$4:$C$106,2,FALSE))","v":""},{"$f":"IF(ISERROR(VLOOKUP(H58,勤務シフト一覧!$B$4:$C$106,2,FALSE)),\"\",VLOOKUP(H58,勤務シフト一覧!$B$4:$C$106,2,FALSE))","v":""},{"$f":"IF(ISERROR(VLOOKUP(I58,勤務シフト一覧!$B$4:$C$106,2,FALSE)),\"\",VLOOKUP(I58,勤務シフト一覧!$B$4:$C$106,2,FALSE))","v":""},{"$f":"IF(ISERROR(VLOOKUP(J58,勤務シフト一覧!$B$4:$C$106,2,FALSE)),\"\",VLOOKUP(J58,勤務シフト一覧!$B$4:$C$106,2,FALSE))","v":""},{"$f":"IF(ISERROR(VLOOKUP(K58,勤務シフト一覧!$B$4:$C$106,2,FALSE)),\"\",VLOOKUP(K58,勤務シフト一覧!$B$4:$C$106,2,FALSE))","v":""},{"$f":"IF(ISERROR(VLOOKUP(L58,勤務シフト一覧!$B$4:$C$106,2,FALSE)),\"\",VLOOKUP(L58,勤務シフト一覧!$B$4:$C$106,2,FALSE))","v":""},{"$f":"IF(ISERROR(VLOOKUP(M58,勤務シフト一覧!$B$4:$C$106,2,FALSE)),\"\",VLOOKUP(M58,勤務シフト一覧!$B$4:$C$106,2,FALSE))","v":""},{"$f":"IF(ISERROR(VLOOKUP(N58,勤務シフト一覧!$B$4:$C$106,2,FALSE)),\"\",VLOOKUP(N58,勤務シフト一覧!$B$4:$C$106,2,FALSE))","v":""},{"$f":"IF(ISERROR(VLOOKUP(O58,勤務シフト一覧!$B$4:$C$106,2,FALSE)),\"\",VLOOKUP(O58,勤務シフト一覧!$B$4:$C$106,2,FALSE))","v":""},{"$f":"IF(ISERROR(VLOOKUP(P58,勤務シフト一覧!$B$4:$C$106,2,FALSE)),\"\",VLOOKUP(P58,勤務シフト一覧!$B$4:$C$106,2,FALSE))","v":""},{"$f":"IF(ISERROR(VLOOKUP(Q58,勤務シフト一覧!$B$4:$C$106,2,FALSE)),\"\",VLOOKUP(Q58,勤務シフト一覧!$B$4:$C$106,2,FALSE))","v":""},{"$f":"IF(ISERROR(VLOOKUP(R58,勤務シフト一覧!$B$4:$C$106,2,FALSE)),\"\",VLOOKUP(R58,勤務シフト一覧!$B$4:$C$106,2,FALSE))","v":""},{"$f":"IF(ISERROR(VLOOKUP(S58,勤務シフト一覧!$B$4:$C$106,2,FALSE)),\"\",VLOOKUP(S58,勤務シフト一覧!$B$4:$C$106,2,FALSE))","v":""},{"$f":"IF(ISERROR(VLOOKUP(T58,勤務シフト一覧!$B$4:$C$106,2,FALSE)),\"\",VLOOKUP(T58,勤務シフト一覧!$B$4:$C$106,2,FALSE))","v":""},{"$f":"IF(ISERROR(VLOOKUP(U58,勤務シフト一覧!$B$4:$C$106,2,FALSE)),\"\",VLOOKUP(U58,勤務シフト一覧!$B$4:$C$106,2,FALSE))","v":""},{"$f":"IF(ISERROR(VLOOKUP(V58,勤務シフト一覧!$B$4:$C$106,2,FALSE)),\"\",VLOOKUP(V58,勤務シフト一覧!$B$4:$C$106,2,FALSE))","v":""},{"$f":"IF(ISERROR(VLOOKUP(W58,勤務シフト一覧!$B$4:$C$106,2,FALSE)),\"\",VLOOKUP(W58,勤務シフト一覧!$B$4:$C$106,2,FALSE))","v":""},{"$f":"IF(ISERROR(VLOOKUP(X58,勤務シフト一覧!$B$4:$C$106,2,FALSE)),\"\",VLOOKUP(X58,勤務シフト一覧!$B$4:$C$106,2,FALSE))","v":""},{"$f":"IF(ISERROR(VLOOKUP(Y58,勤務シフト一覧!$B$4:$C$106,2,FALSE)),\"\",VLOOKUP(Y58,勤務シフト一覧!$B$4:$C$106,2,FALSE))","v":""},{"$f":"IF(ISERROR(VLOOKUP(Z58,勤務シフト一覧!$B$4:$C$106,2,FALSE)),\"\",VLOOKUP(Z58,勤務シフト一覧!$B$4:$C$106,2,FALSE))","v":""},{"$f":"IF(ISERROR(VLOOKUP(AA58,勤務シフト一覧!$B$4:$C$106,2,FALSE)),\"\",VLOOKUP(AA58,勤務シフト一覧!$B$4:$C$106,2,FALSE))","v":""},{"$f":"IF(ISERROR(VLOOKUP(AB58,勤務シフト一覧!$B$4:$C$106,2,FALSE)),\"\",VLOOKUP(AB58,勤務シフト一覧!$B$4:$C$106,2,FALSE))","v":""},{"$f":"IF(ISERROR(VLOOKUP(AC58,勤務シフト一覧!$B$4:$C$106,2,FALSE)),\"\",VLOOKUP(AC58,勤務シフト一覧!$B$4:$C$106,2,FALSE))","v":""},{"$f":"IF(ISERROR(VLOOKUP(AD58,勤務シフト一覧!$B$4:$C$106,2,FALSE)),\"\",VLOOKUP(AD58,勤務シフト一覧!$B$4:$C$106,2,FALSE))","v":""},{"$f":"IF(ISERROR(VLOOKUP(AE58,勤務シフト一覧!$B$4:$C$106,2,FALSE)),\"\",VLOOKUP(AE58,勤務シフト一覧!$B$4:$C$106,2,FALSE))","v":""},{"$f":"IF(ISERROR(VLOOKUP(AF58,勤務シフト一覧!$B$4:$C$106,2,FALSE)),\"\",VLOOKUP(AF58,勤務シフト一覧!$B$4:$C$106,2,FALSE))","v":""},{"$f":"IF(ISERROR(VLOOKUP(AG58,勤務シフト一覧!$B$4:$C$106,2,FALSE)),\"\",VLOOKUP(AG58,勤務シフト一覧!$B$4:$C$106,2,FALSE))","v":""},{"$f":"IF(ISERROR(VLOOKUP(AH58,勤務シフト一覧!$B$4:$C$106,2,FALSE)),\"\",VLOOKUP(AH58,勤務シフト一覧!$B$4:$C$106,2,FALSE))","v":""},null,{"$f":"IF(ISERROR(VLOOKUP(D58,勤務シフト一覧!$B$4:$D$106,3,FALSE)),\"\",VLOOKUP(D58,勤務シフト一覧!$B$4:$D$106,3,FALSE))","v":""},{"$f":"IF(ISERROR(VLOOKUP(E58,勤務シフト一覧!$B$4:$D$106,3,FALSE)),\"\",VLOOKUP(E58,勤務シフト一覧!$B$4:$D$106,3,FALSE))","v":""},{"$f":"IF(ISERROR(VLOOKUP(F58,勤務シフト一覧!$B$4:$D$106,3,FALSE)),\"\",VLOOKUP(F58,勤務シフト一覧!$B$4:$D$106,3,FALSE))","v":""},{"$f":"IF(ISERROR(VLOOKUP(G58,勤務シフト一覧!$B$4:$D$106,3,FALSE)),\"\",VLOOKUP(G58,勤務シフト一覧!$B$4:$D$106,3,FALSE))","v":""},{"$f":"IF(ISERROR(VLOOKUP(H58,勤務シフト一覧!$B$4:$D$106,3,FALSE)),\"\",VLOOKUP(H58,勤務シフト一覧!$B$4:$D$106,3,FALSE))","v":""},{"$f":"IF(ISERROR(VLOOKUP(I58,勤務シフト一覧!$B$4:$D$106,3,FALSE)),\"\",VLOOKUP(I58,勤務シフト一覧!$B$4:$D$106,3,FALSE))","v":""},{"$f":"IF(ISERROR(VLOOKUP(J58,勤務シフト一覧!$B$4:$D$106,3,FALSE)),\"\",VLOOKUP(J58,勤務シフト一覧!$B$4:$D$106,3,FALSE))","v":""},{"$f":"IF(ISERROR(VLOOKUP(K58,勤務シフト一覧!$B$4:$D$106,3,FALSE)),\"\",VLOOKUP(K58,勤務シフト一覧!$B$4:$D$106,3,FALSE))","v":""},{"$f":"IF(ISERROR(VLOOKUP(L58,勤務シフト一覧!$B$4:$D$106,3,FALSE)),\"\",VLOOKUP(L58,勤務シフト一覧!$B$4:$D$106,3,FALSE))","v":""},{"$f":"IF(ISERROR(VLOOKUP(M58,勤務シフト一覧!$B$4:$D$106,3,FALSE)),\"\",VLOOKUP(M58,勤務シフト一覧!$B$4:$D$106,3,FALSE))","v":""},{"$f":"IF(ISERROR(VLOOKUP(N58,勤務シフト一覧!$B$4:$D$106,3,FALSE)),\"\",VLOOKUP(N58,勤務シフト一覧!$B$4:$D$106,3,FALSE))","v":""},{"$f":"IF(ISERROR(VLOOKUP(O58,勤務シフト一覧!$B$4:$D$106,3,FALSE)),\"\",VLOOKUP(O58,勤務シフト一覧!$B$4:$D$106,3,FALSE))","v":""},{"$f":"IF(ISERROR(VLOOKUP(P58,勤務シフト一覧!$B$4:$D$106,3,FALSE)),\"\",VLOOKUP(P58,勤務シフト一覧!$B$4:$D$106,3,FALSE))","v":""},{"$f":"IF(ISERROR(VLOOKUP(Q58,勤務シフト一覧!$B$4:$D$106,3,FALSE)),\"\",VLOOKUP(Q58,勤務シフト一覧!$B$4:$D$106,3,FALSE))","v":""},{"$f":"IF(ISERROR(VLOOKUP(R58,勤務シフト一覧!$B$4:$D$106,3,FALSE)),\"\",VLOOKUP(R58,勤務シフト一覧!$B$4:$D$106,3,FALSE))","v":""},{"$f":"IF(ISERROR(VLOOKUP(S58,勤務シフト一覧!$B$4:$D$106,3,FALSE)),\"\",VLOOKUP(S58,勤務シフト一覧!$B$4:$D$106,3,FALSE))","v":""},{"$f":"IF(ISERROR(VLOOKUP(T58,勤務シフト一覧!$B$4:$D$106,3,FALSE)),\"\",VLOOKUP(T58,勤務シフト一覧!$B$4:$D$106,3,FALSE))","v":""},{"$f":"IF(ISERROR(VLOOKUP(U58,勤務シフト一覧!$B$4:$D$106,3,FALSE)),\"\",VLOOKUP(U58,勤務シフト一覧!$B$4:$D$106,3,FALSE))","v":""},{"$f":"IF(ISERROR(VLOOKUP(V58,勤務シフト一覧!$B$4:$D$106,3,FALSE)),\"\",VLOOKUP(V58,勤務シフト一覧!$B$4:$D$106,3,FALSE))","v":""},{"$f":"IF(ISERROR(VLOOKUP(W58,勤務シフト一覧!$B$4:$D$106,3,FALSE)),\"\",VLOOKUP(W58,勤務シフト一覧!$B$4:$D$106,3,FALSE))","v":""},{"$f":"IF(ISERROR(VLOOKUP(X58,勤務シフト一覧!$B$4:$D$106,3,FALSE)),\"\",VLOOKUP(X58,勤務シフト一覧!$B$4:$D$106,3,FALSE))","v":""},{"$f":"IF(ISERROR(VLOOKUP(Y58,勤務シフト一覧!$B$4:$D$106,3,FALSE)),\"\",VLOOKUP(Y58,勤務シフト一覧!$B$4:$D$106,3,FALSE))","v":""},{"$f":"IF(ISERROR(VLOOKUP(Z58,勤務シフト一覧!$B$4:$D$106,3,FALSE)),\"\",VLOOKUP(Z58,勤務シフト一覧!$B$4:$D$106,3,FALSE))","v":""},{"$f":"IF(ISERROR(VLOOKUP(AA58,勤務シフト一覧!$B$4:$D$106,3,FALSE)),\"\",VLOOKUP(AA58,勤務シフト一覧!$B$4:$D$106,3,FALSE))","v":""},{"$f":"IF(ISERROR(VLOOKUP(AB58,勤務シフト一覧!$B$4:$D$106,3,FALSE)),\"\",VLOOKUP(AB58,勤務シフト一覧!$B$4:$D$106,3,FALSE))","v":""},{"$f":"IF(ISERROR(VLOOKUP(AC58,勤務シフト一覧!$B$4:$D$106,3,FALSE)),\"\",VLOOKUP(AC58,勤務シフト一覧!$B$4:$D$106,3,FALSE))","v":""},{"$f":"IF(ISERROR(VLOOKUP(AD58,勤務シフト一覧!$B$4:$D$106,3,FALSE)),\"\",VLOOKUP(AD58,勤務シフト一覧!$B$4:$D$106,3,FALSE))","v":""},{"$f":"IF(ISERROR(VLOOKUP(AE58,勤務シフト一覧!$B$4:$D$106,3,FALSE)),\"\",VLOOKUP(AE58,勤務シフト一覧!$B$4:$D$106,3,FALSE))","v":""},{"$f":"IF(ISERROR(VLOOKUP(AF58,勤務シフト一覧!$B$4:$D$106,3,FALSE)),\"\",VLOOKUP(AF58,勤務シフト一覧!$B$4:$D$106,3,FALSE))","v":""},{"$f":"IF(ISERROR(VLOOKUP(AG58,勤務シフト一覧!$B$4:$D$106,3,FALSE)),\"\",VLOOKUP(AG58,勤務シフト一覧!$B$4:$D$106,3,FALSE))","v":""},{"$f":"IF(ISERROR(VLOOKUP(AH58,勤務シフト一覧!$B$4:$D$106,3,FALSE)),\"\",VLOOKUP(AH58,勤務シフト一覧!$B$4:$D$106,3,FALSE))","v":""},0,0,0,0,0,0,0,0,0,0,{"$f":"IF(LEN(職員一覧!D28)<>0,職員一覧!D28,\"\")","v":""},null,{"$f":"IF(勤務シフト一覧!$D59<>0,IF(勤務シフト一覧!$B59<> 0,勤務シフト一覧!$B59,\"\"),\"\")","v":"祭準"}]
[null,null,"実施",null,null,null,null,null,null,null,null,null,null,null,null,null,null,null,null,null,null,null,null,null,null,null,null,null,null,null,null,null,null,null,{"$f":"IF(ISERROR(VLOOKUP(D59,勤務シフト一覧!$B$4:$C$106,2,FALSE)),\"\",VLOOKUP(D59,勤務シフト一覧!$B$4:$C$106,2,FALSE))","v":""},{"$f":"IF(ISERROR(VLOOKUP(E59,勤務シフト一覧!$B$4:$C$106,2,FALSE)),\"\",VLOOKUP(E59,勤務シフト一覧!$B$4:$C$106,2,FALSE))","v":""},{"$f":"IF(ISERROR(VLOOKUP(F59,勤務シフト一覧!$B$4:$C$106,2,FALSE)),\"\",VLOOKUP(F59,勤務シフト一覧!$B$4:$C$106,2,FALSE))","v":""},{"$f":"IF(ISERROR(VLOOKUP(G59,勤務シフト一覧!$B$4:$C$106,2,FALSE)),\"\",VLOOKUP(G59,勤務シフト一覧!$B$4:$C$106,2,FALSE))","v":""},{"$f":"IF(ISERROR(VLOOKUP(H59,勤務シフト一覧!$B$4:$C$106,2,FALSE)),\"\",VLOOKUP(H59,勤務シフト一覧!$B$4:$C$106,2,FALSE))","v":""},{"$f":"IF(ISERROR(VLOOKUP(I59,勤務シフト一覧!$B$4:$C$106,2,FALSE)),\"\",VLOOKUP(I59,勤務シフト一覧!$B$4:$C$106,2,FALSE))","v":""},{"$f":"IF(ISERROR(VLOOKUP(J59,勤務シフト一覧!$B$4:$C$106,2,FALSE)),\"\",VLOOKUP(J59,勤務シフト一覧!$B$4:$C$106,2,FALSE))","v":""},{"$f":"IF(ISERROR(VLOOKUP(K59,勤務シフト一覧!$B$4:$C$106,2,FALSE)),\"\",VLOOKUP(K59,勤務シフト一覧!$B$4:$C$106,2,FALSE))","v":""},{"$f":"IF(ISERROR(VLOOKUP(L59,勤務シフト一覧!$B$4:$C$106,2,FALSE)),\"\",VLOOKUP(L59,勤務シフト一覧!$B$4:$C$106,2,FALSE))","v":""},{"$f":"IF(ISERROR(VLOOKUP(M59,勤務シフト一覧!$B$4:$C$106,2,FALSE)),\"\",VLOOKUP(M59,勤務シフト一覧!$B$4:$C$106,2,FALSE))","v":""},{"$f":"IF(ISERROR(VLOOKUP(N59,勤務シフト一覧!$B$4:$C$106,2,FALSE)),\"\",VLOOKUP(N59,勤務シフト一覧!$B$4:$C$106,2,FALSE))","v":""},{"$f":"IF(ISERROR(VLOOKUP(O59,勤務シフト一覧!$B$4:$C$106,2,FALSE)),\"\",VLOOKUP(O59,勤務シフト一覧!$B$4:$C$106,2,FALSE))","v":""},{"$f":"IF(ISERROR(VLOOKUP(P59,勤務シフト一覧!$B$4:$C$106,2,FALSE)),\"\",VLOOKUP(P59,勤務シフト一覧!$B$4:$C$106,2,FALSE))","v":""},{"$f":"IF(ISERROR(VLOOKUP(Q59,勤務シフト一覧!$B$4:$C$106,2,FALSE)),\"\",VLOOKUP(Q59,勤務シフト一覧!$B$4:$C$106,2,FALSE))","v":""},{"$f":"IF(ISERROR(VLOOKUP(R59,勤務シフト一覧!$B$4:$C$106,2,FALSE)),\"\",VLOOKUP(R59,勤務シフト一覧!$B$4:$C$106,2,FALSE))","v":""},{"$f":"IF(ISERROR(VLOOKUP(S59,勤務シフト一覧!$B$4:$C$106,2,FALSE)),\"\",VLOOKUP(S59,勤務シフト一覧!$B$4:$C$106,2,FALSE))","v":""},{"$f":"IF(ISERROR(VLOOKUP(T59,勤務シフト一覧!$B$4:$C$106,2,FALSE)),\"\",VLOOKUP(T59,勤務シフト一覧!$B$4:$C$106,2,FALSE))","v":""},{"$f":"IF(ISERROR(VLOOKUP(U59,勤務シフト一覧!$B$4:$C$106,2,FALSE)),\"\",VLOOKUP(U59,勤務シフト一覧!$B$4:$C$106,2,FALSE))","v":""},{"$f":"IF(ISERROR(VLOOKUP(V59,勤務シフト一覧!$B$4:$C$106,2,FALSE)),\"\",VLOOKUP(V59,勤務シフト一覧!$B$4:$C$106,2,FALSE))","v":""},{"$f":"IF(ISERROR(VLOOKUP(W59,勤務シフト一覧!$B$4:$C$106,2,FALSE)),\"\",VLOOKUP(W59,勤務シフト一覧!$B$4:$C$106,2,FALSE))","v":""},{"$f":"IF(ISERROR(VLOOKUP(X59,勤務シフト一覧!$B$4:$C$106,2,FALSE)),\"\",VLOOKUP(X59,勤務シフト一覧!$B$4:$C$106,2,FALSE))","v":""},{"$f":"IF(ISERROR(VLOOKUP(Y59,勤務シフト一覧!$B$4:$C$106,2,FALSE)),\"\",VLOOKUP(Y59,勤務シフト一覧!$B$4:$C$106,2,FALSE))","v":""},{"$f":"IF(ISERROR(VLOOKUP(Z59,勤務シフト一覧!$B$4:$C$106,2,FALSE)),\"\",VLOOKUP(Z59,勤務シフト一覧!$B$4:$C$106,2,FALSE))","v":""},{"$f":"IF(ISERROR(VLOOKUP(AA59,勤務シフト一覧!$B$4:$C$106,2,FALSE)),\"\",VLOOKUP(AA59,勤務シフト一覧!$B$4:$C$106,2,FALSE))","v":""},{"$f":"IF(ISERROR(VLOOKUP(AB59,勤務シフト一覧!$B$4:$C$106,2,FALSE)),\"\",VLOOKUP(AB59,勤務シフト一覧!$B$4:$C$106,2,FALSE))","v":""},{"$f":"IF(ISERROR(VLOOKUP(AC59,勤務シフト一覧!$B$4:$C$106,2,FALSE)),\"\",VLOOKUP(AC59,勤務シフト一覧!$B$4:$C$106,2,FALSE))","v":""},{"$f":"IF(ISERROR(VLOOKUP(AD59,勤務シフト一覧!$B$4:$C$106,2,FALSE)),\"\",VLOOKUP(AD59,勤務シフト一覧!$B$4:$C$106,2,FALSE))","v":""},{"$f":"IF(ISERROR(VLOOKUP(AE59,勤務シフト一覧!$B$4:$C$106,2,FALSE)),\"\",VLOOKUP(AE59,勤務シフト一覧!$B$4:$C$106,2,FALSE))","v":""},{"$f":"IF(ISERROR(VLOOKUP(AF59,勤務シフト一覧!$B$4:$C$106,2,FALSE)),\"\",VLOOKUP(AF59,勤務シフト一覧!$B$4:$C$106,2,FALSE))","v":""},{"$f":"IF(ISERROR(VLOOKUP(AG59,勤務シフト一覧!$B$4:$C$106,2,FALSE)),\"\",VLOOKUP(AG59,勤務シフト一覧!$B$4:$C$106,2,FALSE))","v":""},{"$f":"IF(ISERROR(VLOOKUP(AH59,勤務シフト一覧!$B$4:$C$106,2,FALSE)),\"\",VLOOKUP(AH59,勤務シフト一覧!$B$4:$C$106,2,FALSE))","v":""},null,{"$f":"IF(ISERROR(VLOOKUP(D59,勤務シフト一覧!$B$4:$D$106,3,FALSE)),\"\",VLOOKUP(D59,勤務シフト一覧!$B$4:$D$106,3,FALSE))","v":""},{"$f":"IF(ISERROR(VLOOKUP(E59,勤務シフト一覧!$B$4:$D$106,3,FALSE)),\"\",VLOOKUP(E59,勤務シフト一覧!$B$4:$D$106,3,FALSE))","v":""},{"$f":"IF(ISERROR(VLOOKUP(F59,勤務シフト一覧!$B$4:$D$106,3,FALSE)),\"\",VLOOKUP(F59,勤務シフト一覧!$B$4:$D$106,3,FALSE))","v":""},{"$f":"IF(ISERROR(VLOOKUP(G59,勤務シフト一覧!$B$4:$D$106,3,FALSE)),\"\",VLOOKUP(G59,勤務シフト一覧!$B$4:$D$106,3,FALSE))","v":""},{"$f":"IF(ISERROR(VLOOKUP(H59,勤務シフト一覧!$B$4:$D$106,3,FALSE)),\"\",VLOOKUP(H59,勤務シフト一覧!$B$4:$D$106,3,FALSE))","v":""},{"$f":"IF(ISERROR(VLOOKUP(I59,勤務シフト一覧!$B$4:$D$106,3,FALSE)),\"\",VLOOKUP(I59,勤務シフト一覧!$B$4:$D$106,3,FALSE))","v":""},{"$f":"IF(ISERROR(VLOOKUP(J59,勤務シフト一覧!$B$4:$D$106,3,FALSE)),\"\",VLOOKUP(J59,勤務シフト一覧!$B$4:$D$106,3,FALSE))","v":""},{"$f":"IF(ISERROR(VLOOKUP(K59,勤務シフト一覧!$B$4:$D$106,3,FALSE)),\"\",VLOOKUP(K59,勤務シフト一覧!$B$4:$D$106,3,FALSE))","v":""},{"$f":"IF(ISERROR(VLOOKUP(L59,勤務シフト一覧!$B$4:$D$106,3,FALSE)),\"\",VLOOKUP(L59,勤務シフト一覧!$B$4:$D$106,3,FALSE))","v":""},{"$f":"IF(ISERROR(VLOOKUP(M59,勤務シフト一覧!$B$4:$D$106,3,FALSE)),\"\",VLOOKUP(M59,勤務シフト一覧!$B$4:$D$106,3,FALSE))","v":""},{"$f":"IF(ISERROR(VLOOKUP(N59,勤務シフト一覧!$B$4:$D$106,3,FALSE)),\"\",VLOOKUP(N59,勤務シフト一覧!$B$4:$D$106,3,FALSE))","v":""},{"$f":"IF(ISERROR(VLOOKUP(O59,勤務シフト一覧!$B$4:$D$106,3,FALSE)),\"\",VLOOKUP(O59,勤務シフト一覧!$B$4:$D$106,3,FALSE))","v":""},{"$f":"IF(ISERROR(VLOOKUP(P59,勤務シフト一覧!$B$4:$D$106,3,FALSE)),\"\",VLOOKUP(P59,勤務シフト一覧!$B$4:$D$106,3,FALSE))","v":""},{"$f":"IF(ISERROR(VLOOKUP(Q59,勤務シフト一覧!$B$4:$D$106,3,FALSE)),\"\",VLOOKUP(Q59,勤務シフト一覧!$B$4:$D$106,3,FALSE))","v":""},{"$f":"IF(ISERROR(VLOOKUP(R59,勤務シフト一覧!$B$4:$D$106,3,FALSE)),\"\",VLOOKUP(R59,勤務シフト一覧!$B$4:$D$106,3,FALSE))","v":""},{"$f":"IF(ISERROR(VLOOKUP(S59,勤務シフト一覧!$B$4:$D$106,3,FALSE)),\"\",VLOOKUP(S59,勤務シフト一覧!$B$4:$D$106,3,FALSE))","v":""},{"$f":"IF(ISERROR(VLOOKUP(T59,勤務シフト一覧!$B$4:$D$106,3,FALSE)),\"\",VLOOKUP(T59,勤務シフト一覧!$B$4:$D$106,3,FALSE))","v":""},{"$f":"IF(ISERROR(VLOOKUP(U59,勤務シフト一覧!$B$4:$D$106,3,FALSE)),\"\",VLOOKUP(U59,勤務シフト一覧!$B$4:$D$106,3,FALSE))","v":""},{"$f":"IF(ISERROR(VLOOKUP(V59,勤務シフト一覧!$B$4:$D$106,3,FALSE)),\"\",VLOOKUP(V59,勤務シフト一覧!$B$4:$D$106,3,FALSE))","v":""},{"$f":"IF(ISERROR(VLOOKUP(W59,勤務シフト一覧!$B$4:$D$106,3,FALSE)),\"\",VLOOKUP(W59,勤務シフト一覧!$B$4:$D$106,3,FALSE))","v":""},{"$f":"IF(ISERROR(VLOOKUP(X59,勤務シフト一覧!$B$4:$D$106,3,FALSE)),\"\",VLOOKUP(X59,勤務シフト一覧!$B$4:$D$106,3,FALSE))","v":""},{"$f":"IF(ISERROR(VLOOKUP(Y59,勤務シフト一覧!$B$4:$D$106,3,FALSE)),\"\",VLOOKUP(Y59,勤務シフト一覧!$B$4:$D$106,3,FALSE))","v":""},{"$f":"IF(ISERROR(VLOOKUP(Z59,勤務シフト一覧!$B$4:$D$106,3,FALSE)),\"\",VLOOKUP(Z59,勤務シフト一覧!$B$4:$D$106,3,FALSE))","v":""},{"$f":"IF(ISERROR(VLOOKUP(AA59,勤務シフト一覧!$B$4:$D$106,3,FALSE)),\"\",VLOOKUP(AA59,勤務シフト一覧!$B$4:$D$106,3,FALSE))","v":""},{"$f":"IF(ISERROR(VLOOKUP(AB59,勤務シフト一覧!$B$4:$D$106,3,FALSE)),\"\",VLOOKUP(AB59,勤務シフト一覧!$B$4:$D$106,3,FALSE))","v":""},{"$f":"IF(ISERROR(VLOOKUP(AC59,勤務シフト一覧!$B$4:$D$106,3,FALSE)),\"\",VLOOKUP(AC59,勤務シフト一覧!$B$4:$D$106,3,FALSE))","v":""},{"$f":"IF(ISERROR(VLOOKUP(AD59,勤務シフト一覧!$B$4:$D$106,3,FALSE)),\"\",VLOOKUP(AD59,勤務シフト一覧!$B$4:$D$106,3,FALSE))","v":""},{"$f":"IF(ISERROR(VLOOKUP(AE59,勤務シフト一覧!$B$4:$D$106,3,FALSE)),\"\",VLOOKUP(AE59,勤務シフト一覧!$B$4:$D$106,3,FALSE))","v":""},{"$f":"IF(ISERROR(VLOOKUP(AF59,勤務シフト一覧!$B$4:$D$106,3,FALSE)),\"\",VLOOKUP(AF59,勤務シフト一覧!$B$4:$D$106,3,FALSE))","v":""},{"$f":"IF(ISERROR(VLOOKUP(AG59,勤務シフト一覧!$B$4:$D$106,3,FALSE)),\"\",VLOOKUP(AG59,勤務シフト一覧!$B$4:$D$106,3,FALSE))","v":""},{"$f":"IF(ISERROR(VLOOKUP(AH59,勤務シフト一覧!$B$4:$D$106,3,FALSE)),\"\",VLOOKUP(AH59,勤務シフト一覧!$B$4:$D$106,3,FALSE))","v":""},0,0,0,0,0,0,0,0,0,0,null,null,{"$f":"IF(勤務シフト一覧!$D60<>0,IF(勤務シフト一覧!$B60<> 0,勤務シフト一覧!$B60,\"\"),\"\")","v":"祭深"}]
[{"$f":"IF(LEN(職員一覧!B29)<>0,職員一覧!B29,\"\")","v":""},{"$f":"IF(LEN(職員一覧!C29)<>0,職員一覧!C29,\"\")","v":""},"予定",null,null,null,null,null,null,null,null,null,null,null,null,null,null,null,null,null,null,null,null,null,null,null,null,null,null,null,null,null,null,null,{"$f":"IF(ISERROR(VLOOKUP(D60,勤務シフト一覧!$B$4:$C$106,2,FALSE)),\"\",VLOOKUP(D60,勤務シフト一覧!$B$4:$C$106,2,FALSE))","v":""},{"$f":"IF(ISERROR(VLOOKUP(E60,勤務シフト一覧!$B$4:$C$106,2,FALSE)),\"\",VLOOKUP(E60,勤務シフト一覧!$B$4:$C$106,2,FALSE))","v":""},{"$f":"IF(ISERROR(VLOOKUP(F60,勤務シフト一覧!$B$4:$C$106,2,FALSE)),\"\",VLOOKUP(F60,勤務シフト一覧!$B$4:$C$106,2,FALSE))","v":""},{"$f":"IF(ISERROR(VLOOKUP(G60,勤務シフト一覧!$B$4:$C$106,2,FALSE)),\"\",VLOOKUP(G60,勤務シフト一覧!$B$4:$C$106,2,FALSE))","v":""},{"$f":"IF(ISERROR(VLOOKUP(H60,勤務シフト一覧!$B$4:$C$106,2,FALSE)),\"\",VLOOKUP(H60,勤務シフト一覧!$B$4:$C$106,2,FALSE))","v":""},{"$f":"IF(ISERROR(VLOOKUP(I60,勤務シフト一覧!$B$4:$C$106,2,FALSE)),\"\",VLOOKUP(I60,勤務シフト一覧!$B$4:$C$106,2,FALSE))","v":""},{"$f":"IF(ISERROR(VLOOKUP(J60,勤務シフト一覧!$B$4:$C$106,2,FALSE)),\"\",VLOOKUP(J60,勤務シフト一覧!$B$4:$C$106,2,FALSE))","v":""},{"$f":"IF(ISERROR(VLOOKUP(K60,勤務シフト一覧!$B$4:$C$106,2,FALSE)),\"\",VLOOKUP(K60,勤務シフト一覧!$B$4:$C$106,2,FALSE))","v":""},{"$f":"IF(ISERROR(VLOOKUP(L60,勤務シフト一覧!$B$4:$C$106,2,FALSE)),\"\",VLOOKUP(L60,勤務シフト一覧!$B$4:$C$106,2,FALSE))","v":""},{"$f":"IF(ISERROR(VLOOKUP(M60,勤務シフト一覧!$B$4:$C$106,2,FALSE)),\"\",VLOOKUP(M60,勤務シフト一覧!$B$4:$C$106,2,FALSE))","v":""},{"$f":"IF(ISERROR(VLOOKUP(N60,勤務シフト一覧!$B$4:$C$106,2,FALSE)),\"\",VLOOKUP(N60,勤務シフト一覧!$B$4:$C$106,2,FALSE))","v":""},{"$f":"IF(ISERROR(VLOOKUP(O60,勤務シフト一覧!$B$4:$C$106,2,FALSE)),\"\",VLOOKUP(O60,勤務シフト一覧!$B$4:$C$106,2,FALSE))","v":""},{"$f":"IF(ISERROR(VLOOKUP(P60,勤務シフト一覧!$B$4:$C$106,2,FALSE)),\"\",VLOOKUP(P60,勤務シフト一覧!$B$4:$C$106,2,FALSE))","v":""},{"$f":"IF(ISERROR(VLOOKUP(Q60,勤務シフト一覧!$B$4:$C$106,2,FALSE)),\"\",VLOOKUP(Q60,勤務シフト一覧!$B$4:$C$106,2,FALSE))","v":""},{"$f":"IF(ISERROR(VLOOKUP(R60,勤務シフト一覧!$B$4:$C$106,2,FALSE)),\"\",VLOOKUP(R60,勤務シフト一覧!$B$4:$C$106,2,FALSE))","v":""},{"$f":"IF(ISERROR(VLOOKUP(S60,勤務シフト一覧!$B$4:$C$106,2,FALSE)),\"\",VLOOKUP(S60,勤務シフト一覧!$B$4:$C$106,2,FALSE))","v":""},{"$f":"IF(ISERROR(VLOOKUP(T60,勤務シフト一覧!$B$4:$C$106,2,FALSE)),\"\",VLOOKUP(T60,勤務シフト一覧!$B$4:$C$106,2,FALSE))","v":""},{"$f":"IF(ISERROR(VLOOKUP(U60,勤務シフト一覧!$B$4:$C$106,2,FALSE)),\"\",VLOOKUP(U60,勤務シフト一覧!$B$4:$C$106,2,FALSE))","v":""},{"$f":"IF(ISERROR(VLOOKUP(V60,勤務シフト一覧!$B$4:$C$106,2,FALSE)),\"\",VLOOKUP(V60,勤務シフト一覧!$B$4:$C$106,2,FALSE))","v":""},{"$f":"IF(ISERROR(VLOOKUP(W60,勤務シフト一覧!$B$4:$C$106,2,FALSE)),\"\",VLOOKUP(W60,勤務シフト一覧!$B$4:$C$106,2,FALSE))","v":""},{"$f":"IF(ISERROR(VLOOKUP(X60,勤務シフト一覧!$B$4:$C$106,2,FALSE)),\"\",VLOOKUP(X60,勤務シフト一覧!$B$4:$C$106,2,FALSE))","v":""},{"$f":"IF(ISERROR(VLOOKUP(Y60,勤務シフト一覧!$B$4:$C$106,2,FALSE)),\"\",VLOOKUP(Y60,勤務シフト一覧!$B$4:$C$106,2,FALSE))","v":""},{"$f":"IF(ISERROR(VLOOKUP(Z60,勤務シフト一覧!$B$4:$C$106,2,FALSE)),\"\",VLOOKUP(Z60,勤務シフト一覧!$B$4:$C$106,2,FALSE))","v":""},{"$f":"IF(ISERROR(VLOOKUP(AA60,勤務シフト一覧!$B$4:$C$106,2,FALSE)),\"\",VLOOKUP(AA60,勤務シフト一覧!$B$4:$C$106,2,FALSE))","v":""},{"$f":"IF(ISERROR(VLOOKUP(AB60,勤務シフト一覧!$B$4:$C$106,2,FALSE)),\"\",VLOOKUP(AB60,勤務シフト一覧!$B$4:$C$106,2,FALSE))","v":""},{"$f":"IF(ISERROR(VLOOKUP(AC60,勤務シフト一覧!$B$4:$C$106,2,FALSE)),\"\",VLOOKUP(AC60,勤務シフト一覧!$B$4:$C$106,2,FALSE))","v":""},{"$f":"IF(ISERROR(VLOOKUP(AD60,勤務シフト一覧!$B$4:$C$106,2,FALSE)),\"\",VLOOKUP(AD60,勤務シフト一覧!$B$4:$C$106,2,FALSE))","v":""},{"$f":"IF(ISERROR(VLOOKUP(AE60,勤務シフト一覧!$B$4:$C$106,2,FALSE)),\"\",VLOOKUP(AE60,勤務シフト一覧!$B$4:$C$106,2,FALSE))","v":""},{"$f":"IF(ISERROR(VLOOKUP(AF60,勤務シフト一覧!$B$4:$C$106,2,FALSE)),\"\",VLOOKUP(AF60,勤務シフト一覧!$B$4:$C$106,2,FALSE))","v":""},{"$f":"IF(ISERROR(VLOOKUP(AG60,勤務シフト一覧!$B$4:$C$106,2,FALSE)),\"\",VLOOKUP(AG60,勤務シフト一覧!$B$4:$C$106,2,FALSE))","v":""},{"$f":"IF(ISERROR(VLOOKUP(AH60,勤務シフト一覧!$B$4:$C$106,2,FALSE)),\"\",VLOOKUP(AH60,勤務シフト一覧!$B$4:$C$106,2,FALSE))","v":""},null,{"$f":"IF(ISERROR(VLOOKUP(D60,勤務シフト一覧!$B$4:$D$106,3,FALSE)),\"\",VLOOKUP(D60,勤務シフト一覧!$B$4:$D$106,3,FALSE))","v":""},{"$f":"IF(ISERROR(VLOOKUP(E60,勤務シフト一覧!$B$4:$D$106,3,FALSE)),\"\",VLOOKUP(E60,勤務シフト一覧!$B$4:$D$106,3,FALSE))","v":""},{"$f":"IF(ISERROR(VLOOKUP(F60,勤務シフト一覧!$B$4:$D$106,3,FALSE)),\"\",VLOOKUP(F60,勤務シフト一覧!$B$4:$D$106,3,FALSE))","v":""},{"$f":"IF(ISERROR(VLOOKUP(G60,勤務シフト一覧!$B$4:$D$106,3,FALSE)),\"\",VLOOKUP(G60,勤務シフト一覧!$B$4:$D$106,3,FALSE))","v":""},{"$f":"IF(ISERROR(VLOOKUP(H60,勤務シフト一覧!$B$4:$D$106,3,FALSE)),\"\",VLOOKUP(H60,勤務シフト一覧!$B$4:$D$106,3,FALSE))","v":""},{"$f":"IF(ISERROR(VLOOKUP(I60,勤務シフト一覧!$B$4:$D$106,3,FALSE)),\"\",VLOOKUP(I60,勤務シフト一覧!$B$4:$D$106,3,FALSE))","v":""},{"$f":"IF(ISERROR(VLOOKUP(J60,勤務シフト一覧!$B$4:$D$106,3,FALSE)),\"\",VLOOKUP(J60,勤務シフト一覧!$B$4:$D$106,3,FALSE))","v":""},{"$f":"IF(ISERROR(VLOOKUP(K60,勤務シフト一覧!$B$4:$D$106,3,FALSE)),\"\",VLOOKUP(K60,勤務シフト一覧!$B$4:$D$106,3,FALSE))","v":""},{"$f":"IF(ISERROR(VLOOKUP(L60,勤務シフト一覧!$B$4:$D$106,3,FALSE)),\"\",VLOOKUP(L60,勤務シフト一覧!$B$4:$D$106,3,FALSE))","v":""},{"$f":"IF(ISERROR(VLOOKUP(M60,勤務シフト一覧!$B$4:$D$106,3,FALSE)),\"\",VLOOKUP(M60,勤務シフト一覧!$B$4:$D$106,3,FALSE))","v":""},{"$f":"IF(ISERROR(VLOOKUP(N60,勤務シフト一覧!$B$4:$D$106,3,FALSE)),\"\",VLOOKUP(N60,勤務シフト一覧!$B$4:$D$106,3,FALSE))","v":""},{"$f":"IF(ISERROR(VLOOKUP(O60,勤務シフト一覧!$B$4:$D$106,3,FALSE)),\"\",VLOOKUP(O60,勤務シフト一覧!$B$4:$D$106,3,FALSE))","v":""},{"$f":"IF(ISERROR(VLOOKUP(P60,勤務シフト一覧!$B$4:$D$106,3,FALSE)),\"\",VLOOKUP(P60,勤務シフト一覧!$B$4:$D$106,3,FALSE))","v":""},{"$f":"IF(ISERROR(VLOOKUP(Q60,勤務シフト一覧!$B$4:$D$106,3,FALSE)),\"\",VLOOKUP(Q60,勤務シフト一覧!$B$4:$D$106,3,FALSE))","v":""},{"$f":"IF(ISERROR(VLOOKUP(R60,勤務シフト一覧!$B$4:$D$106,3,FALSE)),\"\",VLOOKUP(R60,勤務シフト一覧!$B$4:$D$106,3,FALSE))","v":""},{"$f":"IF(ISERROR(VLOOKUP(S60,勤務シフト一覧!$B$4:$D$106,3,FALSE)),\"\",VLOOKUP(S60,勤務シフト一覧!$B$4:$D$106,3,FALSE))","v":""},{"$f":"IF(ISERROR(VLOOKUP(T60,勤務シフト一覧!$B$4:$D$106,3,FALSE)),\"\",VLOOKUP(T60,勤務シフト一覧!$B$4:$D$106,3,FALSE))","v":""},{"$f":"IF(ISERROR(VLOOKUP(U60,勤務シフト一覧!$B$4:$D$106,3,FALSE)),\"\",VLOOKUP(U60,勤務シフト一覧!$B$4:$D$106,3,FALSE))","v":""},{"$f":"IF(ISERROR(VLOOKUP(V60,勤務シフト一覧!$B$4:$D$106,3,FALSE)),\"\",VLOOKUP(V60,勤務シフト一覧!$B$4:$D$106,3,FALSE))","v":""},{"$f":"IF(ISERROR(VLOOKUP(W60,勤務シフト一覧!$B$4:$D$106,3,FALSE)),\"\",VLOOKUP(W60,勤務シフト一覧!$B$4:$D$106,3,FALSE))","v":""},{"$f":"IF(ISERROR(VLOOKUP(X60,勤務シフト一覧!$B$4:$D$106,3,FALSE)),\"\",VLOOKUP(X60,勤務シフト一覧!$B$4:$D$106,3,FALSE))","v":""},{"$f":"IF(ISERROR(VLOOKUP(Y60,勤務シフト一覧!$B$4:$D$106,3,FALSE)),\"\",VLOOKUP(Y60,勤務シフト一覧!$B$4:$D$106,3,FALSE))","v":""},{"$f":"IF(ISERROR(VLOOKUP(Z60,勤務シフト一覧!$B$4:$D$106,3,FALSE)),\"\",VLOOKUP(Z60,勤務シフト一覧!$B$4:$D$106,3,FALSE))","v":""},{"$f":"IF(ISERROR(VLOOKUP(AA60,勤務シフト一覧!$B$4:$D$106,3,FALSE)),\"\",VLOOKUP(AA60,勤務シフト一覧!$B$4:$D$106,3,FALSE))","v":""},{"$f":"IF(ISERROR(VLOOKUP(AB60,勤務シフト一覧!$B$4:$D$106,3,FALSE)),\"\",VLOOKUP(AB60,勤務シフト一覧!$B$4:$D$106,3,FALSE))","v":""},{"$f":"IF(ISERROR(VLOOKUP(AC60,勤務シフト一覧!$B$4:$D$106,3,FALSE)),\"\",VLOOKUP(AC60,勤務シフト一覧!$B$4:$D$106,3,FALSE))","v":""},{"$f":"IF(ISERROR(VLOOKUP(AD60,勤務シフト一覧!$B$4:$D$106,3,FALSE)),\"\",VLOOKUP(AD60,勤務シフト一覧!$B$4:$D$106,3,FALSE))","v":""},{"$f":"IF(ISERROR(VLOOKUP(AE60,勤務シフト一覧!$B$4:$D$106,3,FALSE)),\"\",VLOOKUP(AE60,勤務シフト一覧!$B$4:$D$106,3,FALSE))","v":""},{"$f":"IF(ISERROR(VLOOKUP(AF60,勤務シフト一覧!$B$4:$D$106,3,FALSE)),\"\",VLOOKUP(AF60,勤務シフト一覧!$B$4:$D$106,3,FALSE))","v":""},{"$f":"IF(ISERROR(VLOOKUP(AG60,勤務シフト一覧!$B$4:$D$106,3,FALSE)),\"\",VLOOKUP(AG60,勤務シフト一覧!$B$4:$D$106,3,FALSE))","v":""},{"$f":"IF(ISERROR(VLOOKUP(AH60,勤務シフト一覧!$B$4:$D$106,3,FALSE)),\"\",VLOOKUP(AH60,勤務シフト一覧!$B$4:$D$106,3,FALSE))","v":""},0,0,0,0,0,0,0,0,0,0,{"$f":"IF(LEN(職員一覧!D29)<>0,職員一覧!D29,\"\")","v":""},null,{"$f":"IF(勤務シフト一覧!$D61<>0,IF(勤務シフト一覧!$B61<> 0,勤務シフト一覧!$B61,\"\"),\"\")","v":"祭0600"}]
[null,null,"実施",null,null,null,null,null,null,null,null,null,null,null,null,null,null,null,null,null,null,null,null,null,null,null,null,null,null,null,null,null,null,null,{"$f":"IF(ISERROR(VLOOKUP(D61,勤務シフト一覧!$B$4:$C$106,2,FALSE)),\"\",VLOOKUP(D61,勤務シフト一覧!$B$4:$C$106,2,FALSE))","v":""},{"$f":"IF(ISERROR(VLOOKUP(E61,勤務シフト一覧!$B$4:$C$106,2,FALSE)),\"\",VLOOKUP(E61,勤務シフト一覧!$B$4:$C$106,2,FALSE))","v":""},{"$f":"IF(ISERROR(VLOOKUP(F61,勤務シフト一覧!$B$4:$C$106,2,FALSE)),\"\",VLOOKUP(F61,勤務シフト一覧!$B$4:$C$106,2,FALSE))","v":""},{"$f":"IF(ISERROR(VLOOKUP(G61,勤務シフト一覧!$B$4:$C$106,2,FALSE)),\"\",VLOOKUP(G61,勤務シフト一覧!$B$4:$C$106,2,FALSE))","v":""},{"$f":"IF(ISERROR(VLOOKUP(H61,勤務シフト一覧!$B$4:$C$106,2,FALSE)),\"\",VLOOKUP(H61,勤務シフト一覧!$B$4:$C$106,2,FALSE))","v":""},{"$f":"IF(ISERROR(VLOOKUP(I61,勤務シフト一覧!$B$4:$C$106,2,FALSE)),\"\",VLOOKUP(I61,勤務シフト一覧!$B$4:$C$106,2,FALSE))","v":""},{"$f":"IF(ISERROR(VLOOKUP(J61,勤務シフト一覧!$B$4:$C$106,2,FALSE)),\"\",VLOOKUP(J61,勤務シフト一覧!$B$4:$C$106,2,FALSE))","v":""},{"$f":"IF(ISERROR(VLOOKUP(K61,勤務シフト一覧!$B$4:$C$106,2,FALSE)),\"\",VLOOKUP(K61,勤務シフト一覧!$B$4:$C$106,2,FALSE))","v":""},{"$f":"IF(ISERROR(VLOOKUP(L61,勤務シフト一覧!$B$4:$C$106,2,FALSE)),\"\",VLOOKUP(L61,勤務シフト一覧!$B$4:$C$106,2,FALSE))","v":""},{"$f":"IF(ISERROR(VLOOKUP(M61,勤務シフト一覧!$B$4:$C$106,2,FALSE)),\"\",VLOOKUP(M61,勤務シフト一覧!$B$4:$C$106,2,FALSE))","v":""},{"$f":"IF(ISERROR(VLOOKUP(N61,勤務シフト一覧!$B$4:$C$106,2,FALSE)),\"\",VLOOKUP(N61,勤務シフト一覧!$B$4:$C$106,2,FALSE))","v":""},{"$f":"IF(ISERROR(VLOOKUP(O61,勤務シフト一覧!$B$4:$C$106,2,FALSE)),\"\",VLOOKUP(O61,勤務シフト一覧!$B$4:$C$106,2,FALSE))","v":""},{"$f":"IF(ISERROR(VLOOKUP(P61,勤務シフト一覧!$B$4:$C$106,2,FALSE)),\"\",VLOOKUP(P61,勤務シフト一覧!$B$4:$C$106,2,FALSE))","v":""},{"$f":"IF(ISERROR(VLOOKUP(Q61,勤務シフト一覧!$B$4:$C$106,2,FALSE)),\"\",VLOOKUP(Q61,勤務シフト一覧!$B$4:$C$106,2,FALSE))","v":""},{"$f":"IF(ISERROR(VLOOKUP(R61,勤務シフト一覧!$B$4:$C$106,2,FALSE)),\"\",VLOOKUP(R61,勤務シフト一覧!$B$4:$C$106,2,FALSE))","v":""},{"$f":"IF(ISERROR(VLOOKUP(S61,勤務シフト一覧!$B$4:$C$106,2,FALSE)),\"\",VLOOKUP(S61,勤務シフト一覧!$B$4:$C$106,2,FALSE))","v":""},{"$f":"IF(ISERROR(VLOOKUP(T61,勤務シフト一覧!$B$4:$C$106,2,FALSE)),\"\",VLOOKUP(T61,勤務シフト一覧!$B$4:$C$106,2,FALSE))","v":""},{"$f":"IF(ISERROR(VLOOKUP(U61,勤務シフト一覧!$B$4:$C$106,2,FALSE)),\"\",VLOOKUP(U61,勤務シフト一覧!$B$4:$C$106,2,FALSE))","v":""},{"$f":"IF(ISERROR(VLOOKUP(V61,勤務シフト一覧!$B$4:$C$106,2,FALSE)),\"\",VLOOKUP(V61,勤務シフト一覧!$B$4:$C$106,2,FALSE))","v":""},{"$f":"IF(ISERROR(VLOOKUP(W61,勤務シフト一覧!$B$4:$C$106,2,FALSE)),\"\",VLOOKUP(W61,勤務シフト一覧!$B$4:$C$106,2,FALSE))","v":""},{"$f":"IF(ISERROR(VLOOKUP(X61,勤務シフト一覧!$B$4:$C$106,2,FALSE)),\"\",VLOOKUP(X61,勤務シフト一覧!$B$4:$C$106,2,FALSE))","v":""},{"$f":"IF(ISERROR(VLOOKUP(Y61,勤務シフト一覧!$B$4:$C$106,2,FALSE)),\"\",VLOOKUP(Y61,勤務シフト一覧!$B$4:$C$106,2,FALSE))","v":""},{"$f":"IF(ISERROR(VLOOKUP(Z61,勤務シフト一覧!$B$4:$C$106,2,FALSE)),\"\",VLOOKUP(Z61,勤務シフト一覧!$B$4:$C$106,2,FALSE))","v":""},{"$f":"IF(ISERROR(VLOOKUP(AA61,勤務シフト一覧!$B$4:$C$106,2,FALSE)),\"\",VLOOKUP(AA61,勤務シフト一覧!$B$4:$C$106,2,FALSE))","v":""},{"$f":"IF(ISERROR(VLOOKUP(AB61,勤務シフト一覧!$B$4:$C$106,2,FALSE)),\"\",VLOOKUP(AB61,勤務シフト一覧!$B$4:$C$106,2,FALSE))","v":""},{"$f":"IF(ISERROR(VLOOKUP(AC61,勤務シフト一覧!$B$4:$C$106,2,FALSE)),\"\",VLOOKUP(AC61,勤務シフト一覧!$B$4:$C$106,2,FALSE))","v":""},{"$f":"IF(ISERROR(VLOOKUP(AD61,勤務シフト一覧!$B$4:$C$106,2,FALSE)),\"\",VLOOKUP(AD61,勤務シフト一覧!$B$4:$C$106,2,FALSE))","v":""},{"$f":"IF(ISERROR(VLOOKUP(AE61,勤務シフト一覧!$B$4:$C$106,2,FALSE)),\"\",VLOOKUP(AE61,勤務シフト一覧!$B$4:$C$106,2,FALSE))","v":""},{"$f":"IF(ISERROR(VLOOKUP(AF61,勤務シフト一覧!$B$4:$C$106,2,FALSE)),\"\",VLOOKUP(AF61,勤務シフト一覧!$B$4:$C$106,2,FALSE))","v":""},{"$f":"IF(ISERROR(VLOOKUP(AG61,勤務シフト一覧!$B$4:$C$106,2,FALSE)),\"\",VLOOKUP(AG61,勤務シフト一覧!$B$4:$C$106,2,FALSE))","v":""},{"$f":"IF(ISERROR(VLOOKUP(AH61,勤務シフト一覧!$B$4:$C$106,2,FALSE)),\"\",VLOOKUP(AH61,勤務シフト一覧!$B$4:$C$106,2,FALSE))","v":""},null,{"$f":"IF(ISERROR(VLOOKUP(D61,勤務シフト一覧!$B$4:$D$106,3,FALSE)),\"\",VLOOKUP(D61,勤務シフト一覧!$B$4:$D$106,3,FALSE))","v":""},{"$f":"IF(ISERROR(VLOOKUP(E61,勤務シフト一覧!$B$4:$D$106,3,FALSE)),\"\",VLOOKUP(E61,勤務シフト一覧!$B$4:$D$106,3,FALSE))","v":""},{"$f":"IF(ISERROR(VLOOKUP(F61,勤務シフト一覧!$B$4:$D$106,3,FALSE)),\"\",VLOOKUP(F61,勤務シフト一覧!$B$4:$D$106,3,FALSE))","v":""},{"$f":"IF(ISERROR(VLOOKUP(G61,勤務シフト一覧!$B$4:$D$106,3,FALSE)),\"\",VLOOKUP(G61,勤務シフト一覧!$B$4:$D$106,3,FALSE))","v":""},{"$f":"IF(ISERROR(VLOOKUP(H61,勤務シフト一覧!$B$4:$D$106,3,FALSE)),\"\",VLOOKUP(H61,勤務シフト一覧!$B$4:$D$106,3,FALSE))","v":""},{"$f":"IF(ISERROR(VLOOKUP(I61,勤務シフト一覧!$B$4:$D$106,3,FALSE)),\"\",VLOOKUP(I61,勤務シフト一覧!$B$4:$D$106,3,FALSE))","v":""},{"$f":"IF(ISERROR(VLOOKUP(J61,勤務シフト一覧!$B$4:$D$106,3,FALSE)),\"\",VLOOKUP(J61,勤務シフト一覧!$B$4:$D$106,3,FALSE))","v":""},{"$f":"IF(ISERROR(VLOOKUP(K61,勤務シフト一覧!$B$4:$D$106,3,FALSE)),\"\",VLOOKUP(K61,勤務シフト一覧!$B$4:$D$106,3,FALSE))","v":""},{"$f":"IF(ISERROR(VLOOKUP(L61,勤務シフト一覧!$B$4:$D$106,3,FALSE)),\"\",VLOOKUP(L61,勤務シフト一覧!$B$4:$D$106,3,FALSE))","v":""},{"$f":"IF(ISERROR(VLOOKUP(M61,勤務シフト一覧!$B$4:$D$106,3,FALSE)),\"\",VLOOKUP(M61,勤務シフト一覧!$B$4:$D$106,3,FALSE))","v":""},{"$f":"IF(ISERROR(VLOOKUP(N61,勤務シフト一覧!$B$4:$D$106,3,FALSE)),\"\",VLOOKUP(N61,勤務シフト一覧!$B$4:$D$106,3,FALSE))","v":""},{"$f":"IF(ISERROR(VLOOKUP(O61,勤務シフト一覧!$B$4:$D$106,3,FALSE)),\"\",VLOOKUP(O61,勤務シフト一覧!$B$4:$D$106,3,FALSE))","v":""},{"$f":"IF(ISERROR(VLOOKUP(P61,勤務シフト一覧!$B$4:$D$106,3,FALSE)),\"\",VLOOKUP(P61,勤務シフト一覧!$B$4:$D$106,3,FALSE))","v":""},{"$f":"IF(ISERROR(VLOOKUP(Q61,勤務シフト一覧!$B$4:$D$106,3,FALSE)),\"\",VLOOKUP(Q61,勤務シフト一覧!$B$4:$D$106,3,FALSE))","v":""},{"$f":"IF(ISERROR(VLOOKUP(R61,勤務シフト一覧!$B$4:$D$106,3,FALSE)),\"\",VLOOKUP(R61,勤務シフト一覧!$B$4:$D$106,3,FALSE))","v":""},{"$f":"IF(ISERROR(VLOOKUP(S61,勤務シフト一覧!$B$4:$D$106,3,FALSE)),\"\",VLOOKUP(S61,勤務シフト一覧!$B$4:$D$106,3,FALSE))","v":""},{"$f":"IF(ISERROR(VLOOKUP(T61,勤務シフト一覧!$B$4:$D$106,3,FALSE)),\"\",VLOOKUP(T61,勤務シフト一覧!$B$4:$D$106,3,FALSE))","v":""},{"$f":"IF(ISERROR(VLOOKUP(U61,勤務シフト一覧!$B$4:$D$106,3,FALSE)),\"\",VLOOKUP(U61,勤務シフト一覧!$B$4:$D$106,3,FALSE))","v":""},{"$f":"IF(ISERROR(VLOOKUP(V61,勤務シフト一覧!$B$4:$D$106,3,FALSE)),\"\",VLOOKUP(V61,勤務シフト一覧!$B$4:$D$106,3,FALSE))","v":""},{"$f":"IF(ISERROR(VLOOKUP(W61,勤務シフト一覧!$B$4:$D$106,3,FALSE)),\"\",VLOOKUP(W61,勤務シフト一覧!$B$4:$D$106,3,FALSE))","v":""},{"$f":"IF(ISERROR(VLOOKUP(X61,勤務シフト一覧!$B$4:$D$106,3,FALSE)),\"\",VLOOKUP(X61,勤務シフト一覧!$B$4:$D$106,3,FALSE))","v":""},{"$f":"IF(ISERROR(VLOOKUP(Y61,勤務シフト一覧!$B$4:$D$106,3,FALSE)),\"\",VLOOKUP(Y61,勤務シフト一覧!$B$4:$D$106,3,FALSE))","v":""},{"$f":"IF(ISERROR(VLOOKUP(Z61,勤務シフト一覧!$B$4:$D$106,3,FALSE)),\"\",VLOOKUP(Z61,勤務シフト一覧!$B$4:$D$106,3,FALSE))","v":""},{"$f":"IF(ISERROR(VLOOKUP(AA61,勤務シフト一覧!$B$4:$D$106,3,FALSE)),\"\",VLOOKUP(AA61,勤務シフト一覧!$B$4:$D$106,3,FALSE))","v":""},{"$f":"IF(ISERROR(VLOOKUP(AB61,勤務シフト一覧!$B$4:$D$106,3,FALSE)),\"\",VLOOKUP(AB61,勤務シフト一覧!$B$4:$D$106,3,FALSE))","v":""},{"$f":"IF(ISERROR(VLOOKUP(AC61,勤務シフト一覧!$B$4:$D$106,3,FALSE)),\"\",VLOOKUP(AC61,勤務シフト一覧!$B$4:$D$106,3,FALSE))","v":""},{"$f":"IF(ISERROR(VLOOKUP(AD61,勤務シフト一覧!$B$4:$D$106,3,FALSE)),\"\",VLOOKUP(AD61,勤務シフト一覧!$B$4:$D$106,3,FALSE))","v":""},{"$f":"IF(ISERROR(VLOOKUP(AE61,勤務シフト一覧!$B$4:$D$106,3,FALSE)),\"\",VLOOKUP(AE61,勤務シフト一覧!$B$4:$D$106,3,FALSE))","v":""},{"$f":"IF(ISERROR(VLOOKUP(AF61,勤務シフト一覧!$B$4:$D$106,3,FALSE)),\"\",VLOOKUP(AF61,勤務シフト一覧!$B$4:$D$106,3,FALSE))","v":""},{"$f":"IF(ISERROR(VLOOKUP(AG61,勤務シフト一覧!$B$4:$D$106,3,FALSE)),\"\",VLOOKUP(AG61,勤務シフト一覧!$B$4:$D$106,3,FALSE))","v":""},{"$f":"IF(ISERROR(VLOOKUP(AH61,勤務シフト一覧!$B$4:$D$106,3,FALSE)),\"\",VLOOKUP(AH61,勤務シフト一覧!$B$4:$D$106,3,FALSE))","v":""},0,0,0,0,0,0,0,0,0,0,null,null,{"$f":"IF(勤務シフト一覧!$D62<>0,IF(勤務シフト一覧!$B62<> 0,勤務シフト一覧!$B62,\"\"),\"\")","v":"祭0700"}]
[{"$f":"IF(LEN(職員一覧!B30)<>0,職員一覧!B30,\"\")","v":""},{"$f":"IF(LEN(職員一覧!C30)<>0,職員一覧!C30,\"\")","v":""},"予定",null,null,null,null,null,null,null,null,null,null,null,null,null,null,null,null,null,null,null,null,null,null,null,null,null,null,null,null,null,null,null,{"$f":"IF(ISERROR(VLOOKUP(D62,勤務シフト一覧!$B$4:$C$106,2,FALSE)),\"\",VLOOKUP(D62,勤務シフト一覧!$B$4:$C$106,2,FALSE))","v":""},{"$f":"IF(ISERROR(VLOOKUP(E62,勤務シフト一覧!$B$4:$C$106,2,FALSE)),\"\",VLOOKUP(E62,勤務シフト一覧!$B$4:$C$106,2,FALSE))","v":""},{"$f":"IF(ISERROR(VLOOKUP(F62,勤務シフト一覧!$B$4:$C$106,2,FALSE)),\"\",VLOOKUP(F62,勤務シフト一覧!$B$4:$C$106,2,FALSE))","v":""},{"$f":"IF(ISERROR(VLOOKUP(G62,勤務シフト一覧!$B$4:$C$106,2,FALSE)),\"\",VLOOKUP(G62,勤務シフト一覧!$B$4:$C$106,2,FALSE))","v":""},{"$f":"IF(ISERROR(VLOOKUP(H62,勤務シフト一覧!$B$4:$C$106,2,FALSE)),\"\",VLOOKUP(H62,勤務シフト一覧!$B$4:$C$106,2,FALSE))","v":""},{"$f":"IF(ISERROR(VLOOKUP(I62,勤務シフト一覧!$B$4:$C$106,2,FALSE)),\"\",VLOOKUP(I62,勤務シフト一覧!$B$4:$C$106,2,FALSE))","v":""},{"$f":"IF(ISERROR(VLOOKUP(J62,勤務シフト一覧!$B$4:$C$106,2,FALSE)),\"\",VLOOKUP(J62,勤務シフト一覧!$B$4:$C$106,2,FALSE))","v":""},{"$f":"IF(ISERROR(VLOOKUP(K62,勤務シフト一覧!$B$4:$C$106,2,FALSE)),\"\",VLOOKUP(K62,勤務シフト一覧!$B$4:$C$106,2,FALSE))","v":""},{"$f":"IF(ISERROR(VLOOKUP(L62,勤務シフト一覧!$B$4:$C$106,2,FALSE)),\"\",VLOOKUP(L62,勤務シフト一覧!$B$4:$C$106,2,FALSE))","v":""},{"$f":"IF(ISERROR(VLOOKUP(M62,勤務シフト一覧!$B$4:$C$106,2,FALSE)),\"\",VLOOKUP(M62,勤務シフト一覧!$B$4:$C$106,2,FALSE))","v":""},{"$f":"IF(ISERROR(VLOOKUP(N62,勤務シフト一覧!$B$4:$C$106,2,FALSE)),\"\",VLOOKUP(N62,勤務シフト一覧!$B$4:$C$106,2,FALSE))","v":""},{"$f":"IF(ISERROR(VLOOKUP(O62,勤務シフト一覧!$B$4:$C$106,2,FALSE)),\"\",VLOOKUP(O62,勤務シフト一覧!$B$4:$C$106,2,FALSE))","v":""},{"$f":"IF(ISERROR(VLOOKUP(P62,勤務シフト一覧!$B$4:$C$106,2,FALSE)),\"\",VLOOKUP(P62,勤務シフト一覧!$B$4:$C$106,2,FALSE))","v":""},{"$f":"IF(ISERROR(VLOOKUP(Q62,勤務シフト一覧!$B$4:$C$106,2,FALSE)),\"\",VLOOKUP(Q62,勤務シフト一覧!$B$4:$C$106,2,FALSE))","v":""},{"$f":"IF(ISERROR(VLOOKUP(R62,勤務シフト一覧!$B$4:$C$106,2,FALSE)),\"\",VLOOKUP(R62,勤務シフト一覧!$B$4:$C$106,2,FALSE))","v":""},{"$f":"IF(ISERROR(VLOOKUP(S62,勤務シフト一覧!$B$4:$C$106,2,FALSE)),\"\",VLOOKUP(S62,勤務シフト一覧!$B$4:$C$106,2,FALSE))","v":""},{"$f":"IF(ISERROR(VLOOKUP(T62,勤務シフト一覧!$B$4:$C$106,2,FALSE)),\"\",VLOOKUP(T62,勤務シフト一覧!$B$4:$C$106,2,FALSE))","v":""},{"$f":"IF(ISERROR(VLOOKUP(U62,勤務シフト一覧!$B$4:$C$106,2,FALSE)),\"\",VLOOKUP(U62,勤務シフト一覧!$B$4:$C$106,2,FALSE))","v":""},{"$f":"IF(ISERROR(VLOOKUP(V62,勤務シフト一覧!$B$4:$C$106,2,FALSE)),\"\",VLOOKUP(V62,勤務シフト一覧!$B$4:$C$106,2,FALSE))","v":""},{"$f":"IF(ISERROR(VLOOKUP(W62,勤務シフト一覧!$B$4:$C$106,2,FALSE)),\"\",VLOOKUP(W62,勤務シフト一覧!$B$4:$C$106,2,FALSE))","v":""},{"$f":"IF(ISERROR(VLOOKUP(X62,勤務シフト一覧!$B$4:$C$106,2,FALSE)),\"\",VLOOKUP(X62,勤務シフト一覧!$B$4:$C$106,2,FALSE))","v":""},{"$f":"IF(ISERROR(VLOOKUP(Y62,勤務シフト一覧!$B$4:$C$106,2,FALSE)),\"\",VLOOKUP(Y62,勤務シフト一覧!$B$4:$C$106,2,FALSE))","v":""},{"$f":"IF(ISERROR(VLOOKUP(Z62,勤務シフト一覧!$B$4:$C$106,2,FALSE)),\"\",VLOOKUP(Z62,勤務シフト一覧!$B$4:$C$106,2,FALSE))","v":""},{"$f":"IF(ISERROR(VLOOKUP(AA62,勤務シフト一覧!$B$4:$C$106,2,FALSE)),\"\",VLOOKUP(AA62,勤務シフト一覧!$B$4:$C$106,2,FALSE))","v":""},{"$f":"IF(ISERROR(VLOOKUP(AB62,勤務シフト一覧!$B$4:$C$106,2,FALSE)),\"\",VLOOKUP(AB62,勤務シフト一覧!$B$4:$C$106,2,FALSE))","v":""},{"$f":"IF(ISERROR(VLOOKUP(AC62,勤務シフト一覧!$B$4:$C$106,2,FALSE)),\"\",VLOOKUP(AC62,勤務シフト一覧!$B$4:$C$106,2,FALSE))","v":""},{"$f":"IF(ISERROR(VLOOKUP(AD62,勤務シフト一覧!$B$4:$C$106,2,FALSE)),\"\",VLOOKUP(AD62,勤務シフト一覧!$B$4:$C$106,2,FALSE))","v":""},{"$f":"IF(ISERROR(VLOOKUP(AE62,勤務シフト一覧!$B$4:$C$106,2,FALSE)),\"\",VLOOKUP(AE62,勤務シフト一覧!$B$4:$C$106,2,FALSE))","v":""},{"$f":"IF(ISERROR(VLOOKUP(AF62,勤務シフト一覧!$B$4:$C$106,2,FALSE)),\"\",VLOOKUP(AF62,勤務シフト一覧!$B$4:$C$106,2,FALSE))","v":""},{"$f":"IF(ISERROR(VLOOKUP(AG62,勤務シフト一覧!$B$4:$C$106,2,FALSE)),\"\",VLOOKUP(AG62,勤務シフト一覧!$B$4:$C$106,2,FALSE))","v":""},{"$f":"IF(ISERROR(VLOOKUP(AH62,勤務シフト一覧!$B$4:$C$106,2,FALSE)),\"\",VLOOKUP(AH62,勤務シフト一覧!$B$4:$C$106,2,FALSE))","v":""},null,{"$f":"IF(ISERROR(VLOOKUP(D62,勤務シフト一覧!$B$4:$D$106,3,FALSE)),\"\",VLOOKUP(D62,勤務シフト一覧!$B$4:$D$106,3,FALSE))","v":""},{"$f":"IF(ISERROR(VLOOKUP(E62,勤務シフト一覧!$B$4:$D$106,3,FALSE)),\"\",VLOOKUP(E62,勤務シフト一覧!$B$4:$D$106,3,FALSE))","v":""},{"$f":"IF(ISERROR(VLOOKUP(F62,勤務シフト一覧!$B$4:$D$106,3,FALSE)),\"\",VLOOKUP(F62,勤務シフト一覧!$B$4:$D$106,3,FALSE))","v":""},{"$f":"IF(ISERROR(VLOOKUP(G62,勤務シフト一覧!$B$4:$D$106,3,FALSE)),\"\",VLOOKUP(G62,勤務シフト一覧!$B$4:$D$106,3,FALSE))","v":""},{"$f":"IF(ISERROR(VLOOKUP(H62,勤務シフト一覧!$B$4:$D$106,3,FALSE)),\"\",VLOOKUP(H62,勤務シフト一覧!$B$4:$D$106,3,FALSE))","v":""},{"$f":"IF(ISERROR(VLOOKUP(I62,勤務シフト一覧!$B$4:$D$106,3,FALSE)),\"\",VLOOKUP(I62,勤務シフト一覧!$B$4:$D$106,3,FALSE))","v":""},{"$f":"IF(ISERROR(VLOOKUP(J62,勤務シフト一覧!$B$4:$D$106,3,FALSE)),\"\",VLOOKUP(J62,勤務シフト一覧!$B$4:$D$106,3,FALSE))","v":""},{"$f":"IF(ISERROR(VLOOKUP(K62,勤務シフト一覧!$B$4:$D$106,3,FALSE)),\"\",VLOOKUP(K62,勤務シフト一覧!$B$4:$D$106,3,FALSE))","v":""},{"$f":"IF(ISERROR(VLOOKUP(L62,勤務シフト一覧!$B$4:$D$106,3,FALSE)),\"\",VLOOKUP(L62,勤務シフト一覧!$B$4:$D$106,3,FALSE))","v":""},{"$f":"IF(ISERROR(VLOOKUP(M62,勤務シフト一覧!$B$4:$D$106,3,FALSE)),\"\",VLOOKUP(M62,勤務シフト一覧!$B$4:$D$106,3,FALSE))","v":""},{"$f":"IF(ISERROR(VLOOKUP(N62,勤務シフト一覧!$B$4:$D$106,3,FALSE)),\"\",VLOOKUP(N62,勤務シフト一覧!$B$4:$D$106,3,FALSE))","v":""},{"$f":"IF(ISERROR(VLOOKUP(O62,勤務シフト一覧!$B$4:$D$106,3,FALSE)),\"\",VLOOKUP(O62,勤務シフト一覧!$B$4:$D$106,3,FALSE))","v":""},{"$f":"IF(ISERROR(VLOOKUP(P62,勤務シフト一覧!$B$4:$D$106,3,FALSE)),\"\",VLOOKUP(P62,勤務シフト一覧!$B$4:$D$106,3,FALSE))","v":""},{"$f":"IF(ISERROR(VLOOKUP(Q62,勤務シフト一覧!$B$4:$D$106,3,FALSE)),\"\",VLOOKUP(Q62,勤務シフト一覧!$B$4:$D$106,3,FALSE))","v":""},{"$f":"IF(ISERROR(VLOOKUP(R62,勤務シフト一覧!$B$4:$D$106,3,FALSE)),\"\",VLOOKUP(R62,勤務シフト一覧!$B$4:$D$106,3,FALSE))","v":""},{"$f":"IF(ISERROR(VLOOKUP(S62,勤務シフト一覧!$B$4:$D$106,3,FALSE)),\"\",VLOOKUP(S62,勤務シフト一覧!$B$4:$D$106,3,FALSE))","v":""},{"$f":"IF(ISERROR(VLOOKUP(T62,勤務シフト一覧!$B$4:$D$106,3,FALSE)),\"\",VLOOKUP(T62,勤務シフト一覧!$B$4:$D$106,3,FALSE))","v":""},{"$f":"IF(ISERROR(VLOOKUP(U62,勤務シフト一覧!$B$4:$D$106,3,FALSE)),\"\",VLOOKUP(U62,勤務シフト一覧!$B$4:$D$106,3,FALSE))","v":""},{"$f":"IF(ISERROR(VLOOKUP(V62,勤務シフト一覧!$B$4:$D$106,3,FALSE)),\"\",VLOOKUP(V62,勤務シフト一覧!$B$4:$D$106,3,FALSE))","v":""},{"$f":"IF(ISERROR(VLOOKUP(W62,勤務シフト一覧!$B$4:$D$106,3,FALSE)),\"\",VLOOKUP(W62,勤務シフト一覧!$B$4:$D$106,3,FALSE))","v":""},{"$f":"IF(ISERROR(VLOOKUP(X62,勤務シフト一覧!$B$4:$D$106,3,FALSE)),\"\",VLOOKUP(X62,勤務シフト一覧!$B$4:$D$106,3,FALSE))","v":""},{"$f":"IF(ISERROR(VLOOKUP(Y62,勤務シフト一覧!$B$4:$D$106,3,FALSE)),\"\",VLOOKUP(Y62,勤務シフト一覧!$B$4:$D$106,3,FALSE))","v":""},{"$f":"IF(ISERROR(VLOOKUP(Z62,勤務シフト一覧!$B$4:$D$106,3,FALSE)),\"\",VLOOKUP(Z62,勤務シフト一覧!$B$4:$D$106,3,FALSE))","v":""},{"$f":"IF(ISERROR(VLOOKUP(AA62,勤務シフト一覧!$B$4:$D$106,3,FALSE)),\"\",VLOOKUP(AA62,勤務シフト一覧!$B$4:$D$106,3,FALSE))","v":""},{"$f":"IF(ISERROR(VLOOKUP(AB62,勤務シフト一覧!$B$4:$D$106,3,FALSE)),\"\",VLOOKUP(AB62,勤務シフト一覧!$B$4:$D$106,3,FALSE))","v":""},{"$f":"IF(ISERROR(VLOOKUP(AC62,勤務シフト一覧!$B$4:$D$106,3,FALSE)),\"\",VLOOKUP(AC62,勤務シフト一覧!$B$4:$D$106,3,FALSE))","v":""},{"$f":"IF(ISERROR(VLOOKUP(AD62,勤務シフト一覧!$B$4:$D$106,3,FALSE)),\"\",VLOOKUP(AD62,勤務シフト一覧!$B$4:$D$106,3,FALSE))","v":""},{"$f":"IF(ISERROR(VLOOKUP(AE62,勤務シフト一覧!$B$4:$D$106,3,FALSE)),\"\",VLOOKUP(AE62,勤務シフト一覧!$B$4:$D$106,3,FALSE))","v":""},{"$f":"IF(ISERROR(VLOOKUP(AF62,勤務シフト一覧!$B$4:$D$106,3,FALSE)),\"\",VLOOKUP(AF62,勤務シフト一覧!$B$4:$D$106,3,FALSE))","v":""},{"$f":"IF(ISERROR(VLOOKUP(AG62,勤務シフト一覧!$B$4:$D$106,3,FALSE)),\"\",VLOOKUP(AG62,勤務シフト一覧!$B$4:$D$106,3,FALSE))","v":""},{"$f":"IF(ISERROR(VLOOKUP(AH62,勤務シフト一覧!$B$4:$D$106,3,FALSE)),\"\",VLOOKUP(AH62,勤務シフト一覧!$B$4:$D$106,3,FALSE))","v":""},0,0,0,0,0,0,0,0,0,0,{"$f":"IF(LEN(職員一覧!D30)<>0,職員一覧!D30,\"\")","v":""},null,{"$f":"IF(勤務シフト一覧!$D63<>0,IF(勤務シフト一覧!$B63<> 0,勤務シフト一覧!$B63,\"\"),\"\")","v":"祭1000"}]
[null,null,"実施",null,null,null,null,null,null,null,null,null,null,null,null,null,null,null,null,null,null,null,null,null,null,null,null,null,null,null,null,null,null,null,{"$f":"IF(ISERROR(VLOOKUP(D63,勤務シフト一覧!$B$4:$C$106,2,FALSE)),\"\",VLOOKUP(D63,勤務シフト一覧!$B$4:$C$106,2,FALSE))","v":""},{"$f":"IF(ISERROR(VLOOKUP(E63,勤務シフト一覧!$B$4:$C$106,2,FALSE)),\"\",VLOOKUP(E63,勤務シフト一覧!$B$4:$C$106,2,FALSE))","v":""},{"$f":"IF(ISERROR(VLOOKUP(F63,勤務シフト一覧!$B$4:$C$106,2,FALSE)),\"\",VLOOKUP(F63,勤務シフト一覧!$B$4:$C$106,2,FALSE))","v":""},{"$f":"IF(ISERROR(VLOOKUP(G63,勤務シフト一覧!$B$4:$C$106,2,FALSE)),\"\",VLOOKUP(G63,勤務シフト一覧!$B$4:$C$106,2,FALSE))","v":""},{"$f":"IF(ISERROR(VLOOKUP(H63,勤務シフト一覧!$B$4:$C$106,2,FALSE)),\"\",VLOOKUP(H63,勤務シフト一覧!$B$4:$C$106,2,FALSE))","v":""},{"$f":"IF(ISERROR(VLOOKUP(I63,勤務シフト一覧!$B$4:$C$106,2,FALSE)),\"\",VLOOKUP(I63,勤務シフト一覧!$B$4:$C$106,2,FALSE))","v":""},{"$f":"IF(ISERROR(VLOOKUP(J63,勤務シフト一覧!$B$4:$C$106,2,FALSE)),\"\",VLOOKUP(J63,勤務シフト一覧!$B$4:$C$106,2,FALSE))","v":""},{"$f":"IF(ISERROR(VLOOKUP(K63,勤務シフト一覧!$B$4:$C$106,2,FALSE)),\"\",VLOOKUP(K63,勤務シフト一覧!$B$4:$C$106,2,FALSE))","v":""},{"$f":"IF(ISERROR(VLOOKUP(L63,勤務シフト一覧!$B$4:$C$106,2,FALSE)),\"\",VLOOKUP(L63,勤務シフト一覧!$B$4:$C$106,2,FALSE))","v":""},{"$f":"IF(ISERROR(VLOOKUP(M63,勤務シフト一覧!$B$4:$C$106,2,FALSE)),\"\",VLOOKUP(M63,勤務シフト一覧!$B$4:$C$106,2,FALSE))","v":""},{"$f":"IF(ISERROR(VLOOKUP(N63,勤務シフト一覧!$B$4:$C$106,2,FALSE)),\"\",VLOOKUP(N63,勤務シフト一覧!$B$4:$C$106,2,FALSE))","v":""},{"$f":"IF(ISERROR(VLOOKUP(O63,勤務シフト一覧!$B$4:$C$106,2,FALSE)),\"\",VLOOKUP(O63,勤務シフト一覧!$B$4:$C$106,2,FALSE))","v":""},{"$f":"IF(ISERROR(VLOOKUP(P63,勤務シフト一覧!$B$4:$C$106,2,FALSE)),\"\",VLOOKUP(P63,勤務シフト一覧!$B$4:$C$106,2,FALSE))","v":""},{"$f":"IF(ISERROR(VLOOKUP(Q63,勤務シフト一覧!$B$4:$C$106,2,FALSE)),\"\",VLOOKUP(Q63,勤務シフト一覧!$B$4:$C$106,2,FALSE))","v":""},{"$f":"IF(ISERROR(VLOOKUP(R63,勤務シフト一覧!$B$4:$C$106,2,FALSE)),\"\",VLOOKUP(R63,勤務シフト一覧!$B$4:$C$106,2,FALSE))","v":""},{"$f":"IF(ISERROR(VLOOKUP(S63,勤務シフト一覧!$B$4:$C$106,2,FALSE)),\"\",VLOOKUP(S63,勤務シフト一覧!$B$4:$C$106,2,FALSE))","v":""},{"$f":"IF(ISERROR(VLOOKUP(T63,勤務シフト一覧!$B$4:$C$106,2,FALSE)),\"\",VLOOKUP(T63,勤務シフト一覧!$B$4:$C$106,2,FALSE))","v":""},{"$f":"IF(ISERROR(VLOOKUP(U63,勤務シフト一覧!$B$4:$C$106,2,FALSE)),\"\",VLOOKUP(U63,勤務シフト一覧!$B$4:$C$106,2,FALSE))","v":""},{"$f":"IF(ISERROR(VLOOKUP(V63,勤務シフト一覧!$B$4:$C$106,2,FALSE)),\"\",VLOOKUP(V63,勤務シフト一覧!$B$4:$C$106,2,FALSE))","v":""},{"$f":"IF(ISERROR(VLOOKUP(W63,勤務シフト一覧!$B$4:$C$106,2,FALSE)),\"\",VLOOKUP(W63,勤務シフト一覧!$B$4:$C$106,2,FALSE))","v":""},{"$f":"IF(ISERROR(VLOOKUP(X63,勤務シフト一覧!$B$4:$C$106,2,FALSE)),\"\",VLOOKUP(X63,勤務シフト一覧!$B$4:$C$106,2,FALSE))","v":""},{"$f":"IF(ISERROR(VLOOKUP(Y63,勤務シフト一覧!$B$4:$C$106,2,FALSE)),\"\",VLOOKUP(Y63,勤務シフト一覧!$B$4:$C$106,2,FALSE))","v":""},{"$f":"IF(ISERROR(VLOOKUP(Z63,勤務シフト一覧!$B$4:$C$106,2,FALSE)),\"\",VLOOKUP(Z63,勤務シフト一覧!$B$4:$C$106,2,FALSE))","v":""},{"$f":"IF(ISERROR(VLOOKUP(AA63,勤務シフト一覧!$B$4:$C$106,2,FALSE)),\"\",VLOOKUP(AA63,勤務シフト一覧!$B$4:$C$106,2,FALSE))","v":""},{"$f":"IF(ISERROR(VLOOKUP(AB63,勤務シフト一覧!$B$4:$C$106,2,FALSE)),\"\",VLOOKUP(AB63,勤務シフト一覧!$B$4:$C$106,2,FALSE))","v":""},{"$f":"IF(ISERROR(VLOOKUP(AC63,勤務シフト一覧!$B$4:$C$106,2,FALSE)),\"\",VLOOKUP(AC63,勤務シフト一覧!$B$4:$C$106,2,FALSE))","v":""},{"$f":"IF(ISERROR(VLOOKUP(AD63,勤務シフト一覧!$B$4:$C$106,2,FALSE)),\"\",VLOOKUP(AD63,勤務シフト一覧!$B$4:$C$106,2,FALSE))","v":""},{"$f":"IF(ISERROR(VLOOKUP(AE63,勤務シフト一覧!$B$4:$C$106,2,FALSE)),\"\",VLOOKUP(AE63,勤務シフト一覧!$B$4:$C$106,2,FALSE))","v":""},{"$f":"IF(ISERROR(VLOOKUP(AF63,勤務シフト一覧!$B$4:$C$106,2,FALSE)),\"\",VLOOKUP(AF63,勤務シフト一覧!$B$4:$C$106,2,FALSE))","v":""},{"$f":"IF(ISERROR(VLOOKUP(AG63,勤務シフト一覧!$B$4:$C$106,2,FALSE)),\"\",VLOOKUP(AG63,勤務シフト一覧!$B$4:$C$106,2,FALSE))","v":""},{"$f":"IF(ISERROR(VLOOKUP(AH63,勤務シフト一覧!$B$4:$C$106,2,FALSE)),\"\",VLOOKUP(AH63,勤務シフト一覧!$B$4:$C$106,2,FALSE))","v":""},null,{"$f":"IF(ISERROR(VLOOKUP(D63,勤務シフト一覧!$B$4:$D$106,3,FALSE)),\"\",VLOOKUP(D63,勤務シフト一覧!$B$4:$D$106,3,FALSE))","v":""},{"$f":"IF(ISERROR(VLOOKUP(E63,勤務シフト一覧!$B$4:$D$106,3,FALSE)),\"\",VLOOKUP(E63,勤務シフト一覧!$B$4:$D$106,3,FALSE))","v":""},{"$f":"IF(ISERROR(VLOOKUP(F63,勤務シフト一覧!$B$4:$D$106,3,FALSE)),\"\",VLOOKUP(F63,勤務シフト一覧!$B$4:$D$106,3,FALSE))","v":""},{"$f":"IF(ISERROR(VLOOKUP(G63,勤務シフト一覧!$B$4:$D$106,3,FALSE)),\"\",VLOOKUP(G63,勤務シフト一覧!$B$4:$D$106,3,FALSE))","v":""},{"$f":"IF(ISERROR(VLOOKUP(H63,勤務シフト一覧!$B$4:$D$106,3,FALSE)),\"\",VLOOKUP(H63,勤務シフト一覧!$B$4:$D$106,3,FALSE))","v":""},{"$f":"IF(ISERROR(VLOOKUP(I63,勤務シフト一覧!$B$4:$D$106,3,FALSE)),\"\",VLOOKUP(I63,勤務シフト一覧!$B$4:$D$106,3,FALSE))","v":""},{"$f":"IF(ISERROR(VLOOKUP(J63,勤務シフト一覧!$B$4:$D$106,3,FALSE)),\"\",VLOOKUP(J63,勤務シフト一覧!$B$4:$D$106,3,FALSE))","v":""},{"$f":"IF(ISERROR(VLOOKUP(K63,勤務シフト一覧!$B$4:$D$106,3,FALSE)),\"\",VLOOKUP(K63,勤務シフト一覧!$B$4:$D$106,3,FALSE))","v":""},{"$f":"IF(ISERROR(VLOOKUP(L63,勤務シフト一覧!$B$4:$D$106,3,FALSE)),\"\",VLOOKUP(L63,勤務シフト一覧!$B$4:$D$106,3,FALSE))","v":""},{"$f":"IF(ISERROR(VLOOKUP(M63,勤務シフト一覧!$B$4:$D$106,3,FALSE)),\"\",VLOOKUP(M63,勤務シフト一覧!$B$4:$D$106,3,FALSE))","v":""},{"$f":"IF(ISERROR(VLOOKUP(N63,勤務シフト一覧!$B$4:$D$106,3,FALSE)),\"\",VLOOKUP(N63,勤務シフト一覧!$B$4:$D$106,3,FALSE))","v":""},{"$f":"IF(ISERROR(VLOOKUP(O63,勤務シフト一覧!$B$4:$D$106,3,FALSE)),\"\",VLOOKUP(O63,勤務シフト一覧!$B$4:$D$106,3,FALSE))","v":""},{"$f":"IF(ISERROR(VLOOKUP(P63,勤務シフト一覧!$B$4:$D$106,3,FALSE)),\"\",VLOOKUP(P63,勤務シフト一覧!$B$4:$D$106,3,FALSE))","v":""},{"$f":"IF(ISERROR(VLOOKUP(Q63,勤務シフト一覧!$B$4:$D$106,3,FALSE)),\"\",VLOOKUP(Q63,勤務シフト一覧!$B$4:$D$106,3,FALSE))","v":""},{"$f":"IF(ISERROR(VLOOKUP(R63,勤務シフト一覧!$B$4:$D$106,3,FALSE)),\"\",VLOOKUP(R63,勤務シフト一覧!$B$4:$D$106,3,FALSE))","v":""},{"$f":"IF(ISERROR(VLOOKUP(S63,勤務シフト一覧!$B$4:$D$106,3,FALSE)),\"\",VLOOKUP(S63,勤務シフト一覧!$B$4:$D$106,3,FALSE))","v":""},{"$f":"IF(ISERROR(VLOOKUP(T63,勤務シフト一覧!$B$4:$D$106,3,FALSE)),\"\",VLOOKUP(T63,勤務シフト一覧!$B$4:$D$106,3,FALSE))","v":""},{"$f":"IF(ISERROR(VLOOKUP(U63,勤務シフト一覧!$B$4:$D$106,3,FALSE)),\"\",VLOOKUP(U63,勤務シフト一覧!$B$4:$D$106,3,FALSE))","v":""},{"$f":"IF(ISERROR(VLOOKUP(V63,勤務シフト一覧!$B$4:$D$106,3,FALSE)),\"\",VLOOKUP(V63,勤務シフト一覧!$B$4:$D$106,3,FALSE))","v":""},{"$f":"IF(ISERROR(VLOOKUP(W63,勤務シフト一覧!$B$4:$D$106,3,FALSE)),\"\",VLOOKUP(W63,勤務シフト一覧!$B$4:$D$106,3,FALSE))","v":""},{"$f":"IF(ISERROR(VLOOKUP(X63,勤務シフト一覧!$B$4:$D$106,3,FALSE)),\"\",VLOOKUP(X63,勤務シフト一覧!$B$4:$D$106,3,FALSE))","v":""},{"$f":"IF(ISERROR(VLOOKUP(Y63,勤務シフト一覧!$B$4:$D$106,3,FALSE)),\"\",VLOOKUP(Y63,勤務シフト一覧!$B$4:$D$106,3,FALSE))","v":""},{"$f":"IF(ISERROR(VLOOKUP(Z63,勤務シフト一覧!$B$4:$D$106,3,FALSE)),\"\",VLOOKUP(Z63,勤務シフト一覧!$B$4:$D$106,3,FALSE))","v":""},{"$f":"IF(ISERROR(VLOOKUP(AA63,勤務シフト一覧!$B$4:$D$106,3,FALSE)),\"\",VLOOKUP(AA63,勤務シフト一覧!$B$4:$D$106,3,FALSE))","v":""},{"$f":"IF(ISERROR(VLOOKUP(AB63,勤務シフト一覧!$B$4:$D$106,3,FALSE)),\"\",VLOOKUP(AB63,勤務シフト一覧!$B$4:$D$106,3,FALSE))","v":""},{"$f":"IF(ISERROR(VLOOKUP(AC63,勤務シフト一覧!$B$4:$D$106,3,FALSE)),\"\",VLOOKUP(AC63,勤務シフト一覧!$B$4:$D$106,3,FALSE))","v":""},{"$f":"IF(ISERROR(VLOOKUP(AD63,勤務シフト一覧!$B$4:$D$106,3,FALSE)),\"\",VLOOKUP(AD63,勤務シフト一覧!$B$4:$D$106,3,FALSE))","v":""},{"$f":"IF(ISERROR(VLOOKUP(AE63,勤務シフト一覧!$B$4:$D$106,3,FALSE)),\"\",VLOOKUP(AE63,勤務シフト一覧!$B$4:$D$106,3,FALSE))","v":""},{"$f":"IF(ISERROR(VLOOKUP(AF63,勤務シフト一覧!$B$4:$D$106,3,FALSE)),\"\",VLOOKUP(AF63,勤務シフト一覧!$B$4:$D$106,3,FALSE))","v":""},{"$f":"IF(ISERROR(VLOOKUP(AG63,勤務シフト一覧!$B$4:$D$106,3,FALSE)),\"\",VLOOKUP(AG63,勤務シフト一覧!$B$4:$D$106,3,FALSE))","v":""},{"$f":"IF(ISERROR(VLOOKUP(AH63,勤務シフト一覧!$B$4:$D$106,3,FALSE)),\"\",VLOOKUP(AH63,勤務シフト一覧!$B$4:$D$106,3,FALSE))","v":""},0,0,0,0,0,0,0,0,0,0,null,null,{"$f":"IF(勤務シフト一覧!$D64<>0,IF(勤務シフト一覧!$B64<> 0,勤務シフト一覧!$B64,\"\"),\"\")","v":"祭1230"}]
[{"$f":"IF(LEN(職員一覧!B31)<>0,職員一覧!B31,\"\")","v":""},{"$f":"IF(LEN(職員一覧!C31)<>0,職員一覧!C31,\"\")","v":""},"予定",null,null,null,null,null,null,null,null,null,null,null,null,null,null,null,null,null,null,null,null,null,null,null,null,null,null,null,null,null,null,null,{"$f":"IF(ISERROR(VLOOKUP(D64,勤務シフト一覧!$B$4:$C$106,2,FALSE)),\"\",VLOOKUP(D64,勤務シフト一覧!$B$4:$C$106,2,FALSE))","v":""},{"$f":"IF(ISERROR(VLOOKUP(E64,勤務シフト一覧!$B$4:$C$106,2,FALSE)),\"\",VLOOKUP(E64,勤務シフト一覧!$B$4:$C$106,2,FALSE))","v":""},{"$f":"IF(ISERROR(VLOOKUP(F64,勤務シフト一覧!$B$4:$C$106,2,FALSE)),\"\",VLOOKUP(F64,勤務シフト一覧!$B$4:$C$106,2,FALSE))","v":""},{"$f":"IF(ISERROR(VLOOKUP(G64,勤務シフト一覧!$B$4:$C$106,2,FALSE)),\"\",VLOOKUP(G64,勤務シフト一覧!$B$4:$C$106,2,FALSE))","v":""},{"$f":"IF(ISERROR(VLOOKUP(H64,勤務シフト一覧!$B$4:$C$106,2,FALSE)),\"\",VLOOKUP(H64,勤務シフト一覧!$B$4:$C$106,2,FALSE))","v":""},{"$f":"IF(ISERROR(VLOOKUP(I64,勤務シフト一覧!$B$4:$C$106,2,FALSE)),\"\",VLOOKUP(I64,勤務シフト一覧!$B$4:$C$106,2,FALSE))","v":""},{"$f":"IF(ISERROR(VLOOKUP(J64,勤務シフト一覧!$B$4:$C$106,2,FALSE)),\"\",VLOOKUP(J64,勤務シフト一覧!$B$4:$C$106,2,FALSE))","v":""},{"$f":"IF(ISERROR(VLOOKUP(K64,勤務シフト一覧!$B$4:$C$106,2,FALSE)),\"\",VLOOKUP(K64,勤務シフト一覧!$B$4:$C$106,2,FALSE))","v":""},{"$f":"IF(ISERROR(VLOOKUP(L64,勤務シフト一覧!$B$4:$C$106,2,FALSE)),\"\",VLOOKUP(L64,勤務シフト一覧!$B$4:$C$106,2,FALSE))","v":""},{"$f":"IF(ISERROR(VLOOKUP(M64,勤務シフト一覧!$B$4:$C$106,2,FALSE)),\"\",VLOOKUP(M64,勤務シフト一覧!$B$4:$C$106,2,FALSE))","v":""},{"$f":"IF(ISERROR(VLOOKUP(N64,勤務シフト一覧!$B$4:$C$106,2,FALSE)),\"\",VLOOKUP(N64,勤務シフト一覧!$B$4:$C$106,2,FALSE))","v":""},{"$f":"IF(ISERROR(VLOOKUP(O64,勤務シフト一覧!$B$4:$C$106,2,FALSE)),\"\",VLOOKUP(O64,勤務シフト一覧!$B$4:$C$106,2,FALSE))","v":""},{"$f":"IF(ISERROR(VLOOKUP(P64,勤務シフト一覧!$B$4:$C$106,2,FALSE)),\"\",VLOOKUP(P64,勤務シフト一覧!$B$4:$C$106,2,FALSE))","v":""},{"$f":"IF(ISERROR(VLOOKUP(Q64,勤務シフト一覧!$B$4:$C$106,2,FALSE)),\"\",VLOOKUP(Q64,勤務シフト一覧!$B$4:$C$106,2,FALSE))","v":""},{"$f":"IF(ISERROR(VLOOKUP(R64,勤務シフト一覧!$B$4:$C$106,2,FALSE)),\"\",VLOOKUP(R64,勤務シフト一覧!$B$4:$C$106,2,FALSE))","v":""},{"$f":"IF(ISERROR(VLOOKUP(S64,勤務シフト一覧!$B$4:$C$106,2,FALSE)),\"\",VLOOKUP(S64,勤務シフト一覧!$B$4:$C$106,2,FALSE))","v":""},{"$f":"IF(ISERROR(VLOOKUP(T64,勤務シフト一覧!$B$4:$C$106,2,FALSE)),\"\",VLOOKUP(T64,勤務シフト一覧!$B$4:$C$106,2,FALSE))","v":""},{"$f":"IF(ISERROR(VLOOKUP(U64,勤務シフト一覧!$B$4:$C$106,2,FALSE)),\"\",VLOOKUP(U64,勤務シフト一覧!$B$4:$C$106,2,FALSE))","v":""},{"$f":"IF(ISERROR(VLOOKUP(V64,勤務シフト一覧!$B$4:$C$106,2,FALSE)),\"\",VLOOKUP(V64,勤務シフト一覧!$B$4:$C$106,2,FALSE))","v":""},{"$f":"IF(ISERROR(VLOOKUP(W64,勤務シフト一覧!$B$4:$C$106,2,FALSE)),\"\",VLOOKUP(W64,勤務シフト一覧!$B$4:$C$106,2,FALSE))","v":""},{"$f":"IF(ISERROR(VLOOKUP(X64,勤務シフト一覧!$B$4:$C$106,2,FALSE)),\"\",VLOOKUP(X64,勤務シフト一覧!$B$4:$C$106,2,FALSE))","v":""},{"$f":"IF(ISERROR(VLOOKUP(Y64,勤務シフト一覧!$B$4:$C$106,2,FALSE)),\"\",VLOOKUP(Y64,勤務シフト一覧!$B$4:$C$106,2,FALSE))","v":""},{"$f":"IF(ISERROR(VLOOKUP(Z64,勤務シフト一覧!$B$4:$C$106,2,FALSE)),\"\",VLOOKUP(Z64,勤務シフト一覧!$B$4:$C$106,2,FALSE))","v":""},{"$f":"IF(ISERROR(VLOOKUP(AA64,勤務シフト一覧!$B$4:$C$106,2,FALSE)),\"\",VLOOKUP(AA64,勤務シフト一覧!$B$4:$C$106,2,FALSE))","v":""},{"$f":"IF(ISERROR(VLOOKUP(AB64,勤務シフト一覧!$B$4:$C$106,2,FALSE)),\"\",VLOOKUP(AB64,勤務シフト一覧!$B$4:$C$106,2,FALSE))","v":""},{"$f":"IF(ISERROR(VLOOKUP(AC64,勤務シフト一覧!$B$4:$C$106,2,FALSE)),\"\",VLOOKUP(AC64,勤務シフト一覧!$B$4:$C$106,2,FALSE))","v":""},{"$f":"IF(ISERROR(VLOOKUP(AD64,勤務シフト一覧!$B$4:$C$106,2,FALSE)),\"\",VLOOKUP(AD64,勤務シフト一覧!$B$4:$C$106,2,FALSE))","v":""},{"$f":"IF(ISERROR(VLOOKUP(AE64,勤務シフト一覧!$B$4:$C$106,2,FALSE)),\"\",VLOOKUP(AE64,勤務シフト一覧!$B$4:$C$106,2,FALSE))","v":""},{"$f":"IF(ISERROR(VLOOKUP(AF64,勤務シフト一覧!$B$4:$C$106,2,FALSE)),\"\",VLOOKUP(AF64,勤務シフト一覧!$B$4:$C$106,2,FALSE))","v":""},{"$f":"IF(ISERROR(VLOOKUP(AG64,勤務シフト一覧!$B$4:$C$106,2,FALSE)),\"\",VLOOKUP(AG64,勤務シフト一覧!$B$4:$C$106,2,FALSE))","v":""},{"$f":"IF(ISERROR(VLOOKUP(AH64,勤務シフト一覧!$B$4:$C$106,2,FALSE)),\"\",VLOOKUP(AH64,勤務シフト一覧!$B$4:$C$106,2,FALSE))","v":""},null,{"$f":"IF(ISERROR(VLOOKUP(D64,勤務シフト一覧!$B$4:$D$106,3,FALSE)),\"\",VLOOKUP(D64,勤務シフト一覧!$B$4:$D$106,3,FALSE))","v":""},{"$f":"IF(ISERROR(VLOOKUP(E64,勤務シフト一覧!$B$4:$D$106,3,FALSE)),\"\",VLOOKUP(E64,勤務シフト一覧!$B$4:$D$106,3,FALSE))","v":""},{"$f":"IF(ISERROR(VLOOKUP(F64,勤務シフト一覧!$B$4:$D$106,3,FALSE)),\"\",VLOOKUP(F64,勤務シフト一覧!$B$4:$D$106,3,FALSE))","v":""},{"$f":"IF(ISERROR(VLOOKUP(G64,勤務シフト一覧!$B$4:$D$106,3,FALSE)),\"\",VLOOKUP(G64,勤務シフト一覧!$B$4:$D$106,3,FALSE))","v":""},{"$f":"IF(ISERROR(VLOOKUP(H64,勤務シフト一覧!$B$4:$D$106,3,FALSE)),\"\",VLOOKUP(H64,勤務シフト一覧!$B$4:$D$106,3,FALSE))","v":""},{"$f":"IF(ISERROR(VLOOKUP(I64,勤務シフト一覧!$B$4:$D$106,3,FALSE)),\"\",VLOOKUP(I64,勤務シフト一覧!$B$4:$D$106,3,FALSE))","v":""},{"$f":"IF(ISERROR(VLOOKUP(J64,勤務シフト一覧!$B$4:$D$106,3,FALSE)),\"\",VLOOKUP(J64,勤務シフト一覧!$B$4:$D$106,3,FALSE))","v":""},{"$f":"IF(ISERROR(VLOOKUP(K64,勤務シフト一覧!$B$4:$D$106,3,FALSE)),\"\",VLOOKUP(K64,勤務シフト一覧!$B$4:$D$106,3,FALSE))","v":""},{"$f":"IF(ISERROR(VLOOKUP(L64,勤務シフト一覧!$B$4:$D$106,3,FALSE)),\"\",VLOOKUP(L64,勤務シフト一覧!$B$4:$D$106,3,FALSE))","v":""},{"$f":"IF(ISERROR(VLOOKUP(M64,勤務シフト一覧!$B$4:$D$106,3,FALSE)),\"\",VLOOKUP(M64,勤務シフト一覧!$B$4:$D$106,3,FALSE))","v":""},{"$f":"IF(ISERROR(VLOOKUP(N64,勤務シフト一覧!$B$4:$D$106,3,FALSE)),\"\",VLOOKUP(N64,勤務シフト一覧!$B$4:$D$106,3,FALSE))","v":""},{"$f":"IF(ISERROR(VLOOKUP(O64,勤務シフト一覧!$B$4:$D$106,3,FALSE)),\"\",VLOOKUP(O64,勤務シフト一覧!$B$4:$D$106,3,FALSE))","v":""},{"$f":"IF(ISERROR(VLOOKUP(P64,勤務シフト一覧!$B$4:$D$106,3,FALSE)),\"\",VLOOKUP(P64,勤務シフト一覧!$B$4:$D$106,3,FALSE))","v":""},{"$f":"IF(ISERROR(VLOOKUP(Q64,勤務シフト一覧!$B$4:$D$106,3,FALSE)),\"\",VLOOKUP(Q64,勤務シフト一覧!$B$4:$D$106,3,FALSE))","v":""},{"$f":"IF(ISERROR(VLOOKUP(R64,勤務シフト一覧!$B$4:$D$106,3,FALSE)),\"\",VLOOKUP(R64,勤務シフト一覧!$B$4:$D$106,3,FALSE))","v":""},{"$f":"IF(ISERROR(VLOOKUP(S64,勤務シフト一覧!$B$4:$D$106,3,FALSE)),\"\",VLOOKUP(S64,勤務シフト一覧!$B$4:$D$106,3,FALSE))","v":""},{"$f":"IF(ISERROR(VLOOKUP(T64,勤務シフト一覧!$B$4:$D$106,3,FALSE)),\"\",VLOOKUP(T64,勤務シフト一覧!$B$4:$D$106,3,FALSE))","v":""},{"$f":"IF(ISERROR(VLOOKUP(U64,勤務シフト一覧!$B$4:$D$106,3,FALSE)),\"\",VLOOKUP(U64,勤務シフト一覧!$B$4:$D$106,3,FALSE))","v":""},{"$f":"IF(ISERROR(VLOOKUP(V64,勤務シフト一覧!$B$4:$D$106,3,FALSE)),\"\",VLOOKUP(V64,勤務シフト一覧!$B$4:$D$106,3,FALSE))","v":""},{"$f":"IF(ISERROR(VLOOKUP(W64,勤務シフト一覧!$B$4:$D$106,3,FALSE)),\"\",VLOOKUP(W64,勤務シフト一覧!$B$4:$D$106,3,FALSE))","v":""},{"$f":"IF(ISERROR(VLOOKUP(X64,勤務シフト一覧!$B$4:$D$106,3,FALSE)),\"\",VLOOKUP(X64,勤務シフト一覧!$B$4:$D$106,3,FALSE))","v":""},{"$f":"IF(ISERROR(VLOOKUP(Y64,勤務シフト一覧!$B$4:$D$106,3,FALSE)),\"\",VLOOKUP(Y64,勤務シフト一覧!$B$4:$D$106,3,FALSE))","v":""},{"$f":"IF(ISERROR(VLOOKUP(Z64,勤務シフト一覧!$B$4:$D$106,3,FALSE)),\"\",VLOOKUP(Z64,勤務シフト一覧!$B$4:$D$106,3,FALSE))","v":""},{"$f":"IF(ISERROR(VLOOKUP(AA64,勤務シフト一覧!$B$4:$D$106,3,FALSE)),\"\",VLOOKUP(AA64,勤務シフト一覧!$B$4:$D$106,3,FALSE))","v":""},{"$f":"IF(ISERROR(VLOOKUP(AB64,勤務シフト一覧!$B$4:$D$106,3,FALSE)),\"\",VLOOKUP(AB64,勤務シフト一覧!$B$4:$D$106,3,FALSE))","v":""},{"$f":"IF(ISERROR(VLOOKUP(AC64,勤務シフト一覧!$B$4:$D$106,3,FALSE)),\"\",VLOOKUP(AC64,勤務シフト一覧!$B$4:$D$106,3,FALSE))","v":""},{"$f":"IF(ISERROR(VLOOKUP(AD64,勤務シフト一覧!$B$4:$D$106,3,FALSE)),\"\",VLOOKUP(AD64,勤務シフト一覧!$B$4:$D$106,3,FALSE))","v":""},{"$f":"IF(ISERROR(VLOOKUP(AE64,勤務シフト一覧!$B$4:$D$106,3,FALSE)),\"\",VLOOKUP(AE64,勤務シフト一覧!$B$4:$D$106,3,FALSE))","v":""},{"$f":"IF(ISERROR(VLOOKUP(AF64,勤務シフト一覧!$B$4:$D$106,3,FALSE)),\"\",VLOOKUP(AF64,勤務シフト一覧!$B$4:$D$106,3,FALSE))","v":""},{"$f":"IF(ISERROR(VLOOKUP(AG64,勤務シフト一覧!$B$4:$D$106,3,FALSE)),\"\",VLOOKUP(AG64,勤務シフト一覧!$B$4:$D$106,3,FALSE))","v":""},{"$f":"IF(ISERROR(VLOOKUP(AH64,勤務シフト一覧!$B$4:$D$106,3,FALSE)),\"\",VLOOKUP(AH64,勤務シフト一覧!$B$4:$D$106,3,FALSE))","v":""},0,0,0,0,0,0,0,0,0,0,{"$f":"IF(LEN(職員一覧!D31)<>0,職員一覧!D31,\"\")","v":""},null,{"$f":"IF(勤務シフト一覧!$D65<>0,IF(勤務シフト一覧!$B65<> 0,勤務シフト一覧!$B65,\"\"),\"\")","v":"祭日直"}]
[null,null,"実施",null,null,null,null,null,null,null,null,null,null,null,null,null,null,null,null,null,null,null,null,null,null,null,null,null,null,null,null,null,null,null,{"$f":"IF(ISERROR(VLOOKUP(D65,勤務シフト一覧!$B$4:$C$106,2,FALSE)),\"\",VLOOKUP(D65,勤務シフト一覧!$B$4:$C$106,2,FALSE))","v":""},{"$f":"IF(ISERROR(VLOOKUP(E65,勤務シフト一覧!$B$4:$C$106,2,FALSE)),\"\",VLOOKUP(E65,勤務シフト一覧!$B$4:$C$106,2,FALSE))","v":""},{"$f":"IF(ISERROR(VLOOKUP(F65,勤務シフト一覧!$B$4:$C$106,2,FALSE)),\"\",VLOOKUP(F65,勤務シフト一覧!$B$4:$C$106,2,FALSE))","v":""},{"$f":"IF(ISERROR(VLOOKUP(G65,勤務シフト一覧!$B$4:$C$106,2,FALSE)),\"\",VLOOKUP(G65,勤務シフト一覧!$B$4:$C$106,2,FALSE))","v":""},{"$f":"IF(ISERROR(VLOOKUP(H65,勤務シフト一覧!$B$4:$C$106,2,FALSE)),\"\",VLOOKUP(H65,勤務シフト一覧!$B$4:$C$106,2,FALSE))","v":""},{"$f":"IF(ISERROR(VLOOKUP(I65,勤務シフト一覧!$B$4:$C$106,2,FALSE)),\"\",VLOOKUP(I65,勤務シフト一覧!$B$4:$C$106,2,FALSE))","v":""},{"$f":"IF(ISERROR(VLOOKUP(J65,勤務シフト一覧!$B$4:$C$106,2,FALSE)),\"\",VLOOKUP(J65,勤務シフト一覧!$B$4:$C$106,2,FALSE))","v":""},{"$f":"IF(ISERROR(VLOOKUP(K65,勤務シフト一覧!$B$4:$C$106,2,FALSE)),\"\",VLOOKUP(K65,勤務シフト一覧!$B$4:$C$106,2,FALSE))","v":""},{"$f":"IF(ISERROR(VLOOKUP(L65,勤務シフト一覧!$B$4:$C$106,2,FALSE)),\"\",VLOOKUP(L65,勤務シフト一覧!$B$4:$C$106,2,FALSE))","v":""},{"$f":"IF(ISERROR(VLOOKUP(M65,勤務シフト一覧!$B$4:$C$106,2,FALSE)),\"\",VLOOKUP(M65,勤務シフト一覧!$B$4:$C$106,2,FALSE))","v":""},{"$f":"IF(ISERROR(VLOOKUP(N65,勤務シフト一覧!$B$4:$C$106,2,FALSE)),\"\",VLOOKUP(N65,勤務シフト一覧!$B$4:$C$106,2,FALSE))","v":""},{"$f":"IF(ISERROR(VLOOKUP(O65,勤務シフト一覧!$B$4:$C$106,2,FALSE)),\"\",VLOOKUP(O65,勤務シフト一覧!$B$4:$C$106,2,FALSE))","v":""},{"$f":"IF(ISERROR(VLOOKUP(P65,勤務シフト一覧!$B$4:$C$106,2,FALSE)),\"\",VLOOKUP(P65,勤務シフト一覧!$B$4:$C$106,2,FALSE))","v":""},{"$f":"IF(ISERROR(VLOOKUP(Q65,勤務シフト一覧!$B$4:$C$106,2,FALSE)),\"\",VLOOKUP(Q65,勤務シフト一覧!$B$4:$C$106,2,FALSE))","v":""},{"$f":"IF(ISERROR(VLOOKUP(R65,勤務シフト一覧!$B$4:$C$106,2,FALSE)),\"\",VLOOKUP(R65,勤務シフト一覧!$B$4:$C$106,2,FALSE))","v":""},{"$f":"IF(ISERROR(VLOOKUP(S65,勤務シフト一覧!$B$4:$C$106,2,FALSE)),\"\",VLOOKUP(S65,勤務シフト一覧!$B$4:$C$106,2,FALSE))","v":""},{"$f":"IF(ISERROR(VLOOKUP(T65,勤務シフト一覧!$B$4:$C$106,2,FALSE)),\"\",VLOOKUP(T65,勤務シフト一覧!$B$4:$C$106,2,FALSE))","v":""},{"$f":"IF(ISERROR(VLOOKUP(U65,勤務シフト一覧!$B$4:$C$106,2,FALSE)),\"\",VLOOKUP(U65,勤務シフト一覧!$B$4:$C$106,2,FALSE))","v":""},{"$f":"IF(ISERROR(VLOOKUP(V65,勤務シフト一覧!$B$4:$C$106,2,FALSE)),\"\",VLOOKUP(V65,勤務シフト一覧!$B$4:$C$106,2,FALSE))","v":""},{"$f":"IF(ISERROR(VLOOKUP(W65,勤務シフト一覧!$B$4:$C$106,2,FALSE)),\"\",VLOOKUP(W65,勤務シフト一覧!$B$4:$C$106,2,FALSE))","v":""},{"$f":"IF(ISERROR(VLOOKUP(X65,勤務シフト一覧!$B$4:$C$106,2,FALSE)),\"\",VLOOKUP(X65,勤務シフト一覧!$B$4:$C$106,2,FALSE))","v":""},{"$f":"IF(ISERROR(VLOOKUP(Y65,勤務シフト一覧!$B$4:$C$106,2,FALSE)),\"\",VLOOKUP(Y65,勤務シフト一覧!$B$4:$C$106,2,FALSE))","v":""},{"$f":"IF(ISERROR(VLOOKUP(Z65,勤務シフト一覧!$B$4:$C$106,2,FALSE)),\"\",VLOOKUP(Z65,勤務シフト一覧!$B$4:$C$106,2,FALSE))","v":""},{"$f":"IF(ISERROR(VLOOKUP(AA65,勤務シフト一覧!$B$4:$C$106,2,FALSE)),\"\",VLOOKUP(AA65,勤務シフト一覧!$B$4:$C$106,2,FALSE))","v":""},{"$f":"IF(ISERROR(VLOOKUP(AB65,勤務シフト一覧!$B$4:$C$106,2,FALSE)),\"\",VLOOKUP(AB65,勤務シフト一覧!$B$4:$C$106,2,FALSE))","v":""},{"$f":"IF(ISERROR(VLOOKUP(AC65,勤務シフト一覧!$B$4:$C$106,2,FALSE)),\"\",VLOOKUP(AC65,勤務シフト一覧!$B$4:$C$106,2,FALSE))","v":""},{"$f":"IF(ISERROR(VLOOKUP(AD65,勤務シフト一覧!$B$4:$C$106,2,FALSE)),\"\",VLOOKUP(AD65,勤務シフト一覧!$B$4:$C$106,2,FALSE))","v":""},{"$f":"IF(ISERROR(VLOOKUP(AE65,勤務シフト一覧!$B$4:$C$106,2,FALSE)),\"\",VLOOKUP(AE65,勤務シフト一覧!$B$4:$C$106,2,FALSE))","v":""},{"$f":"IF(ISERROR(VLOOKUP(AF65,勤務シフト一覧!$B$4:$C$106,2,FALSE)),\"\",VLOOKUP(AF65,勤務シフト一覧!$B$4:$C$106,2,FALSE))","v":""},{"$f":"IF(ISERROR(VLOOKUP(AG65,勤務シフト一覧!$B$4:$C$106,2,FALSE)),\"\",VLOOKUP(AG65,勤務シフト一覧!$B$4:$C$106,2,FALSE))","v":""},{"$f":"IF(ISERROR(VLOOKUP(AH65,勤務シフト一覧!$B$4:$C$106,2,FALSE)),\"\",VLOOKUP(AH65,勤務シフト一覧!$B$4:$C$106,2,FALSE))","v":""},null,{"$f":"IF(ISERROR(VLOOKUP(D65,勤務シフト一覧!$B$4:$D$106,3,FALSE)),\"\",VLOOKUP(D65,勤務シフト一覧!$B$4:$D$106,3,FALSE))","v":""},{"$f":"IF(ISERROR(VLOOKUP(E65,勤務シフト一覧!$B$4:$D$106,3,FALSE)),\"\",VLOOKUP(E65,勤務シフト一覧!$B$4:$D$106,3,FALSE))","v":""},{"$f":"IF(ISERROR(VLOOKUP(F65,勤務シフト一覧!$B$4:$D$106,3,FALSE)),\"\",VLOOKUP(F65,勤務シフト一覧!$B$4:$D$106,3,FALSE))","v":""},{"$f":"IF(ISERROR(VLOOKUP(G65,勤務シフト一覧!$B$4:$D$106,3,FALSE)),\"\",VLOOKUP(G65,勤務シフト一覧!$B$4:$D$106,3,FALSE))","v":""},{"$f":"IF(ISERROR(VLOOKUP(H65,勤務シフト一覧!$B$4:$D$106,3,FALSE)),\"\",VLOOKUP(H65,勤務シフト一覧!$B$4:$D$106,3,FALSE))","v":""},{"$f":"IF(ISERROR(VLOOKUP(I65,勤務シフト一覧!$B$4:$D$106,3,FALSE)),\"\",VLOOKUP(I65,勤務シフト一覧!$B$4:$D$106,3,FALSE))","v":""},{"$f":"IF(ISERROR(VLOOKUP(J65,勤務シフト一覧!$B$4:$D$106,3,FALSE)),\"\",VLOOKUP(J65,勤務シフト一覧!$B$4:$D$106,3,FALSE))","v":""},{"$f":"IF(ISERROR(VLOOKUP(K65,勤務シフト一覧!$B$4:$D$106,3,FALSE)),\"\",VLOOKUP(K65,勤務シフト一覧!$B$4:$D$106,3,FALSE))","v":""},{"$f":"IF(ISERROR(VLOOKUP(L65,勤務シフト一覧!$B$4:$D$106,3,FALSE)),\"\",VLOOKUP(L65,勤務シフト一覧!$B$4:$D$106,3,FALSE))","v":""},{"$f":"IF(ISERROR(VLOOKUP(M65,勤務シフト一覧!$B$4:$D$106,3,FALSE)),\"\",VLOOKUP(M65,勤務シフト一覧!$B$4:$D$106,3,FALSE))","v":""},{"$f":"IF(ISERROR(VLOOKUP(N65,勤務シフト一覧!$B$4:$D$106,3,FALSE)),\"\",VLOOKUP(N65,勤務シフト一覧!$B$4:$D$106,3,FALSE))","v":""},{"$f":"IF(ISERROR(VLOOKUP(O65,勤務シフト一覧!$B$4:$D$106,3,FALSE)),\"\",VLOOKUP(O65,勤務シフト一覧!$B$4:$D$106,3,FALSE))","v":""},{"$f":"IF(ISERROR(VLOOKUP(P65,勤務シフト一覧!$B$4:$D$106,3,FALSE)),\"\",VLOOKUP(P65,勤務シフト一覧!$B$4:$D$106,3,FALSE))","v":""},{"$f":"IF(ISERROR(VLOOKUP(Q65,勤務シフト一覧!$B$4:$D$106,3,FALSE)),\"\",VLOOKUP(Q65,勤務シフト一覧!$B$4:$D$106,3,FALSE))","v":""},{"$f":"IF(ISERROR(VLOOKUP(R65,勤務シフト一覧!$B$4:$D$106,3,FALSE)),\"\",VLOOKUP(R65,勤務シフト一覧!$B$4:$D$106,3,FALSE))","v":""},{"$f":"IF(ISERROR(VLOOKUP(S65,勤務シフト一覧!$B$4:$D$106,3,FALSE)),\"\",VLOOKUP(S65,勤務シフト一覧!$B$4:$D$106,3,FALSE))","v":""},{"$f":"IF(ISERROR(VLOOKUP(T65,勤務シフト一覧!$B$4:$D$106,3,FALSE)),\"\",VLOOKUP(T65,勤務シフト一覧!$B$4:$D$106,3,FALSE))","v":""},{"$f":"IF(ISERROR(VLOOKUP(U65,勤務シフト一覧!$B$4:$D$106,3,FALSE)),\"\",VLOOKUP(U65,勤務シフト一覧!$B$4:$D$106,3,FALSE))","v":""},{"$f":"IF(ISERROR(VLOOKUP(V65,勤務シフト一覧!$B$4:$D$106,3,FALSE)),\"\",VLOOKUP(V65,勤務シフト一覧!$B$4:$D$106,3,FALSE))","v":""},{"$f":"IF(ISERROR(VLOOKUP(W65,勤務シフト一覧!$B$4:$D$106,3,FALSE)),\"\",VLOOKUP(W65,勤務シフト一覧!$B$4:$D$106,3,FALSE))","v":""},{"$f":"IF(ISERROR(VLOOKUP(X65,勤務シフト一覧!$B$4:$D$106,3,FALSE)),\"\",VLOOKUP(X65,勤務シフト一覧!$B$4:$D$106,3,FALSE))","v":""},{"$f":"IF(ISERROR(VLOOKUP(Y65,勤務シフト一覧!$B$4:$D$106,3,FALSE)),\"\",VLOOKUP(Y65,勤務シフト一覧!$B$4:$D$106,3,FALSE))","v":""},{"$f":"IF(ISERROR(VLOOKUP(Z65,勤務シフト一覧!$B$4:$D$106,3,FALSE)),\"\",VLOOKUP(Z65,勤務シフト一覧!$B$4:$D$106,3,FALSE))","v":""},{"$f":"IF(ISERROR(VLOOKUP(AA65,勤務シフト一覧!$B$4:$D$106,3,FALSE)),\"\",VLOOKUP(AA65,勤務シフト一覧!$B$4:$D$106,3,FALSE))","v":""},{"$f":"IF(ISERROR(VLOOKUP(AB65,勤務シフト一覧!$B$4:$D$106,3,FALSE)),\"\",VLOOKUP(AB65,勤務シフト一覧!$B$4:$D$106,3,FALSE))","v":""},{"$f":"IF(ISERROR(VLOOKUP(AC65,勤務シフト一覧!$B$4:$D$106,3,FALSE)),\"\",VLOOKUP(AC65,勤務シフト一覧!$B$4:$D$106,3,FALSE))","v":""},{"$f":"IF(ISERROR(VLOOKUP(AD65,勤務シフト一覧!$B$4:$D$106,3,FALSE)),\"\",VLOOKUP(AD65,勤務シフト一覧!$B$4:$D$106,3,FALSE))","v":""},{"$f":"IF(ISERROR(VLOOKUP(AE65,勤務シフト一覧!$B$4:$D$106,3,FALSE)),\"\",VLOOKUP(AE65,勤務シフト一覧!$B$4:$D$106,3,FALSE))","v":""},{"$f":"IF(ISERROR(VLOOKUP(AF65,勤務シフト一覧!$B$4:$D$106,3,FALSE)),\"\",VLOOKUP(AF65,勤務シフト一覧!$B$4:$D$106,3,FALSE))","v":""},{"$f":"IF(ISERROR(VLOOKUP(AG65,勤務シフト一覧!$B$4:$D$106,3,FALSE)),\"\",VLOOKUP(AG65,勤務シフト一覧!$B$4:$D$106,3,FALSE))","v":""},{"$f":"IF(ISERROR(VLOOKUP(AH65,勤務シフト一覧!$B$4:$D$106,3,FALSE)),\"\",VLOOKUP(AH65,勤務シフト一覧!$B$4:$D$106,3,FALSE))","v":""},0,0,0,0,0,0,0,0,0,0,null,null,{"$f":"IF(勤務シフト一覧!$D66<>0,IF(勤務シフト一覧!$B66<> 0,勤務シフト一覧!$B66,\"\"),\"\")","v":"祭当直"}]
[{"$f":"IF(LEN(職員一覧!B32)<>0,職員一覧!B32,\"\")","v":""},{"$f":"IF(LEN(職員一覧!C32)<>0,職員一覧!C32,\"\")","v":""},"予定",null,null,null,null,null,null,null,null,null,null,null,null,null,null,null,null,null,null,null,null,null,null,null,null,null,null,null,null,null,null,null,{"$f":"IF(ISERROR(VLOOKUP(D66,勤務シフト一覧!$B$4:$C$106,2,FALSE)),\"\",VLOOKUP(D66,勤務シフト一覧!$B$4:$C$106,2,FALSE))","v":""},{"$f":"IF(ISERROR(VLOOKUP(E66,勤務シフト一覧!$B$4:$C$106,2,FALSE)),\"\",VLOOKUP(E66,勤務シフト一覧!$B$4:$C$106,2,FALSE))","v":""},{"$f":"IF(ISERROR(VLOOKUP(F66,勤務シフト一覧!$B$4:$C$106,2,FALSE)),\"\",VLOOKUP(F66,勤務シフト一覧!$B$4:$C$106,2,FALSE))","v":""},{"$f":"IF(ISERROR(VLOOKUP(G66,勤務シフト一覧!$B$4:$C$106,2,FALSE)),\"\",VLOOKUP(G66,勤務シフト一覧!$B$4:$C$106,2,FALSE))","v":""},{"$f":"IF(ISERROR(VLOOKUP(H66,勤務シフト一覧!$B$4:$C$106,2,FALSE)),\"\",VLOOKUP(H66,勤務シフト一覧!$B$4:$C$106,2,FALSE))","v":""},{"$f":"IF(ISERROR(VLOOKUP(I66,勤務シフト一覧!$B$4:$C$106,2,FALSE)),\"\",VLOOKUP(I66,勤務シフト一覧!$B$4:$C$106,2,FALSE))","v":""},{"$f":"IF(ISERROR(VLOOKUP(J66,勤務シフト一覧!$B$4:$C$106,2,FALSE)),\"\",VLOOKUP(J66,勤務シフト一覧!$B$4:$C$106,2,FALSE))","v":""},{"$f":"IF(ISERROR(VLOOKUP(K66,勤務シフト一覧!$B$4:$C$106,2,FALSE)),\"\",VLOOKUP(K66,勤務シフト一覧!$B$4:$C$106,2,FALSE))","v":""},{"$f":"IF(ISERROR(VLOOKUP(L66,勤務シフト一覧!$B$4:$C$106,2,FALSE)),\"\",VLOOKUP(L66,勤務シフト一覧!$B$4:$C$106,2,FALSE))","v":""},{"$f":"IF(ISERROR(VLOOKUP(M66,勤務シフト一覧!$B$4:$C$106,2,FALSE)),\"\",VLOOKUP(M66,勤務シフト一覧!$B$4:$C$106,2,FALSE))","v":""},{"$f":"IF(ISERROR(VLOOKUP(N66,勤務シフト一覧!$B$4:$C$106,2,FALSE)),\"\",VLOOKUP(N66,勤務シフト一覧!$B$4:$C$106,2,FALSE))","v":""},{"$f":"IF(ISERROR(VLOOKUP(O66,勤務シフト一覧!$B$4:$C$106,2,FALSE)),\"\",VLOOKUP(O66,勤務シフト一覧!$B$4:$C$106,2,FALSE))","v":""},{"$f":"IF(ISERROR(VLOOKUP(P66,勤務シフト一覧!$B$4:$C$106,2,FALSE)),\"\",VLOOKUP(P66,勤務シフト一覧!$B$4:$C$106,2,FALSE))","v":""},{"$f":"IF(ISERROR(VLOOKUP(Q66,勤務シフト一覧!$B$4:$C$106,2,FALSE)),\"\",VLOOKUP(Q66,勤務シフト一覧!$B$4:$C$106,2,FALSE))","v":""},{"$f":"IF(ISERROR(VLOOKUP(R66,勤務シフト一覧!$B$4:$C$106,2,FALSE)),\"\",VLOOKUP(R66,勤務シフト一覧!$B$4:$C$106,2,FALSE))","v":""},{"$f":"IF(ISERROR(VLOOKUP(S66,勤務シフト一覧!$B$4:$C$106,2,FALSE)),\"\",VLOOKUP(S66,勤務シフト一覧!$B$4:$C$106,2,FALSE))","v":""},{"$f":"IF(ISERROR(VLOOKUP(T66,勤務シフト一覧!$B$4:$C$106,2,FALSE)),\"\",VLOOKUP(T66,勤務シフト一覧!$B$4:$C$106,2,FALSE))","v":""},{"$f":"IF(ISERROR(VLOOKUP(U66,勤務シフト一覧!$B$4:$C$106,2,FALSE)),\"\",VLOOKUP(U66,勤務シフト一覧!$B$4:$C$106,2,FALSE))","v":""},{"$f":"IF(ISERROR(VLOOKUP(V66,勤務シフト一覧!$B$4:$C$106,2,FALSE)),\"\",VLOOKUP(V66,勤務シフト一覧!$B$4:$C$106,2,FALSE))","v":""},{"$f":"IF(ISERROR(VLOOKUP(W66,勤務シフト一覧!$B$4:$C$106,2,FALSE)),\"\",VLOOKUP(W66,勤務シフト一覧!$B$4:$C$106,2,FALSE))","v":""},{"$f":"IF(ISERROR(VLOOKUP(X66,勤務シフト一覧!$B$4:$C$106,2,FALSE)),\"\",VLOOKUP(X66,勤務シフト一覧!$B$4:$C$106,2,FALSE))","v":""},{"$f":"IF(ISERROR(VLOOKUP(Y66,勤務シフト一覧!$B$4:$C$106,2,FALSE)),\"\",VLOOKUP(Y66,勤務シフト一覧!$B$4:$C$106,2,FALSE))","v":""},{"$f":"IF(ISERROR(VLOOKUP(Z66,勤務シフト一覧!$B$4:$C$106,2,FALSE)),\"\",VLOOKUP(Z66,勤務シフト一覧!$B$4:$C$106,2,FALSE))","v":""},{"$f":"IF(ISERROR(VLOOKUP(AA66,勤務シフト一覧!$B$4:$C$106,2,FALSE)),\"\",VLOOKUP(AA66,勤務シフト一覧!$B$4:$C$106,2,FALSE))","v":""},{"$f":"IF(ISERROR(VLOOKUP(AB66,勤務シフト一覧!$B$4:$C$106,2,FALSE)),\"\",VLOOKUP(AB66,勤務シフト一覧!$B$4:$C$106,2,FALSE))","v":""},{"$f":"IF(ISERROR(VLOOKUP(AC66,勤務シフト一覧!$B$4:$C$106,2,FALSE)),\"\",VLOOKUP(AC66,勤務シフト一覧!$B$4:$C$106,2,FALSE))","v":""},{"$f":"IF(ISERROR(VLOOKUP(AD66,勤務シフト一覧!$B$4:$C$106,2,FALSE)),\"\",VLOOKUP(AD66,勤務シフト一覧!$B$4:$C$106,2,FALSE))","v":""},{"$f":"IF(ISERROR(VLOOKUP(AE66,勤務シフト一覧!$B$4:$C$106,2,FALSE)),\"\",VLOOKUP(AE66,勤務シフト一覧!$B$4:$C$106,2,FALSE))","v":""},{"$f":"IF(ISERROR(VLOOKUP(AF66,勤務シフト一覧!$B$4:$C$106,2,FALSE)),\"\",VLOOKUP(AF66,勤務シフト一覧!$B$4:$C$106,2,FALSE))","v":""},{"$f":"IF(ISERROR(VLOOKUP(AG66,勤務シフト一覧!$B$4:$C$106,2,FALSE)),\"\",VLOOKUP(AG66,勤務シフト一覧!$B$4:$C$106,2,FALSE))","v":""},{"$f":"IF(ISERROR(VLOOKUP(AH66,勤務シフト一覧!$B$4:$C$106,2,FALSE)),\"\",VLOOKUP(AH66,勤務シフト一覧!$B$4:$C$106,2,FALSE))","v":""},null,{"$f":"IF(ISERROR(VLOOKUP(D66,勤務シフト一覧!$B$4:$D$106,3,FALSE)),\"\",VLOOKUP(D66,勤務シフト一覧!$B$4:$D$106,3,FALSE))","v":""},{"$f":"IF(ISERROR(VLOOKUP(E66,勤務シフト一覧!$B$4:$D$106,3,FALSE)),\"\",VLOOKUP(E66,勤務シフト一覧!$B$4:$D$106,3,FALSE))","v":""},{"$f":"IF(ISERROR(VLOOKUP(F66,勤務シフト一覧!$B$4:$D$106,3,FALSE)),\"\",VLOOKUP(F66,勤務シフト一覧!$B$4:$D$106,3,FALSE))","v":""},{"$f":"IF(ISERROR(VLOOKUP(G66,勤務シフト一覧!$B$4:$D$106,3,FALSE)),\"\",VLOOKUP(G66,勤務シフト一覧!$B$4:$D$106,3,FALSE))","v":""},{"$f":"IF(ISERROR(VLOOKUP(H66,勤務シフト一覧!$B$4:$D$106,3,FALSE)),\"\",VLOOKUP(H66,勤務シフト一覧!$B$4:$D$106,3,FALSE))","v":""},{"$f":"IF(ISERROR(VLOOKUP(I66,勤務シフト一覧!$B$4:$D$106,3,FALSE)),\"\",VLOOKUP(I66,勤務シフト一覧!$B$4:$D$106,3,FALSE))","v":""},{"$f":"IF(ISERROR(VLOOKUP(J66,勤務シフト一覧!$B$4:$D$106,3,FALSE)),\"\",VLOOKUP(J66,勤務シフト一覧!$B$4:$D$106,3,FALSE))","v":""},{"$f":"IF(ISERROR(VLOOKUP(K66,勤務シフト一覧!$B$4:$D$106,3,FALSE)),\"\",VLOOKUP(K66,勤務シフト一覧!$B$4:$D$106,3,FALSE))","v":""},{"$f":"IF(ISERROR(VLOOKUP(L66,勤務シフト一覧!$B$4:$D$106,3,FALSE)),\"\",VLOOKUP(L66,勤務シフト一覧!$B$4:$D$106,3,FALSE))","v":""},{"$f":"IF(ISERROR(VLOOKUP(M66,勤務シフト一覧!$B$4:$D$106,3,FALSE)),\"\",VLOOKUP(M66,勤務シフト一覧!$B$4:$D$106,3,FALSE))","v":""},{"$f":"IF(ISERROR(VLOOKUP(N66,勤務シフト一覧!$B$4:$D$106,3,FALSE)),\"\",VLOOKUP(N66,勤務シフト一覧!$B$4:$D$106,3,FALSE))","v":""},{"$f":"IF(ISERROR(VLOOKUP(O66,勤務シフト一覧!$B$4:$D$106,3,FALSE)),\"\",VLOOKUP(O66,勤務シフト一覧!$B$4:$D$106,3,FALSE))","v":""},{"$f":"IF(ISERROR(VLOOKUP(P66,勤務シフト一覧!$B$4:$D$106,3,FALSE)),\"\",VLOOKUP(P66,勤務シフト一覧!$B$4:$D$106,3,FALSE))","v":""},{"$f":"IF(ISERROR(VLOOKUP(Q66,勤務シフト一覧!$B$4:$D$106,3,FALSE)),\"\",VLOOKUP(Q66,勤務シフト一覧!$B$4:$D$106,3,FALSE))","v":""},{"$f":"IF(ISERROR(VLOOKUP(R66,勤務シフト一覧!$B$4:$D$106,3,FALSE)),\"\",VLOOKUP(R66,勤務シフト一覧!$B$4:$D$106,3,FALSE))","v":""},{"$f":"IF(ISERROR(VLOOKUP(S66,勤務シフト一覧!$B$4:$D$106,3,FALSE)),\"\",VLOOKUP(S66,勤務シフト一覧!$B$4:$D$106,3,FALSE))","v":""},{"$f":"IF(ISERROR(VLOOKUP(T66,勤務シフト一覧!$B$4:$D$106,3,FALSE)),\"\",VLOOKUP(T66,勤務シフト一覧!$B$4:$D$106,3,FALSE))","v":""},{"$f":"IF(ISERROR(VLOOKUP(U66,勤務シフト一覧!$B$4:$D$106,3,FALSE)),\"\",VLOOKUP(U66,勤務シフト一覧!$B$4:$D$106,3,FALSE))","v":""},{"$f":"IF(ISERROR(VLOOKUP(V66,勤務シフト一覧!$B$4:$D$106,3,FALSE)),\"\",VLOOKUP(V66,勤務シフト一覧!$B$4:$D$106,3,FALSE))","v":""},{"$f":"IF(ISERROR(VLOOKUP(W66,勤務シフト一覧!$B$4:$D$106,3,FALSE)),\"\",VLOOKUP(W66,勤務シフト一覧!$B$4:$D$106,3,FALSE))","v":""},{"$f":"IF(ISERROR(VLOOKUP(X66,勤務シフト一覧!$B$4:$D$106,3,FALSE)),\"\",VLOOKUP(X66,勤務シフト一覧!$B$4:$D$106,3,FALSE))","v":""},{"$f":"IF(ISERROR(VLOOKUP(Y66,勤務シフト一覧!$B$4:$D$106,3,FALSE)),\"\",VLOOKUP(Y66,勤務シフト一覧!$B$4:$D$106,3,FALSE))","v":""},{"$f":"IF(ISERROR(VLOOKUP(Z66,勤務シフト一覧!$B$4:$D$106,3,FALSE)),\"\",VLOOKUP(Z66,勤務シフト一覧!$B$4:$D$106,3,FALSE))","v":""},{"$f":"IF(ISERROR(VLOOKUP(AA66,勤務シフト一覧!$B$4:$D$106,3,FALSE)),\"\",VLOOKUP(AA66,勤務シフト一覧!$B$4:$D$106,3,FALSE))","v":""},{"$f":"IF(ISERROR(VLOOKUP(AB66,勤務シフト一覧!$B$4:$D$106,3,FALSE)),\"\",VLOOKUP(AB66,勤務シフト一覧!$B$4:$D$106,3,FALSE))","v":""},{"$f":"IF(ISERROR(VLOOKUP(AC66,勤務シフト一覧!$B$4:$D$106,3,FALSE)),\"\",VLOOKUP(AC66,勤務シフト一覧!$B$4:$D$106,3,FALSE))","v":""},{"$f":"IF(ISERROR(VLOOKUP(AD66,勤務シフト一覧!$B$4:$D$106,3,FALSE)),\"\",VLOOKUP(AD66,勤務シフト一覧!$B$4:$D$106,3,FALSE))","v":""},{"$f":"IF(ISERROR(VLOOKUP(AE66,勤務シフト一覧!$B$4:$D$106,3,FALSE)),\"\",VLOOKUP(AE66,勤務シフト一覧!$B$4:$D$106,3,FALSE))","v":""},{"$f":"IF(ISERROR(VLOOKUP(AF66,勤務シフト一覧!$B$4:$D$106,3,FALSE)),\"\",VLOOKUP(AF66,勤務シフト一覧!$B$4:$D$106,3,FALSE))","v":""},{"$f":"IF(ISERROR(VLOOKUP(AG66,勤務シフト一覧!$B$4:$D$106,3,FALSE)),\"\",VLOOKUP(AG66,勤務シフト一覧!$B$4:$D$106,3,FALSE))","v":""},{"$f":"IF(ISERROR(VLOOKUP(AH66,勤務シフト一覧!$B$4:$D$106,3,FALSE)),\"\",VLOOKUP(AH66,勤務シフト一覧!$B$4:$D$106,3,FALSE))","v":""},0,0,0,0,0,0,0,0,0,0,{"$f":"IF(LEN(職員一覧!D32)<>0,職員一覧!D32,\"\")","v":""},null,{"$f":"IF(勤務シフト一覧!$D67<>0,IF(勤務シフト一覧!$B67<> 0,勤務シフト一覧!$B67,\"\"),\"\")","v":"祭日7"}]
[null,null,"実施",null,null,null,null,null,null,null,null,null,null,null,null,null,null,null,null,null,null,null,null,null,null,null,null,null,null,null,null,null,null,null,{"$f":"IF(ISERROR(VLOOKUP(D67,勤務シフト一覧!$B$4:$C$106,2,FALSE)),\"\",VLOOKUP(D67,勤務シフト一覧!$B$4:$C$106,2,FALSE))","v":""},{"$f":"IF(ISERROR(VLOOKUP(E67,勤務シフト一覧!$B$4:$C$106,2,FALSE)),\"\",VLOOKUP(E67,勤務シフト一覧!$B$4:$C$106,2,FALSE))","v":""},{"$f":"IF(ISERROR(VLOOKUP(F67,勤務シフト一覧!$B$4:$C$106,2,FALSE)),\"\",VLOOKUP(F67,勤務シフト一覧!$B$4:$C$106,2,FALSE))","v":""},{"$f":"IF(ISERROR(VLOOKUP(G67,勤務シフト一覧!$B$4:$C$106,2,FALSE)),\"\",VLOOKUP(G67,勤務シフト一覧!$B$4:$C$106,2,FALSE))","v":""},{"$f":"IF(ISERROR(VLOOKUP(H67,勤務シフト一覧!$B$4:$C$106,2,FALSE)),\"\",VLOOKUP(H67,勤務シフト一覧!$B$4:$C$106,2,FALSE))","v":""},{"$f":"IF(ISERROR(VLOOKUP(I67,勤務シフト一覧!$B$4:$C$106,2,FALSE)),\"\",VLOOKUP(I67,勤務シフト一覧!$B$4:$C$106,2,FALSE))","v":""},{"$f":"IF(ISERROR(VLOOKUP(J67,勤務シフト一覧!$B$4:$C$106,2,FALSE)),\"\",VLOOKUP(J67,勤務シフト一覧!$B$4:$C$106,2,FALSE))","v":""},{"$f":"IF(ISERROR(VLOOKUP(K67,勤務シフト一覧!$B$4:$C$106,2,FALSE)),\"\",VLOOKUP(K67,勤務シフト一覧!$B$4:$C$106,2,FALSE))","v":""},{"$f":"IF(ISERROR(VLOOKUP(L67,勤務シフト一覧!$B$4:$C$106,2,FALSE)),\"\",VLOOKUP(L67,勤務シフト一覧!$B$4:$C$106,2,FALSE))","v":""},{"$f":"IF(ISERROR(VLOOKUP(M67,勤務シフト一覧!$B$4:$C$106,2,FALSE)),\"\",VLOOKUP(M67,勤務シフト一覧!$B$4:$C$106,2,FALSE))","v":""},{"$f":"IF(ISERROR(VLOOKUP(N67,勤務シフト一覧!$B$4:$C$106,2,FALSE)),\"\",VLOOKUP(N67,勤務シフト一覧!$B$4:$C$106,2,FALSE))","v":""},{"$f":"IF(ISERROR(VLOOKUP(O67,勤務シフト一覧!$B$4:$C$106,2,FALSE)),\"\",VLOOKUP(O67,勤務シフト一覧!$B$4:$C$106,2,FALSE))","v":""},{"$f":"IF(ISERROR(VLOOKUP(P67,勤務シフト一覧!$B$4:$C$106,2,FALSE)),\"\",VLOOKUP(P67,勤務シフト一覧!$B$4:$C$106,2,FALSE))","v":""},{"$f":"IF(ISERROR(VLOOKUP(Q67,勤務シフト一覧!$B$4:$C$106,2,FALSE)),\"\",VLOOKUP(Q67,勤務シフト一覧!$B$4:$C$106,2,FALSE))","v":""},{"$f":"IF(ISERROR(VLOOKUP(R67,勤務シフト一覧!$B$4:$C$106,2,FALSE)),\"\",VLOOKUP(R67,勤務シフト一覧!$B$4:$C$106,2,FALSE))","v":""},{"$f":"IF(ISERROR(VLOOKUP(S67,勤務シフト一覧!$B$4:$C$106,2,FALSE)),\"\",VLOOKUP(S67,勤務シフト一覧!$B$4:$C$106,2,FALSE))","v":""},{"$f":"IF(ISERROR(VLOOKUP(T67,勤務シフト一覧!$B$4:$C$106,2,FALSE)),\"\",VLOOKUP(T67,勤務シフト一覧!$B$4:$C$106,2,FALSE))","v":""},{"$f":"IF(ISERROR(VLOOKUP(U67,勤務シフト一覧!$B$4:$C$106,2,FALSE)),\"\",VLOOKUP(U67,勤務シフト一覧!$B$4:$C$106,2,FALSE))","v":""},{"$f":"IF(ISERROR(VLOOKUP(V67,勤務シフト一覧!$B$4:$C$106,2,FALSE)),\"\",VLOOKUP(V67,勤務シフト一覧!$B$4:$C$106,2,FALSE))","v":""},{"$f":"IF(ISERROR(VLOOKUP(W67,勤務シフト一覧!$B$4:$C$106,2,FALSE)),\"\",VLOOKUP(W67,勤務シフト一覧!$B$4:$C$106,2,FALSE))","v":""},{"$f":"IF(ISERROR(VLOOKUP(X67,勤務シフト一覧!$B$4:$C$106,2,FALSE)),\"\",VLOOKUP(X67,勤務シフト一覧!$B$4:$C$106,2,FALSE))","v":""},{"$f":"IF(ISERROR(VLOOKUP(Y67,勤務シフト一覧!$B$4:$C$106,2,FALSE)),\"\",VLOOKUP(Y67,勤務シフト一覧!$B$4:$C$106,2,FALSE))","v":""},{"$f":"IF(ISERROR(VLOOKUP(Z67,勤務シフト一覧!$B$4:$C$106,2,FALSE)),\"\",VLOOKUP(Z67,勤務シフト一覧!$B$4:$C$106,2,FALSE))","v":""},{"$f":"IF(ISERROR(VLOOKUP(AA67,勤務シフト一覧!$B$4:$C$106,2,FALSE)),\"\",VLOOKUP(AA67,勤務シフト一覧!$B$4:$C$106,2,FALSE))","v":""},{"$f":"IF(ISERROR(VLOOKUP(AB67,勤務シフト一覧!$B$4:$C$106,2,FALSE)),\"\",VLOOKUP(AB67,勤務シフト一覧!$B$4:$C$106,2,FALSE))","v":""},{"$f":"IF(ISERROR(VLOOKUP(AC67,勤務シフト一覧!$B$4:$C$106,2,FALSE)),\"\",VLOOKUP(AC67,勤務シフト一覧!$B$4:$C$106,2,FALSE))","v":""},{"$f":"IF(ISERROR(VLOOKUP(AD67,勤務シフト一覧!$B$4:$C$106,2,FALSE)),\"\",VLOOKUP(AD67,勤務シフト一覧!$B$4:$C$106,2,FALSE))","v":""},{"$f":"IF(ISERROR(VLOOKUP(AE67,勤務シフト一覧!$B$4:$C$106,2,FALSE)),\"\",VLOOKUP(AE67,勤務シフト一覧!$B$4:$C$106,2,FALSE))","v":""},{"$f":"IF(ISERROR(VLOOKUP(AF67,勤務シフト一覧!$B$4:$C$106,2,FALSE)),\"\",VLOOKUP(AF67,勤務シフト一覧!$B$4:$C$106,2,FALSE))","v":""},{"$f":"IF(ISERROR(VLOOKUP(AG67,勤務シフト一覧!$B$4:$C$106,2,FALSE)),\"\",VLOOKUP(AG67,勤務シフト一覧!$B$4:$C$106,2,FALSE))","v":""},{"$f":"IF(ISERROR(VLOOKUP(AH67,勤務シフト一覧!$B$4:$C$106,2,FALSE)),\"\",VLOOKUP(AH67,勤務シフト一覧!$B$4:$C$106,2,FALSE))","v":""},null,{"$f":"IF(ISERROR(VLOOKUP(D67,勤務シフト一覧!$B$4:$D$106,3,FALSE)),\"\",VLOOKUP(D67,勤務シフト一覧!$B$4:$D$106,3,FALSE))","v":""},{"$f":"IF(ISERROR(VLOOKUP(E67,勤務シフト一覧!$B$4:$D$106,3,FALSE)),\"\",VLOOKUP(E67,勤務シフト一覧!$B$4:$D$106,3,FALSE))","v":""},{"$f":"IF(ISERROR(VLOOKUP(F67,勤務シフト一覧!$B$4:$D$106,3,FALSE)),\"\",VLOOKUP(F67,勤務シフト一覧!$B$4:$D$106,3,FALSE))","v":""},{"$f":"IF(ISERROR(VLOOKUP(G67,勤務シフト一覧!$B$4:$D$106,3,FALSE)),\"\",VLOOKUP(G67,勤務シフト一覧!$B$4:$D$106,3,FALSE))","v":""},{"$f":"IF(ISERROR(VLOOKUP(H67,勤務シフト一覧!$B$4:$D$106,3,FALSE)),\"\",VLOOKUP(H67,勤務シフト一覧!$B$4:$D$106,3,FALSE))","v":""},{"$f":"IF(ISERROR(VLOOKUP(I67,勤務シフト一覧!$B$4:$D$106,3,FALSE)),\"\",VLOOKUP(I67,勤務シフト一覧!$B$4:$D$106,3,FALSE))","v":""},{"$f":"IF(ISERROR(VLOOKUP(J67,勤務シフト一覧!$B$4:$D$106,3,FALSE)),\"\",VLOOKUP(J67,勤務シフト一覧!$B$4:$D$106,3,FALSE))","v":""},{"$f":"IF(ISERROR(VLOOKUP(K67,勤務シフト一覧!$B$4:$D$106,3,FALSE)),\"\",VLOOKUP(K67,勤務シフト一覧!$B$4:$D$106,3,FALSE))","v":""},{"$f":"IF(ISERROR(VLOOKUP(L67,勤務シフト一覧!$B$4:$D$106,3,FALSE)),\"\",VLOOKUP(L67,勤務シフト一覧!$B$4:$D$106,3,FALSE))","v":""},{"$f":"IF(ISERROR(VLOOKUP(M67,勤務シフト一覧!$B$4:$D$106,3,FALSE)),\"\",VLOOKUP(M67,勤務シフト一覧!$B$4:$D$106,3,FALSE))","v":""},{"$f":"IF(ISERROR(VLOOKUP(N67,勤務シフト一覧!$B$4:$D$106,3,FALSE)),\"\",VLOOKUP(N67,勤務シフト一覧!$B$4:$D$106,3,FALSE))","v":""},{"$f":"IF(ISERROR(VLOOKUP(O67,勤務シフト一覧!$B$4:$D$106,3,FALSE)),\"\",VLOOKUP(O67,勤務シフト一覧!$B$4:$D$106,3,FALSE))","v":""},{"$f":"IF(ISERROR(VLOOKUP(P67,勤務シフト一覧!$B$4:$D$106,3,FALSE)),\"\",VLOOKUP(P67,勤務シフト一覧!$B$4:$D$106,3,FALSE))","v":""},{"$f":"IF(ISERROR(VLOOKUP(Q67,勤務シフト一覧!$B$4:$D$106,3,FALSE)),\"\",VLOOKUP(Q67,勤務シフト一覧!$B$4:$D$106,3,FALSE))","v":""},{"$f":"IF(ISERROR(VLOOKUP(R67,勤務シフト一覧!$B$4:$D$106,3,FALSE)),\"\",VLOOKUP(R67,勤務シフト一覧!$B$4:$D$106,3,FALSE))","v":""},{"$f":"IF(ISERROR(VLOOKUP(S67,勤務シフト一覧!$B$4:$D$106,3,FALSE)),\"\",VLOOKUP(S67,勤務シフト一覧!$B$4:$D$106,3,FALSE))","v":""},{"$f":"IF(ISERROR(VLOOKUP(T67,勤務シフト一覧!$B$4:$D$106,3,FALSE)),\"\",VLOOKUP(T67,勤務シフト一覧!$B$4:$D$106,3,FALSE))","v":""},{"$f":"IF(ISERROR(VLOOKUP(U67,勤務シフト一覧!$B$4:$D$106,3,FALSE)),\"\",VLOOKUP(U67,勤務シフト一覧!$B$4:$D$106,3,FALSE))","v":""},{"$f":"IF(ISERROR(VLOOKUP(V67,勤務シフト一覧!$B$4:$D$106,3,FALSE)),\"\",VLOOKUP(V67,勤務シフト一覧!$B$4:$D$106,3,FALSE))","v":""},{"$f":"IF(ISERROR(VLOOKUP(W67,勤務シフト一覧!$B$4:$D$106,3,FALSE)),\"\",VLOOKUP(W67,勤務シフト一覧!$B$4:$D$106,3,FALSE))","v":""},{"$f":"IF(ISERROR(VLOOKUP(X67,勤務シフト一覧!$B$4:$D$106,3,FALSE)),\"\",VLOOKUP(X67,勤務シフト一覧!$B$4:$D$106,3,FALSE))","v":""},{"$f":"IF(ISERROR(VLOOKUP(Y67,勤務シフト一覧!$B$4:$D$106,3,FALSE)),\"\",VLOOKUP(Y67,勤務シフト一覧!$B$4:$D$106,3,FALSE))","v":""},{"$f":"IF(ISERROR(VLOOKUP(Z67,勤務シフト一覧!$B$4:$D$106,3,FALSE)),\"\",VLOOKUP(Z67,勤務シフト一覧!$B$4:$D$106,3,FALSE))","v":""},{"$f":"IF(ISERROR(VLOOKUP(AA67,勤務シフト一覧!$B$4:$D$106,3,FALSE)),\"\",VLOOKUP(AA67,勤務シフト一覧!$B$4:$D$106,3,FALSE))","v":""},{"$f":"IF(ISERROR(VLOOKUP(AB67,勤務シフト一覧!$B$4:$D$106,3,FALSE)),\"\",VLOOKUP(AB67,勤務シフト一覧!$B$4:$D$106,3,FALSE))","v":""},{"$f":"IF(ISERROR(VLOOKUP(AC67,勤務シフト一覧!$B$4:$D$106,3,FALSE)),\"\",VLOOKUP(AC67,勤務シフト一覧!$B$4:$D$106,3,FALSE))","v":""},{"$f":"IF(ISERROR(VLOOKUP(AD67,勤務シフト一覧!$B$4:$D$106,3,FALSE)),\"\",VLOOKUP(AD67,勤務シフト一覧!$B$4:$D$106,3,FALSE))","v":""},{"$f":"IF(ISERROR(VLOOKUP(AE67,勤務シフト一覧!$B$4:$D$106,3,FALSE)),\"\",VLOOKUP(AE67,勤務シフト一覧!$B$4:$D$106,3,FALSE))","v":""},{"$f":"IF(ISERROR(VLOOKUP(AF67,勤務シフト一覧!$B$4:$D$106,3,FALSE)),\"\",VLOOKUP(AF67,勤務シフト一覧!$B$4:$D$106,3,FALSE))","v":""},{"$f":"IF(ISERROR(VLOOKUP(AG67,勤務シフト一覧!$B$4:$D$106,3,FALSE)),\"\",VLOOKUP(AG67,勤務シフト一覧!$B$4:$D$106,3,FALSE))","v":""},{"$f":"IF(ISERROR(VLOOKUP(AH67,勤務シフト一覧!$B$4:$D$106,3,FALSE)),\"\",VLOOKUP(AH67,勤務シフト一覧!$B$4:$D$106,3,FALSE))","v":""},0,0,0,0,0,0,0,0,0,0,null,null,{"$f":"IF(勤務シフト一覧!$D68<>0,IF(勤務シフト一覧!$B68<> 0,勤務シフト一覧!$B68,\"\"),\"\")","v":"祭日6"}]
[{"$f":"IF(LEN(職員一覧!B33)<>0,職員一覧!B33,\"\")","v":""},{"$f":"IF(LEN(職員一覧!C33)<>0,職員一覧!C33,\"\")","v":""},"予定",null,null,null,null,null,null,null,null,null,null,null,null,null,null,null,null,null,null,null,null,null,null,null,null,null,null,null,null,null,null,null,{"$f":"IF(ISERROR(VLOOKUP(D68,勤務シフト一覧!$B$4:$C$106,2,FALSE)),\"\",VLOOKUP(D68,勤務シフト一覧!$B$4:$C$106,2,FALSE))","v":""},{"$f":"IF(ISERROR(VLOOKUP(E68,勤務シフト一覧!$B$4:$C$106,2,FALSE)),\"\",VLOOKUP(E68,勤務シフト一覧!$B$4:$C$106,2,FALSE))","v":""},{"$f":"IF(ISERROR(VLOOKUP(F68,勤務シフト一覧!$B$4:$C$106,2,FALSE)),\"\",VLOOKUP(F68,勤務シフト一覧!$B$4:$C$106,2,FALSE))","v":""},{"$f":"IF(ISERROR(VLOOKUP(G68,勤務シフト一覧!$B$4:$C$106,2,FALSE)),\"\",VLOOKUP(G68,勤務シフト一覧!$B$4:$C$106,2,FALSE))","v":""},{"$f":"IF(ISERROR(VLOOKUP(H68,勤務シフト一覧!$B$4:$C$106,2,FALSE)),\"\",VLOOKUP(H68,勤務シフト一覧!$B$4:$C$106,2,FALSE))","v":""},{"$f":"IF(ISERROR(VLOOKUP(I68,勤務シフト一覧!$B$4:$C$106,2,FALSE)),\"\",VLOOKUP(I68,勤務シフト一覧!$B$4:$C$106,2,FALSE))","v":""},{"$f":"IF(ISERROR(VLOOKUP(J68,勤務シフト一覧!$B$4:$C$106,2,FALSE)),\"\",VLOOKUP(J68,勤務シフト一覧!$B$4:$C$106,2,FALSE))","v":""},{"$f":"IF(ISERROR(VLOOKUP(K68,勤務シフト一覧!$B$4:$C$106,2,FALSE)),\"\",VLOOKUP(K68,勤務シフト一覧!$B$4:$C$106,2,FALSE))","v":""},{"$f":"IF(ISERROR(VLOOKUP(L68,勤務シフト一覧!$B$4:$C$106,2,FALSE)),\"\",VLOOKUP(L68,勤務シフト一覧!$B$4:$C$106,2,FALSE))","v":""},{"$f":"IF(ISERROR(VLOOKUP(M68,勤務シフト一覧!$B$4:$C$106,2,FALSE)),\"\",VLOOKUP(M68,勤務シフト一覧!$B$4:$C$106,2,FALSE))","v":""},{"$f":"IF(ISERROR(VLOOKUP(N68,勤務シフト一覧!$B$4:$C$106,2,FALSE)),\"\",VLOOKUP(N68,勤務シフト一覧!$B$4:$C$106,2,FALSE))","v":""},{"$f":"IF(ISERROR(VLOOKUP(O68,勤務シフト一覧!$B$4:$C$106,2,FALSE)),\"\",VLOOKUP(O68,勤務シフト一覧!$B$4:$C$106,2,FALSE))","v":""},{"$f":"IF(ISERROR(VLOOKUP(P68,勤務シフト一覧!$B$4:$C$106,2,FALSE)),\"\",VLOOKUP(P68,勤務シフト一覧!$B$4:$C$106,2,FALSE))","v":""},{"$f":"IF(ISERROR(VLOOKUP(Q68,勤務シフト一覧!$B$4:$C$106,2,FALSE)),\"\",VLOOKUP(Q68,勤務シフト一覧!$B$4:$C$106,2,FALSE))","v":""},{"$f":"IF(ISERROR(VLOOKUP(R68,勤務シフト一覧!$B$4:$C$106,2,FALSE)),\"\",VLOOKUP(R68,勤務シフト一覧!$B$4:$C$106,2,FALSE))","v":""},{"$f":"IF(ISERROR(VLOOKUP(S68,勤務シフト一覧!$B$4:$C$106,2,FALSE)),\"\",VLOOKUP(S68,勤務シフト一覧!$B$4:$C$106,2,FALSE))","v":""},{"$f":"IF(ISERROR(VLOOKUP(T68,勤務シフト一覧!$B$4:$C$106,2,FALSE)),\"\",VLOOKUP(T68,勤務シフト一覧!$B$4:$C$106,2,FALSE))","v":""},{"$f":"IF(ISERROR(VLOOKUP(U68,勤務シフト一覧!$B$4:$C$106,2,FALSE)),\"\",VLOOKUP(U68,勤務シフト一覧!$B$4:$C$106,2,FALSE))","v":""},{"$f":"IF(ISERROR(VLOOKUP(V68,勤務シフト一覧!$B$4:$C$106,2,FALSE)),\"\",VLOOKUP(V68,勤務シフト一覧!$B$4:$C$106,2,FALSE))","v":""},{"$f":"IF(ISERROR(VLOOKUP(W68,勤務シフト一覧!$B$4:$C$106,2,FALSE)),\"\",VLOOKUP(W68,勤務シフト一覧!$B$4:$C$106,2,FALSE))","v":""},{"$f":"IF(ISERROR(VLOOKUP(X68,勤務シフト一覧!$B$4:$C$106,2,FALSE)),\"\",VLOOKUP(X68,勤務シフト一覧!$B$4:$C$106,2,FALSE))","v":""},{"$f":"IF(ISERROR(VLOOKUP(Y68,勤務シフト一覧!$B$4:$C$106,2,FALSE)),\"\",VLOOKUP(Y68,勤務シフト一覧!$B$4:$C$106,2,FALSE))","v":""},{"$f":"IF(ISERROR(VLOOKUP(Z68,勤務シフト一覧!$B$4:$C$106,2,FALSE)),\"\",VLOOKUP(Z68,勤務シフト一覧!$B$4:$C$106,2,FALSE))","v":""},{"$f":"IF(ISERROR(VLOOKUP(AA68,勤務シフト一覧!$B$4:$C$106,2,FALSE)),\"\",VLOOKUP(AA68,勤務シフト一覧!$B$4:$C$106,2,FALSE))","v":""},{"$f":"IF(ISERROR(VLOOKUP(AB68,勤務シフト一覧!$B$4:$C$106,2,FALSE)),\"\",VLOOKUP(AB68,勤務シフト一覧!$B$4:$C$106,2,FALSE))","v":""},{"$f":"IF(ISERROR(VLOOKUP(AC68,勤務シフト一覧!$B$4:$C$106,2,FALSE)),\"\",VLOOKUP(AC68,勤務シフト一覧!$B$4:$C$106,2,FALSE))","v":""},{"$f":"IF(ISERROR(VLOOKUP(AD68,勤務シフト一覧!$B$4:$C$106,2,FALSE)),\"\",VLOOKUP(AD68,勤務シフト一覧!$B$4:$C$106,2,FALSE))","v":""},{"$f":"IF(ISERROR(VLOOKUP(AE68,勤務シフト一覧!$B$4:$C$106,2,FALSE)),\"\",VLOOKUP(AE68,勤務シフト一覧!$B$4:$C$106,2,FALSE))","v":""},{"$f":"IF(ISERROR(VLOOKUP(AF68,勤務シフト一覧!$B$4:$C$106,2,FALSE)),\"\",VLOOKUP(AF68,勤務シフト一覧!$B$4:$C$106,2,FALSE))","v":""},{"$f":"IF(ISERROR(VLOOKUP(AG68,勤務シフト一覧!$B$4:$C$106,2,FALSE)),\"\",VLOOKUP(AG68,勤務シフト一覧!$B$4:$C$106,2,FALSE))","v":""},{"$f":"IF(ISERROR(VLOOKUP(AH68,勤務シフト一覧!$B$4:$C$106,2,FALSE)),\"\",VLOOKUP(AH68,勤務シフト一覧!$B$4:$C$106,2,FALSE))","v":""},null,{"$f":"IF(ISERROR(VLOOKUP(D68,勤務シフト一覧!$B$4:$D$106,3,FALSE)),\"\",VLOOKUP(D68,勤務シフト一覧!$B$4:$D$106,3,FALSE))","v":""},{"$f":"IF(ISERROR(VLOOKUP(E68,勤務シフト一覧!$B$4:$D$106,3,FALSE)),\"\",VLOOKUP(E68,勤務シフト一覧!$B$4:$D$106,3,FALSE))","v":""},{"$f":"IF(ISERROR(VLOOKUP(F68,勤務シフト一覧!$B$4:$D$106,3,FALSE)),\"\",VLOOKUP(F68,勤務シフト一覧!$B$4:$D$106,3,FALSE))","v":""},{"$f":"IF(ISERROR(VLOOKUP(G68,勤務シフト一覧!$B$4:$D$106,3,FALSE)),\"\",VLOOKUP(G68,勤務シフト一覧!$B$4:$D$106,3,FALSE))","v":""},{"$f":"IF(ISERROR(VLOOKUP(H68,勤務シフト一覧!$B$4:$D$106,3,FALSE)),\"\",VLOOKUP(H68,勤務シフト一覧!$B$4:$D$106,3,FALSE))","v":""},{"$f":"IF(ISERROR(VLOOKUP(I68,勤務シフト一覧!$B$4:$D$106,3,FALSE)),\"\",VLOOKUP(I68,勤務シフト一覧!$B$4:$D$106,3,FALSE))","v":""},{"$f":"IF(ISERROR(VLOOKUP(J68,勤務シフト一覧!$B$4:$D$106,3,FALSE)),\"\",VLOOKUP(J68,勤務シフト一覧!$B$4:$D$106,3,FALSE))","v":""},{"$f":"IF(ISERROR(VLOOKUP(K68,勤務シフト一覧!$B$4:$D$106,3,FALSE)),\"\",VLOOKUP(K68,勤務シフト一覧!$B$4:$D$106,3,FALSE))","v":""},{"$f":"IF(ISERROR(VLOOKUP(L68,勤務シフト一覧!$B$4:$D$106,3,FALSE)),\"\",VLOOKUP(L68,勤務シフト一覧!$B$4:$D$106,3,FALSE))","v":""},{"$f":"IF(ISERROR(VLOOKUP(M68,勤務シフト一覧!$B$4:$D$106,3,FALSE)),\"\",VLOOKUP(M68,勤務シフト一覧!$B$4:$D$106,3,FALSE))","v":""},{"$f":"IF(ISERROR(VLOOKUP(N68,勤務シフト一覧!$B$4:$D$106,3,FALSE)),\"\",VLOOKUP(N68,勤務シフト一覧!$B$4:$D$106,3,FALSE))","v":""},{"$f":"IF(ISERROR(VLOOKUP(O68,勤務シフト一覧!$B$4:$D$106,3,FALSE)),\"\",VLOOKUP(O68,勤務シフト一覧!$B$4:$D$106,3,FALSE))","v":""},{"$f":"IF(ISERROR(VLOOKUP(P68,勤務シフト一覧!$B$4:$D$106,3,FALSE)),\"\",VLOOKUP(P68,勤務シフト一覧!$B$4:$D$106,3,FALSE))","v":""},{"$f":"IF(ISERROR(VLOOKUP(Q68,勤務シフト一覧!$B$4:$D$106,3,FALSE)),\"\",VLOOKUP(Q68,勤務シフト一覧!$B$4:$D$106,3,FALSE))","v":""},{"$f":"IF(ISERROR(VLOOKUP(R68,勤務シフト一覧!$B$4:$D$106,3,FALSE)),\"\",VLOOKUP(R68,勤務シフト一覧!$B$4:$D$106,3,FALSE))","v":""},{"$f":"IF(ISERROR(VLOOKUP(S68,勤務シフト一覧!$B$4:$D$106,3,FALSE)),\"\",VLOOKUP(S68,勤務シフト一覧!$B$4:$D$106,3,FALSE))","v":""},{"$f":"IF(ISERROR(VLOOKUP(T68,勤務シフト一覧!$B$4:$D$106,3,FALSE)),\"\",VLOOKUP(T68,勤務シフト一覧!$B$4:$D$106,3,FALSE))","v":""},{"$f":"IF(ISERROR(VLOOKUP(U68,勤務シフト一覧!$B$4:$D$106,3,FALSE)),\"\",VLOOKUP(U68,勤務シフト一覧!$B$4:$D$106,3,FALSE))","v":""},{"$f":"IF(ISERROR(VLOOKUP(V68,勤務シフト一覧!$B$4:$D$106,3,FALSE)),\"\",VLOOKUP(V68,勤務シフト一覧!$B$4:$D$106,3,FALSE))","v":""},{"$f":"IF(ISERROR(VLOOKUP(W68,勤務シフト一覧!$B$4:$D$106,3,FALSE)),\"\",VLOOKUP(W68,勤務シフト一覧!$B$4:$D$106,3,FALSE))","v":""},{"$f":"IF(ISERROR(VLOOKUP(X68,勤務シフト一覧!$B$4:$D$106,3,FALSE)),\"\",VLOOKUP(X68,勤務シフト一覧!$B$4:$D$106,3,FALSE))","v":""},{"$f":"IF(ISERROR(VLOOKUP(Y68,勤務シフト一覧!$B$4:$D$106,3,FALSE)),\"\",VLOOKUP(Y68,勤務シフト一覧!$B$4:$D$106,3,FALSE))","v":""},{"$f":"IF(ISERROR(VLOOKUP(Z68,勤務シフト一覧!$B$4:$D$106,3,FALSE)),\"\",VLOOKUP(Z68,勤務シフト一覧!$B$4:$D$106,3,FALSE))","v":""},{"$f":"IF(ISERROR(VLOOKUP(AA68,勤務シフト一覧!$B$4:$D$106,3,FALSE)),\"\",VLOOKUP(AA68,勤務シフト一覧!$B$4:$D$106,3,FALSE))","v":""},{"$f":"IF(ISERROR(VLOOKUP(AB68,勤務シフト一覧!$B$4:$D$106,3,FALSE)),\"\",VLOOKUP(AB68,勤務シフト一覧!$B$4:$D$106,3,FALSE))","v":""},{"$f":"IF(ISERROR(VLOOKUP(AC68,勤務シフト一覧!$B$4:$D$106,3,FALSE)),\"\",VLOOKUP(AC68,勤務シフト一覧!$B$4:$D$106,3,FALSE))","v":""},{"$f":"IF(ISERROR(VLOOKUP(AD68,勤務シフト一覧!$B$4:$D$106,3,FALSE)),\"\",VLOOKUP(AD68,勤務シフト一覧!$B$4:$D$106,3,FALSE))","v":""},{"$f":"IF(ISERROR(VLOOKUP(AE68,勤務シフト一覧!$B$4:$D$106,3,FALSE)),\"\",VLOOKUP(AE68,勤務シフト一覧!$B$4:$D$106,3,FALSE))","v":""},{"$f":"IF(ISERROR(VLOOKUP(AF68,勤務シフト一覧!$B$4:$D$106,3,FALSE)),\"\",VLOOKUP(AF68,勤務シフト一覧!$B$4:$D$106,3,FALSE))","v":""},{"$f":"IF(ISERROR(VLOOKUP(AG68,勤務シフト一覧!$B$4:$D$106,3,FALSE)),\"\",VLOOKUP(AG68,勤務シフト一覧!$B$4:$D$106,3,FALSE))","v":""},{"$f":"IF(ISERROR(VLOOKUP(AH68,勤務シフト一覧!$B$4:$D$106,3,FALSE)),\"\",VLOOKUP(AH68,勤務シフト一覧!$B$4:$D$106,3,FALSE))","v":""},0,0,0,0,0,0,0,0,0,0,{"$f":"IF(LEN(職員一覧!D33)<>0,職員一覧!D33,\"\")","v":""},null,{"$f":"IF(勤務シフト一覧!$D69<>0,IF(勤務シフト一覧!$B69<> 0,勤務シフト一覧!$B69,\"\"),\"\")","v":"祭日5"}]
[null,null,"実施",null,null,null,null,null,null,null,null,null,null,null,null,null,null,null,null,null,null,null,null,null,null,null,null,null,null,null,null,null,null,null,{"$f":"IF(ISERROR(VLOOKUP(D69,勤務シフト一覧!$B$4:$C$106,2,FALSE)),\"\",VLOOKUP(D69,勤務シフト一覧!$B$4:$C$106,2,FALSE))","v":""},{"$f":"IF(ISERROR(VLOOKUP(E69,勤務シフト一覧!$B$4:$C$106,2,FALSE)),\"\",VLOOKUP(E69,勤務シフト一覧!$B$4:$C$106,2,FALSE))","v":""},{"$f":"IF(ISERROR(VLOOKUP(F69,勤務シフト一覧!$B$4:$C$106,2,FALSE)),\"\",VLOOKUP(F69,勤務シフト一覧!$B$4:$C$106,2,FALSE))","v":""},{"$f":"IF(ISERROR(VLOOKUP(G69,勤務シフト一覧!$B$4:$C$106,2,FALSE)),\"\",VLOOKUP(G69,勤務シフト一覧!$B$4:$C$106,2,FALSE))","v":""},{"$f":"IF(ISERROR(VLOOKUP(H69,勤務シフト一覧!$B$4:$C$106,2,FALSE)),\"\",VLOOKUP(H69,勤務シフト一覧!$B$4:$C$106,2,FALSE))","v":""},{"$f":"IF(ISERROR(VLOOKUP(I69,勤務シフト一覧!$B$4:$C$106,2,FALSE)),\"\",VLOOKUP(I69,勤務シフト一覧!$B$4:$C$106,2,FALSE))","v":""},{"$f":"IF(ISERROR(VLOOKUP(J69,勤務シフト一覧!$B$4:$C$106,2,FALSE)),\"\",VLOOKUP(J69,勤務シフト一覧!$B$4:$C$106,2,FALSE))","v":""},{"$f":"IF(ISERROR(VLOOKUP(K69,勤務シフト一覧!$B$4:$C$106,2,FALSE)),\"\",VLOOKUP(K69,勤務シフト一覧!$B$4:$C$106,2,FALSE))","v":""},{"$f":"IF(ISERROR(VLOOKUP(L69,勤務シフト一覧!$B$4:$C$106,2,FALSE)),\"\",VLOOKUP(L69,勤務シフト一覧!$B$4:$C$106,2,FALSE))","v":""},{"$f":"IF(ISERROR(VLOOKUP(M69,勤務シフト一覧!$B$4:$C$106,2,FALSE)),\"\",VLOOKUP(M69,勤務シフト一覧!$B$4:$C$106,2,FALSE))","v":""},{"$f":"IF(ISERROR(VLOOKUP(N69,勤務シフト一覧!$B$4:$C$106,2,FALSE)),\"\",VLOOKUP(N69,勤務シフト一覧!$B$4:$C$106,2,FALSE))","v":""},{"$f":"IF(ISERROR(VLOOKUP(O69,勤務シフト一覧!$B$4:$C$106,2,FALSE)),\"\",VLOOKUP(O69,勤務シフト一覧!$B$4:$C$106,2,FALSE))","v":""},{"$f":"IF(ISERROR(VLOOKUP(P69,勤務シフト一覧!$B$4:$C$106,2,FALSE)),\"\",VLOOKUP(P69,勤務シフト一覧!$B$4:$C$106,2,FALSE))","v":""},{"$f":"IF(ISERROR(VLOOKUP(Q69,勤務シフト一覧!$B$4:$C$106,2,FALSE)),\"\",VLOOKUP(Q69,勤務シフト一覧!$B$4:$C$106,2,FALSE))","v":""},{"$f":"IF(ISERROR(VLOOKUP(R69,勤務シフト一覧!$B$4:$C$106,2,FALSE)),\"\",VLOOKUP(R69,勤務シフト一覧!$B$4:$C$106,2,FALSE))","v":""},{"$f":"IF(ISERROR(VLOOKUP(S69,勤務シフト一覧!$B$4:$C$106,2,FALSE)),\"\",VLOOKUP(S69,勤務シフト一覧!$B$4:$C$106,2,FALSE))","v":""},{"$f":"IF(ISERROR(VLOOKUP(T69,勤務シフト一覧!$B$4:$C$106,2,FALSE)),\"\",VLOOKUP(T69,勤務シフト一覧!$B$4:$C$106,2,FALSE))","v":""},{"$f":"IF(ISERROR(VLOOKUP(U69,勤務シフト一覧!$B$4:$C$106,2,FALSE)),\"\",VLOOKUP(U69,勤務シフト一覧!$B$4:$C$106,2,FALSE))","v":""},{"$f":"IF(ISERROR(VLOOKUP(V69,勤務シフト一覧!$B$4:$C$106,2,FALSE)),\"\",VLOOKUP(V69,勤務シフト一覧!$B$4:$C$106,2,FALSE))","v":""},{"$f":"IF(ISERROR(VLOOKUP(W69,勤務シフト一覧!$B$4:$C$106,2,FALSE)),\"\",VLOOKUP(W69,勤務シフト一覧!$B$4:$C$106,2,FALSE))","v":""},{"$f":"IF(ISERROR(VLOOKUP(X69,勤務シフト一覧!$B$4:$C$106,2,FALSE)),\"\",VLOOKUP(X69,勤務シフト一覧!$B$4:$C$106,2,FALSE))","v":""},{"$f":"IF(ISERROR(VLOOKUP(Y69,勤務シフト一覧!$B$4:$C$106,2,FALSE)),\"\",VLOOKUP(Y69,勤務シフト一覧!$B$4:$C$106,2,FALSE))","v":""},{"$f":"IF(ISERROR(VLOOKUP(Z69,勤務シフト一覧!$B$4:$C$106,2,FALSE)),\"\",VLOOKUP(Z69,勤務シフト一覧!$B$4:$C$106,2,FALSE))","v":""},{"$f":"IF(ISERROR(VLOOKUP(AA69,勤務シフト一覧!$B$4:$C$106,2,FALSE)),\"\",VLOOKUP(AA69,勤務シフト一覧!$B$4:$C$106,2,FALSE))","v":""},{"$f":"IF(ISERROR(VLOOKUP(AB69,勤務シフト一覧!$B$4:$C$106,2,FALSE)),\"\",VLOOKUP(AB69,勤務シフト一覧!$B$4:$C$106,2,FALSE))","v":""},{"$f":"IF(ISERROR(VLOOKUP(AC69,勤務シフト一覧!$B$4:$C$106,2,FALSE)),\"\",VLOOKUP(AC69,勤務シフト一覧!$B$4:$C$106,2,FALSE))","v":""},{"$f":"IF(ISERROR(VLOOKUP(AD69,勤務シフト一覧!$B$4:$C$106,2,FALSE)),\"\",VLOOKUP(AD69,勤務シフト一覧!$B$4:$C$106,2,FALSE))","v":""},{"$f":"IF(ISERROR(VLOOKUP(AE69,勤務シフト一覧!$B$4:$C$106,2,FALSE)),\"\",VLOOKUP(AE69,勤務シフト一覧!$B$4:$C$106,2,FALSE))","v":""},{"$f":"IF(ISERROR(VLOOKUP(AF69,勤務シフト一覧!$B$4:$C$106,2,FALSE)),\"\",VLOOKUP(AF69,勤務シフト一覧!$B$4:$C$106,2,FALSE))","v":""},{"$f":"IF(ISERROR(VLOOKUP(AG69,勤務シフト一覧!$B$4:$C$106,2,FALSE)),\"\",VLOOKUP(AG69,勤務シフト一覧!$B$4:$C$106,2,FALSE))","v":""},{"$f":"IF(ISERROR(VLOOKUP(AH69,勤務シフト一覧!$B$4:$C$106,2,FALSE)),\"\",VLOOKUP(AH69,勤務シフト一覧!$B$4:$C$106,2,FALSE))","v":""},null,{"$f":"IF(ISERROR(VLOOKUP(D69,勤務シフト一覧!$B$4:$D$106,3,FALSE)),\"\",VLOOKUP(D69,勤務シフト一覧!$B$4:$D$106,3,FALSE))","v":""},{"$f":"IF(ISERROR(VLOOKUP(E69,勤務シフト一覧!$B$4:$D$106,3,FALSE)),\"\",VLOOKUP(E69,勤務シフト一覧!$B$4:$D$106,3,FALSE))","v":""},{"$f":"IF(ISERROR(VLOOKUP(F69,勤務シフト一覧!$B$4:$D$106,3,FALSE)),\"\",VLOOKUP(F69,勤務シフト一覧!$B$4:$D$106,3,FALSE))","v":""},{"$f":"IF(ISERROR(VLOOKUP(G69,勤務シフト一覧!$B$4:$D$106,3,FALSE)),\"\",VLOOKUP(G69,勤務シフト一覧!$B$4:$D$106,3,FALSE))","v":""},{"$f":"IF(ISERROR(VLOOKUP(H69,勤務シフト一覧!$B$4:$D$106,3,FALSE)),\"\",VLOOKUP(H69,勤務シフト一覧!$B$4:$D$106,3,FALSE))","v":""},{"$f":"IF(ISERROR(VLOOKUP(I69,勤務シフト一覧!$B$4:$D$106,3,FALSE)),\"\",VLOOKUP(I69,勤務シフト一覧!$B$4:$D$106,3,FALSE))","v":""},{"$f":"IF(ISERROR(VLOOKUP(J69,勤務シフト一覧!$B$4:$D$106,3,FALSE)),\"\",VLOOKUP(J69,勤務シフト一覧!$B$4:$D$106,3,FALSE))","v":""},{"$f":"IF(ISERROR(VLOOKUP(K69,勤務シフト一覧!$B$4:$D$106,3,FALSE)),\"\",VLOOKUP(K69,勤務シフト一覧!$B$4:$D$106,3,FALSE))","v":""},{"$f":"IF(ISERROR(VLOOKUP(L69,勤務シフト一覧!$B$4:$D$106,3,FALSE)),\"\",VLOOKUP(L69,勤務シフト一覧!$B$4:$D$106,3,FALSE))","v":""},{"$f":"IF(ISERROR(VLOOKUP(M69,勤務シフト一覧!$B$4:$D$106,3,FALSE)),\"\",VLOOKUP(M69,勤務シフト一覧!$B$4:$D$106,3,FALSE))","v":""},{"$f":"IF(ISERROR(VLOOKUP(N69,勤務シフト一覧!$B$4:$D$106,3,FALSE)),\"\",VLOOKUP(N69,勤務シフト一覧!$B$4:$D$106,3,FALSE))","v":""},{"$f":"IF(ISERROR(VLOOKUP(O69,勤務シフト一覧!$B$4:$D$106,3,FALSE)),\"\",VLOOKUP(O69,勤務シフト一覧!$B$4:$D$106,3,FALSE))","v":""},{"$f":"IF(ISERROR(VLOOKUP(P69,勤務シフト一覧!$B$4:$D$106,3,FALSE)),\"\",VLOOKUP(P69,勤務シフト一覧!$B$4:$D$106,3,FALSE))","v":""},{"$f":"IF(ISERROR(VLOOKUP(Q69,勤務シフト一覧!$B$4:$D$106,3,FALSE)),\"\",VLOOKUP(Q69,勤務シフト一覧!$B$4:$D$106,3,FALSE))","v":""},{"$f":"IF(ISERROR(VLOOKUP(R69,勤務シフト一覧!$B$4:$D$106,3,FALSE)),\"\",VLOOKUP(R69,勤務シフト一覧!$B$4:$D$106,3,FALSE))","v":""},{"$f":"IF(ISERROR(VLOOKUP(S69,勤務シフト一覧!$B$4:$D$106,3,FALSE)),\"\",VLOOKUP(S69,勤務シフト一覧!$B$4:$D$106,3,FALSE))","v":""},{"$f":"IF(ISERROR(VLOOKUP(T69,勤務シフト一覧!$B$4:$D$106,3,FALSE)),\"\",VLOOKUP(T69,勤務シフト一覧!$B$4:$D$106,3,FALSE))","v":""},{"$f":"IF(ISERROR(VLOOKUP(U69,勤務シフト一覧!$B$4:$D$106,3,FALSE)),\"\",VLOOKUP(U69,勤務シフト一覧!$B$4:$D$106,3,FALSE))","v":""},{"$f":"IF(ISERROR(VLOOKUP(V69,勤務シフト一覧!$B$4:$D$106,3,FALSE)),\"\",VLOOKUP(V69,勤務シフト一覧!$B$4:$D$106,3,FALSE))","v":""},{"$f":"IF(ISERROR(VLOOKUP(W69,勤務シフト一覧!$B$4:$D$106,3,FALSE)),\"\",VLOOKUP(W69,勤務シフト一覧!$B$4:$D$106,3,FALSE))","v":""},{"$f":"IF(ISERROR(VLOOKUP(X69,勤務シフト一覧!$B$4:$D$106,3,FALSE)),\"\",VLOOKUP(X69,勤務シフト一覧!$B$4:$D$106,3,FALSE))","v":""},{"$f":"IF(ISERROR(VLOOKUP(Y69,勤務シフト一覧!$B$4:$D$106,3,FALSE)),\"\",VLOOKUP(Y69,勤務シフト一覧!$B$4:$D$106,3,FALSE))","v":""},{"$f":"IF(ISERROR(VLOOKUP(Z69,勤務シフト一覧!$B$4:$D$106,3,FALSE)),\"\",VLOOKUP(Z69,勤務シフト一覧!$B$4:$D$106,3,FALSE))","v":""},{"$f":"IF(ISERROR(VLOOKUP(AA69,勤務シフト一覧!$B$4:$D$106,3,FALSE)),\"\",VLOOKUP(AA69,勤務シフト一覧!$B$4:$D$106,3,FALSE))","v":""},{"$f":"IF(ISERROR(VLOOKUP(AB69,勤務シフト一覧!$B$4:$D$106,3,FALSE)),\"\",VLOOKUP(AB69,勤務シフト一覧!$B$4:$D$106,3,FALSE))","v":""},{"$f":"IF(ISERROR(VLOOKUP(AC69,勤務シフト一覧!$B$4:$D$106,3,FALSE)),\"\",VLOOKUP(AC69,勤務シフト一覧!$B$4:$D$106,3,FALSE))","v":""},{"$f":"IF(ISERROR(VLOOKUP(AD69,勤務シフト一覧!$B$4:$D$106,3,FALSE)),\"\",VLOOKUP(AD69,勤務シフト一覧!$B$4:$D$106,3,FALSE))","v":""},{"$f":"IF(ISERROR(VLOOKUP(AE69,勤務シフト一覧!$B$4:$D$106,3,FALSE)),\"\",VLOOKUP(AE69,勤務シフト一覧!$B$4:$D$106,3,FALSE))","v":""},{"$f":"IF(ISERROR(VLOOKUP(AF69,勤務シフト一覧!$B$4:$D$106,3,FALSE)),\"\",VLOOKUP(AF69,勤務シフト一覧!$B$4:$D$106,3,FALSE))","v":""},{"$f":"IF(ISERROR(VLOOKUP(AG69,勤務シフト一覧!$B$4:$D$106,3,FALSE)),\"\",VLOOKUP(AG69,勤務シフト一覧!$B$4:$D$106,3,FALSE))","v":""},{"$f":"IF(ISERROR(VLOOKUP(AH69,勤務シフト一覧!$B$4:$D$106,3,FALSE)),\"\",VLOOKUP(AH69,勤務シフト一覧!$B$4:$D$106,3,FALSE))","v":""},0,0,0,0,0,0,0,0,0,0,null,null,{"$f":"IF(勤務シフト一覧!$D70<>0,IF(勤務シフト一覧!$B70<> 0,勤務シフト一覧!$B70,\"\"),\"\")","v":"祭日4"}]
[{"$f":"IF(LEN(職員一覧!B34)<>0,職員一覧!B34,\"\")","v":""},{"$f":"IF(LEN(職員一覧!C34)<>0,職員一覧!C34,\"\")","v":""},"予定",null,null,null,null,null,null,null,null,null,null,null,null,null,null,null,null,null,null,null,null,null,null,null,null,null,null,null,null,null,null,null,{"$f":"IF(ISERROR(VLOOKUP(D70,勤務シフト一覧!$B$4:$C$106,2,FALSE)),\"\",VLOOKUP(D70,勤務シフト一覧!$B$4:$C$106,2,FALSE))","v":""},{"$f":"IF(ISERROR(VLOOKUP(E70,勤務シフト一覧!$B$4:$C$106,2,FALSE)),\"\",VLOOKUP(E70,勤務シフト一覧!$B$4:$C$106,2,FALSE))","v":""},{"$f":"IF(ISERROR(VLOOKUP(F70,勤務シフト一覧!$B$4:$C$106,2,FALSE)),\"\",VLOOKUP(F70,勤務シフト一覧!$B$4:$C$106,2,FALSE))","v":""},{"$f":"IF(ISERROR(VLOOKUP(G70,勤務シフト一覧!$B$4:$C$106,2,FALSE)),\"\",VLOOKUP(G70,勤務シフト一覧!$B$4:$C$106,2,FALSE))","v":""},{"$f":"IF(ISERROR(VLOOKUP(H70,勤務シフト一覧!$B$4:$C$106,2,FALSE)),\"\",VLOOKUP(H70,勤務シフト一覧!$B$4:$C$106,2,FALSE))","v":""},{"$f":"IF(ISERROR(VLOOKUP(I70,勤務シフト一覧!$B$4:$C$106,2,FALSE)),\"\",VLOOKUP(I70,勤務シフト一覧!$B$4:$C$106,2,FALSE))","v":""},{"$f":"IF(ISERROR(VLOOKUP(J70,勤務シフト一覧!$B$4:$C$106,2,FALSE)),\"\",VLOOKUP(J70,勤務シフト一覧!$B$4:$C$106,2,FALSE))","v":""},{"$f":"IF(ISERROR(VLOOKUP(K70,勤務シフト一覧!$B$4:$C$106,2,FALSE)),\"\",VLOOKUP(K70,勤務シフト一覧!$B$4:$C$106,2,FALSE))","v":""},{"$f":"IF(ISERROR(VLOOKUP(L70,勤務シフト一覧!$B$4:$C$106,2,FALSE)),\"\",VLOOKUP(L70,勤務シフト一覧!$B$4:$C$106,2,FALSE))","v":""},{"$f":"IF(ISERROR(VLOOKUP(M70,勤務シフト一覧!$B$4:$C$106,2,FALSE)),\"\",VLOOKUP(M70,勤務シフト一覧!$B$4:$C$106,2,FALSE))","v":""},{"$f":"IF(ISERROR(VLOOKUP(N70,勤務シフト一覧!$B$4:$C$106,2,FALSE)),\"\",VLOOKUP(N70,勤務シフト一覧!$B$4:$C$106,2,FALSE))","v":""},{"$f":"IF(ISERROR(VLOOKUP(O70,勤務シフト一覧!$B$4:$C$106,2,FALSE)),\"\",VLOOKUP(O70,勤務シフト一覧!$B$4:$C$106,2,FALSE))","v":""},{"$f":"IF(ISERROR(VLOOKUP(P70,勤務シフト一覧!$B$4:$C$106,2,FALSE)),\"\",VLOOKUP(P70,勤務シフト一覧!$B$4:$C$106,2,FALSE))","v":""},{"$f":"IF(ISERROR(VLOOKUP(Q70,勤務シフト一覧!$B$4:$C$106,2,FALSE)),\"\",VLOOKUP(Q70,勤務シフト一覧!$B$4:$C$106,2,FALSE))","v":""},{"$f":"IF(ISERROR(VLOOKUP(R70,勤務シフト一覧!$B$4:$C$106,2,FALSE)),\"\",VLOOKUP(R70,勤務シフト一覧!$B$4:$C$106,2,FALSE))","v":""},{"$f":"IF(ISERROR(VLOOKUP(S70,勤務シフト一覧!$B$4:$C$106,2,FALSE)),\"\",VLOOKUP(S70,勤務シフト一覧!$B$4:$C$106,2,FALSE))","v":""},{"$f":"IF(ISERROR(VLOOKUP(T70,勤務シフト一覧!$B$4:$C$106,2,FALSE)),\"\",VLOOKUP(T70,勤務シフト一覧!$B$4:$C$106,2,FALSE))","v":""},{"$f":"IF(ISERROR(VLOOKUP(U70,勤務シフト一覧!$B$4:$C$106,2,FALSE)),\"\",VLOOKUP(U70,勤務シフト一覧!$B$4:$C$106,2,FALSE))","v":""},{"$f":"IF(ISERROR(VLOOKUP(V70,勤務シフト一覧!$B$4:$C$106,2,FALSE)),\"\",VLOOKUP(V70,勤務シフト一覧!$B$4:$C$106,2,FALSE))","v":""},{"$f":"IF(ISERROR(VLOOKUP(W70,勤務シフト一覧!$B$4:$C$106,2,FALSE)),\"\",VLOOKUP(W70,勤務シフト一覧!$B$4:$C$106,2,FALSE))","v":""},{"$f":"IF(ISERROR(VLOOKUP(X70,勤務シフト一覧!$B$4:$C$106,2,FALSE)),\"\",VLOOKUP(X70,勤務シフト一覧!$B$4:$C$106,2,FALSE))","v":""},{"$f":"IF(ISERROR(VLOOKUP(Y70,勤務シフト一覧!$B$4:$C$106,2,FALSE)),\"\",VLOOKUP(Y70,勤務シフト一覧!$B$4:$C$106,2,FALSE))","v":""},{"$f":"IF(ISERROR(VLOOKUP(Z70,勤務シフト一覧!$B$4:$C$106,2,FALSE)),\"\",VLOOKUP(Z70,勤務シフト一覧!$B$4:$C$106,2,FALSE))","v":""},{"$f":"IF(ISERROR(VLOOKUP(AA70,勤務シフト一覧!$B$4:$C$106,2,FALSE)),\"\",VLOOKUP(AA70,勤務シフト一覧!$B$4:$C$106,2,FALSE))","v":""},{"$f":"IF(ISERROR(VLOOKUP(AB70,勤務シフト一覧!$B$4:$C$106,2,FALSE)),\"\",VLOOKUP(AB70,勤務シフト一覧!$B$4:$C$106,2,FALSE))","v":""},{"$f":"IF(ISERROR(VLOOKUP(AC70,勤務シフト一覧!$B$4:$C$106,2,FALSE)),\"\",VLOOKUP(AC70,勤務シフト一覧!$B$4:$C$106,2,FALSE))","v":""},{"$f":"IF(ISERROR(VLOOKUP(AD70,勤務シフト一覧!$B$4:$C$106,2,FALSE)),\"\",VLOOKUP(AD70,勤務シフト一覧!$B$4:$C$106,2,FALSE))","v":""},{"$f":"IF(ISERROR(VLOOKUP(AE70,勤務シフト一覧!$B$4:$C$106,2,FALSE)),\"\",VLOOKUP(AE70,勤務シフト一覧!$B$4:$C$106,2,FALSE))","v":""},{"$f":"IF(ISERROR(VLOOKUP(AF70,勤務シフト一覧!$B$4:$C$106,2,FALSE)),\"\",VLOOKUP(AF70,勤務シフト一覧!$B$4:$C$106,2,FALSE))","v":""},{"$f":"IF(ISERROR(VLOOKUP(AG70,勤務シフト一覧!$B$4:$C$106,2,FALSE)),\"\",VLOOKUP(AG70,勤務シフト一覧!$B$4:$C$106,2,FALSE))","v":""},{"$f":"IF(ISERROR(VLOOKUP(AH70,勤務シフト一覧!$B$4:$C$106,2,FALSE)),\"\",VLOOKUP(AH70,勤務シフト一覧!$B$4:$C$106,2,FALSE))","v":""},null,{"$f":"IF(ISERROR(VLOOKUP(D70,勤務シフト一覧!$B$4:$D$106,3,FALSE)),\"\",VLOOKUP(D70,勤務シフト一覧!$B$4:$D$106,3,FALSE))","v":""},{"$f":"IF(ISERROR(VLOOKUP(E70,勤務シフト一覧!$B$4:$D$106,3,FALSE)),\"\",VLOOKUP(E70,勤務シフト一覧!$B$4:$D$106,3,FALSE))","v":""},{"$f":"IF(ISERROR(VLOOKUP(F70,勤務シフト一覧!$B$4:$D$106,3,FALSE)),\"\",VLOOKUP(F70,勤務シフト一覧!$B$4:$D$106,3,FALSE))","v":""},{"$f":"IF(ISERROR(VLOOKUP(G70,勤務シフト一覧!$B$4:$D$106,3,FALSE)),\"\",VLOOKUP(G70,勤務シフト一覧!$B$4:$D$106,3,FALSE))","v":""},{"$f":"IF(ISERROR(VLOOKUP(H70,勤務シフト一覧!$B$4:$D$106,3,FALSE)),\"\",VLOOKUP(H70,勤務シフト一覧!$B$4:$D$106,3,FALSE))","v":""},{"$f":"IF(ISERROR(VLOOKUP(I70,勤務シフト一覧!$B$4:$D$106,3,FALSE)),\"\",VLOOKUP(I70,勤務シフト一覧!$B$4:$D$106,3,FALSE))","v":""},{"$f":"IF(ISERROR(VLOOKUP(J70,勤務シフト一覧!$B$4:$D$106,3,FALSE)),\"\",VLOOKUP(J70,勤務シフト一覧!$B$4:$D$106,3,FALSE))","v":""},{"$f":"IF(ISERROR(VLOOKUP(K70,勤務シフト一覧!$B$4:$D$106,3,FALSE)),\"\",VLOOKUP(K70,勤務シフト一覧!$B$4:$D$106,3,FALSE))","v":""},{"$f":"IF(ISERROR(VLOOKUP(L70,勤務シフト一覧!$B$4:$D$106,3,FALSE)),\"\",VLOOKUP(L70,勤務シフト一覧!$B$4:$D$106,3,FALSE))","v":""},{"$f":"IF(ISERROR(VLOOKUP(M70,勤務シフト一覧!$B$4:$D$106,3,FALSE)),\"\",VLOOKUP(M70,勤務シフト一覧!$B$4:$D$106,3,FALSE))","v":""},{"$f":"IF(ISERROR(VLOOKUP(N70,勤務シフト一覧!$B$4:$D$106,3,FALSE)),\"\",VLOOKUP(N70,勤務シフト一覧!$B$4:$D$106,3,FALSE))","v":""},{"$f":"IF(ISERROR(VLOOKUP(O70,勤務シフト一覧!$B$4:$D$106,3,FALSE)),\"\",VLOOKUP(O70,勤務シフト一覧!$B$4:$D$106,3,FALSE))","v":""},{"$f":"IF(ISERROR(VLOOKUP(P70,勤務シフト一覧!$B$4:$D$106,3,FALSE)),\"\",VLOOKUP(P70,勤務シフト一覧!$B$4:$D$106,3,FALSE))","v":""},{"$f":"IF(ISERROR(VLOOKUP(Q70,勤務シフト一覧!$B$4:$D$106,3,FALSE)),\"\",VLOOKUP(Q70,勤務シフト一覧!$B$4:$D$106,3,FALSE))","v":""},{"$f":"IF(ISERROR(VLOOKUP(R70,勤務シフト一覧!$B$4:$D$106,3,FALSE)),\"\",VLOOKUP(R70,勤務シフト一覧!$B$4:$D$106,3,FALSE))","v":""},{"$f":"IF(ISERROR(VLOOKUP(S70,勤務シフト一覧!$B$4:$D$106,3,FALSE)),\"\",VLOOKUP(S70,勤務シフト一覧!$B$4:$D$106,3,FALSE))","v":""},{"$f":"IF(ISERROR(VLOOKUP(T70,勤務シフト一覧!$B$4:$D$106,3,FALSE)),\"\",VLOOKUP(T70,勤務シフト一覧!$B$4:$D$106,3,FALSE))","v":""},{"$f":"IF(ISERROR(VLOOKUP(U70,勤務シフト一覧!$B$4:$D$106,3,FALSE)),\"\",VLOOKUP(U70,勤務シフト一覧!$B$4:$D$106,3,FALSE))","v":""},{"$f":"IF(ISERROR(VLOOKUP(V70,勤務シフト一覧!$B$4:$D$106,3,FALSE)),\"\",VLOOKUP(V70,勤務シフト一覧!$B$4:$D$106,3,FALSE))","v":""},{"$f":"IF(ISERROR(VLOOKUP(W70,勤務シフト一覧!$B$4:$D$106,3,FALSE)),\"\",VLOOKUP(W70,勤務シフト一覧!$B$4:$D$106,3,FALSE))","v":""},{"$f":"IF(ISERROR(VLOOKUP(X70,勤務シフト一覧!$B$4:$D$106,3,FALSE)),\"\",VLOOKUP(X70,勤務シフト一覧!$B$4:$D$106,3,FALSE))","v":""},{"$f":"IF(ISERROR(VLOOKUP(Y70,勤務シフト一覧!$B$4:$D$106,3,FALSE)),\"\",VLOOKUP(Y70,勤務シフト一覧!$B$4:$D$106,3,FALSE))","v":""},{"$f":"IF(ISERROR(VLOOKUP(Z70,勤務シフト一覧!$B$4:$D$106,3,FALSE)),\"\",VLOOKUP(Z70,勤務シフト一覧!$B$4:$D$106,3,FALSE))","v":""},{"$f":"IF(ISERROR(VLOOKUP(AA70,勤務シフト一覧!$B$4:$D$106,3,FALSE)),\"\",VLOOKUP(AA70,勤務シフト一覧!$B$4:$D$106,3,FALSE))","v":""},{"$f":"IF(ISERROR(VLOOKUP(AB70,勤務シフト一覧!$B$4:$D$106,3,FALSE)),\"\",VLOOKUP(AB70,勤務シフト一覧!$B$4:$D$106,3,FALSE))","v":""},{"$f":"IF(ISERROR(VLOOKUP(AC70,勤務シフト一覧!$B$4:$D$106,3,FALSE)),\"\",VLOOKUP(AC70,勤務シフト一覧!$B$4:$D$106,3,FALSE))","v":""},{"$f":"IF(ISERROR(VLOOKUP(AD70,勤務シフト一覧!$B$4:$D$106,3,FALSE)),\"\",VLOOKUP(AD70,勤務シフト一覧!$B$4:$D$106,3,FALSE))","v":""},{"$f":"IF(ISERROR(VLOOKUP(AE70,勤務シフト一覧!$B$4:$D$106,3,FALSE)),\"\",VLOOKUP(AE70,勤務シフト一覧!$B$4:$D$106,3,FALSE))","v":""},{"$f":"IF(ISERROR(VLOOKUP(AF70,勤務シフト一覧!$B$4:$D$106,3,FALSE)),\"\",VLOOKUP(AF70,勤務シフト一覧!$B$4:$D$106,3,FALSE))","v":""},{"$f":"IF(ISERROR(VLOOKUP(AG70,勤務シフト一覧!$B$4:$D$106,3,FALSE)),\"\",VLOOKUP(AG70,勤務シフト一覧!$B$4:$D$106,3,FALSE))","v":""},{"$f":"IF(ISERROR(VLOOKUP(AH70,勤務シフト一覧!$B$4:$D$106,3,FALSE)),\"\",VLOOKUP(AH70,勤務シフト一覧!$B$4:$D$106,3,FALSE))","v":""},0,0,0,0,0,0,0,0,0,0,{"$f":"IF(LEN(職員一覧!D34)<>0,職員一覧!D34,\"\")","v":""},null,{"$f":"IF(勤務シフト一覧!$D71<>0,IF(勤務シフト一覧!$B71<> 0,勤務シフト一覧!$B71,\"\"),\"\")","v":"祭出張"}]
[null,null,"実施",null,null,null,null,null,null,null,null,null,null,null,null,null,null,null,null,null,null,null,null,null,null,null,null,null,null,null,null,null,null,null,{"$f":"IF(ISERROR(VLOOKUP(D71,勤務シフト一覧!$B$4:$C$106,2,FALSE)),\"\",VLOOKUP(D71,勤務シフト一覧!$B$4:$C$106,2,FALSE))","v":""},{"$f":"IF(ISERROR(VLOOKUP(E71,勤務シフト一覧!$B$4:$C$106,2,FALSE)),\"\",VLOOKUP(E71,勤務シフト一覧!$B$4:$C$106,2,FALSE))","v":""},{"$f":"IF(ISERROR(VLOOKUP(F71,勤務シフト一覧!$B$4:$C$106,2,FALSE)),\"\",VLOOKUP(F71,勤務シフト一覧!$B$4:$C$106,2,FALSE))","v":""},{"$f":"IF(ISERROR(VLOOKUP(G71,勤務シフト一覧!$B$4:$C$106,2,FALSE)),\"\",VLOOKUP(G71,勤務シフト一覧!$B$4:$C$106,2,FALSE))","v":""},{"$f":"IF(ISERROR(VLOOKUP(H71,勤務シフト一覧!$B$4:$C$106,2,FALSE)),\"\",VLOOKUP(H71,勤務シフト一覧!$B$4:$C$106,2,FALSE))","v":""},{"$f":"IF(ISERROR(VLOOKUP(I71,勤務シフト一覧!$B$4:$C$106,2,FALSE)),\"\",VLOOKUP(I71,勤務シフト一覧!$B$4:$C$106,2,FALSE))","v":""},{"$f":"IF(ISERROR(VLOOKUP(J71,勤務シフト一覧!$B$4:$C$106,2,FALSE)),\"\",VLOOKUP(J71,勤務シフト一覧!$B$4:$C$106,2,FALSE))","v":""},{"$f":"IF(ISERROR(VLOOKUP(K71,勤務シフト一覧!$B$4:$C$106,2,FALSE)),\"\",VLOOKUP(K71,勤務シフト一覧!$B$4:$C$106,2,FALSE))","v":""},{"$f":"IF(ISERROR(VLOOKUP(L71,勤務シフト一覧!$B$4:$C$106,2,FALSE)),\"\",VLOOKUP(L71,勤務シフト一覧!$B$4:$C$106,2,FALSE))","v":""},{"$f":"IF(ISERROR(VLOOKUP(M71,勤務シフト一覧!$B$4:$C$106,2,FALSE)),\"\",VLOOKUP(M71,勤務シフト一覧!$B$4:$C$106,2,FALSE))","v":""},{"$f":"IF(ISERROR(VLOOKUP(N71,勤務シフト一覧!$B$4:$C$106,2,FALSE)),\"\",VLOOKUP(N71,勤務シフト一覧!$B$4:$C$106,2,FALSE))","v":""},{"$f":"IF(ISERROR(VLOOKUP(O71,勤務シフト一覧!$B$4:$C$106,2,FALSE)),\"\",VLOOKUP(O71,勤務シフト一覧!$B$4:$C$106,2,FALSE))","v":""},{"$f":"IF(ISERROR(VLOOKUP(P71,勤務シフト一覧!$B$4:$C$106,2,FALSE)),\"\",VLOOKUP(P71,勤務シフト一覧!$B$4:$C$106,2,FALSE))","v":""},{"$f":"IF(ISERROR(VLOOKUP(Q71,勤務シフト一覧!$B$4:$C$106,2,FALSE)),\"\",VLOOKUP(Q71,勤務シフト一覧!$B$4:$C$106,2,FALSE))","v":""},{"$f":"IF(ISERROR(VLOOKUP(R71,勤務シフト一覧!$B$4:$C$106,2,FALSE)),\"\",VLOOKUP(R71,勤務シフト一覧!$B$4:$C$106,2,FALSE))","v":""},{"$f":"IF(ISERROR(VLOOKUP(S71,勤務シフト一覧!$B$4:$C$106,2,FALSE)),\"\",VLOOKUP(S71,勤務シフト一覧!$B$4:$C$106,2,FALSE))","v":""},{"$f":"IF(ISERROR(VLOOKUP(T71,勤務シフト一覧!$B$4:$C$106,2,FALSE)),\"\",VLOOKUP(T71,勤務シフト一覧!$B$4:$C$106,2,FALSE))","v":""},{"$f":"IF(ISERROR(VLOOKUP(U71,勤務シフト一覧!$B$4:$C$106,2,FALSE)),\"\",VLOOKUP(U71,勤務シフト一覧!$B$4:$C$106,2,FALSE))","v":""},{"$f":"IF(ISERROR(VLOOKUP(V71,勤務シフト一覧!$B$4:$C$106,2,FALSE)),\"\",VLOOKUP(V71,勤務シフト一覧!$B$4:$C$106,2,FALSE))","v":""},{"$f":"IF(ISERROR(VLOOKUP(W71,勤務シフト一覧!$B$4:$C$106,2,FALSE)),\"\",VLOOKUP(W71,勤務シフト一覧!$B$4:$C$106,2,FALSE))","v":""},{"$f":"IF(ISERROR(VLOOKUP(X71,勤務シフト一覧!$B$4:$C$106,2,FALSE)),\"\",VLOOKUP(X71,勤務シフト一覧!$B$4:$C$106,2,FALSE))","v":""},{"$f":"IF(ISERROR(VLOOKUP(Y71,勤務シフト一覧!$B$4:$C$106,2,FALSE)),\"\",VLOOKUP(Y71,勤務シフト一覧!$B$4:$C$106,2,FALSE))","v":""},{"$f":"IF(ISERROR(VLOOKUP(Z71,勤務シフト一覧!$B$4:$C$106,2,FALSE)),\"\",VLOOKUP(Z71,勤務シフト一覧!$B$4:$C$106,2,FALSE))","v":""},{"$f":"IF(ISERROR(VLOOKUP(AA71,勤務シフト一覧!$B$4:$C$106,2,FALSE)),\"\",VLOOKUP(AA71,勤務シフト一覧!$B$4:$C$106,2,FALSE))","v":""},{"$f":"IF(ISERROR(VLOOKUP(AB71,勤務シフト一覧!$B$4:$C$106,2,FALSE)),\"\",VLOOKUP(AB71,勤務シフト一覧!$B$4:$C$106,2,FALSE))","v":""},{"$f":"IF(ISERROR(VLOOKUP(AC71,勤務シフト一覧!$B$4:$C$106,2,FALSE)),\"\",VLOOKUP(AC71,勤務シフト一覧!$B$4:$C$106,2,FALSE))","v":""},{"$f":"IF(ISERROR(VLOOKUP(AD71,勤務シフト一覧!$B$4:$C$106,2,FALSE)),\"\",VLOOKUP(AD71,勤務シフト一覧!$B$4:$C$106,2,FALSE))","v":""},{"$f":"IF(ISERROR(VLOOKUP(AE71,勤務シフト一覧!$B$4:$C$106,2,FALSE)),\"\",VLOOKUP(AE71,勤務シフト一覧!$B$4:$C$106,2,FALSE))","v":""},{"$f":"IF(ISERROR(VLOOKUP(AF71,勤務シフト一覧!$B$4:$C$106,2,FALSE)),\"\",VLOOKUP(AF71,勤務シフト一覧!$B$4:$C$106,2,FALSE))","v":""},{"$f":"IF(ISERROR(VLOOKUP(AG71,勤務シフト一覧!$B$4:$C$106,2,FALSE)),\"\",VLOOKUP(AG71,勤務シフト一覧!$B$4:$C$106,2,FALSE))","v":""},{"$f":"IF(ISERROR(VLOOKUP(AH71,勤務シフト一覧!$B$4:$C$106,2,FALSE)),\"\",VLOOKUP(AH71,勤務シフト一覧!$B$4:$C$106,2,FALSE))","v":""},null,{"$f":"IF(ISERROR(VLOOKUP(D71,勤務シフト一覧!$B$4:$D$106,3,FALSE)),\"\",VLOOKUP(D71,勤務シフト一覧!$B$4:$D$106,3,FALSE))","v":""},{"$f":"IF(ISERROR(VLOOKUP(E71,勤務シフト一覧!$B$4:$D$106,3,FALSE)),\"\",VLOOKUP(E71,勤務シフト一覧!$B$4:$D$106,3,FALSE))","v":""},{"$f":"IF(ISERROR(VLOOKUP(F71,勤務シフト一覧!$B$4:$D$106,3,FALSE)),\"\",VLOOKUP(F71,勤務シフト一覧!$B$4:$D$106,3,FALSE))","v":""},{"$f":"IF(ISERROR(VLOOKUP(G71,勤務シフト一覧!$B$4:$D$106,3,FALSE)),\"\",VLOOKUP(G71,勤務シフト一覧!$B$4:$D$106,3,FALSE))","v":""},{"$f":"IF(ISERROR(VLOOKUP(H71,勤務シフト一覧!$B$4:$D$106,3,FALSE)),\"\",VLOOKUP(H71,勤務シフト一覧!$B$4:$D$106,3,FALSE))","v":""},{"$f":"IF(ISERROR(VLOOKUP(I71,勤務シフト一覧!$B$4:$D$106,3,FALSE)),\"\",VLOOKUP(I71,勤務シフト一覧!$B$4:$D$106,3,FALSE))","v":""},{"$f":"IF(ISERROR(VLOOKUP(J71,勤務シフト一覧!$B$4:$D$106,3,FALSE)),\"\",VLOOKUP(J71,勤務シフト一覧!$B$4:$D$106,3,FALSE))","v":""},{"$f":"IF(ISERROR(VLOOKUP(K71,勤務シフト一覧!$B$4:$D$106,3,FALSE)),\"\",VLOOKUP(K71,勤務シフト一覧!$B$4:$D$106,3,FALSE))","v":""},{"$f":"IF(ISERROR(VLOOKUP(L71,勤務シフト一覧!$B$4:$D$106,3,FALSE)),\"\",VLOOKUP(L71,勤務シフト一覧!$B$4:$D$106,3,FALSE))","v":""},{"$f":"IF(ISERROR(VLOOKUP(M71,勤務シフト一覧!$B$4:$D$106,3,FALSE)),\"\",VLOOKUP(M71,勤務シフト一覧!$B$4:$D$106,3,FALSE))","v":""},{"$f":"IF(ISERROR(VLOOKUP(N71,勤務シフト一覧!$B$4:$D$106,3,FALSE)),\"\",VLOOKUP(N71,勤務シフト一覧!$B$4:$D$106,3,FALSE))","v":""},{"$f":"IF(ISERROR(VLOOKUP(O71,勤務シフト一覧!$B$4:$D$106,3,FALSE)),\"\",VLOOKUP(O71,勤務シフト一覧!$B$4:$D$106,3,FALSE))","v":""},{"$f":"IF(ISERROR(VLOOKUP(P71,勤務シフト一覧!$B$4:$D$106,3,FALSE)),\"\",VLOOKUP(P71,勤務シフト一覧!$B$4:$D$106,3,FALSE))","v":""},{"$f":"IF(ISERROR(VLOOKUP(Q71,勤務シフト一覧!$B$4:$D$106,3,FALSE)),\"\",VLOOKUP(Q71,勤務シフト一覧!$B$4:$D$106,3,FALSE))","v":""},{"$f":"IF(ISERROR(VLOOKUP(R71,勤務シフト一覧!$B$4:$D$106,3,FALSE)),\"\",VLOOKUP(R71,勤務シフト一覧!$B$4:$D$106,3,FALSE))","v":""},{"$f":"IF(ISERROR(VLOOKUP(S71,勤務シフト一覧!$B$4:$D$106,3,FALSE)),\"\",VLOOKUP(S71,勤務シフト一覧!$B$4:$D$106,3,FALSE))","v":""},{"$f":"IF(ISERROR(VLOOKUP(T71,勤務シフト一覧!$B$4:$D$106,3,FALSE)),\"\",VLOOKUP(T71,勤務シフト一覧!$B$4:$D$106,3,FALSE))","v":""},{"$f":"IF(ISERROR(VLOOKUP(U71,勤務シフト一覧!$B$4:$D$106,3,FALSE)),\"\",VLOOKUP(U71,勤務シフト一覧!$B$4:$D$106,3,FALSE))","v":""},{"$f":"IF(ISERROR(VLOOKUP(V71,勤務シフト一覧!$B$4:$D$106,3,FALSE)),\"\",VLOOKUP(V71,勤務シフト一覧!$B$4:$D$106,3,FALSE))","v":""},{"$f":"IF(ISERROR(VLOOKUP(W71,勤務シフト一覧!$B$4:$D$106,3,FALSE)),\"\",VLOOKUP(W71,勤務シフト一覧!$B$4:$D$106,3,FALSE))","v":""},{"$f":"IF(ISERROR(VLOOKUP(X71,勤務シフト一覧!$B$4:$D$106,3,FALSE)),\"\",VLOOKUP(X71,勤務シフト一覧!$B$4:$D$106,3,FALSE))","v":""},{"$f":"IF(ISERROR(VLOOKUP(Y71,勤務シフト一覧!$B$4:$D$106,3,FALSE)),\"\",VLOOKUP(Y71,勤務シフト一覧!$B$4:$D$106,3,FALSE))","v":""},{"$f":"IF(ISERROR(VLOOKUP(Z71,勤務シフト一覧!$B$4:$D$106,3,FALSE)),\"\",VLOOKUP(Z71,勤務シフト一覧!$B$4:$D$106,3,FALSE))","v":""},{"$f":"IF(ISERROR(VLOOKUP(AA71,勤務シフト一覧!$B$4:$D$106,3,FALSE)),\"\",VLOOKUP(AA71,勤務シフト一覧!$B$4:$D$106,3,FALSE))","v":""},{"$f":"IF(ISERROR(VLOOKUP(AB71,勤務シフト一覧!$B$4:$D$106,3,FALSE)),\"\",VLOOKUP(AB71,勤務シフト一覧!$B$4:$D$106,3,FALSE))","v":""},{"$f":"IF(ISERROR(VLOOKUP(AC71,勤務シフト一覧!$B$4:$D$106,3,FALSE)),\"\",VLOOKUP(AC71,勤務シフト一覧!$B$4:$D$106,3,FALSE))","v":""},{"$f":"IF(ISERROR(VLOOKUP(AD71,勤務シフト一覧!$B$4:$D$106,3,FALSE)),\"\",VLOOKUP(AD71,勤務シフト一覧!$B$4:$D$106,3,FALSE))","v":""},{"$f":"IF(ISERROR(VLOOKUP(AE71,勤務シフト一覧!$B$4:$D$106,3,FALSE)),\"\",VLOOKUP(AE71,勤務シフト一覧!$B$4:$D$106,3,FALSE))","v":""},{"$f":"IF(ISERROR(VLOOKUP(AF71,勤務シフト一覧!$B$4:$D$106,3,FALSE)),\"\",VLOOKUP(AF71,勤務シフト一覧!$B$4:$D$106,3,FALSE))","v":""},{"$f":"IF(ISERROR(VLOOKUP(AG71,勤務シフト一覧!$B$4:$D$106,3,FALSE)),\"\",VLOOKUP(AG71,勤務シフト一覧!$B$4:$D$106,3,FALSE))","v":""},{"$f":"IF(ISERROR(VLOOKUP(AH71,勤務シフト一覧!$B$4:$D$106,3,FALSE)),\"\",VLOOKUP(AH71,勤務シフト一覧!$B$4:$D$106,3,FALSE))","v":""},0,0,0,0,0,0,0,0,0,0,null,null,{"$f":"IF(勤務シフト一覧!$D72<>0,IF(勤務シフト一覧!$B72<> 0,勤務シフト一覧!$B72,\"\"),\"\")","v":"祭А出"}]
[{"$f":"IF(LEN(職員一覧!B35)<>0,職員一覧!B35,\"\")","v":""},{"$f":"IF(LEN(職員一覧!C35)<>0,職員一覧!C35,\"\")","v":""},"予定",null,null,null,null,null,null,null,null,null,null,null,null,null,null,null,null,null,null,null,null,null,null,null,null,null,null,null,null,null,null,null,{"$f":"IF(ISERROR(VLOOKUP(D72,勤務シフト一覧!$B$4:$C$106,2,FALSE)),\"\",VLOOKUP(D72,勤務シフト一覧!$B$4:$C$106,2,FALSE))","v":""},{"$f":"IF(ISERROR(VLOOKUP(E72,勤務シフト一覧!$B$4:$C$106,2,FALSE)),\"\",VLOOKUP(E72,勤務シフト一覧!$B$4:$C$106,2,FALSE))","v":""},{"$f":"IF(ISERROR(VLOOKUP(F72,勤務シフト一覧!$B$4:$C$106,2,FALSE)),\"\",VLOOKUP(F72,勤務シフト一覧!$B$4:$C$106,2,FALSE))","v":""},{"$f":"IF(ISERROR(VLOOKUP(G72,勤務シフト一覧!$B$4:$C$106,2,FALSE)),\"\",VLOOKUP(G72,勤務シフト一覧!$B$4:$C$106,2,FALSE))","v":""},{"$f":"IF(ISERROR(VLOOKUP(H72,勤務シフト一覧!$B$4:$C$106,2,FALSE)),\"\",VLOOKUP(H72,勤務シフト一覧!$B$4:$C$106,2,FALSE))","v":""},{"$f":"IF(ISERROR(VLOOKUP(I72,勤務シフト一覧!$B$4:$C$106,2,FALSE)),\"\",VLOOKUP(I72,勤務シフト一覧!$B$4:$C$106,2,FALSE))","v":""},{"$f":"IF(ISERROR(VLOOKUP(J72,勤務シフト一覧!$B$4:$C$106,2,FALSE)),\"\",VLOOKUP(J72,勤務シフト一覧!$B$4:$C$106,2,FALSE))","v":""},{"$f":"IF(ISERROR(VLOOKUP(K72,勤務シフト一覧!$B$4:$C$106,2,FALSE)),\"\",VLOOKUP(K72,勤務シフト一覧!$B$4:$C$106,2,FALSE))","v":""},{"$f":"IF(ISERROR(VLOOKUP(L72,勤務シフト一覧!$B$4:$C$106,2,FALSE)),\"\",VLOOKUP(L72,勤務シフト一覧!$B$4:$C$106,2,FALSE))","v":""},{"$f":"IF(ISERROR(VLOOKUP(M72,勤務シフト一覧!$B$4:$C$106,2,FALSE)),\"\",VLOOKUP(M72,勤務シフト一覧!$B$4:$C$106,2,FALSE))","v":""},{"$f":"IF(ISERROR(VLOOKUP(N72,勤務シフト一覧!$B$4:$C$106,2,FALSE)),\"\",VLOOKUP(N72,勤務シフト一覧!$B$4:$C$106,2,FALSE))","v":""},{"$f":"IF(ISERROR(VLOOKUP(O72,勤務シフト一覧!$B$4:$C$106,2,FALSE)),\"\",VLOOKUP(O72,勤務シフト一覧!$B$4:$C$106,2,FALSE))","v":""},{"$f":"IF(ISERROR(VLOOKUP(P72,勤務シフト一覧!$B$4:$C$106,2,FALSE)),\"\",VLOOKUP(P72,勤務シフト一覧!$B$4:$C$106,2,FALSE))","v":""},{"$f":"IF(ISERROR(VLOOKUP(Q72,勤務シフト一覧!$B$4:$C$106,2,FALSE)),\"\",VLOOKUP(Q72,勤務シフト一覧!$B$4:$C$106,2,FALSE))","v":""},{"$f":"IF(ISERROR(VLOOKUP(R72,勤務シフト一覧!$B$4:$C$106,2,FALSE)),\"\",VLOOKUP(R72,勤務シフト一覧!$B$4:$C$106,2,FALSE))","v":""},{"$f":"IF(ISERROR(VLOOKUP(S72,勤務シフト一覧!$B$4:$C$106,2,FALSE)),\"\",VLOOKUP(S72,勤務シフト一覧!$B$4:$C$106,2,FALSE))","v":""},{"$f":"IF(ISERROR(VLOOKUP(T72,勤務シフト一覧!$B$4:$C$106,2,FALSE)),\"\",VLOOKUP(T72,勤務シフト一覧!$B$4:$C$106,2,FALSE))","v":""},{"$f":"IF(ISERROR(VLOOKUP(U72,勤務シフト一覧!$B$4:$C$106,2,FALSE)),\"\",VLOOKUP(U72,勤務シフト一覧!$B$4:$C$106,2,FALSE))","v":""},{"$f":"IF(ISERROR(VLOOKUP(V72,勤務シフト一覧!$B$4:$C$106,2,FALSE)),\"\",VLOOKUP(V72,勤務シフト一覧!$B$4:$C$106,2,FALSE))","v":""},{"$f":"IF(ISERROR(VLOOKUP(W72,勤務シフト一覧!$B$4:$C$106,2,FALSE)),\"\",VLOOKUP(W72,勤務シフト一覧!$B$4:$C$106,2,FALSE))","v":""},{"$f":"IF(ISERROR(VLOOKUP(X72,勤務シフト一覧!$B$4:$C$106,2,FALSE)),\"\",VLOOKUP(X72,勤務シフト一覧!$B$4:$C$106,2,FALSE))","v":""},{"$f":"IF(ISERROR(VLOOKUP(Y72,勤務シフト一覧!$B$4:$C$106,2,FALSE)),\"\",VLOOKUP(Y72,勤務シフト一覧!$B$4:$C$106,2,FALSE))","v":""},{"$f":"IF(ISERROR(VLOOKUP(Z72,勤務シフト一覧!$B$4:$C$106,2,FALSE)),\"\",VLOOKUP(Z72,勤務シフト一覧!$B$4:$C$106,2,FALSE))","v":""},{"$f":"IF(ISERROR(VLOOKUP(AA72,勤務シフト一覧!$B$4:$C$106,2,FALSE)),\"\",VLOOKUP(AA72,勤務シフト一覧!$B$4:$C$106,2,FALSE))","v":""},{"$f":"IF(ISERROR(VLOOKUP(AB72,勤務シフト一覧!$B$4:$C$106,2,FALSE)),\"\",VLOOKUP(AB72,勤務シフト一覧!$B$4:$C$106,2,FALSE))","v":""},{"$f":"IF(ISERROR(VLOOKUP(AC72,勤務シフト一覧!$B$4:$C$106,2,FALSE)),\"\",VLOOKUP(AC72,勤務シフト一覧!$B$4:$C$106,2,FALSE))","v":""},{"$f":"IF(ISERROR(VLOOKUP(AD72,勤務シフト一覧!$B$4:$C$106,2,FALSE)),\"\",VLOOKUP(AD72,勤務シフト一覧!$B$4:$C$106,2,FALSE))","v":""},{"$f":"IF(ISERROR(VLOOKUP(AE72,勤務シフト一覧!$B$4:$C$106,2,FALSE)),\"\",VLOOKUP(AE72,勤務シフト一覧!$B$4:$C$106,2,FALSE))","v":""},{"$f":"IF(ISERROR(VLOOKUP(AF72,勤務シフト一覧!$B$4:$C$106,2,FALSE)),\"\",VLOOKUP(AF72,勤務シフト一覧!$B$4:$C$106,2,FALSE))","v":""},{"$f":"IF(ISERROR(VLOOKUP(AG72,勤務シフト一覧!$B$4:$C$106,2,FALSE)),\"\",VLOOKUP(AG72,勤務シフト一覧!$B$4:$C$106,2,FALSE))","v":""},{"$f":"IF(ISERROR(VLOOKUP(AH72,勤務シフト一覧!$B$4:$C$106,2,FALSE)),\"\",VLOOKUP(AH72,勤務シフト一覧!$B$4:$C$106,2,FALSE))","v":""},null,{"$f":"IF(ISERROR(VLOOKUP(D72,勤務シフト一覧!$B$4:$D$106,3,FALSE)),\"\",VLOOKUP(D72,勤務シフト一覧!$B$4:$D$106,3,FALSE))","v":""},{"$f":"IF(ISERROR(VLOOKUP(E72,勤務シフト一覧!$B$4:$D$106,3,FALSE)),\"\",VLOOKUP(E72,勤務シフト一覧!$B$4:$D$106,3,FALSE))","v":""},{"$f":"IF(ISERROR(VLOOKUP(F72,勤務シフト一覧!$B$4:$D$106,3,FALSE)),\"\",VLOOKUP(F72,勤務シフト一覧!$B$4:$D$106,3,FALSE))","v":""},{"$f":"IF(ISERROR(VLOOKUP(G72,勤務シフト一覧!$B$4:$D$106,3,FALSE)),\"\",VLOOKUP(G72,勤務シフト一覧!$B$4:$D$106,3,FALSE))","v":""},{"$f":"IF(ISERROR(VLOOKUP(H72,勤務シフト一覧!$B$4:$D$106,3,FALSE)),\"\",VLOOKUP(H72,勤務シフト一覧!$B$4:$D$106,3,FALSE))","v":""},{"$f":"IF(ISERROR(VLOOKUP(I72,勤務シフト一覧!$B$4:$D$106,3,FALSE)),\"\",VLOOKUP(I72,勤務シフト一覧!$B$4:$D$106,3,FALSE))","v":""},{"$f":"IF(ISERROR(VLOOKUP(J72,勤務シフト一覧!$B$4:$D$106,3,FALSE)),\"\",VLOOKUP(J72,勤務シフト一覧!$B$4:$D$106,3,FALSE))","v":""},{"$f":"IF(ISERROR(VLOOKUP(K72,勤務シフト一覧!$B$4:$D$106,3,FALSE)),\"\",VLOOKUP(K72,勤務シフト一覧!$B$4:$D$106,3,FALSE))","v":""},{"$f":"IF(ISERROR(VLOOKUP(L72,勤務シフト一覧!$B$4:$D$106,3,FALSE)),\"\",VLOOKUP(L72,勤務シフト一覧!$B$4:$D$106,3,FALSE))","v":""},{"$f":"IF(ISERROR(VLOOKUP(M72,勤務シフト一覧!$B$4:$D$106,3,FALSE)),\"\",VLOOKUP(M72,勤務シフト一覧!$B$4:$D$106,3,FALSE))","v":""},{"$f":"IF(ISERROR(VLOOKUP(N72,勤務シフト一覧!$B$4:$D$106,3,FALSE)),\"\",VLOOKUP(N72,勤務シフト一覧!$B$4:$D$106,3,FALSE))","v":""},{"$f":"IF(ISERROR(VLOOKUP(O72,勤務シフト一覧!$B$4:$D$106,3,FALSE)),\"\",VLOOKUP(O72,勤務シフト一覧!$B$4:$D$106,3,FALSE))","v":""},{"$f":"IF(ISERROR(VLOOKUP(P72,勤務シフト一覧!$B$4:$D$106,3,FALSE)),\"\",VLOOKUP(P72,勤務シフト一覧!$B$4:$D$106,3,FALSE))","v":""},{"$f":"IF(ISERROR(VLOOKUP(Q72,勤務シフト一覧!$B$4:$D$106,3,FALSE)),\"\",VLOOKUP(Q72,勤務シフト一覧!$B$4:$D$106,3,FALSE))","v":""},{"$f":"IF(ISERROR(VLOOKUP(R72,勤務シフト一覧!$B$4:$D$106,3,FALSE)),\"\",VLOOKUP(R72,勤務シフト一覧!$B$4:$D$106,3,FALSE))","v":""},{"$f":"IF(ISERROR(VLOOKUP(S72,勤務シフト一覧!$B$4:$D$106,3,FALSE)),\"\",VLOOKUP(S72,勤務シフト一覧!$B$4:$D$106,3,FALSE))","v":""},{"$f":"IF(ISERROR(VLOOKUP(T72,勤務シフト一覧!$B$4:$D$106,3,FALSE)),\"\",VLOOKUP(T72,勤務シフト一覧!$B$4:$D$106,3,FALSE))","v":""},{"$f":"IF(ISERROR(VLOOKUP(U72,勤務シフト一覧!$B$4:$D$106,3,FALSE)),\"\",VLOOKUP(U72,勤務シフト一覧!$B$4:$D$106,3,FALSE))","v":""},{"$f":"IF(ISERROR(VLOOKUP(V72,勤務シフト一覧!$B$4:$D$106,3,FALSE)),\"\",VLOOKUP(V72,勤務シフト一覧!$B$4:$D$106,3,FALSE))","v":""},{"$f":"IF(ISERROR(VLOOKUP(W72,勤務シフト一覧!$B$4:$D$106,3,FALSE)),\"\",VLOOKUP(W72,勤務シフト一覧!$B$4:$D$106,3,FALSE))","v":""},{"$f":"IF(ISERROR(VLOOKUP(X72,勤務シフト一覧!$B$4:$D$106,3,FALSE)),\"\",VLOOKUP(X72,勤務シフト一覧!$B$4:$D$106,3,FALSE))","v":""},{"$f":"IF(ISERROR(VLOOKUP(Y72,勤務シフト一覧!$B$4:$D$106,3,FALSE)),\"\",VLOOKUP(Y72,勤務シフト一覧!$B$4:$D$106,3,FALSE))","v":""},{"$f":"IF(ISERROR(VLOOKUP(Z72,勤務シフト一覧!$B$4:$D$106,3,FALSE)),\"\",VLOOKUP(Z72,勤務シフト一覧!$B$4:$D$106,3,FALSE))","v":""},{"$f":"IF(ISERROR(VLOOKUP(AA72,勤務シフト一覧!$B$4:$D$106,3,FALSE)),\"\",VLOOKUP(AA72,勤務シフト一覧!$B$4:$D$106,3,FALSE))","v":""},{"$f":"IF(ISERROR(VLOOKUP(AB72,勤務シフト一覧!$B$4:$D$106,3,FALSE)),\"\",VLOOKUP(AB72,勤務シフト一覧!$B$4:$D$106,3,FALSE))","v":""},{"$f":"IF(ISERROR(VLOOKUP(AC72,勤務シフト一覧!$B$4:$D$106,3,FALSE)),\"\",VLOOKUP(AC72,勤務シフト一覧!$B$4:$D$106,3,FALSE))","v":""},{"$f":"IF(ISERROR(VLOOKUP(AD72,勤務シフト一覧!$B$4:$D$106,3,FALSE)),\"\",VLOOKUP(AD72,勤務シフト一覧!$B$4:$D$106,3,FALSE))","v":""},{"$f":"IF(ISERROR(VLOOKUP(AE72,勤務シフト一覧!$B$4:$D$106,3,FALSE)),\"\",VLOOKUP(AE72,勤務シフト一覧!$B$4:$D$106,3,FALSE))","v":""},{"$f":"IF(ISERROR(VLOOKUP(AF72,勤務シフト一覧!$B$4:$D$106,3,FALSE)),\"\",VLOOKUP(AF72,勤務シフト一覧!$B$4:$D$106,3,FALSE))","v":""},{"$f":"IF(ISERROR(VLOOKUP(AG72,勤務シフト一覧!$B$4:$D$106,3,FALSE)),\"\",VLOOKUP(AG72,勤務シフト一覧!$B$4:$D$106,3,FALSE))","v":""},{"$f":"IF(ISERROR(VLOOKUP(AH72,勤務シフト一覧!$B$4:$D$106,3,FALSE)),\"\",VLOOKUP(AH72,勤務シフト一覧!$B$4:$D$106,3,FALSE))","v":""},0,0,0,0,0,0,0,0,0,0,{"$f":"IF(LEN(職員一覧!D35)<>0,職員一覧!D35,\"\")","v":""},null,{"$f":"IF(勤務シフト一覧!$D73<>0,IF(勤務シフト一覧!$B73<> 0,勤務シフト一覧!$B73,\"\"),\"\")","v":"祭P出"}]
[null,null,"実施",null,null,null,null,null,null,null,null,null,null,null,null,null,null,null,null,null,null,null,null,null,null,null,null,null,null,null,null,null,null,null,{"$f":"IF(ISERROR(VLOOKUP(D73,勤務シフト一覧!$B$4:$C$106,2,FALSE)),\"\",VLOOKUP(D73,勤務シフト一覧!$B$4:$C$106,2,FALSE))","v":""},{"$f":"IF(ISERROR(VLOOKUP(E73,勤務シフト一覧!$B$4:$C$106,2,FALSE)),\"\",VLOOKUP(E73,勤務シフト一覧!$B$4:$C$106,2,FALSE))","v":""},{"$f":"IF(ISERROR(VLOOKUP(F73,勤務シフト一覧!$B$4:$C$106,2,FALSE)),\"\",VLOOKUP(F73,勤務シフト一覧!$B$4:$C$106,2,FALSE))","v":""},{"$f":"IF(ISERROR(VLOOKUP(G73,勤務シフト一覧!$B$4:$C$106,2,FALSE)),\"\",VLOOKUP(G73,勤務シフト一覧!$B$4:$C$106,2,FALSE))","v":""},{"$f":"IF(ISERROR(VLOOKUP(H73,勤務シフト一覧!$B$4:$C$106,2,FALSE)),\"\",VLOOKUP(H73,勤務シフト一覧!$B$4:$C$106,2,FALSE))","v":""},{"$f":"IF(ISERROR(VLOOKUP(I73,勤務シフト一覧!$B$4:$C$106,2,FALSE)),\"\",VLOOKUP(I73,勤務シフト一覧!$B$4:$C$106,2,FALSE))","v":""},{"$f":"IF(ISERROR(VLOOKUP(J73,勤務シフト一覧!$B$4:$C$106,2,FALSE)),\"\",VLOOKUP(J73,勤務シフト一覧!$B$4:$C$106,2,FALSE))","v":""},{"$f":"IF(ISERROR(VLOOKUP(K73,勤務シフト一覧!$B$4:$C$106,2,FALSE)),\"\",VLOOKUP(K73,勤務シフト一覧!$B$4:$C$106,2,FALSE))","v":""},{"$f":"IF(ISERROR(VLOOKUP(L73,勤務シフト一覧!$B$4:$C$106,2,FALSE)),\"\",VLOOKUP(L73,勤務シフト一覧!$B$4:$C$106,2,FALSE))","v":""},{"$f":"IF(ISERROR(VLOOKUP(M73,勤務シフト一覧!$B$4:$C$106,2,FALSE)),\"\",VLOOKUP(M73,勤務シフト一覧!$B$4:$C$106,2,FALSE))","v":""},{"$f":"IF(ISERROR(VLOOKUP(N73,勤務シフト一覧!$B$4:$C$106,2,FALSE)),\"\",VLOOKUP(N73,勤務シフト一覧!$B$4:$C$106,2,FALSE))","v":""},{"$f":"IF(ISERROR(VLOOKUP(O73,勤務シフト一覧!$B$4:$C$106,2,FALSE)),\"\",VLOOKUP(O73,勤務シフト一覧!$B$4:$C$106,2,FALSE))","v":""},{"$f":"IF(ISERROR(VLOOKUP(P73,勤務シフト一覧!$B$4:$C$106,2,FALSE)),\"\",VLOOKUP(P73,勤務シフト一覧!$B$4:$C$106,2,FALSE))","v":""},{"$f":"IF(ISERROR(VLOOKUP(Q73,勤務シフト一覧!$B$4:$C$106,2,FALSE)),\"\",VLOOKUP(Q73,勤務シフト一覧!$B$4:$C$106,2,FALSE))","v":""},{"$f":"IF(ISERROR(VLOOKUP(R73,勤務シフト一覧!$B$4:$C$106,2,FALSE)),\"\",VLOOKUP(R73,勤務シフト一覧!$B$4:$C$106,2,FALSE))","v":""},{"$f":"IF(ISERROR(VLOOKUP(S73,勤務シフト一覧!$B$4:$C$106,2,FALSE)),\"\",VLOOKUP(S73,勤務シフト一覧!$B$4:$C$106,2,FALSE))","v":""},{"$f":"IF(ISERROR(VLOOKUP(T73,勤務シフト一覧!$B$4:$C$106,2,FALSE)),\"\",VLOOKUP(T73,勤務シフト一覧!$B$4:$C$106,2,FALSE))","v":""},{"$f":"IF(ISERROR(VLOOKUP(U73,勤務シフト一覧!$B$4:$C$106,2,FALSE)),\"\",VLOOKUP(U73,勤務シフト一覧!$B$4:$C$106,2,FALSE))","v":""},{"$f":"IF(ISERROR(VLOOKUP(V73,勤務シフト一覧!$B$4:$C$106,2,FALSE)),\"\",VLOOKUP(V73,勤務シフト一覧!$B$4:$C$106,2,FALSE))","v":""},{"$f":"IF(ISERROR(VLOOKUP(W73,勤務シフト一覧!$B$4:$C$106,2,FALSE)),\"\",VLOOKUP(W73,勤務シフト一覧!$B$4:$C$106,2,FALSE))","v":""},{"$f":"IF(ISERROR(VLOOKUP(X73,勤務シフト一覧!$B$4:$C$106,2,FALSE)),\"\",VLOOKUP(X73,勤務シフト一覧!$B$4:$C$106,2,FALSE))","v":""},{"$f":"IF(ISERROR(VLOOKUP(Y73,勤務シフト一覧!$B$4:$C$106,2,FALSE)),\"\",VLOOKUP(Y73,勤務シフト一覧!$B$4:$C$106,2,FALSE))","v":""},{"$f":"IF(ISERROR(VLOOKUP(Z73,勤務シフト一覧!$B$4:$C$106,2,FALSE)),\"\",VLOOKUP(Z73,勤務シフト一覧!$B$4:$C$106,2,FALSE))","v":""},{"$f":"IF(ISERROR(VLOOKUP(AA73,勤務シフト一覧!$B$4:$C$106,2,FALSE)),\"\",VLOOKUP(AA73,勤務シフト一覧!$B$4:$C$106,2,FALSE))","v":""},{"$f":"IF(ISERROR(VLOOKUP(AB73,勤務シフト一覧!$B$4:$C$106,2,FALSE)),\"\",VLOOKUP(AB73,勤務シフト一覧!$B$4:$C$106,2,FALSE))","v":""},{"$f":"IF(ISERROR(VLOOKUP(AC73,勤務シフト一覧!$B$4:$C$106,2,FALSE)),\"\",VLOOKUP(AC73,勤務シフト一覧!$B$4:$C$106,2,FALSE))","v":""},{"$f":"IF(ISERROR(VLOOKUP(AD73,勤務シフト一覧!$B$4:$C$106,2,FALSE)),\"\",VLOOKUP(AD73,勤務シフト一覧!$B$4:$C$106,2,FALSE))","v":""},{"$f":"IF(ISERROR(VLOOKUP(AE73,勤務シフト一覧!$B$4:$C$106,2,FALSE)),\"\",VLOOKUP(AE73,勤務シフト一覧!$B$4:$C$106,2,FALSE))","v":""},{"$f":"IF(ISERROR(VLOOKUP(AF73,勤務シフト一覧!$B$4:$C$106,2,FALSE)),\"\",VLOOKUP(AF73,勤務シフト一覧!$B$4:$C$106,2,FALSE))","v":""},{"$f":"IF(ISERROR(VLOOKUP(AG73,勤務シフト一覧!$B$4:$C$106,2,FALSE)),\"\",VLOOKUP(AG73,勤務シフト一覧!$B$4:$C$106,2,FALSE))","v":""},{"$f":"IF(ISERROR(VLOOKUP(AH73,勤務シフト一覧!$B$4:$C$106,2,FALSE)),\"\",VLOOKUP(AH73,勤務シフト一覧!$B$4:$C$106,2,FALSE))","v":""},null,{"$f":"IF(ISERROR(VLOOKUP(D73,勤務シフト一覧!$B$4:$D$106,3,FALSE)),\"\",VLOOKUP(D73,勤務シフト一覧!$B$4:$D$106,3,FALSE))","v":""},{"$f":"IF(ISERROR(VLOOKUP(E73,勤務シフト一覧!$B$4:$D$106,3,FALSE)),\"\",VLOOKUP(E73,勤務シフト一覧!$B$4:$D$106,3,FALSE))","v":""},{"$f":"IF(ISERROR(VLOOKUP(F73,勤務シフト一覧!$B$4:$D$106,3,FALSE)),\"\",VLOOKUP(F73,勤務シフト一覧!$B$4:$D$106,3,FALSE))","v":""},{"$f":"IF(ISERROR(VLOOKUP(G73,勤務シフト一覧!$B$4:$D$106,3,FALSE)),\"\",VLOOKUP(G73,勤務シフト一覧!$B$4:$D$106,3,FALSE))","v":""},{"$f":"IF(ISERROR(VLOOKUP(H73,勤務シフト一覧!$B$4:$D$106,3,FALSE)),\"\",VLOOKUP(H73,勤務シフト一覧!$B$4:$D$106,3,FALSE))","v":""},{"$f":"IF(ISERROR(VLOOKUP(I73,勤務シフト一覧!$B$4:$D$106,3,FALSE)),\"\",VLOOKUP(I73,勤務シフト一覧!$B$4:$D$106,3,FALSE))","v":""},{"$f":"IF(ISERROR(VLOOKUP(J73,勤務シフト一覧!$B$4:$D$106,3,FALSE)),\"\",VLOOKUP(J73,勤務シフト一覧!$B$4:$D$106,3,FALSE))","v":""},{"$f":"IF(ISERROR(VLOOKUP(K73,勤務シフト一覧!$B$4:$D$106,3,FALSE)),\"\",VLOOKUP(K73,勤務シフト一覧!$B$4:$D$106,3,FALSE))","v":""},{"$f":"IF(ISERROR(VLOOKUP(L73,勤務シフト一覧!$B$4:$D$106,3,FALSE)),\"\",VLOOKUP(L73,勤務シフト一覧!$B$4:$D$106,3,FALSE))","v":""},{"$f":"IF(ISERROR(VLOOKUP(M73,勤務シフト一覧!$B$4:$D$106,3,FALSE)),\"\",VLOOKUP(M73,勤務シフト一覧!$B$4:$D$106,3,FALSE))","v":""},{"$f":"IF(ISERROR(VLOOKUP(N73,勤務シフト一覧!$B$4:$D$106,3,FALSE)),\"\",VLOOKUP(N73,勤務シフト一覧!$B$4:$D$106,3,FALSE))","v":""},{"$f":"IF(ISERROR(VLOOKUP(O73,勤務シフト一覧!$B$4:$D$106,3,FALSE)),\"\",VLOOKUP(O73,勤務シフト一覧!$B$4:$D$106,3,FALSE))","v":""},{"$f":"IF(ISERROR(VLOOKUP(P73,勤務シフト一覧!$B$4:$D$106,3,FALSE)),\"\",VLOOKUP(P73,勤務シフト一覧!$B$4:$D$106,3,FALSE))","v":""},{"$f":"IF(ISERROR(VLOOKUP(Q73,勤務シフト一覧!$B$4:$D$106,3,FALSE)),\"\",VLOOKUP(Q73,勤務シフト一覧!$B$4:$D$106,3,FALSE))","v":""},{"$f":"IF(ISERROR(VLOOKUP(R73,勤務シフト一覧!$B$4:$D$106,3,FALSE)),\"\",VLOOKUP(R73,勤務シフト一覧!$B$4:$D$106,3,FALSE))","v":""},{"$f":"IF(ISERROR(VLOOKUP(S73,勤務シフト一覧!$B$4:$D$106,3,FALSE)),\"\",VLOOKUP(S73,勤務シフト一覧!$B$4:$D$106,3,FALSE))","v":""},{"$f":"IF(ISERROR(VLOOKUP(T73,勤務シフト一覧!$B$4:$D$106,3,FALSE)),\"\",VLOOKUP(T73,勤務シフト一覧!$B$4:$D$106,3,FALSE))","v":""},{"$f":"IF(ISERROR(VLOOKUP(U73,勤務シフト一覧!$B$4:$D$106,3,FALSE)),\"\",VLOOKUP(U73,勤務シフト一覧!$B$4:$D$106,3,FALSE))","v":""},{"$f":"IF(ISERROR(VLOOKUP(V73,勤務シフト一覧!$B$4:$D$106,3,FALSE)),\"\",VLOOKUP(V73,勤務シフト一覧!$B$4:$D$106,3,FALSE))","v":""},{"$f":"IF(ISERROR(VLOOKUP(W73,勤務シフト一覧!$B$4:$D$106,3,FALSE)),\"\",VLOOKUP(W73,勤務シフト一覧!$B$4:$D$106,3,FALSE))","v":""},{"$f":"IF(ISERROR(VLOOKUP(X73,勤務シフト一覧!$B$4:$D$106,3,FALSE)),\"\",VLOOKUP(X73,勤務シフト一覧!$B$4:$D$106,3,FALSE))","v":""},{"$f":"IF(ISERROR(VLOOKUP(Y73,勤務シフト一覧!$B$4:$D$106,3,FALSE)),\"\",VLOOKUP(Y73,勤務シフト一覧!$B$4:$D$106,3,FALSE))","v":""},{"$f":"IF(ISERROR(VLOOKUP(Z73,勤務シフト一覧!$B$4:$D$106,3,FALSE)),\"\",VLOOKUP(Z73,勤務シフト一覧!$B$4:$D$106,3,FALSE))","v":""},{"$f":"IF(ISERROR(VLOOKUP(AA73,勤務シフト一覧!$B$4:$D$106,3,FALSE)),\"\",VLOOKUP(AA73,勤務シフト一覧!$B$4:$D$106,3,FALSE))","v":""},{"$f":"IF(ISERROR(VLOOKUP(AB73,勤務シフト一覧!$B$4:$D$106,3,FALSE)),\"\",VLOOKUP(AB73,勤務シフト一覧!$B$4:$D$106,3,FALSE))","v":""},{"$f":"IF(ISERROR(VLOOKUP(AC73,勤務シフト一覧!$B$4:$D$106,3,FALSE)),\"\",VLOOKUP(AC73,勤務シフト一覧!$B$4:$D$106,3,FALSE))","v":""},{"$f":"IF(ISERROR(VLOOKUP(AD73,勤務シフト一覧!$B$4:$D$106,3,FALSE)),\"\",VLOOKUP(AD73,勤務シフト一覧!$B$4:$D$106,3,FALSE))","v":""},{"$f":"IF(ISERROR(VLOOKUP(AE73,勤務シフト一覧!$B$4:$D$106,3,FALSE)),\"\",VLOOKUP(AE73,勤務シフト一覧!$B$4:$D$106,3,FALSE))","v":""},{"$f":"IF(ISERROR(VLOOKUP(AF73,勤務シフト一覧!$B$4:$D$106,3,FALSE)),\"\",VLOOKUP(AF73,勤務シフト一覧!$B$4:$D$106,3,FALSE))","v":""},{"$f":"IF(ISERROR(VLOOKUP(AG73,勤務シフト一覧!$B$4:$D$106,3,FALSE)),\"\",VLOOKUP(AG73,勤務シフト一覧!$B$4:$D$106,3,FALSE))","v":""},{"$f":"IF(ISERROR(VLOOKUP(AH73,勤務シフト一覧!$B$4:$D$106,3,FALSE)),\"\",VLOOKUP(AH73,勤務シフト一覧!$B$4:$D$106,3,FALSE))","v":""},0,0,0,0,0,0,0,0,0,0,null,null,{"$f":"IF(勤務シフト一覧!$D74<>0,IF(勤務シフト一覧!$B74<> 0,勤務シフト一覧!$B74,\"\"),\"\")","v":"*祭日"}]
[{"$f":"IF(LEN(職員一覧!B36)<>0,職員一覧!B36,\"\")","v":""},{"$f":"IF(LEN(職員一覧!C36)<>0,職員一覧!C36,\"\")","v":""},"予定",null,null,null,null,null,null,null,null,null,null,null,null,null,null,null,null,null,null,null,null,null,null,null,null,null,null,null,null,null,null,null,{"$f":"IF(ISERROR(VLOOKUP(D74,勤務シフト一覧!$B$4:$C$106,2,FALSE)),\"\",VLOOKUP(D74,勤務シフト一覧!$B$4:$C$106,2,FALSE))","v":""},{"$f":"IF(ISERROR(VLOOKUP(E74,勤務シフト一覧!$B$4:$C$106,2,FALSE)),\"\",VLOOKUP(E74,勤務シフト一覧!$B$4:$C$106,2,FALSE))","v":""},{"$f":"IF(ISERROR(VLOOKUP(F74,勤務シフト一覧!$B$4:$C$106,2,FALSE)),\"\",VLOOKUP(F74,勤務シフト一覧!$B$4:$C$106,2,FALSE))","v":""},{"$f":"IF(ISERROR(VLOOKUP(G74,勤務シフト一覧!$B$4:$C$106,2,FALSE)),\"\",VLOOKUP(G74,勤務シフト一覧!$B$4:$C$106,2,FALSE))","v":""},{"$f":"IF(ISERROR(VLOOKUP(H74,勤務シフト一覧!$B$4:$C$106,2,FALSE)),\"\",VLOOKUP(H74,勤務シフト一覧!$B$4:$C$106,2,FALSE))","v":""},{"$f":"IF(ISERROR(VLOOKUP(I74,勤務シフト一覧!$B$4:$C$106,2,FALSE)),\"\",VLOOKUP(I74,勤務シフト一覧!$B$4:$C$106,2,FALSE))","v":""},{"$f":"IF(ISERROR(VLOOKUP(J74,勤務シフト一覧!$B$4:$C$106,2,FALSE)),\"\",VLOOKUP(J74,勤務シフト一覧!$B$4:$C$106,2,FALSE))","v":""},{"$f":"IF(ISERROR(VLOOKUP(K74,勤務シフト一覧!$B$4:$C$106,2,FALSE)),\"\",VLOOKUP(K74,勤務シフト一覧!$B$4:$C$106,2,FALSE))","v":""},{"$f":"IF(ISERROR(VLOOKUP(L74,勤務シフト一覧!$B$4:$C$106,2,FALSE)),\"\",VLOOKUP(L74,勤務シフト一覧!$B$4:$C$106,2,FALSE))","v":""},{"$f":"IF(ISERROR(VLOOKUP(M74,勤務シフト一覧!$B$4:$C$106,2,FALSE)),\"\",VLOOKUP(M74,勤務シフト一覧!$B$4:$C$106,2,FALSE))","v":""},{"$f":"IF(ISERROR(VLOOKUP(N74,勤務シフト一覧!$B$4:$C$106,2,FALSE)),\"\",VLOOKUP(N74,勤務シフト一覧!$B$4:$C$106,2,FALSE))","v":""},{"$f":"IF(ISERROR(VLOOKUP(O74,勤務シフト一覧!$B$4:$C$106,2,FALSE)),\"\",VLOOKUP(O74,勤務シフト一覧!$B$4:$C$106,2,FALSE))","v":""},{"$f":"IF(ISERROR(VLOOKUP(P74,勤務シフト一覧!$B$4:$C$106,2,FALSE)),\"\",VLOOKUP(P74,勤務シフト一覧!$B$4:$C$106,2,FALSE))","v":""},{"$f":"IF(ISERROR(VLOOKUP(Q74,勤務シフト一覧!$B$4:$C$106,2,FALSE)),\"\",VLOOKUP(Q74,勤務シフト一覧!$B$4:$C$106,2,FALSE))","v":""},{"$f":"IF(ISERROR(VLOOKUP(R74,勤務シフト一覧!$B$4:$C$106,2,FALSE)),\"\",VLOOKUP(R74,勤務シフト一覧!$B$4:$C$106,2,FALSE))","v":""},{"$f":"IF(ISERROR(VLOOKUP(S74,勤務シフト一覧!$B$4:$C$106,2,FALSE)),\"\",VLOOKUP(S74,勤務シフト一覧!$B$4:$C$106,2,FALSE))","v":""},{"$f":"IF(ISERROR(VLOOKUP(T74,勤務シフト一覧!$B$4:$C$106,2,FALSE)),\"\",VLOOKUP(T74,勤務シフト一覧!$B$4:$C$106,2,FALSE))","v":""},{"$f":"IF(ISERROR(VLOOKUP(U74,勤務シフト一覧!$B$4:$C$106,2,FALSE)),\"\",VLOOKUP(U74,勤務シフト一覧!$B$4:$C$106,2,FALSE))","v":""},{"$f":"IF(ISERROR(VLOOKUP(V74,勤務シフト一覧!$B$4:$C$106,2,FALSE)),\"\",VLOOKUP(V74,勤務シフト一覧!$B$4:$C$106,2,FALSE))","v":""},{"$f":"IF(ISERROR(VLOOKUP(W74,勤務シフト一覧!$B$4:$C$106,2,FALSE)),\"\",VLOOKUP(W74,勤務シフト一覧!$B$4:$C$106,2,FALSE))","v":""},{"$f":"IF(ISERROR(VLOOKUP(X74,勤務シフト一覧!$B$4:$C$106,2,FALSE)),\"\",VLOOKUP(X74,勤務シフト一覧!$B$4:$C$106,2,FALSE))","v":""},{"$f":"IF(ISERROR(VLOOKUP(Y74,勤務シフト一覧!$B$4:$C$106,2,FALSE)),\"\",VLOOKUP(Y74,勤務シフト一覧!$B$4:$C$106,2,FALSE))","v":""},{"$f":"IF(ISERROR(VLOOKUP(Z74,勤務シフト一覧!$B$4:$C$106,2,FALSE)),\"\",VLOOKUP(Z74,勤務シフト一覧!$B$4:$C$106,2,FALSE))","v":""},{"$f":"IF(ISERROR(VLOOKUP(AA74,勤務シフト一覧!$B$4:$C$106,2,FALSE)),\"\",VLOOKUP(AA74,勤務シフト一覧!$B$4:$C$106,2,FALSE))","v":""},{"$f":"IF(ISERROR(VLOOKUP(AB74,勤務シフト一覧!$B$4:$C$106,2,FALSE)),\"\",VLOOKUP(AB74,勤務シフト一覧!$B$4:$C$106,2,FALSE))","v":""},{"$f":"IF(ISERROR(VLOOKUP(AC74,勤務シフト一覧!$B$4:$C$106,2,FALSE)),\"\",VLOOKUP(AC74,勤務シフト一覧!$B$4:$C$106,2,FALSE))","v":""},{"$f":"IF(ISERROR(VLOOKUP(AD74,勤務シフト一覧!$B$4:$C$106,2,FALSE)),\"\",VLOOKUP(AD74,勤務シフト一覧!$B$4:$C$106,2,FALSE))","v":""},{"$f":"IF(ISERROR(VLOOKUP(AE74,勤務シフト一覧!$B$4:$C$106,2,FALSE)),\"\",VLOOKUP(AE74,勤務シフト一覧!$B$4:$C$106,2,FALSE))","v":""},{"$f":"IF(ISERROR(VLOOKUP(AF74,勤務シフト一覧!$B$4:$C$106,2,FALSE)),\"\",VLOOKUP(AF74,勤務シフト一覧!$B$4:$C$106,2,FALSE))","v":""},{"$f":"IF(ISERROR(VLOOKUP(AG74,勤務シフト一覧!$B$4:$C$106,2,FALSE)),\"\",VLOOKUP(AG74,勤務シフト一覧!$B$4:$C$106,2,FALSE))","v":""},{"$f":"IF(ISERROR(VLOOKUP(AH74,勤務シフト一覧!$B$4:$C$106,2,FALSE)),\"\",VLOOKUP(AH74,勤務シフト一覧!$B$4:$C$106,2,FALSE))","v":""},null,{"$f":"IF(ISERROR(VLOOKUP(D74,勤務シフト一覧!$B$4:$D$106,3,FALSE)),\"\",VLOOKUP(D74,勤務シフト一覧!$B$4:$D$106,3,FALSE))","v":""},{"$f":"IF(ISERROR(VLOOKUP(E74,勤務シフト一覧!$B$4:$D$106,3,FALSE)),\"\",VLOOKUP(E74,勤務シフト一覧!$B$4:$D$106,3,FALSE))","v":""},{"$f":"IF(ISERROR(VLOOKUP(F74,勤務シフト一覧!$B$4:$D$106,3,FALSE)),\"\",VLOOKUP(F74,勤務シフト一覧!$B$4:$D$106,3,FALSE))","v":""},{"$f":"IF(ISERROR(VLOOKUP(G74,勤務シフト一覧!$B$4:$D$106,3,FALSE)),\"\",VLOOKUP(G74,勤務シフト一覧!$B$4:$D$106,3,FALSE))","v":""},{"$f":"IF(ISERROR(VLOOKUP(H74,勤務シフト一覧!$B$4:$D$106,3,FALSE)),\"\",VLOOKUP(H74,勤務シフト一覧!$B$4:$D$106,3,FALSE))","v":""},{"$f":"IF(ISERROR(VLOOKUP(I74,勤務シフト一覧!$B$4:$D$106,3,FALSE)),\"\",VLOOKUP(I74,勤務シフト一覧!$B$4:$D$106,3,FALSE))","v":""},{"$f":"IF(ISERROR(VLOOKUP(J74,勤務シフト一覧!$B$4:$D$106,3,FALSE)),\"\",VLOOKUP(J74,勤務シフト一覧!$B$4:$D$106,3,FALSE))","v":""},{"$f":"IF(ISERROR(VLOOKUP(K74,勤務シフト一覧!$B$4:$D$106,3,FALSE)),\"\",VLOOKUP(K74,勤務シフト一覧!$B$4:$D$106,3,FALSE))","v":""},{"$f":"IF(ISERROR(VLOOKUP(L74,勤務シフト一覧!$B$4:$D$106,3,FALSE)),\"\",VLOOKUP(L74,勤務シフト一覧!$B$4:$D$106,3,FALSE))","v":""},{"$f":"IF(ISERROR(VLOOKUP(M74,勤務シフト一覧!$B$4:$D$106,3,FALSE)),\"\",VLOOKUP(M74,勤務シフト一覧!$B$4:$D$106,3,FALSE))","v":""},{"$f":"IF(ISERROR(VLOOKUP(N74,勤務シフト一覧!$B$4:$D$106,3,FALSE)),\"\",VLOOKUP(N74,勤務シフト一覧!$B$4:$D$106,3,FALSE))","v":""},{"$f":"IF(ISERROR(VLOOKUP(O74,勤務シフト一覧!$B$4:$D$106,3,FALSE)),\"\",VLOOKUP(O74,勤務シフト一覧!$B$4:$D$106,3,FALSE))","v":""},{"$f":"IF(ISERROR(VLOOKUP(P74,勤務シフト一覧!$B$4:$D$106,3,FALSE)),\"\",VLOOKUP(P74,勤務シフト一覧!$B$4:$D$106,3,FALSE))","v":""},{"$f":"IF(ISERROR(VLOOKUP(Q74,勤務シフト一覧!$B$4:$D$106,3,FALSE)),\"\",VLOOKUP(Q74,勤務シフト一覧!$B$4:$D$106,3,FALSE))","v":""},{"$f":"IF(ISERROR(VLOOKUP(R74,勤務シフト一覧!$B$4:$D$106,3,FALSE)),\"\",VLOOKUP(R74,勤務シフト一覧!$B$4:$D$106,3,FALSE))","v":""},{"$f":"IF(ISERROR(VLOOKUP(S74,勤務シフト一覧!$B$4:$D$106,3,FALSE)),\"\",VLOOKUP(S74,勤務シフト一覧!$B$4:$D$106,3,FALSE))","v":""},{"$f":"IF(ISERROR(VLOOKUP(T74,勤務シフト一覧!$B$4:$D$106,3,FALSE)),\"\",VLOOKUP(T74,勤務シフト一覧!$B$4:$D$106,3,FALSE))","v":""},{"$f":"IF(ISERROR(VLOOKUP(U74,勤務シフト一覧!$B$4:$D$106,3,FALSE)),\"\",VLOOKUP(U74,勤務シフト一覧!$B$4:$D$106,3,FALSE))","v":""},{"$f":"IF(ISERROR(VLOOKUP(V74,勤務シフト一覧!$B$4:$D$106,3,FALSE)),\"\",VLOOKUP(V74,勤務シフト一覧!$B$4:$D$106,3,FALSE))","v":""},{"$f":"IF(ISERROR(VLOOKUP(W74,勤務シフト一覧!$B$4:$D$106,3,FALSE)),\"\",VLOOKUP(W74,勤務シフト一覧!$B$4:$D$106,3,FALSE))","v":""},{"$f":"IF(ISERROR(VLOOKUP(X74,勤務シフト一覧!$B$4:$D$106,3,FALSE)),\"\",VLOOKUP(X74,勤務シフト一覧!$B$4:$D$106,3,FALSE))","v":""},{"$f":"IF(ISERROR(VLOOKUP(Y74,勤務シフト一覧!$B$4:$D$106,3,FALSE)),\"\",VLOOKUP(Y74,勤務シフト一覧!$B$4:$D$106,3,FALSE))","v":""},{"$f":"IF(ISERROR(VLOOKUP(Z74,勤務シフト一覧!$B$4:$D$106,3,FALSE)),\"\",VLOOKUP(Z74,勤務シフト一覧!$B$4:$D$106,3,FALSE))","v":""},{"$f":"IF(ISERROR(VLOOKUP(AA74,勤務シフト一覧!$B$4:$D$106,3,FALSE)),\"\",VLOOKUP(AA74,勤務シフト一覧!$B$4:$D$106,3,FALSE))","v":""},{"$f":"IF(ISERROR(VLOOKUP(AB74,勤務シフト一覧!$B$4:$D$106,3,FALSE)),\"\",VLOOKUP(AB74,勤務シフト一覧!$B$4:$D$106,3,FALSE))","v":""},{"$f":"IF(ISERROR(VLOOKUP(AC74,勤務シフト一覧!$B$4:$D$106,3,FALSE)),\"\",VLOOKUP(AC74,勤務シフト一覧!$B$4:$D$106,3,FALSE))","v":""},{"$f":"IF(ISERROR(VLOOKUP(AD74,勤務シフト一覧!$B$4:$D$106,3,FALSE)),\"\",VLOOKUP(AD74,勤務シフト一覧!$B$4:$D$106,3,FALSE))","v":""},{"$f":"IF(ISERROR(VLOOKUP(AE74,勤務シフト一覧!$B$4:$D$106,3,FALSE)),\"\",VLOOKUP(AE74,勤務シフト一覧!$B$4:$D$106,3,FALSE))","v":""},{"$f":"IF(ISERROR(VLOOKUP(AF74,勤務シフト一覧!$B$4:$D$106,3,FALSE)),\"\",VLOOKUP(AF74,勤務シフト一覧!$B$4:$D$106,3,FALSE))","v":""},{"$f":"IF(ISERROR(VLOOKUP(AG74,勤務シフト一覧!$B$4:$D$106,3,FALSE)),\"\",VLOOKUP(AG74,勤務シフト一覧!$B$4:$D$106,3,FALSE))","v":""},{"$f":"IF(ISERROR(VLOOKUP(AH74,勤務シフト一覧!$B$4:$D$106,3,FALSE)),\"\",VLOOKUP(AH74,勤務シフト一覧!$B$4:$D$106,3,FALSE))","v":""},0,0,0,0,0,0,0,0,0,0,{"$f":"IF(LEN(職員一覧!D36)<>0,職員一覧!D36,\"\")","v":""},null,{"$f":"IF(勤務シフト一覧!$D75<>0,IF(勤務シフト一覧!$B75<> 0,勤務シフト一覧!$B75,\"\"),\"\")","v":"*祭準"}]
[null,null,"実施",null,null,null,null,null,null,null,null,null,null,null,null,null,null,null,null,null,null,null,null,null,null,null,null,null,null,null,null,null,null,null,{"$f":"IF(ISERROR(VLOOKUP(D75,勤務シフト一覧!$B$4:$C$106,2,FALSE)),\"\",VLOOKUP(D75,勤務シフト一覧!$B$4:$C$106,2,FALSE))","v":""},{"$f":"IF(ISERROR(VLOOKUP(E75,勤務シフト一覧!$B$4:$C$106,2,FALSE)),\"\",VLOOKUP(E75,勤務シフト一覧!$B$4:$C$106,2,FALSE))","v":""},{"$f":"IF(ISERROR(VLOOKUP(F75,勤務シフト一覧!$B$4:$C$106,2,FALSE)),\"\",VLOOKUP(F75,勤務シフト一覧!$B$4:$C$106,2,FALSE))","v":""},{"$f":"IF(ISERROR(VLOOKUP(G75,勤務シフト一覧!$B$4:$C$106,2,FALSE)),\"\",VLOOKUP(G75,勤務シフト一覧!$B$4:$C$106,2,FALSE))","v":""},{"$f":"IF(ISERROR(VLOOKUP(H75,勤務シフト一覧!$B$4:$C$106,2,FALSE)),\"\",VLOOKUP(H75,勤務シフト一覧!$B$4:$C$106,2,FALSE))","v":""},{"$f":"IF(ISERROR(VLOOKUP(I75,勤務シフト一覧!$B$4:$C$106,2,FALSE)),\"\",VLOOKUP(I75,勤務シフト一覧!$B$4:$C$106,2,FALSE))","v":""},{"$f":"IF(ISERROR(VLOOKUP(J75,勤務シフト一覧!$B$4:$C$106,2,FALSE)),\"\",VLOOKUP(J75,勤務シフト一覧!$B$4:$C$106,2,FALSE))","v":""},{"$f":"IF(ISERROR(VLOOKUP(K75,勤務シフト一覧!$B$4:$C$106,2,FALSE)),\"\",VLOOKUP(K75,勤務シフト一覧!$B$4:$C$106,2,FALSE))","v":""},{"$f":"IF(ISERROR(VLOOKUP(L75,勤務シフト一覧!$B$4:$C$106,2,FALSE)),\"\",VLOOKUP(L75,勤務シフト一覧!$B$4:$C$106,2,FALSE))","v":""},{"$f":"IF(ISERROR(VLOOKUP(M75,勤務シフト一覧!$B$4:$C$106,2,FALSE)),\"\",VLOOKUP(M75,勤務シフト一覧!$B$4:$C$106,2,FALSE))","v":""},{"$f":"IF(ISERROR(VLOOKUP(N75,勤務シフト一覧!$B$4:$C$106,2,FALSE)),\"\",VLOOKUP(N75,勤務シフト一覧!$B$4:$C$106,2,FALSE))","v":""},{"$f":"IF(ISERROR(VLOOKUP(O75,勤務シフト一覧!$B$4:$C$106,2,FALSE)),\"\",VLOOKUP(O75,勤務シフト一覧!$B$4:$C$106,2,FALSE))","v":""},{"$f":"IF(ISERROR(VLOOKUP(P75,勤務シフト一覧!$B$4:$C$106,2,FALSE)),\"\",VLOOKUP(P75,勤務シフト一覧!$B$4:$C$106,2,FALSE))","v":""},{"$f":"IF(ISERROR(VLOOKUP(Q75,勤務シフト一覧!$B$4:$C$106,2,FALSE)),\"\",VLOOKUP(Q75,勤務シフト一覧!$B$4:$C$106,2,FALSE))","v":""},{"$f":"IF(ISERROR(VLOOKUP(R75,勤務シフト一覧!$B$4:$C$106,2,FALSE)),\"\",VLOOKUP(R75,勤務シフト一覧!$B$4:$C$106,2,FALSE))","v":""},{"$f":"IF(ISERROR(VLOOKUP(S75,勤務シフト一覧!$B$4:$C$106,2,FALSE)),\"\",VLOOKUP(S75,勤務シフト一覧!$B$4:$C$106,2,FALSE))","v":""},{"$f":"IF(ISERROR(VLOOKUP(T75,勤務シフト一覧!$B$4:$C$106,2,FALSE)),\"\",VLOOKUP(T75,勤務シフト一覧!$B$4:$C$106,2,FALSE))","v":""},{"$f":"IF(ISERROR(VLOOKUP(U75,勤務シフト一覧!$B$4:$C$106,2,FALSE)),\"\",VLOOKUP(U75,勤務シフト一覧!$B$4:$C$106,2,FALSE))","v":""},{"$f":"IF(ISERROR(VLOOKUP(V75,勤務シフト一覧!$B$4:$C$106,2,FALSE)),\"\",VLOOKUP(V75,勤務シフト一覧!$B$4:$C$106,2,FALSE))","v":""},{"$f":"IF(ISERROR(VLOOKUP(W75,勤務シフト一覧!$B$4:$C$106,2,FALSE)),\"\",VLOOKUP(W75,勤務シフト一覧!$B$4:$C$106,2,FALSE))","v":""},{"$f":"IF(ISERROR(VLOOKUP(X75,勤務シフト一覧!$B$4:$C$106,2,FALSE)),\"\",VLOOKUP(X75,勤務シフト一覧!$B$4:$C$106,2,FALSE))","v":""},{"$f":"IF(ISERROR(VLOOKUP(Y75,勤務シフト一覧!$B$4:$C$106,2,FALSE)),\"\",VLOOKUP(Y75,勤務シフト一覧!$B$4:$C$106,2,FALSE))","v":""},{"$f":"IF(ISERROR(VLOOKUP(Z75,勤務シフト一覧!$B$4:$C$106,2,FALSE)),\"\",VLOOKUP(Z75,勤務シフト一覧!$B$4:$C$106,2,FALSE))","v":""},{"$f":"IF(ISERROR(VLOOKUP(AA75,勤務シフト一覧!$B$4:$C$106,2,FALSE)),\"\",VLOOKUP(AA75,勤務シフト一覧!$B$4:$C$106,2,FALSE))","v":""},{"$f":"IF(ISERROR(VLOOKUP(AB75,勤務シフト一覧!$B$4:$C$106,2,FALSE)),\"\",VLOOKUP(AB75,勤務シフト一覧!$B$4:$C$106,2,FALSE))","v":""},{"$f":"IF(ISERROR(VLOOKUP(AC75,勤務シフト一覧!$B$4:$C$106,2,FALSE)),\"\",VLOOKUP(AC75,勤務シフト一覧!$B$4:$C$106,2,FALSE))","v":""},{"$f":"IF(ISERROR(VLOOKUP(AD75,勤務シフト一覧!$B$4:$C$106,2,FALSE)),\"\",VLOOKUP(AD75,勤務シフト一覧!$B$4:$C$106,2,FALSE))","v":""},{"$f":"IF(ISERROR(VLOOKUP(AE75,勤務シフト一覧!$B$4:$C$106,2,FALSE)),\"\",VLOOKUP(AE75,勤務シフト一覧!$B$4:$C$106,2,FALSE))","v":""},{"$f":"IF(ISERROR(VLOOKUP(AF75,勤務シフト一覧!$B$4:$C$106,2,FALSE)),\"\",VLOOKUP(AF75,勤務シフト一覧!$B$4:$C$106,2,FALSE))","v":""},{"$f":"IF(ISERROR(VLOOKUP(AG75,勤務シフト一覧!$B$4:$C$106,2,FALSE)),\"\",VLOOKUP(AG75,勤務シフト一覧!$B$4:$C$106,2,FALSE))","v":""},{"$f":"IF(ISERROR(VLOOKUP(AH75,勤務シフト一覧!$B$4:$C$106,2,FALSE)),\"\",VLOOKUP(AH75,勤務シフト一覧!$B$4:$C$106,2,FALSE))","v":""},null,{"$f":"IF(ISERROR(VLOOKUP(D75,勤務シフト一覧!$B$4:$D$106,3,FALSE)),\"\",VLOOKUP(D75,勤務シフト一覧!$B$4:$D$106,3,FALSE))","v":""},{"$f":"IF(ISERROR(VLOOKUP(E75,勤務シフト一覧!$B$4:$D$106,3,FALSE)),\"\",VLOOKUP(E75,勤務シフト一覧!$B$4:$D$106,3,FALSE))","v":""},{"$f":"IF(ISERROR(VLOOKUP(F75,勤務シフト一覧!$B$4:$D$106,3,FALSE)),\"\",VLOOKUP(F75,勤務シフト一覧!$B$4:$D$106,3,FALSE))","v":""},{"$f":"IF(ISERROR(VLOOKUP(G75,勤務シフト一覧!$B$4:$D$106,3,FALSE)),\"\",VLOOKUP(G75,勤務シフト一覧!$B$4:$D$106,3,FALSE))","v":""},{"$f":"IF(ISERROR(VLOOKUP(H75,勤務シフト一覧!$B$4:$D$106,3,FALSE)),\"\",VLOOKUP(H75,勤務シフト一覧!$B$4:$D$106,3,FALSE))","v":""},{"$f":"IF(ISERROR(VLOOKUP(I75,勤務シフト一覧!$B$4:$D$106,3,FALSE)),\"\",VLOOKUP(I75,勤務シフト一覧!$B$4:$D$106,3,FALSE))","v":""},{"$f":"IF(ISERROR(VLOOKUP(J75,勤務シフト一覧!$B$4:$D$106,3,FALSE)),\"\",VLOOKUP(J75,勤務シフト一覧!$B$4:$D$106,3,FALSE))","v":""},{"$f":"IF(ISERROR(VLOOKUP(K75,勤務シフト一覧!$B$4:$D$106,3,FALSE)),\"\",VLOOKUP(K75,勤務シフト一覧!$B$4:$D$106,3,FALSE))","v":""},{"$f":"IF(ISERROR(VLOOKUP(L75,勤務シフト一覧!$B$4:$D$106,3,FALSE)),\"\",VLOOKUP(L75,勤務シフト一覧!$B$4:$D$106,3,FALSE))","v":""},{"$f":"IF(ISERROR(VLOOKUP(M75,勤務シフト一覧!$B$4:$D$106,3,FALSE)),\"\",VLOOKUP(M75,勤務シフト一覧!$B$4:$D$106,3,FALSE))","v":""},{"$f":"IF(ISERROR(VLOOKUP(N75,勤務シフト一覧!$B$4:$D$106,3,FALSE)),\"\",VLOOKUP(N75,勤務シフト一覧!$B$4:$D$106,3,FALSE))","v":""},{"$f":"IF(ISERROR(VLOOKUP(O75,勤務シフト一覧!$B$4:$D$106,3,FALSE)),\"\",VLOOKUP(O75,勤務シフト一覧!$B$4:$D$106,3,FALSE))","v":""},{"$f":"IF(ISERROR(VLOOKUP(P75,勤務シフト一覧!$B$4:$D$106,3,FALSE)),\"\",VLOOKUP(P75,勤務シフト一覧!$B$4:$D$106,3,FALSE))","v":""},{"$f":"IF(ISERROR(VLOOKUP(Q75,勤務シフト一覧!$B$4:$D$106,3,FALSE)),\"\",VLOOKUP(Q75,勤務シフト一覧!$B$4:$D$106,3,FALSE))","v":""},{"$f":"IF(ISERROR(VLOOKUP(R75,勤務シフト一覧!$B$4:$D$106,3,FALSE)),\"\",VLOOKUP(R75,勤務シフト一覧!$B$4:$D$106,3,FALSE))","v":""},{"$f":"IF(ISERROR(VLOOKUP(S75,勤務シフト一覧!$B$4:$D$106,3,FALSE)),\"\",VLOOKUP(S75,勤務シフト一覧!$B$4:$D$106,3,FALSE))","v":""},{"$f":"IF(ISERROR(VLOOKUP(T75,勤務シフト一覧!$B$4:$D$106,3,FALSE)),\"\",VLOOKUP(T75,勤務シフト一覧!$B$4:$D$106,3,FALSE))","v":""},{"$f":"IF(ISERROR(VLOOKUP(U75,勤務シフト一覧!$B$4:$D$106,3,FALSE)),\"\",VLOOKUP(U75,勤務シフト一覧!$B$4:$D$106,3,FALSE))","v":""},{"$f":"IF(ISERROR(VLOOKUP(V75,勤務シフト一覧!$B$4:$D$106,3,FALSE)),\"\",VLOOKUP(V75,勤務シフト一覧!$B$4:$D$106,3,FALSE))","v":""},{"$f":"IF(ISERROR(VLOOKUP(W75,勤務シフト一覧!$B$4:$D$106,3,FALSE)),\"\",VLOOKUP(W75,勤務シフト一覧!$B$4:$D$106,3,FALSE))","v":""},{"$f":"IF(ISERROR(VLOOKUP(X75,勤務シフト一覧!$B$4:$D$106,3,FALSE)),\"\",VLOOKUP(X75,勤務シフト一覧!$B$4:$D$106,3,FALSE))","v":""},{"$f":"IF(ISERROR(VLOOKUP(Y75,勤務シフト一覧!$B$4:$D$106,3,FALSE)),\"\",VLOOKUP(Y75,勤務シフト一覧!$B$4:$D$106,3,FALSE))","v":""},{"$f":"IF(ISERROR(VLOOKUP(Z75,勤務シフト一覧!$B$4:$D$106,3,FALSE)),\"\",VLOOKUP(Z75,勤務シフト一覧!$B$4:$D$106,3,FALSE))","v":""},{"$f":"IF(ISERROR(VLOOKUP(AA75,勤務シフト一覧!$B$4:$D$106,3,FALSE)),\"\",VLOOKUP(AA75,勤務シフト一覧!$B$4:$D$106,3,FALSE))","v":""},{"$f":"IF(ISERROR(VLOOKUP(AB75,勤務シフト一覧!$B$4:$D$106,3,FALSE)),\"\",VLOOKUP(AB75,勤務シフト一覧!$B$4:$D$106,3,FALSE))","v":""},{"$f":"IF(ISERROR(VLOOKUP(AC75,勤務シフト一覧!$B$4:$D$106,3,FALSE)),\"\",VLOOKUP(AC75,勤務シフト一覧!$B$4:$D$106,3,FALSE))","v":""},{"$f":"IF(ISERROR(VLOOKUP(AD75,勤務シフト一覧!$B$4:$D$106,3,FALSE)),\"\",VLOOKUP(AD75,勤務シフト一覧!$B$4:$D$106,3,FALSE))","v":""},{"$f":"IF(ISERROR(VLOOKUP(AE75,勤務シフト一覧!$B$4:$D$106,3,FALSE)),\"\",VLOOKUP(AE75,勤務シフト一覧!$B$4:$D$106,3,FALSE))","v":""},{"$f":"IF(ISERROR(VLOOKUP(AF75,勤務シフト一覧!$B$4:$D$106,3,FALSE)),\"\",VLOOKUP(AF75,勤務シフト一覧!$B$4:$D$106,3,FALSE))","v":""},{"$f":"IF(ISERROR(VLOOKUP(AG75,勤務シフト一覧!$B$4:$D$106,3,FALSE)),\"\",VLOOKUP(AG75,勤務シフト一覧!$B$4:$D$106,3,FALSE))","v":""},{"$f":"IF(ISERROR(VLOOKUP(AH75,勤務シフト一覧!$B$4:$D$106,3,FALSE)),\"\",VLOOKUP(AH75,勤務シフト一覧!$B$4:$D$106,3,FALSE))","v":""},0,0,0,0,0,0,0,0,0,0,null,null,{"$f":"IF(勤務シフト一覧!$D76<>0,IF(勤務シフト一覧!$B76<> 0,勤務シフト一覧!$B76,\"\"),\"\")","v":"*祭1000"}]
[{"$f":"IF(LEN(職員一覧!B37)<>0,職員一覧!B37,\"\")","v":""},{"$f":"IF(LEN(職員一覧!C37)<>0,職員一覧!C37,\"\")","v":""},"予定",null,null,null,null,null,null,null,null,null,null,null,null,null,null,null,null,null,null,null,null,null,null,null,null,null,null,null,null,null,null,null,{"$f":"IF(ISERROR(VLOOKUP(D76,勤務シフト一覧!$B$4:$C$106,2,FALSE)),\"\",VLOOKUP(D76,勤務シフト一覧!$B$4:$C$106,2,FALSE))","v":""},{"$f":"IF(ISERROR(VLOOKUP(E76,勤務シフト一覧!$B$4:$C$106,2,FALSE)),\"\",VLOOKUP(E76,勤務シフト一覧!$B$4:$C$106,2,FALSE))","v":""},{"$f":"IF(ISERROR(VLOOKUP(F76,勤務シフト一覧!$B$4:$C$106,2,FALSE)),\"\",VLOOKUP(F76,勤務シフト一覧!$B$4:$C$106,2,FALSE))","v":""},{"$f":"IF(ISERROR(VLOOKUP(G76,勤務シフト一覧!$B$4:$C$106,2,FALSE)),\"\",VLOOKUP(G76,勤務シフト一覧!$B$4:$C$106,2,FALSE))","v":""},{"$f":"IF(ISERROR(VLOOKUP(H76,勤務シフト一覧!$B$4:$C$106,2,FALSE)),\"\",VLOOKUP(H76,勤務シフト一覧!$B$4:$C$106,2,FALSE))","v":""},{"$f":"IF(ISERROR(VLOOKUP(I76,勤務シフト一覧!$B$4:$C$106,2,FALSE)),\"\",VLOOKUP(I76,勤務シフト一覧!$B$4:$C$106,2,FALSE))","v":""},{"$f":"IF(ISERROR(VLOOKUP(J76,勤務シフト一覧!$B$4:$C$106,2,FALSE)),\"\",VLOOKUP(J76,勤務シフト一覧!$B$4:$C$106,2,FALSE))","v":""},{"$f":"IF(ISERROR(VLOOKUP(K76,勤務シフト一覧!$B$4:$C$106,2,FALSE)),\"\",VLOOKUP(K76,勤務シフト一覧!$B$4:$C$106,2,FALSE))","v":""},{"$f":"IF(ISERROR(VLOOKUP(L76,勤務シフト一覧!$B$4:$C$106,2,FALSE)),\"\",VLOOKUP(L76,勤務シフト一覧!$B$4:$C$106,2,FALSE))","v":""},{"$f":"IF(ISERROR(VLOOKUP(M76,勤務シフト一覧!$B$4:$C$106,2,FALSE)),\"\",VLOOKUP(M76,勤務シフト一覧!$B$4:$C$106,2,FALSE))","v":""},{"$f":"IF(ISERROR(VLOOKUP(N76,勤務シフト一覧!$B$4:$C$106,2,FALSE)),\"\",VLOOKUP(N76,勤務シフト一覧!$B$4:$C$106,2,FALSE))","v":""},{"$f":"IF(ISERROR(VLOOKUP(O76,勤務シフト一覧!$B$4:$C$106,2,FALSE)),\"\",VLOOKUP(O76,勤務シフト一覧!$B$4:$C$106,2,FALSE))","v":""},{"$f":"IF(ISERROR(VLOOKUP(P76,勤務シフト一覧!$B$4:$C$106,2,FALSE)),\"\",VLOOKUP(P76,勤務シフト一覧!$B$4:$C$106,2,FALSE))","v":""},{"$f":"IF(ISERROR(VLOOKUP(Q76,勤務シフト一覧!$B$4:$C$106,2,FALSE)),\"\",VLOOKUP(Q76,勤務シフト一覧!$B$4:$C$106,2,FALSE))","v":""},{"$f":"IF(ISERROR(VLOOKUP(R76,勤務シフト一覧!$B$4:$C$106,2,FALSE)),\"\",VLOOKUP(R76,勤務シフト一覧!$B$4:$C$106,2,FALSE))","v":""},{"$f":"IF(ISERROR(VLOOKUP(S76,勤務シフト一覧!$B$4:$C$106,2,FALSE)),\"\",VLOOKUP(S76,勤務シフト一覧!$B$4:$C$106,2,FALSE))","v":""},{"$f":"IF(ISERROR(VLOOKUP(T76,勤務シフト一覧!$B$4:$C$106,2,FALSE)),\"\",VLOOKUP(T76,勤務シフト一覧!$B$4:$C$106,2,FALSE))","v":""},{"$f":"IF(ISERROR(VLOOKUP(U76,勤務シフト一覧!$B$4:$C$106,2,FALSE)),\"\",VLOOKUP(U76,勤務シフト一覧!$B$4:$C$106,2,FALSE))","v":""},{"$f":"IF(ISERROR(VLOOKUP(V76,勤務シフト一覧!$B$4:$C$106,2,FALSE)),\"\",VLOOKUP(V76,勤務シフト一覧!$B$4:$C$106,2,FALSE))","v":""},{"$f":"IF(ISERROR(VLOOKUP(W76,勤務シフト一覧!$B$4:$C$106,2,FALSE)),\"\",VLOOKUP(W76,勤務シフト一覧!$B$4:$C$106,2,FALSE))","v":""},{"$f":"IF(ISERROR(VLOOKUP(X76,勤務シフト一覧!$B$4:$C$106,2,FALSE)),\"\",VLOOKUP(X76,勤務シフト一覧!$B$4:$C$106,2,FALSE))","v":""},{"$f":"IF(ISERROR(VLOOKUP(Y76,勤務シフト一覧!$B$4:$C$106,2,FALSE)),\"\",VLOOKUP(Y76,勤務シフト一覧!$B$4:$C$106,2,FALSE))","v":""},{"$f":"IF(ISERROR(VLOOKUP(Z76,勤務シフト一覧!$B$4:$C$106,2,FALSE)),\"\",VLOOKUP(Z76,勤務シフト一覧!$B$4:$C$106,2,FALSE))","v":""},{"$f":"IF(ISERROR(VLOOKUP(AA76,勤務シフト一覧!$B$4:$C$106,2,FALSE)),\"\",VLOOKUP(AA76,勤務シフト一覧!$B$4:$C$106,2,FALSE))","v":""},{"$f":"IF(ISERROR(VLOOKUP(AB76,勤務シフト一覧!$B$4:$C$106,2,FALSE)),\"\",VLOOKUP(AB76,勤務シフト一覧!$B$4:$C$106,2,FALSE))","v":""},{"$f":"IF(ISERROR(VLOOKUP(AC76,勤務シフト一覧!$B$4:$C$106,2,FALSE)),\"\",VLOOKUP(AC76,勤務シフト一覧!$B$4:$C$106,2,FALSE))","v":""},{"$f":"IF(ISERROR(VLOOKUP(AD76,勤務シフト一覧!$B$4:$C$106,2,FALSE)),\"\",VLOOKUP(AD76,勤務シフト一覧!$B$4:$C$106,2,FALSE))","v":""},{"$f":"IF(ISERROR(VLOOKUP(AE76,勤務シフト一覧!$B$4:$C$106,2,FALSE)),\"\",VLOOKUP(AE76,勤務シフト一覧!$B$4:$C$106,2,FALSE))","v":""},{"$f":"IF(ISERROR(VLOOKUP(AF76,勤務シフト一覧!$B$4:$C$106,2,FALSE)),\"\",VLOOKUP(AF76,勤務シフト一覧!$B$4:$C$106,2,FALSE))","v":""},{"$f":"IF(ISERROR(VLOOKUP(AG76,勤務シフト一覧!$B$4:$C$106,2,FALSE)),\"\",VLOOKUP(AG76,勤務シフト一覧!$B$4:$C$106,2,FALSE))","v":""},{"$f":"IF(ISERROR(VLOOKUP(AH76,勤務シフト一覧!$B$4:$C$106,2,FALSE)),\"\",VLOOKUP(AH76,勤務シフト一覧!$B$4:$C$106,2,FALSE))","v":""},null,{"$f":"IF(ISERROR(VLOOKUP(D76,勤務シフト一覧!$B$4:$D$106,3,FALSE)),\"\",VLOOKUP(D76,勤務シフト一覧!$B$4:$D$106,3,FALSE))","v":""},{"$f":"IF(ISERROR(VLOOKUP(E76,勤務シフト一覧!$B$4:$D$106,3,FALSE)),\"\",VLOOKUP(E76,勤務シフト一覧!$B$4:$D$106,3,FALSE))","v":""},{"$f":"IF(ISERROR(VLOOKUP(F76,勤務シフト一覧!$B$4:$D$106,3,FALSE)),\"\",VLOOKUP(F76,勤務シフト一覧!$B$4:$D$106,3,FALSE))","v":""},{"$f":"IF(ISERROR(VLOOKUP(G76,勤務シフト一覧!$B$4:$D$106,3,FALSE)),\"\",VLOOKUP(G76,勤務シフト一覧!$B$4:$D$106,3,FALSE))","v":""},{"$f":"IF(ISERROR(VLOOKUP(H76,勤務シフト一覧!$B$4:$D$106,3,FALSE)),\"\",VLOOKUP(H76,勤務シフト一覧!$B$4:$D$106,3,FALSE))","v":""},{"$f":"IF(ISERROR(VLOOKUP(I76,勤務シフト一覧!$B$4:$D$106,3,FALSE)),\"\",VLOOKUP(I76,勤務シフト一覧!$B$4:$D$106,3,FALSE))","v":""},{"$f":"IF(ISERROR(VLOOKUP(J76,勤務シフト一覧!$B$4:$D$106,3,FALSE)),\"\",VLOOKUP(J76,勤務シフト一覧!$B$4:$D$106,3,FALSE))","v":""},{"$f":"IF(ISERROR(VLOOKUP(K76,勤務シフト一覧!$B$4:$D$106,3,FALSE)),\"\",VLOOKUP(K76,勤務シフト一覧!$B$4:$D$106,3,FALSE))","v":""},{"$f":"IF(ISERROR(VLOOKUP(L76,勤務シフト一覧!$B$4:$D$106,3,FALSE)),\"\",VLOOKUP(L76,勤務シフト一覧!$B$4:$D$106,3,FALSE))","v":""},{"$f":"IF(ISERROR(VLOOKUP(M76,勤務シフト一覧!$B$4:$D$106,3,FALSE)),\"\",VLOOKUP(M76,勤務シフト一覧!$B$4:$D$106,3,FALSE))","v":""},{"$f":"IF(ISERROR(VLOOKUP(N76,勤務シフト一覧!$B$4:$D$106,3,FALSE)),\"\",VLOOKUP(N76,勤務シフト一覧!$B$4:$D$106,3,FALSE))","v":""},{"$f":"IF(ISERROR(VLOOKUP(O76,勤務シフト一覧!$B$4:$D$106,3,FALSE)),\"\",VLOOKUP(O76,勤務シフト一覧!$B$4:$D$106,3,FALSE))","v":""},{"$f":"IF(ISERROR(VLOOKUP(P76,勤務シフト一覧!$B$4:$D$106,3,FALSE)),\"\",VLOOKUP(P76,勤務シフト一覧!$B$4:$D$106,3,FALSE))","v":""},{"$f":"IF(ISERROR(VLOOKUP(Q76,勤務シフト一覧!$B$4:$D$106,3,FALSE)),\"\",VLOOKUP(Q76,勤務シフト一覧!$B$4:$D$106,3,FALSE))","v":""},{"$f":"IF(ISERROR(VLOOKUP(R76,勤務シフト一覧!$B$4:$D$106,3,FALSE)),\"\",VLOOKUP(R76,勤務シフト一覧!$B$4:$D$106,3,FALSE))","v":""},{"$f":"IF(ISERROR(VLOOKUP(S76,勤務シフト一覧!$B$4:$D$106,3,FALSE)),\"\",VLOOKUP(S76,勤務シフト一覧!$B$4:$D$106,3,FALSE))","v":""},{"$f":"IF(ISERROR(VLOOKUP(T76,勤務シフト一覧!$B$4:$D$106,3,FALSE)),\"\",VLOOKUP(T76,勤務シフト一覧!$B$4:$D$106,3,FALSE))","v":""},{"$f":"IF(ISERROR(VLOOKUP(U76,勤務シフト一覧!$B$4:$D$106,3,FALSE)),\"\",VLOOKUP(U76,勤務シフト一覧!$B$4:$D$106,3,FALSE))","v":""},{"$f":"IF(ISERROR(VLOOKUP(V76,勤務シフト一覧!$B$4:$D$106,3,FALSE)),\"\",VLOOKUP(V76,勤務シフト一覧!$B$4:$D$106,3,FALSE))","v":""},{"$f":"IF(ISERROR(VLOOKUP(W76,勤務シフト一覧!$B$4:$D$106,3,FALSE)),\"\",VLOOKUP(W76,勤務シフト一覧!$B$4:$D$106,3,FALSE))","v":""},{"$f":"IF(ISERROR(VLOOKUP(X76,勤務シフト一覧!$B$4:$D$106,3,FALSE)),\"\",VLOOKUP(X76,勤務シフト一覧!$B$4:$D$106,3,FALSE))","v":""},{"$f":"IF(ISERROR(VLOOKUP(Y76,勤務シフト一覧!$B$4:$D$106,3,FALSE)),\"\",VLOOKUP(Y76,勤務シフト一覧!$B$4:$D$106,3,FALSE))","v":""},{"$f":"IF(ISERROR(VLOOKUP(Z76,勤務シフト一覧!$B$4:$D$106,3,FALSE)),\"\",VLOOKUP(Z76,勤務シフト一覧!$B$4:$D$106,3,FALSE))","v":""},{"$f":"IF(ISERROR(VLOOKUP(AA76,勤務シフト一覧!$B$4:$D$106,3,FALSE)),\"\",VLOOKUP(AA76,勤務シフト一覧!$B$4:$D$106,3,FALSE))","v":""},{"$f":"IF(ISERROR(VLOOKUP(AB76,勤務シフト一覧!$B$4:$D$106,3,FALSE)),\"\",VLOOKUP(AB76,勤務シフト一覧!$B$4:$D$106,3,FALSE))","v":""},{"$f":"IF(ISERROR(VLOOKUP(AC76,勤務シフト一覧!$B$4:$D$106,3,FALSE)),\"\",VLOOKUP(AC76,勤務シフト一覧!$B$4:$D$106,3,FALSE))","v":""},{"$f":"IF(ISERROR(VLOOKUP(AD76,勤務シフト一覧!$B$4:$D$106,3,FALSE)),\"\",VLOOKUP(AD76,勤務シフト一覧!$B$4:$D$106,3,FALSE))","v":""},{"$f":"IF(ISERROR(VLOOKUP(AE76,勤務シフト一覧!$B$4:$D$106,3,FALSE)),\"\",VLOOKUP(AE76,勤務シフト一覧!$B$4:$D$106,3,FALSE))","v":""},{"$f":"IF(ISERROR(VLOOKUP(AF76,勤務シフト一覧!$B$4:$D$106,3,FALSE)),\"\",VLOOKUP(AF76,勤務シフト一覧!$B$4:$D$106,3,FALSE))","v":""},{"$f":"IF(ISERROR(VLOOKUP(AG76,勤務シフト一覧!$B$4:$D$106,3,FALSE)),\"\",VLOOKUP(AG76,勤務シフト一覧!$B$4:$D$106,3,FALSE))","v":""},{"$f":"IF(ISERROR(VLOOKUP(AH76,勤務シフト一覧!$B$4:$D$106,3,FALSE)),\"\",VLOOKUP(AH76,勤務シフト一覧!$B$4:$D$106,3,FALSE))","v":""},0,0,0,0,0,0,0,0,0,0,{"$f":"IF(LEN(職員一覧!D37)<>0,職員一覧!D37,\"\")","v":""},null,{"$f":"IF(勤務シフト一覧!$D77<>0,IF(勤務シフト一覧!$B77<> 0,勤務シフト一覧!$B77,\"\"),\"\")","v":"*祭1230"}]
[null,null,"実施",null,null,null,null,null,null,null,null,null,null,null,null,null,null,null,null,null,null,null,null,null,null,null,null,null,null,null,null,null,null,null,{"$f":"IF(ISERROR(VLOOKUP(D77,勤務シフト一覧!$B$4:$C$106,2,FALSE)),\"\",VLOOKUP(D77,勤務シフト一覧!$B$4:$C$106,2,FALSE))","v":""},{"$f":"IF(ISERROR(VLOOKUP(E77,勤務シフト一覧!$B$4:$C$106,2,FALSE)),\"\",VLOOKUP(E77,勤務シフト一覧!$B$4:$C$106,2,FALSE))","v":""},{"$f":"IF(ISERROR(VLOOKUP(F77,勤務シフト一覧!$B$4:$C$106,2,FALSE)),\"\",VLOOKUP(F77,勤務シフト一覧!$B$4:$C$106,2,FALSE))","v":""},{"$f":"IF(ISERROR(VLOOKUP(G77,勤務シフト一覧!$B$4:$C$106,2,FALSE)),\"\",VLOOKUP(G77,勤務シフト一覧!$B$4:$C$106,2,FALSE))","v":""},{"$f":"IF(ISERROR(VLOOKUP(H77,勤務シフト一覧!$B$4:$C$106,2,FALSE)),\"\",VLOOKUP(H77,勤務シフト一覧!$B$4:$C$106,2,FALSE))","v":""},{"$f":"IF(ISERROR(VLOOKUP(I77,勤務シフト一覧!$B$4:$C$106,2,FALSE)),\"\",VLOOKUP(I77,勤務シフト一覧!$B$4:$C$106,2,FALSE))","v":""},{"$f":"IF(ISERROR(VLOOKUP(J77,勤務シフト一覧!$B$4:$C$106,2,FALSE)),\"\",VLOOKUP(J77,勤務シフト一覧!$B$4:$C$106,2,FALSE))","v":""},{"$f":"IF(ISERROR(VLOOKUP(K77,勤務シフト一覧!$B$4:$C$106,2,FALSE)),\"\",VLOOKUP(K77,勤務シフト一覧!$B$4:$C$106,2,FALSE))","v":""},{"$f":"IF(ISERROR(VLOOKUP(L77,勤務シフト一覧!$B$4:$C$106,2,FALSE)),\"\",VLOOKUP(L77,勤務シフト一覧!$B$4:$C$106,2,FALSE))","v":""},{"$f":"IF(ISERROR(VLOOKUP(M77,勤務シフト一覧!$B$4:$C$106,2,FALSE)),\"\",VLOOKUP(M77,勤務シフト一覧!$B$4:$C$106,2,FALSE))","v":""},{"$f":"IF(ISERROR(VLOOKUP(N77,勤務シフト一覧!$B$4:$C$106,2,FALSE)),\"\",VLOOKUP(N77,勤務シフト一覧!$B$4:$C$106,2,FALSE))","v":""},{"$f":"IF(ISERROR(VLOOKUP(O77,勤務シフト一覧!$B$4:$C$106,2,FALSE)),\"\",VLOOKUP(O77,勤務シフト一覧!$B$4:$C$106,2,FALSE))","v":""},{"$f":"IF(ISERROR(VLOOKUP(P77,勤務シフト一覧!$B$4:$C$106,2,FALSE)),\"\",VLOOKUP(P77,勤務シフト一覧!$B$4:$C$106,2,FALSE))","v":""},{"$f":"IF(ISERROR(VLOOKUP(Q77,勤務シフト一覧!$B$4:$C$106,2,FALSE)),\"\",VLOOKUP(Q77,勤務シフト一覧!$B$4:$C$106,2,FALSE))","v":""},{"$f":"IF(ISERROR(VLOOKUP(R77,勤務シフト一覧!$B$4:$C$106,2,FALSE)),\"\",VLOOKUP(R77,勤務シフト一覧!$B$4:$C$106,2,FALSE))","v":""},{"$f":"IF(ISERROR(VLOOKUP(S77,勤務シフト一覧!$B$4:$C$106,2,FALSE)),\"\",VLOOKUP(S77,勤務シフト一覧!$B$4:$C$106,2,FALSE))","v":""},{"$f":"IF(ISERROR(VLOOKUP(T77,勤務シフト一覧!$B$4:$C$106,2,FALSE)),\"\",VLOOKUP(T77,勤務シフト一覧!$B$4:$C$106,2,FALSE))","v":""},{"$f":"IF(ISERROR(VLOOKUP(U77,勤務シフト一覧!$B$4:$C$106,2,FALSE)),\"\",VLOOKUP(U77,勤務シフト一覧!$B$4:$C$106,2,FALSE))","v":""},{"$f":"IF(ISERROR(VLOOKUP(V77,勤務シフト一覧!$B$4:$C$106,2,FALSE)),\"\",VLOOKUP(V77,勤務シフト一覧!$B$4:$C$106,2,FALSE))","v":""},{"$f":"IF(ISERROR(VLOOKUP(W77,勤務シフト一覧!$B$4:$C$106,2,FALSE)),\"\",VLOOKUP(W77,勤務シフト一覧!$B$4:$C$106,2,FALSE))","v":""},{"$f":"IF(ISERROR(VLOOKUP(X77,勤務シフト一覧!$B$4:$C$106,2,FALSE)),\"\",VLOOKUP(X77,勤務シフト一覧!$B$4:$C$106,2,FALSE))","v":""},{"$f":"IF(ISERROR(VLOOKUP(Y77,勤務シフト一覧!$B$4:$C$106,2,FALSE)),\"\",VLOOKUP(Y77,勤務シフト一覧!$B$4:$C$106,2,FALSE))","v":""},{"$f":"IF(ISERROR(VLOOKUP(Z77,勤務シフト一覧!$B$4:$C$106,2,FALSE)),\"\",VLOOKUP(Z77,勤務シフト一覧!$B$4:$C$106,2,FALSE))","v":""},{"$f":"IF(ISERROR(VLOOKUP(AA77,勤務シフト一覧!$B$4:$C$106,2,FALSE)),\"\",VLOOKUP(AA77,勤務シフト一覧!$B$4:$C$106,2,FALSE))","v":""},{"$f":"IF(ISERROR(VLOOKUP(AB77,勤務シフト一覧!$B$4:$C$106,2,FALSE)),\"\",VLOOKUP(AB77,勤務シフト一覧!$B$4:$C$106,2,FALSE))","v":""},{"$f":"IF(ISERROR(VLOOKUP(AC77,勤務シフト一覧!$B$4:$C$106,2,FALSE)),\"\",VLOOKUP(AC77,勤務シフト一覧!$B$4:$C$106,2,FALSE))","v":""},{"$f":"IF(ISERROR(VLOOKUP(AD77,勤務シフト一覧!$B$4:$C$106,2,FALSE)),\"\",VLOOKUP(AD77,勤務シフト一覧!$B$4:$C$106,2,FALSE))","v":""},{"$f":"IF(ISERROR(VLOOKUP(AE77,勤務シフト一覧!$B$4:$C$106,2,FALSE)),\"\",VLOOKUP(AE77,勤務シフト一覧!$B$4:$C$106,2,FALSE))","v":""},{"$f":"IF(ISERROR(VLOOKUP(AF77,勤務シフト一覧!$B$4:$C$106,2,FALSE)),\"\",VLOOKUP(AF77,勤務シフト一覧!$B$4:$C$106,2,FALSE))","v":""},{"$f":"IF(ISERROR(VLOOKUP(AG77,勤務シフト一覧!$B$4:$C$106,2,FALSE)),\"\",VLOOKUP(AG77,勤務シフト一覧!$B$4:$C$106,2,FALSE))","v":""},{"$f":"IF(ISERROR(VLOOKUP(AH77,勤務シフト一覧!$B$4:$C$106,2,FALSE)),\"\",VLOOKUP(AH77,勤務シフト一覧!$B$4:$C$106,2,FALSE))","v":""},null,{"$f":"IF(ISERROR(VLOOKUP(D77,勤務シフト一覧!$B$4:$D$106,3,FALSE)),\"\",VLOOKUP(D77,勤務シフト一覧!$B$4:$D$106,3,FALSE))","v":""},{"$f":"IF(ISERROR(VLOOKUP(E77,勤務シフト一覧!$B$4:$D$106,3,FALSE)),\"\",VLOOKUP(E77,勤務シフト一覧!$B$4:$D$106,3,FALSE))","v":""},{"$f":"IF(ISERROR(VLOOKUP(F77,勤務シフト一覧!$B$4:$D$106,3,FALSE)),\"\",VLOOKUP(F77,勤務シフト一覧!$B$4:$D$106,3,FALSE))","v":""},{"$f":"IF(ISERROR(VLOOKUP(G77,勤務シフト一覧!$B$4:$D$106,3,FALSE)),\"\",VLOOKUP(G77,勤務シフト一覧!$B$4:$D$106,3,FALSE))","v":""},{"$f":"IF(ISERROR(VLOOKUP(H77,勤務シフト一覧!$B$4:$D$106,3,FALSE)),\"\",VLOOKUP(H77,勤務シフト一覧!$B$4:$D$106,3,FALSE))","v":""},{"$f":"IF(ISERROR(VLOOKUP(I77,勤務シフト一覧!$B$4:$D$106,3,FALSE)),\"\",VLOOKUP(I77,勤務シフト一覧!$B$4:$D$106,3,FALSE))","v":""},{"$f":"IF(ISERROR(VLOOKUP(J77,勤務シフト一覧!$B$4:$D$106,3,FALSE)),\"\",VLOOKUP(J77,勤務シフト一覧!$B$4:$D$106,3,FALSE))","v":""},{"$f":"IF(ISERROR(VLOOKUP(K77,勤務シフト一覧!$B$4:$D$106,3,FALSE)),\"\",VLOOKUP(K77,勤務シフト一覧!$B$4:$D$106,3,FALSE))","v":""},{"$f":"IF(ISERROR(VLOOKUP(L77,勤務シフト一覧!$B$4:$D$106,3,FALSE)),\"\",VLOOKUP(L77,勤務シフト一覧!$B$4:$D$106,3,FALSE))","v":""},{"$f":"IF(ISERROR(VLOOKUP(M77,勤務シフト一覧!$B$4:$D$106,3,FALSE)),\"\",VLOOKUP(M77,勤務シフト一覧!$B$4:$D$106,3,FALSE))","v":""},{"$f":"IF(ISERROR(VLOOKUP(N77,勤務シフト一覧!$B$4:$D$106,3,FALSE)),\"\",VLOOKUP(N77,勤務シフト一覧!$B$4:$D$106,3,FALSE))","v":""},{"$f":"IF(ISERROR(VLOOKUP(O77,勤務シフト一覧!$B$4:$D$106,3,FALSE)),\"\",VLOOKUP(O77,勤務シフト一覧!$B$4:$D$106,3,FALSE))","v":""},{"$f":"IF(ISERROR(VLOOKUP(P77,勤務シフト一覧!$B$4:$D$106,3,FALSE)),\"\",VLOOKUP(P77,勤務シフト一覧!$B$4:$D$106,3,FALSE))","v":""},{"$f":"IF(ISERROR(VLOOKUP(Q77,勤務シフト一覧!$B$4:$D$106,3,FALSE)),\"\",VLOOKUP(Q77,勤務シフト一覧!$B$4:$D$106,3,FALSE))","v":""},{"$f":"IF(ISERROR(VLOOKUP(R77,勤務シフト一覧!$B$4:$D$106,3,FALSE)),\"\",VLOOKUP(R77,勤務シフト一覧!$B$4:$D$106,3,FALSE))","v":""},{"$f":"IF(ISERROR(VLOOKUP(S77,勤務シフト一覧!$B$4:$D$106,3,FALSE)),\"\",VLOOKUP(S77,勤務シフト一覧!$B$4:$D$106,3,FALSE))","v":""},{"$f":"IF(ISERROR(VLOOKUP(T77,勤務シフト一覧!$B$4:$D$106,3,FALSE)),\"\",VLOOKUP(T77,勤務シフト一覧!$B$4:$D$106,3,FALSE))","v":""},{"$f":"IF(ISERROR(VLOOKUP(U77,勤務シフト一覧!$B$4:$D$106,3,FALSE)),\"\",VLOOKUP(U77,勤務シフト一覧!$B$4:$D$106,3,FALSE))","v":""},{"$f":"IF(ISERROR(VLOOKUP(V77,勤務シフト一覧!$B$4:$D$106,3,FALSE)),\"\",VLOOKUP(V77,勤務シフト一覧!$B$4:$D$106,3,FALSE))","v":""},{"$f":"IF(ISERROR(VLOOKUP(W77,勤務シフト一覧!$B$4:$D$106,3,FALSE)),\"\",VLOOKUP(W77,勤務シフト一覧!$B$4:$D$106,3,FALSE))","v":""},{"$f":"IF(ISERROR(VLOOKUP(X77,勤務シフト一覧!$B$4:$D$106,3,FALSE)),\"\",VLOOKUP(X77,勤務シフト一覧!$B$4:$D$106,3,FALSE))","v":""},{"$f":"IF(ISERROR(VLOOKUP(Y77,勤務シフト一覧!$B$4:$D$106,3,FALSE)),\"\",VLOOKUP(Y77,勤務シフト一覧!$B$4:$D$106,3,FALSE))","v":""},{"$f":"IF(ISERROR(VLOOKUP(Z77,勤務シフト一覧!$B$4:$D$106,3,FALSE)),\"\",VLOOKUP(Z77,勤務シフト一覧!$B$4:$D$106,3,FALSE))","v":""},{"$f":"IF(ISERROR(VLOOKUP(AA77,勤務シフト一覧!$B$4:$D$106,3,FALSE)),\"\",VLOOKUP(AA77,勤務シフト一覧!$B$4:$D$106,3,FALSE))","v":""},{"$f":"IF(ISERROR(VLOOKUP(AB77,勤務シフト一覧!$B$4:$D$106,3,FALSE)),\"\",VLOOKUP(AB77,勤務シフト一覧!$B$4:$D$106,3,FALSE))","v":""},{"$f":"IF(ISERROR(VLOOKUP(AC77,勤務シフト一覧!$B$4:$D$106,3,FALSE)),\"\",VLOOKUP(AC77,勤務シフト一覧!$B$4:$D$106,3,FALSE))","v":""},{"$f":"IF(ISERROR(VLOOKUP(AD77,勤務シフト一覧!$B$4:$D$106,3,FALSE)),\"\",VLOOKUP(AD77,勤務シフト一覧!$B$4:$D$106,3,FALSE))","v":""},{"$f":"IF(ISERROR(VLOOKUP(AE77,勤務シフト一覧!$B$4:$D$106,3,FALSE)),\"\",VLOOKUP(AE77,勤務シフト一覧!$B$4:$D$106,3,FALSE))","v":""},{"$f":"IF(ISERROR(VLOOKUP(AF77,勤務シフト一覧!$B$4:$D$106,3,FALSE)),\"\",VLOOKUP(AF77,勤務シフト一覧!$B$4:$D$106,3,FALSE))","v":""},{"$f":"IF(ISERROR(VLOOKUP(AG77,勤務シフト一覧!$B$4:$D$106,3,FALSE)),\"\",VLOOKUP(AG77,勤務シフト一覧!$B$4:$D$106,3,FALSE))","v":""},{"$f":"IF(ISERROR(VLOOKUP(AH77,勤務シフト一覧!$B$4:$D$106,3,FALSE)),\"\",VLOOKUP(AH77,勤務シフト一覧!$B$4:$D$106,3,FALSE))","v":""},0,0,0,0,0,0,0,0,0,0,null,null,{"$f":"IF(勤務シフト一覧!$D78<>0,IF(勤務シフト一覧!$B78<> 0,勤務シフト一覧!$B78,\"\"),\"\")","v":"AM勤務"}]
[{"$f":"IF(LEN(職員一覧!B38)<>0,職員一覧!B38,\"\")","v":""},{"$f":"IF(LEN(職員一覧!C38)<>0,職員一覧!C38,\"\")","v":""},"予定",null,null,null,null,null,null,null,null,null,null,null,null,null,null,null,null,null,null,null,null,null,null,null,null,null,null,null,null,null,null,null,{"$f":"IF(ISERROR(VLOOKUP(D78,勤務シフト一覧!$B$4:$C$106,2,FALSE)),\"\",VLOOKUP(D78,勤務シフト一覧!$B$4:$C$106,2,FALSE))","v":""},{"$f":"IF(ISERROR(VLOOKUP(E78,勤務シフト一覧!$B$4:$C$106,2,FALSE)),\"\",VLOOKUP(E78,勤務シフト一覧!$B$4:$C$106,2,FALSE))","v":""},{"$f":"IF(ISERROR(VLOOKUP(F78,勤務シフト一覧!$B$4:$C$106,2,FALSE)),\"\",VLOOKUP(F78,勤務シフト一覧!$B$4:$C$106,2,FALSE))","v":""},{"$f":"IF(ISERROR(VLOOKUP(G78,勤務シフト一覧!$B$4:$C$106,2,FALSE)),\"\",VLOOKUP(G78,勤務シフト一覧!$B$4:$C$106,2,FALSE))","v":""},{"$f":"IF(ISERROR(VLOOKUP(H78,勤務シフト一覧!$B$4:$C$106,2,FALSE)),\"\",VLOOKUP(H78,勤務シフト一覧!$B$4:$C$106,2,FALSE))","v":""},{"$f":"IF(ISERROR(VLOOKUP(I78,勤務シフト一覧!$B$4:$C$106,2,FALSE)),\"\",VLOOKUP(I78,勤務シフト一覧!$B$4:$C$106,2,FALSE))","v":""},{"$f":"IF(ISERROR(VLOOKUP(J78,勤務シフト一覧!$B$4:$C$106,2,FALSE)),\"\",VLOOKUP(J78,勤務シフト一覧!$B$4:$C$106,2,FALSE))","v":""},{"$f":"IF(ISERROR(VLOOKUP(K78,勤務シフト一覧!$B$4:$C$106,2,FALSE)),\"\",VLOOKUP(K78,勤務シフト一覧!$B$4:$C$106,2,FALSE))","v":""},{"$f":"IF(ISERROR(VLOOKUP(L78,勤務シフト一覧!$B$4:$C$106,2,FALSE)),\"\",VLOOKUP(L78,勤務シフト一覧!$B$4:$C$106,2,FALSE))","v":""},{"$f":"IF(ISERROR(VLOOKUP(M78,勤務シフト一覧!$B$4:$C$106,2,FALSE)),\"\",VLOOKUP(M78,勤務シフト一覧!$B$4:$C$106,2,FALSE))","v":""},{"$f":"IF(ISERROR(VLOOKUP(N78,勤務シフト一覧!$B$4:$C$106,2,FALSE)),\"\",VLOOKUP(N78,勤務シフト一覧!$B$4:$C$106,2,FALSE))","v":""},{"$f":"IF(ISERROR(VLOOKUP(O78,勤務シフト一覧!$B$4:$C$106,2,FALSE)),\"\",VLOOKUP(O78,勤務シフト一覧!$B$4:$C$106,2,FALSE))","v":""},{"$f":"IF(ISERROR(VLOOKUP(P78,勤務シフト一覧!$B$4:$C$106,2,FALSE)),\"\",VLOOKUP(P78,勤務シフト一覧!$B$4:$C$106,2,FALSE))","v":""},{"$f":"IF(ISERROR(VLOOKUP(Q78,勤務シフト一覧!$B$4:$C$106,2,FALSE)),\"\",VLOOKUP(Q78,勤務シフト一覧!$B$4:$C$106,2,FALSE))","v":""},{"$f":"IF(ISERROR(VLOOKUP(R78,勤務シフト一覧!$B$4:$C$106,2,FALSE)),\"\",VLOOKUP(R78,勤務シフト一覧!$B$4:$C$106,2,FALSE))","v":""},{"$f":"IF(ISERROR(VLOOKUP(S78,勤務シフト一覧!$B$4:$C$106,2,FALSE)),\"\",VLOOKUP(S78,勤務シフト一覧!$B$4:$C$106,2,FALSE))","v":""},{"$f":"IF(ISERROR(VLOOKUP(T78,勤務シフト一覧!$B$4:$C$106,2,FALSE)),\"\",VLOOKUP(T78,勤務シフト一覧!$B$4:$C$106,2,FALSE))","v":""},{"$f":"IF(ISERROR(VLOOKUP(U78,勤務シフト一覧!$B$4:$C$106,2,FALSE)),\"\",VLOOKUP(U78,勤務シフト一覧!$B$4:$C$106,2,FALSE))","v":""},{"$f":"IF(ISERROR(VLOOKUP(V78,勤務シフト一覧!$B$4:$C$106,2,FALSE)),\"\",VLOOKUP(V78,勤務シフト一覧!$B$4:$C$106,2,FALSE))","v":""},{"$f":"IF(ISERROR(VLOOKUP(W78,勤務シフト一覧!$B$4:$C$106,2,FALSE)),\"\",VLOOKUP(W78,勤務シフト一覧!$B$4:$C$106,2,FALSE))","v":""},{"$f":"IF(ISERROR(VLOOKUP(X78,勤務シフト一覧!$B$4:$C$106,2,FALSE)),\"\",VLOOKUP(X78,勤務シフト一覧!$B$4:$C$106,2,FALSE))","v":""},{"$f":"IF(ISERROR(VLOOKUP(Y78,勤務シフト一覧!$B$4:$C$106,2,FALSE)),\"\",VLOOKUP(Y78,勤務シフト一覧!$B$4:$C$106,2,FALSE))","v":""},{"$f":"IF(ISERROR(VLOOKUP(Z78,勤務シフト一覧!$B$4:$C$106,2,FALSE)),\"\",VLOOKUP(Z78,勤務シフト一覧!$B$4:$C$106,2,FALSE))","v":""},{"$f":"IF(ISERROR(VLOOKUP(AA78,勤務シフト一覧!$B$4:$C$106,2,FALSE)),\"\",VLOOKUP(AA78,勤務シフト一覧!$B$4:$C$106,2,FALSE))","v":""},{"$f":"IF(ISERROR(VLOOKUP(AB78,勤務シフト一覧!$B$4:$C$106,2,FALSE)),\"\",VLOOKUP(AB78,勤務シフト一覧!$B$4:$C$106,2,FALSE))","v":""},{"$f":"IF(ISERROR(VLOOKUP(AC78,勤務シフト一覧!$B$4:$C$106,2,FALSE)),\"\",VLOOKUP(AC78,勤務シフト一覧!$B$4:$C$106,2,FALSE))","v":""},{"$f":"IF(ISERROR(VLOOKUP(AD78,勤務シフト一覧!$B$4:$C$106,2,FALSE)),\"\",VLOOKUP(AD78,勤務シフト一覧!$B$4:$C$106,2,FALSE))","v":""},{"$f":"IF(ISERROR(VLOOKUP(AE78,勤務シフト一覧!$B$4:$C$106,2,FALSE)),\"\",VLOOKUP(AE78,勤務シフト一覧!$B$4:$C$106,2,FALSE))","v":""},{"$f":"IF(ISERROR(VLOOKUP(AF78,勤務シフト一覧!$B$4:$C$106,2,FALSE)),\"\",VLOOKUP(AF78,勤務シフト一覧!$B$4:$C$106,2,FALSE))","v":""},{"$f":"IF(ISERROR(VLOOKUP(AG78,勤務シフト一覧!$B$4:$C$106,2,FALSE)),\"\",VLOOKUP(AG78,勤務シフト一覧!$B$4:$C$106,2,FALSE))","v":""},{"$f":"IF(ISERROR(VLOOKUP(AH78,勤務シフト一覧!$B$4:$C$106,2,FALSE)),\"\",VLOOKUP(AH78,勤務シフト一覧!$B$4:$C$106,2,FALSE))","v":""},null,{"$f":"IF(ISERROR(VLOOKUP(D78,勤務シフト一覧!$B$4:$D$106,3,FALSE)),\"\",VLOOKUP(D78,勤務シフト一覧!$B$4:$D$106,3,FALSE))","v":""},{"$f":"IF(ISERROR(VLOOKUP(E78,勤務シフト一覧!$B$4:$D$106,3,FALSE)),\"\",VLOOKUP(E78,勤務シフト一覧!$B$4:$D$106,3,FALSE))","v":""},{"$f":"IF(ISERROR(VLOOKUP(F78,勤務シフト一覧!$B$4:$D$106,3,FALSE)),\"\",VLOOKUP(F78,勤務シフト一覧!$B$4:$D$106,3,FALSE))","v":""},{"$f":"IF(ISERROR(VLOOKUP(G78,勤務シフト一覧!$B$4:$D$106,3,FALSE)),\"\",VLOOKUP(G78,勤務シフト一覧!$B$4:$D$106,3,FALSE))","v":""},{"$f":"IF(ISERROR(VLOOKUP(H78,勤務シフト一覧!$B$4:$D$106,3,FALSE)),\"\",VLOOKUP(H78,勤務シフト一覧!$B$4:$D$106,3,FALSE))","v":""},{"$f":"IF(ISERROR(VLOOKUP(I78,勤務シフト一覧!$B$4:$D$106,3,FALSE)),\"\",VLOOKUP(I78,勤務シフト一覧!$B$4:$D$106,3,FALSE))","v":""},{"$f":"IF(ISERROR(VLOOKUP(J78,勤務シフト一覧!$B$4:$D$106,3,FALSE)),\"\",VLOOKUP(J78,勤務シフト一覧!$B$4:$D$106,3,FALSE))","v":""},{"$f":"IF(ISERROR(VLOOKUP(K78,勤務シフト一覧!$B$4:$D$106,3,FALSE)),\"\",VLOOKUP(K78,勤務シフト一覧!$B$4:$D$106,3,FALSE))","v":""},{"$f":"IF(ISERROR(VLOOKUP(L78,勤務シフト一覧!$B$4:$D$106,3,FALSE)),\"\",VLOOKUP(L78,勤務シフト一覧!$B$4:$D$106,3,FALSE))","v":""},{"$f":"IF(ISERROR(VLOOKUP(M78,勤務シフト一覧!$B$4:$D$106,3,FALSE)),\"\",VLOOKUP(M78,勤務シフト一覧!$B$4:$D$106,3,FALSE))","v":""},{"$f":"IF(ISERROR(VLOOKUP(N78,勤務シフト一覧!$B$4:$D$106,3,FALSE)),\"\",VLOOKUP(N78,勤務シフト一覧!$B$4:$D$106,3,FALSE))","v":""},{"$f":"IF(ISERROR(VLOOKUP(O78,勤務シフト一覧!$B$4:$D$106,3,FALSE)),\"\",VLOOKUP(O78,勤務シフト一覧!$B$4:$D$106,3,FALSE))","v":""},{"$f":"IF(ISERROR(VLOOKUP(P78,勤務シフト一覧!$B$4:$D$106,3,FALSE)),\"\",VLOOKUP(P78,勤務シフト一覧!$B$4:$D$106,3,FALSE))","v":""},{"$f":"IF(ISERROR(VLOOKUP(Q78,勤務シフト一覧!$B$4:$D$106,3,FALSE)),\"\",VLOOKUP(Q78,勤務シフト一覧!$B$4:$D$106,3,FALSE))","v":""},{"$f":"IF(ISERROR(VLOOKUP(R78,勤務シフト一覧!$B$4:$D$106,3,FALSE)),\"\",VLOOKUP(R78,勤務シフト一覧!$B$4:$D$106,3,FALSE))","v":""},{"$f":"IF(ISERROR(VLOOKUP(S78,勤務シフト一覧!$B$4:$D$106,3,FALSE)),\"\",VLOOKUP(S78,勤務シフト一覧!$B$4:$D$106,3,FALSE))","v":""},{"$f":"IF(ISERROR(VLOOKUP(T78,勤務シフト一覧!$B$4:$D$106,3,FALSE)),\"\",VLOOKUP(T78,勤務シフト一覧!$B$4:$D$106,3,FALSE))","v":""},{"$f":"IF(ISERROR(VLOOKUP(U78,勤務シフト一覧!$B$4:$D$106,3,FALSE)),\"\",VLOOKUP(U78,勤務シフト一覧!$B$4:$D$106,3,FALSE))","v":""},{"$f":"IF(ISERROR(VLOOKUP(V78,勤務シフト一覧!$B$4:$D$106,3,FALSE)),\"\",VLOOKUP(V78,勤務シフト一覧!$B$4:$D$106,3,FALSE))","v":""},{"$f":"IF(ISERROR(VLOOKUP(W78,勤務シフト一覧!$B$4:$D$106,3,FALSE)),\"\",VLOOKUP(W78,勤務シフト一覧!$B$4:$D$106,3,FALSE))","v":""},{"$f":"IF(ISERROR(VLOOKUP(X78,勤務シフト一覧!$B$4:$D$106,3,FALSE)),\"\",VLOOKUP(X78,勤務シフト一覧!$B$4:$D$106,3,FALSE))","v":""},{"$f":"IF(ISERROR(VLOOKUP(Y78,勤務シフト一覧!$B$4:$D$106,3,FALSE)),\"\",VLOOKUP(Y78,勤務シフト一覧!$B$4:$D$106,3,FALSE))","v":""},{"$f":"IF(ISERROR(VLOOKUP(Z78,勤務シフト一覧!$B$4:$D$106,3,FALSE)),\"\",VLOOKUP(Z78,勤務シフト一覧!$B$4:$D$106,3,FALSE))","v":""},{"$f":"IF(ISERROR(VLOOKUP(AA78,勤務シフト一覧!$B$4:$D$106,3,FALSE)),\"\",VLOOKUP(AA78,勤務シフト一覧!$B$4:$D$106,3,FALSE))","v":""},{"$f":"IF(ISERROR(VLOOKUP(AB78,勤務シフト一覧!$B$4:$D$106,3,FALSE)),\"\",VLOOKUP(AB78,勤務シフト一覧!$B$4:$D$106,3,FALSE))","v":""},{"$f":"IF(ISERROR(VLOOKUP(AC78,勤務シフト一覧!$B$4:$D$106,3,FALSE)),\"\",VLOOKUP(AC78,勤務シフト一覧!$B$4:$D$106,3,FALSE))","v":""},{"$f":"IF(ISERROR(VLOOKUP(AD78,勤務シフト一覧!$B$4:$D$106,3,FALSE)),\"\",VLOOKUP(AD78,勤務シフト一覧!$B$4:$D$106,3,FALSE))","v":""},{"$f":"IF(ISERROR(VLOOKUP(AE78,勤務シフト一覧!$B$4:$D$106,3,FALSE)),\"\",VLOOKUP(AE78,勤務シフト一覧!$B$4:$D$106,3,FALSE))","v":""},{"$f":"IF(ISERROR(VLOOKUP(AF78,勤務シフト一覧!$B$4:$D$106,3,FALSE)),\"\",VLOOKUP(AF78,勤務シフト一覧!$B$4:$D$106,3,FALSE))","v":""},{"$f":"IF(ISERROR(VLOOKUP(AG78,勤務シフト一覧!$B$4:$D$106,3,FALSE)),\"\",VLOOKUP(AG78,勤務シフト一覧!$B$4:$D$106,3,FALSE))","v":""},{"$f":"IF(ISERROR(VLOOKUP(AH78,勤務シフト一覧!$B$4:$D$106,3,FALSE)),\"\",VLOOKUP(AH78,勤務シフト一覧!$B$4:$D$106,3,FALSE))","v":""},0,0,0,0,0,0,0,0,0,0,{"$f":"IF(LEN(職員一覧!D38)<>0,職員一覧!D38,\"\")","v":""},null,{"$f":"IF(勤務シフト一覧!$D79<>0,IF(勤務シフト一覧!$B79<> 0,勤務シフト一覧!$B79,\"\"),\"\")","v":"準深"}]
[null,null,"実施",null,null,null,null,null,null,null,null,null,null,null,null,null,null,null,null,null,null,null,null,null,null,null,null,null,null,null,null,null,null,null,{"$f":"IF(ISERROR(VLOOKUP(D79,勤務シフト一覧!$B$4:$C$106,2,FALSE)),\"\",VLOOKUP(D79,勤務シフト一覧!$B$4:$C$106,2,FALSE))","v":""},{"$f":"IF(ISERROR(VLOOKUP(E79,勤務シフト一覧!$B$4:$C$106,2,FALSE)),\"\",VLOOKUP(E79,勤務シフト一覧!$B$4:$C$106,2,FALSE))","v":""},{"$f":"IF(ISERROR(VLOOKUP(F79,勤務シフト一覧!$B$4:$C$106,2,FALSE)),\"\",VLOOKUP(F79,勤務シフト一覧!$B$4:$C$106,2,FALSE))","v":""},{"$f":"IF(ISERROR(VLOOKUP(G79,勤務シフト一覧!$B$4:$C$106,2,FALSE)),\"\",VLOOKUP(G79,勤務シフト一覧!$B$4:$C$106,2,FALSE))","v":""},{"$f":"IF(ISERROR(VLOOKUP(H79,勤務シフト一覧!$B$4:$C$106,2,FALSE)),\"\",VLOOKUP(H79,勤務シフト一覧!$B$4:$C$106,2,FALSE))","v":""},{"$f":"IF(ISERROR(VLOOKUP(I79,勤務シフト一覧!$B$4:$C$106,2,FALSE)),\"\",VLOOKUP(I79,勤務シフト一覧!$B$4:$C$106,2,FALSE))","v":""},{"$f":"IF(ISERROR(VLOOKUP(J79,勤務シフト一覧!$B$4:$C$106,2,FALSE)),\"\",VLOOKUP(J79,勤務シフト一覧!$B$4:$C$106,2,FALSE))","v":""},{"$f":"IF(ISERROR(VLOOKUP(K79,勤務シフト一覧!$B$4:$C$106,2,FALSE)),\"\",VLOOKUP(K79,勤務シフト一覧!$B$4:$C$106,2,FALSE))","v":""},{"$f":"IF(ISERROR(VLOOKUP(L79,勤務シフト一覧!$B$4:$C$106,2,FALSE)),\"\",VLOOKUP(L79,勤務シフト一覧!$B$4:$C$106,2,FALSE))","v":""},{"$f":"IF(ISERROR(VLOOKUP(M79,勤務シフト一覧!$B$4:$C$106,2,FALSE)),\"\",VLOOKUP(M79,勤務シフト一覧!$B$4:$C$106,2,FALSE))","v":""},{"$f":"IF(ISERROR(VLOOKUP(N79,勤務シフト一覧!$B$4:$C$106,2,FALSE)),\"\",VLOOKUP(N79,勤務シフト一覧!$B$4:$C$106,2,FALSE))","v":""},{"$f":"IF(ISERROR(VLOOKUP(O79,勤務シフト一覧!$B$4:$C$106,2,FALSE)),\"\",VLOOKUP(O79,勤務シフト一覧!$B$4:$C$106,2,FALSE))","v":""},{"$f":"IF(ISERROR(VLOOKUP(P79,勤務シフト一覧!$B$4:$C$106,2,FALSE)),\"\",VLOOKUP(P79,勤務シフト一覧!$B$4:$C$106,2,FALSE))","v":""},{"$f":"IF(ISERROR(VLOOKUP(Q79,勤務シフト一覧!$B$4:$C$106,2,FALSE)),\"\",VLOOKUP(Q79,勤務シフト一覧!$B$4:$C$106,2,FALSE))","v":""},{"$f":"IF(ISERROR(VLOOKUP(R79,勤務シフト一覧!$B$4:$C$106,2,FALSE)),\"\",VLOOKUP(R79,勤務シフト一覧!$B$4:$C$106,2,FALSE))","v":""},{"$f":"IF(ISERROR(VLOOKUP(S79,勤務シフト一覧!$B$4:$C$106,2,FALSE)),\"\",VLOOKUP(S79,勤務シフト一覧!$B$4:$C$106,2,FALSE))","v":""},{"$f":"IF(ISERROR(VLOOKUP(T79,勤務シフト一覧!$B$4:$C$106,2,FALSE)),\"\",VLOOKUP(T79,勤務シフト一覧!$B$4:$C$106,2,FALSE))","v":""},{"$f":"IF(ISERROR(VLOOKUP(U79,勤務シフト一覧!$B$4:$C$106,2,FALSE)),\"\",VLOOKUP(U79,勤務シフト一覧!$B$4:$C$106,2,FALSE))","v":""},{"$f":"IF(ISERROR(VLOOKUP(V79,勤務シフト一覧!$B$4:$C$106,2,FALSE)),\"\",VLOOKUP(V79,勤務シフト一覧!$B$4:$C$106,2,FALSE))","v":""},{"$f":"IF(ISERROR(VLOOKUP(W79,勤務シフト一覧!$B$4:$C$106,2,FALSE)),\"\",VLOOKUP(W79,勤務シフト一覧!$B$4:$C$106,2,FALSE))","v":""},{"$f":"IF(ISERROR(VLOOKUP(X79,勤務シフト一覧!$B$4:$C$106,2,FALSE)),\"\",VLOOKUP(X79,勤務シフト一覧!$B$4:$C$106,2,FALSE))","v":""},{"$f":"IF(ISERROR(VLOOKUP(Y79,勤務シフト一覧!$B$4:$C$106,2,FALSE)),\"\",VLOOKUP(Y79,勤務シフト一覧!$B$4:$C$106,2,FALSE))","v":""},{"$f":"IF(ISERROR(VLOOKUP(Z79,勤務シフト一覧!$B$4:$C$106,2,FALSE)),\"\",VLOOKUP(Z79,勤務シフト一覧!$B$4:$C$106,2,FALSE))","v":""},{"$f":"IF(ISERROR(VLOOKUP(AA79,勤務シフト一覧!$B$4:$C$106,2,FALSE)),\"\",VLOOKUP(AA79,勤務シフト一覧!$B$4:$C$106,2,FALSE))","v":""},{"$f":"IF(ISERROR(VLOOKUP(AB79,勤務シフト一覧!$B$4:$C$106,2,FALSE)),\"\",VLOOKUP(AB79,勤務シフト一覧!$B$4:$C$106,2,FALSE))","v":""},{"$f":"IF(ISERROR(VLOOKUP(AC79,勤務シフト一覧!$B$4:$C$106,2,FALSE)),\"\",VLOOKUP(AC79,勤務シフト一覧!$B$4:$C$106,2,FALSE))","v":""},{"$f":"IF(ISERROR(VLOOKUP(AD79,勤務シフト一覧!$B$4:$C$106,2,FALSE)),\"\",VLOOKUP(AD79,勤務シフト一覧!$B$4:$C$106,2,FALSE))","v":""},{"$f":"IF(ISERROR(VLOOKUP(AE79,勤務シフト一覧!$B$4:$C$106,2,FALSE)),\"\",VLOOKUP(AE79,勤務シフト一覧!$B$4:$C$106,2,FALSE))","v":""},{"$f":"IF(ISERROR(VLOOKUP(AF79,勤務シフト一覧!$B$4:$C$106,2,FALSE)),\"\",VLOOKUP(AF79,勤務シフト一覧!$B$4:$C$106,2,FALSE))","v":""},{"$f":"IF(ISERROR(VLOOKUP(AG79,勤務シフト一覧!$B$4:$C$106,2,FALSE)),\"\",VLOOKUP(AG79,勤務シフト一覧!$B$4:$C$106,2,FALSE))","v":""},{"$f":"IF(ISERROR(VLOOKUP(AH79,勤務シフト一覧!$B$4:$C$106,2,FALSE)),\"\",VLOOKUP(AH79,勤務シフト一覧!$B$4:$C$106,2,FALSE))","v":""},null,{"$f":"IF(ISERROR(VLOOKUP(D79,勤務シフト一覧!$B$4:$D$106,3,FALSE)),\"\",VLOOKUP(D79,勤務シフト一覧!$B$4:$D$106,3,FALSE))","v":""},{"$f":"IF(ISERROR(VLOOKUP(E79,勤務シフト一覧!$B$4:$D$106,3,FALSE)),\"\",VLOOKUP(E79,勤務シフト一覧!$B$4:$D$106,3,FALSE))","v":""},{"$f":"IF(ISERROR(VLOOKUP(F79,勤務シフト一覧!$B$4:$D$106,3,FALSE)),\"\",VLOOKUP(F79,勤務シフト一覧!$B$4:$D$106,3,FALSE))","v":""},{"$f":"IF(ISERROR(VLOOKUP(G79,勤務シフト一覧!$B$4:$D$106,3,FALSE)),\"\",VLOOKUP(G79,勤務シフト一覧!$B$4:$D$106,3,FALSE))","v":""},{"$f":"IF(ISERROR(VLOOKUP(H79,勤務シフト一覧!$B$4:$D$106,3,FALSE)),\"\",VLOOKUP(H79,勤務シフト一覧!$B$4:$D$106,3,FALSE))","v":""},{"$f":"IF(ISERROR(VLOOKUP(I79,勤務シフト一覧!$B$4:$D$106,3,FALSE)),\"\",VLOOKUP(I79,勤務シフト一覧!$B$4:$D$106,3,FALSE))","v":""},{"$f":"IF(ISERROR(VLOOKUP(J79,勤務シフト一覧!$B$4:$D$106,3,FALSE)),\"\",VLOOKUP(J79,勤務シフト一覧!$B$4:$D$106,3,FALSE))","v":""},{"$f":"IF(ISERROR(VLOOKUP(K79,勤務シフト一覧!$B$4:$D$106,3,FALSE)),\"\",VLOOKUP(K79,勤務シフト一覧!$B$4:$D$106,3,FALSE))","v":""},{"$f":"IF(ISERROR(VLOOKUP(L79,勤務シフト一覧!$B$4:$D$106,3,FALSE)),\"\",VLOOKUP(L79,勤務シフト一覧!$B$4:$D$106,3,FALSE))","v":""},{"$f":"IF(ISERROR(VLOOKUP(M79,勤務シフト一覧!$B$4:$D$106,3,FALSE)),\"\",VLOOKUP(M79,勤務シフト一覧!$B$4:$D$106,3,FALSE))","v":""},{"$f":"IF(ISERROR(VLOOKUP(N79,勤務シフト一覧!$B$4:$D$106,3,FALSE)),\"\",VLOOKUP(N79,勤務シフト一覧!$B$4:$D$106,3,FALSE))","v":""},{"$f":"IF(ISERROR(VLOOKUP(O79,勤務シフト一覧!$B$4:$D$106,3,FALSE)),\"\",VLOOKUP(O79,勤務シフト一覧!$B$4:$D$106,3,FALSE))","v":""},{"$f":"IF(ISERROR(VLOOKUP(P79,勤務シフト一覧!$B$4:$D$106,3,FALSE)),\"\",VLOOKUP(P79,勤務シフト一覧!$B$4:$D$106,3,FALSE))","v":""},{"$f":"IF(ISERROR(VLOOKUP(Q79,勤務シフト一覧!$B$4:$D$106,3,FALSE)),\"\",VLOOKUP(Q79,勤務シフト一覧!$B$4:$D$106,3,FALSE))","v":""},{"$f":"IF(ISERROR(VLOOKUP(R79,勤務シフト一覧!$B$4:$D$106,3,FALSE)),\"\",VLOOKUP(R79,勤務シフト一覧!$B$4:$D$106,3,FALSE))","v":""},{"$f":"IF(ISERROR(VLOOKUP(S79,勤務シフト一覧!$B$4:$D$106,3,FALSE)),\"\",VLOOKUP(S79,勤務シフト一覧!$B$4:$D$106,3,FALSE))","v":""},{"$f":"IF(ISERROR(VLOOKUP(T79,勤務シフト一覧!$B$4:$D$106,3,FALSE)),\"\",VLOOKUP(T79,勤務シフト一覧!$B$4:$D$106,3,FALSE))","v":""},{"$f":"IF(ISERROR(VLOOKUP(U79,勤務シフト一覧!$B$4:$D$106,3,FALSE)),\"\",VLOOKUP(U79,勤務シフト一覧!$B$4:$D$106,3,FALSE))","v":""},{"$f":"IF(ISERROR(VLOOKUP(V79,勤務シフト一覧!$B$4:$D$106,3,FALSE)),\"\",VLOOKUP(V79,勤務シフト一覧!$B$4:$D$106,3,FALSE))","v":""},{"$f":"IF(ISERROR(VLOOKUP(W79,勤務シフト一覧!$B$4:$D$106,3,FALSE)),\"\",VLOOKUP(W79,勤務シフト一覧!$B$4:$D$106,3,FALSE))","v":""},{"$f":"IF(ISERROR(VLOOKUP(X79,勤務シフト一覧!$B$4:$D$106,3,FALSE)),\"\",VLOOKUP(X79,勤務シフト一覧!$B$4:$D$106,3,FALSE))","v":""},{"$f":"IF(ISERROR(VLOOKUP(Y79,勤務シフト一覧!$B$4:$D$106,3,FALSE)),\"\",VLOOKUP(Y79,勤務シフト一覧!$B$4:$D$106,3,FALSE))","v":""},{"$f":"IF(ISERROR(VLOOKUP(Z79,勤務シフト一覧!$B$4:$D$106,3,FALSE)),\"\",VLOOKUP(Z79,勤務シフト一覧!$B$4:$D$106,3,FALSE))","v":""},{"$f":"IF(ISERROR(VLOOKUP(AA79,勤務シフト一覧!$B$4:$D$106,3,FALSE)),\"\",VLOOKUP(AA79,勤務シフト一覧!$B$4:$D$106,3,FALSE))","v":""},{"$f":"IF(ISERROR(VLOOKUP(AB79,勤務シフト一覧!$B$4:$D$106,3,FALSE)),\"\",VLOOKUP(AB79,勤務シフト一覧!$B$4:$D$106,3,FALSE))","v":""},{"$f":"IF(ISERROR(VLOOKUP(AC79,勤務シフト一覧!$B$4:$D$106,3,FALSE)),\"\",VLOOKUP(AC79,勤務シフト一覧!$B$4:$D$106,3,FALSE))","v":""},{"$f":"IF(ISERROR(VLOOKUP(AD79,勤務シフト一覧!$B$4:$D$106,3,FALSE)),\"\",VLOOKUP(AD79,勤務シフト一覧!$B$4:$D$106,3,FALSE))","v":""},{"$f":"IF(ISERROR(VLOOKUP(AE79,勤務シフト一覧!$B$4:$D$106,3,FALSE)),\"\",VLOOKUP(AE79,勤務シフト一覧!$B$4:$D$106,3,FALSE))","v":""},{"$f":"IF(ISERROR(VLOOKUP(AF79,勤務シフト一覧!$B$4:$D$106,3,FALSE)),\"\",VLOOKUP(AF79,勤務シフト一覧!$B$4:$D$106,3,FALSE))","v":""},{"$f":"IF(ISERROR(VLOOKUP(AG79,勤務シフト一覧!$B$4:$D$106,3,FALSE)),\"\",VLOOKUP(AG79,勤務シフト一覧!$B$4:$D$106,3,FALSE))","v":""},{"$f":"IF(ISERROR(VLOOKUP(AH79,勤務シフト一覧!$B$4:$D$106,3,FALSE)),\"\",VLOOKUP(AH79,勤務シフト一覧!$B$4:$D$106,3,FALSE))","v":""},0,0,0,0,0,0,0,0,0,0,null,null,{"$f":"IF(勤務シフト一覧!$D80<>0,IF(勤務シフト一覧!$B80<> 0,勤務シフト一覧!$B80,\"\"),\"\")","v":"休準深"}]
[{"$f":"IF(LEN(職員一覧!B39)<>0,職員一覧!B39,\"\")","v":""},{"$f":"IF(LEN(職員一覧!C39)<>0,職員一覧!C39,\"\")","v":""},"予定",null,null,null,null,null,null,null,null,null,null,null,null,null,null,null,null,null,null,null,null,null,null,null,null,null,null,null,null,null,null,null,{"$f":"IF(ISERROR(VLOOKUP(D80,勤務シフト一覧!$B$4:$C$106,2,FALSE)),\"\",VLOOKUP(D80,勤務シフト一覧!$B$4:$C$106,2,FALSE))","v":""},{"$f":"IF(ISERROR(VLOOKUP(E80,勤務シフト一覧!$B$4:$C$106,2,FALSE)),\"\",VLOOKUP(E80,勤務シフト一覧!$B$4:$C$106,2,FALSE))","v":""},{"$f":"IF(ISERROR(VLOOKUP(F80,勤務シフト一覧!$B$4:$C$106,2,FALSE)),\"\",VLOOKUP(F80,勤務シフト一覧!$B$4:$C$106,2,FALSE))","v":""},{"$f":"IF(ISERROR(VLOOKUP(G80,勤務シフト一覧!$B$4:$C$106,2,FALSE)),\"\",VLOOKUP(G80,勤務シフト一覧!$B$4:$C$106,2,FALSE))","v":""},{"$f":"IF(ISERROR(VLOOKUP(H80,勤務シフト一覧!$B$4:$C$106,2,FALSE)),\"\",VLOOKUP(H80,勤務シフト一覧!$B$4:$C$106,2,FALSE))","v":""},{"$f":"IF(ISERROR(VLOOKUP(I80,勤務シフト一覧!$B$4:$C$106,2,FALSE)),\"\",VLOOKUP(I80,勤務シフト一覧!$B$4:$C$106,2,FALSE))","v":""},{"$f":"IF(ISERROR(VLOOKUP(J80,勤務シフト一覧!$B$4:$C$106,2,FALSE)),\"\",VLOOKUP(J80,勤務シフト一覧!$B$4:$C$106,2,FALSE))","v":""},{"$f":"IF(ISERROR(VLOOKUP(K80,勤務シフト一覧!$B$4:$C$106,2,FALSE)),\"\",VLOOKUP(K80,勤務シフト一覧!$B$4:$C$106,2,FALSE))","v":""},{"$f":"IF(ISERROR(VLOOKUP(L80,勤務シフト一覧!$B$4:$C$106,2,FALSE)),\"\",VLOOKUP(L80,勤務シフト一覧!$B$4:$C$106,2,FALSE))","v":""},{"$f":"IF(ISERROR(VLOOKUP(M80,勤務シフト一覧!$B$4:$C$106,2,FALSE)),\"\",VLOOKUP(M80,勤務シフト一覧!$B$4:$C$106,2,FALSE))","v":""},{"$f":"IF(ISERROR(VLOOKUP(N80,勤務シフト一覧!$B$4:$C$106,2,FALSE)),\"\",VLOOKUP(N80,勤務シフト一覧!$B$4:$C$106,2,FALSE))","v":""},{"$f":"IF(ISERROR(VLOOKUP(O80,勤務シフト一覧!$B$4:$C$106,2,FALSE)),\"\",VLOOKUP(O80,勤務シフト一覧!$B$4:$C$106,2,FALSE))","v":""},{"$f":"IF(ISERROR(VLOOKUP(P80,勤務シフト一覧!$B$4:$C$106,2,FALSE)),\"\",VLOOKUP(P80,勤務シフト一覧!$B$4:$C$106,2,FALSE))","v":""},{"$f":"IF(ISERROR(VLOOKUP(Q80,勤務シフト一覧!$B$4:$C$106,2,FALSE)),\"\",VLOOKUP(Q80,勤務シフト一覧!$B$4:$C$106,2,FALSE))","v":""},{"$f":"IF(ISERROR(VLOOKUP(R80,勤務シフト一覧!$B$4:$C$106,2,FALSE)),\"\",VLOOKUP(R80,勤務シフト一覧!$B$4:$C$106,2,FALSE))","v":""},{"$f":"IF(ISERROR(VLOOKUP(S80,勤務シフト一覧!$B$4:$C$106,2,FALSE)),\"\",VLOOKUP(S80,勤務シフト一覧!$B$4:$C$106,2,FALSE))","v":""},{"$f":"IF(ISERROR(VLOOKUP(T80,勤務シフト一覧!$B$4:$C$106,2,FALSE)),\"\",VLOOKUP(T80,勤務シフト一覧!$B$4:$C$106,2,FALSE))","v":""},{"$f":"IF(ISERROR(VLOOKUP(U80,勤務シフト一覧!$B$4:$C$106,2,FALSE)),\"\",VLOOKUP(U80,勤務シフト一覧!$B$4:$C$106,2,FALSE))","v":""},{"$f":"IF(ISERROR(VLOOKUP(V80,勤務シフト一覧!$B$4:$C$106,2,FALSE)),\"\",VLOOKUP(V80,勤務シフト一覧!$B$4:$C$106,2,FALSE))","v":""},{"$f":"IF(ISERROR(VLOOKUP(W80,勤務シフト一覧!$B$4:$C$106,2,FALSE)),\"\",VLOOKUP(W80,勤務シフト一覧!$B$4:$C$106,2,FALSE))","v":""},{"$f":"IF(ISERROR(VLOOKUP(X80,勤務シフト一覧!$B$4:$C$106,2,FALSE)),\"\",VLOOKUP(X80,勤務シフト一覧!$B$4:$C$106,2,FALSE))","v":""},{"$f":"IF(ISERROR(VLOOKUP(Y80,勤務シフト一覧!$B$4:$C$106,2,FALSE)),\"\",VLOOKUP(Y80,勤務シフト一覧!$B$4:$C$106,2,FALSE))","v":""},{"$f":"IF(ISERROR(VLOOKUP(Z80,勤務シフト一覧!$B$4:$C$106,2,FALSE)),\"\",VLOOKUP(Z80,勤務シフト一覧!$B$4:$C$106,2,FALSE))","v":""},{"$f":"IF(ISERROR(VLOOKUP(AA80,勤務シフト一覧!$B$4:$C$106,2,FALSE)),\"\",VLOOKUP(AA80,勤務シフト一覧!$B$4:$C$106,2,FALSE))","v":""},{"$f":"IF(ISERROR(VLOOKUP(AB80,勤務シフト一覧!$B$4:$C$106,2,FALSE)),\"\",VLOOKUP(AB80,勤務シフト一覧!$B$4:$C$106,2,FALSE))","v":""},{"$f":"IF(ISERROR(VLOOKUP(AC80,勤務シフト一覧!$B$4:$C$106,2,FALSE)),\"\",VLOOKUP(AC80,勤務シフト一覧!$B$4:$C$106,2,FALSE))","v":""},{"$f":"IF(ISERROR(VLOOKUP(AD80,勤務シフト一覧!$B$4:$C$106,2,FALSE)),\"\",VLOOKUP(AD80,勤務シフト一覧!$B$4:$C$106,2,FALSE))","v":""},{"$f":"IF(ISERROR(VLOOKUP(AE80,勤務シフト一覧!$B$4:$C$106,2,FALSE)),\"\",VLOOKUP(AE80,勤務シフト一覧!$B$4:$C$106,2,FALSE))","v":""},{"$f":"IF(ISERROR(VLOOKUP(AF80,勤務シフト一覧!$B$4:$C$106,2,FALSE)),\"\",VLOOKUP(AF80,勤務シフト一覧!$B$4:$C$106,2,FALSE))","v":""},{"$f":"IF(ISERROR(VLOOKUP(AG80,勤務シフト一覧!$B$4:$C$106,2,FALSE)),\"\",VLOOKUP(AG80,勤務シフト一覧!$B$4:$C$106,2,FALSE))","v":""},{"$f":"IF(ISERROR(VLOOKUP(AH80,勤務シフト一覧!$B$4:$C$106,2,FALSE)),\"\",VLOOKUP(AH80,勤務シフト一覧!$B$4:$C$106,2,FALSE))","v":""},null,{"$f":"IF(ISERROR(VLOOKUP(D80,勤務シフト一覧!$B$4:$D$106,3,FALSE)),\"\",VLOOKUP(D80,勤務シフト一覧!$B$4:$D$106,3,FALSE))","v":""},{"$f":"IF(ISERROR(VLOOKUP(E80,勤務シフト一覧!$B$4:$D$106,3,FALSE)),\"\",VLOOKUP(E80,勤務シフト一覧!$B$4:$D$106,3,FALSE))","v":""},{"$f":"IF(ISERROR(VLOOKUP(F80,勤務シフト一覧!$B$4:$D$106,3,FALSE)),\"\",VLOOKUP(F80,勤務シフト一覧!$B$4:$D$106,3,FALSE))","v":""},{"$f":"IF(ISERROR(VLOOKUP(G80,勤務シフト一覧!$B$4:$D$106,3,FALSE)),\"\",VLOOKUP(G80,勤務シフト一覧!$B$4:$D$106,3,FALSE))","v":""},{"$f":"IF(ISERROR(VLOOKUP(H80,勤務シフト一覧!$B$4:$D$106,3,FALSE)),\"\",VLOOKUP(H80,勤務シフト一覧!$B$4:$D$106,3,FALSE))","v":""},{"$f":"IF(ISERROR(VLOOKUP(I80,勤務シフト一覧!$B$4:$D$106,3,FALSE)),\"\",VLOOKUP(I80,勤務シフト一覧!$B$4:$D$106,3,FALSE))","v":""},{"$f":"IF(ISERROR(VLOOKUP(J80,勤務シフト一覧!$B$4:$D$106,3,FALSE)),\"\",VLOOKUP(J80,勤務シフト一覧!$B$4:$D$106,3,FALSE))","v":""},{"$f":"IF(ISERROR(VLOOKUP(K80,勤務シフト一覧!$B$4:$D$106,3,FALSE)),\"\",VLOOKUP(K80,勤務シフト一覧!$B$4:$D$106,3,FALSE))","v":""},{"$f":"IF(ISERROR(VLOOKUP(L80,勤務シフト一覧!$B$4:$D$106,3,FALSE)),\"\",VLOOKUP(L80,勤務シフト一覧!$B$4:$D$106,3,FALSE))","v":""},{"$f":"IF(ISERROR(VLOOKUP(M80,勤務シフト一覧!$B$4:$D$106,3,FALSE)),\"\",VLOOKUP(M80,勤務シフト一覧!$B$4:$D$106,3,FALSE))","v":""},{"$f":"IF(ISERROR(VLOOKUP(N80,勤務シフト一覧!$B$4:$D$106,3,FALSE)),\"\",VLOOKUP(N80,勤務シフト一覧!$B$4:$D$106,3,FALSE))","v":""},{"$f":"IF(ISERROR(VLOOKUP(O80,勤務シフト一覧!$B$4:$D$106,3,FALSE)),\"\",VLOOKUP(O80,勤務シフト一覧!$B$4:$D$106,3,FALSE))","v":""},{"$f":"IF(ISERROR(VLOOKUP(P80,勤務シフト一覧!$B$4:$D$106,3,FALSE)),\"\",VLOOKUP(P80,勤務シフト一覧!$B$4:$D$106,3,FALSE))","v":""},{"$f":"IF(ISERROR(VLOOKUP(Q80,勤務シフト一覧!$B$4:$D$106,3,FALSE)),\"\",VLOOKUP(Q80,勤務シフト一覧!$B$4:$D$106,3,FALSE))","v":""},{"$f":"IF(ISERROR(VLOOKUP(R80,勤務シフト一覧!$B$4:$D$106,3,FALSE)),\"\",VLOOKUP(R80,勤務シフト一覧!$B$4:$D$106,3,FALSE))","v":""},{"$f":"IF(ISERROR(VLOOKUP(S80,勤務シフト一覧!$B$4:$D$106,3,FALSE)),\"\",VLOOKUP(S80,勤務シフト一覧!$B$4:$D$106,3,FALSE))","v":""},{"$f":"IF(ISERROR(VLOOKUP(T80,勤務シフト一覧!$B$4:$D$106,3,FALSE)),\"\",VLOOKUP(T80,勤務シフト一覧!$B$4:$D$106,3,FALSE))","v":""},{"$f":"IF(ISERROR(VLOOKUP(U80,勤務シフト一覧!$B$4:$D$106,3,FALSE)),\"\",VLOOKUP(U80,勤務シフト一覧!$B$4:$D$106,3,FALSE))","v":""},{"$f":"IF(ISERROR(VLOOKUP(V80,勤務シフト一覧!$B$4:$D$106,3,FALSE)),\"\",VLOOKUP(V80,勤務シフト一覧!$B$4:$D$106,3,FALSE))","v":""},{"$f":"IF(ISERROR(VLOOKUP(W80,勤務シフト一覧!$B$4:$D$106,3,FALSE)),\"\",VLOOKUP(W80,勤務シフト一覧!$B$4:$D$106,3,FALSE))","v":""},{"$f":"IF(ISERROR(VLOOKUP(X80,勤務シフト一覧!$B$4:$D$106,3,FALSE)),\"\",VLOOKUP(X80,勤務シフト一覧!$B$4:$D$106,3,FALSE))","v":""},{"$f":"IF(ISERROR(VLOOKUP(Y80,勤務シフト一覧!$B$4:$D$106,3,FALSE)),\"\",VLOOKUP(Y80,勤務シフト一覧!$B$4:$D$106,3,FALSE))","v":""},{"$f":"IF(ISERROR(VLOOKUP(Z80,勤務シフト一覧!$B$4:$D$106,3,FALSE)),\"\",VLOOKUP(Z80,勤務シフト一覧!$B$4:$D$106,3,FALSE))","v":""},{"$f":"IF(ISERROR(VLOOKUP(AA80,勤務シフト一覧!$B$4:$D$106,3,FALSE)),\"\",VLOOKUP(AA80,勤務シフト一覧!$B$4:$D$106,3,FALSE))","v":""},{"$f":"IF(ISERROR(VLOOKUP(AB80,勤務シフト一覧!$B$4:$D$106,3,FALSE)),\"\",VLOOKUP(AB80,勤務シフト一覧!$B$4:$D$106,3,FALSE))","v":""},{"$f":"IF(ISERROR(VLOOKUP(AC80,勤務シフト一覧!$B$4:$D$106,3,FALSE)),\"\",VLOOKUP(AC80,勤務シフト一覧!$B$4:$D$106,3,FALSE))","v":""},{"$f":"IF(ISERROR(VLOOKUP(AD80,勤務シフト一覧!$B$4:$D$106,3,FALSE)),\"\",VLOOKUP(AD80,勤務シフト一覧!$B$4:$D$106,3,FALSE))","v":""},{"$f":"IF(ISERROR(VLOOKUP(AE80,勤務シフト一覧!$B$4:$D$106,3,FALSE)),\"\",VLOOKUP(AE80,勤務シフト一覧!$B$4:$D$106,3,FALSE))","v":""},{"$f":"IF(ISERROR(VLOOKUP(AF80,勤務シフト一覧!$B$4:$D$106,3,FALSE)),\"\",VLOOKUP(AF80,勤務シフト一覧!$B$4:$D$106,3,FALSE))","v":""},{"$f":"IF(ISERROR(VLOOKUP(AG80,勤務シフト一覧!$B$4:$D$106,3,FALSE)),\"\",VLOOKUP(AG80,勤務シフト一覧!$B$4:$D$106,3,FALSE))","v":""},{"$f":"IF(ISERROR(VLOOKUP(AH80,勤務シフト一覧!$B$4:$D$106,3,FALSE)),\"\",VLOOKUP(AH80,勤務シフト一覧!$B$4:$D$106,3,FALSE))","v":""},0,0,0,0,0,0,0,0,0,0,{"$f":"IF(LEN(職員一覧!D39)<>0,職員一覧!D39,\"\")","v":""},null,{"$f":"IF(勤務シフト一覧!$D81<>0,IF(勤務シフト一覧!$B81<> 0,勤務シフト一覧!$B81,\"\"),\"\")","v":"0915"}]
[null,null,"実施",null,null,null,null,null,null,null,null,null,null,null,null,null,null,null,null,null,null,null,null,null,null,null,null,null,null,null,null,null,null,null,{"$f":"IF(ISERROR(VLOOKUP(D81,勤務シフト一覧!$B$4:$C$106,2,FALSE)),\"\",VLOOKUP(D81,勤務シフト一覧!$B$4:$C$106,2,FALSE))","v":""},{"$f":"IF(ISERROR(VLOOKUP(E81,勤務シフト一覧!$B$4:$C$106,2,FALSE)),\"\",VLOOKUP(E81,勤務シフト一覧!$B$4:$C$106,2,FALSE))","v":""},{"$f":"IF(ISERROR(VLOOKUP(F81,勤務シフト一覧!$B$4:$C$106,2,FALSE)),\"\",VLOOKUP(F81,勤務シフト一覧!$B$4:$C$106,2,FALSE))","v":""},{"$f":"IF(ISERROR(VLOOKUP(G81,勤務シフト一覧!$B$4:$C$106,2,FALSE)),\"\",VLOOKUP(G81,勤務シフト一覧!$B$4:$C$106,2,FALSE))","v":""},{"$f":"IF(ISERROR(VLOOKUP(H81,勤務シフト一覧!$B$4:$C$106,2,FALSE)),\"\",VLOOKUP(H81,勤務シフト一覧!$B$4:$C$106,2,FALSE))","v":""},{"$f":"IF(ISERROR(VLOOKUP(I81,勤務シフト一覧!$B$4:$C$106,2,FALSE)),\"\",VLOOKUP(I81,勤務シフト一覧!$B$4:$C$106,2,FALSE))","v":""},{"$f":"IF(ISERROR(VLOOKUP(J81,勤務シフト一覧!$B$4:$C$106,2,FALSE)),\"\",VLOOKUP(J81,勤務シフト一覧!$B$4:$C$106,2,FALSE))","v":""},{"$f":"IF(ISERROR(VLOOKUP(K81,勤務シフト一覧!$B$4:$C$106,2,FALSE)),\"\",VLOOKUP(K81,勤務シフト一覧!$B$4:$C$106,2,FALSE))","v":""},{"$f":"IF(ISERROR(VLOOKUP(L81,勤務シフト一覧!$B$4:$C$106,2,FALSE)),\"\",VLOOKUP(L81,勤務シフト一覧!$B$4:$C$106,2,FALSE))","v":""},{"$f":"IF(ISERROR(VLOOKUP(M81,勤務シフト一覧!$B$4:$C$106,2,FALSE)),\"\",VLOOKUP(M81,勤務シフト一覧!$B$4:$C$106,2,FALSE))","v":""},{"$f":"IF(ISERROR(VLOOKUP(N81,勤務シフト一覧!$B$4:$C$106,2,FALSE)),\"\",VLOOKUP(N81,勤務シフト一覧!$B$4:$C$106,2,FALSE))","v":""},{"$f":"IF(ISERROR(VLOOKUP(O81,勤務シフト一覧!$B$4:$C$106,2,FALSE)),\"\",VLOOKUP(O81,勤務シフト一覧!$B$4:$C$106,2,FALSE))","v":""},{"$f":"IF(ISERROR(VLOOKUP(P81,勤務シフト一覧!$B$4:$C$106,2,FALSE)),\"\",VLOOKUP(P81,勤務シフト一覧!$B$4:$C$106,2,FALSE))","v":""},{"$f":"IF(ISERROR(VLOOKUP(Q81,勤務シフト一覧!$B$4:$C$106,2,FALSE)),\"\",VLOOKUP(Q81,勤務シフト一覧!$B$4:$C$106,2,FALSE))","v":""},{"$f":"IF(ISERROR(VLOOKUP(R81,勤務シフト一覧!$B$4:$C$106,2,FALSE)),\"\",VLOOKUP(R81,勤務シフト一覧!$B$4:$C$106,2,FALSE))","v":""},{"$f":"IF(ISERROR(VLOOKUP(S81,勤務シフト一覧!$B$4:$C$106,2,FALSE)),\"\",VLOOKUP(S81,勤務シフト一覧!$B$4:$C$106,2,FALSE))","v":""},{"$f":"IF(ISERROR(VLOOKUP(T81,勤務シフト一覧!$B$4:$C$106,2,FALSE)),\"\",VLOOKUP(T81,勤務シフト一覧!$B$4:$C$106,2,FALSE))","v":""},{"$f":"IF(ISERROR(VLOOKUP(U81,勤務シフト一覧!$B$4:$C$106,2,FALSE)),\"\",VLOOKUP(U81,勤務シフト一覧!$B$4:$C$106,2,FALSE))","v":""},{"$f":"IF(ISERROR(VLOOKUP(V81,勤務シフト一覧!$B$4:$C$106,2,FALSE)),\"\",VLOOKUP(V81,勤務シフト一覧!$B$4:$C$106,2,FALSE))","v":""},{"$f":"IF(ISERROR(VLOOKUP(W81,勤務シフト一覧!$B$4:$C$106,2,FALSE)),\"\",VLOOKUP(W81,勤務シフト一覧!$B$4:$C$106,2,FALSE))","v":""},{"$f":"IF(ISERROR(VLOOKUP(X81,勤務シフト一覧!$B$4:$C$106,2,FALSE)),\"\",VLOOKUP(X81,勤務シフト一覧!$B$4:$C$106,2,FALSE))","v":""},{"$f":"IF(ISERROR(VLOOKUP(Y81,勤務シフト一覧!$B$4:$C$106,2,FALSE)),\"\",VLOOKUP(Y81,勤務シフト一覧!$B$4:$C$106,2,FALSE))","v":""},{"$f":"IF(ISERROR(VLOOKUP(Z81,勤務シフト一覧!$B$4:$C$106,2,FALSE)),\"\",VLOOKUP(Z81,勤務シフト一覧!$B$4:$C$106,2,FALSE))","v":""},{"$f":"IF(ISERROR(VLOOKUP(AA81,勤務シフト一覧!$B$4:$C$106,2,FALSE)),\"\",VLOOKUP(AA81,勤務シフト一覧!$B$4:$C$106,2,FALSE))","v":""},{"$f":"IF(ISERROR(VLOOKUP(AB81,勤務シフト一覧!$B$4:$C$106,2,FALSE)),\"\",VLOOKUP(AB81,勤務シフト一覧!$B$4:$C$106,2,FALSE))","v":""},{"$f":"IF(ISERROR(VLOOKUP(AC81,勤務シフト一覧!$B$4:$C$106,2,FALSE)),\"\",VLOOKUP(AC81,勤務シフト一覧!$B$4:$C$106,2,FALSE))","v":""},{"$f":"IF(ISERROR(VLOOKUP(AD81,勤務シフト一覧!$B$4:$C$106,2,FALSE)),\"\",VLOOKUP(AD81,勤務シフト一覧!$B$4:$C$106,2,FALSE))","v":""},{"$f":"IF(ISERROR(VLOOKUP(AE81,勤務シフト一覧!$B$4:$C$106,2,FALSE)),\"\",VLOOKUP(AE81,勤務シフト一覧!$B$4:$C$106,2,FALSE))","v":""},{"$f":"IF(ISERROR(VLOOKUP(AF81,勤務シフト一覧!$B$4:$C$106,2,FALSE)),\"\",VLOOKUP(AF81,勤務シフト一覧!$B$4:$C$106,2,FALSE))","v":""},{"$f":"IF(ISERROR(VLOOKUP(AG81,勤務シフト一覧!$B$4:$C$106,2,FALSE)),\"\",VLOOKUP(AG81,勤務シフト一覧!$B$4:$C$106,2,FALSE))","v":""},{"$f":"IF(ISERROR(VLOOKUP(AH81,勤務シフト一覧!$B$4:$C$106,2,FALSE)),\"\",VLOOKUP(AH81,勤務シフト一覧!$B$4:$C$106,2,FALSE))","v":""},null,{"$f":"IF(ISERROR(VLOOKUP(D81,勤務シフト一覧!$B$4:$D$106,3,FALSE)),\"\",VLOOKUP(D81,勤務シフト一覧!$B$4:$D$106,3,FALSE))","v":""},{"$f":"IF(ISERROR(VLOOKUP(E81,勤務シフト一覧!$B$4:$D$106,3,FALSE)),\"\",VLOOKUP(E81,勤務シフト一覧!$B$4:$D$106,3,FALSE))","v":""},{"$f":"IF(ISERROR(VLOOKUP(F81,勤務シフト一覧!$B$4:$D$106,3,FALSE)),\"\",VLOOKUP(F81,勤務シフト一覧!$B$4:$D$106,3,FALSE))","v":""},{"$f":"IF(ISERROR(VLOOKUP(G81,勤務シフト一覧!$B$4:$D$106,3,FALSE)),\"\",VLOOKUP(G81,勤務シフト一覧!$B$4:$D$106,3,FALSE))","v":""},{"$f":"IF(ISERROR(VLOOKUP(H81,勤務シフト一覧!$B$4:$D$106,3,FALSE)),\"\",VLOOKUP(H81,勤務シフト一覧!$B$4:$D$106,3,FALSE))","v":""},{"$f":"IF(ISERROR(VLOOKUP(I81,勤務シフト一覧!$B$4:$D$106,3,FALSE)),\"\",VLOOKUP(I81,勤務シフト一覧!$B$4:$D$106,3,FALSE))","v":""},{"$f":"IF(ISERROR(VLOOKUP(J81,勤務シフト一覧!$B$4:$D$106,3,FALSE)),\"\",VLOOKUP(J81,勤務シフト一覧!$B$4:$D$106,3,FALSE))","v":""},{"$f":"IF(ISERROR(VLOOKUP(K81,勤務シフト一覧!$B$4:$D$106,3,FALSE)),\"\",VLOOKUP(K81,勤務シフト一覧!$B$4:$D$106,3,FALSE))","v":""},{"$f":"IF(ISERROR(VLOOKUP(L81,勤務シフト一覧!$B$4:$D$106,3,FALSE)),\"\",VLOOKUP(L81,勤務シフト一覧!$B$4:$D$106,3,FALSE))","v":""},{"$f":"IF(ISERROR(VLOOKUP(M81,勤務シフト一覧!$B$4:$D$106,3,FALSE)),\"\",VLOOKUP(M81,勤務シフト一覧!$B$4:$D$106,3,FALSE))","v":""},{"$f":"IF(ISERROR(VLOOKUP(N81,勤務シフト一覧!$B$4:$D$106,3,FALSE)),\"\",VLOOKUP(N81,勤務シフト一覧!$B$4:$D$106,3,FALSE))","v":""},{"$f":"IF(ISERROR(VLOOKUP(O81,勤務シフト一覧!$B$4:$D$106,3,FALSE)),\"\",VLOOKUP(O81,勤務シフト一覧!$B$4:$D$106,3,FALSE))","v":""},{"$f":"IF(ISERROR(VLOOKUP(P81,勤務シフト一覧!$B$4:$D$106,3,FALSE)),\"\",VLOOKUP(P81,勤務シフト一覧!$B$4:$D$106,3,FALSE))","v":""},{"$f":"IF(ISERROR(VLOOKUP(Q81,勤務シフト一覧!$B$4:$D$106,3,FALSE)),\"\",VLOOKUP(Q81,勤務シフト一覧!$B$4:$D$106,3,FALSE))","v":""},{"$f":"IF(ISERROR(VLOOKUP(R81,勤務シフト一覧!$B$4:$D$106,3,FALSE)),\"\",VLOOKUP(R81,勤務シフト一覧!$B$4:$D$106,3,FALSE))","v":""},{"$f":"IF(ISERROR(VLOOKUP(S81,勤務シフト一覧!$B$4:$D$106,3,FALSE)),\"\",VLOOKUP(S81,勤務シフト一覧!$B$4:$D$106,3,FALSE))","v":""},{"$f":"IF(ISERROR(VLOOKUP(T81,勤務シフト一覧!$B$4:$D$106,3,FALSE)),\"\",VLOOKUP(T81,勤務シフト一覧!$B$4:$D$106,3,FALSE))","v":""},{"$f":"IF(ISERROR(VLOOKUP(U81,勤務シフト一覧!$B$4:$D$106,3,FALSE)),\"\",VLOOKUP(U81,勤務シフト一覧!$B$4:$D$106,3,FALSE))","v":""},{"$f":"IF(ISERROR(VLOOKUP(V81,勤務シフト一覧!$B$4:$D$106,3,FALSE)),\"\",VLOOKUP(V81,勤務シフト一覧!$B$4:$D$106,3,FALSE))","v":""},{"$f":"IF(ISERROR(VLOOKUP(W81,勤務シフト一覧!$B$4:$D$106,3,FALSE)),\"\",VLOOKUP(W81,勤務シフト一覧!$B$4:$D$106,3,FALSE))","v":""},{"$f":"IF(ISERROR(VLOOKUP(X81,勤務シフト一覧!$B$4:$D$106,3,FALSE)),\"\",VLOOKUP(X81,勤務シフト一覧!$B$4:$D$106,3,FALSE))","v":""},{"$f":"IF(ISERROR(VLOOKUP(Y81,勤務シフト一覧!$B$4:$D$106,3,FALSE)),\"\",VLOOKUP(Y81,勤務シフト一覧!$B$4:$D$106,3,FALSE))","v":""},{"$f":"IF(ISERROR(VLOOKUP(Z81,勤務シフト一覧!$B$4:$D$106,3,FALSE)),\"\",VLOOKUP(Z81,勤務シフト一覧!$B$4:$D$106,3,FALSE))","v":""},{"$f":"IF(ISERROR(VLOOKUP(AA81,勤務シフト一覧!$B$4:$D$106,3,FALSE)),\"\",VLOOKUP(AA81,勤務シフト一覧!$B$4:$D$106,3,FALSE))","v":""},{"$f":"IF(ISERROR(VLOOKUP(AB81,勤務シフト一覧!$B$4:$D$106,3,FALSE)),\"\",VLOOKUP(AB81,勤務シフト一覧!$B$4:$D$106,3,FALSE))","v":""},{"$f":"IF(ISERROR(VLOOKUP(AC81,勤務シフト一覧!$B$4:$D$106,3,FALSE)),\"\",VLOOKUP(AC81,勤務シフト一覧!$B$4:$D$106,3,FALSE))","v":""},{"$f":"IF(ISERROR(VLOOKUP(AD81,勤務シフト一覧!$B$4:$D$106,3,FALSE)),\"\",VLOOKUP(AD81,勤務シフト一覧!$B$4:$D$106,3,FALSE))","v":""},{"$f":"IF(ISERROR(VLOOKUP(AE81,勤務シフト一覧!$B$4:$D$106,3,FALSE)),\"\",VLOOKUP(AE81,勤務シフト一覧!$B$4:$D$106,3,FALSE))","v":""},{"$f":"IF(ISERROR(VLOOKUP(AF81,勤務シフト一覧!$B$4:$D$106,3,FALSE)),\"\",VLOOKUP(AF81,勤務シフト一覧!$B$4:$D$106,3,FALSE))","v":""},{"$f":"IF(ISERROR(VLOOKUP(AG81,勤務シフト一覧!$B$4:$D$106,3,FALSE)),\"\",VLOOKUP(AG81,勤務シフト一覧!$B$4:$D$106,3,FALSE))","v":""},{"$f":"IF(ISERROR(VLOOKUP(AH81,勤務シフト一覧!$B$4:$D$106,3,FALSE)),\"\",VLOOKUP(AH81,勤務シフト一覧!$B$4:$D$106,3,FALSE))","v":""},0,0,0,0,0,0,0,0,0,0,null,null,{"$f":"IF(勤務シフト一覧!$D82<>0,IF(勤務シフト一覧!$B82<> 0,勤務シフト一覧!$B82,\"\"),\"\")","v":"0915"}]
[{"$f":"IF(LEN(職員一覧!B40)<>0,職員一覧!B40,\"\")","v":""},{"$f":"IF(LEN(職員一覧!C40)<>0,職員一覧!C40,\"\")","v":""},"予定",null,null,null,null,null,null,null,null,null,null,null,null,null,null,null,null,null,null,null,null,null,null,null,null,null,null,null,null,null,null,null,{"$f":"IF(ISERROR(VLOOKUP(D82,勤務シフト一覧!$B$4:$C$106,2,FALSE)),\"\",VLOOKUP(D82,勤務シフト一覧!$B$4:$C$106,2,FALSE))","v":""},{"$f":"IF(ISERROR(VLOOKUP(E82,勤務シフト一覧!$B$4:$C$106,2,FALSE)),\"\",VLOOKUP(E82,勤務シフト一覧!$B$4:$C$106,2,FALSE))","v":""},{"$f":"IF(ISERROR(VLOOKUP(F82,勤務シフト一覧!$B$4:$C$106,2,FALSE)),\"\",VLOOKUP(F82,勤務シフト一覧!$B$4:$C$106,2,FALSE))","v":""},{"$f":"IF(ISERROR(VLOOKUP(G82,勤務シフト一覧!$B$4:$C$106,2,FALSE)),\"\",VLOOKUP(G82,勤務シフト一覧!$B$4:$C$106,2,FALSE))","v":""},{"$f":"IF(ISERROR(VLOOKUP(H82,勤務シフト一覧!$B$4:$C$106,2,FALSE)),\"\",VLOOKUP(H82,勤務シフト一覧!$B$4:$C$106,2,FALSE))","v":""},{"$f":"IF(ISERROR(VLOOKUP(I82,勤務シフト一覧!$B$4:$C$106,2,FALSE)),\"\",VLOOKUP(I82,勤務シフト一覧!$B$4:$C$106,2,FALSE))","v":""},{"$f":"IF(ISERROR(VLOOKUP(J82,勤務シフト一覧!$B$4:$C$106,2,FALSE)),\"\",VLOOKUP(J82,勤務シフト一覧!$B$4:$C$106,2,FALSE))","v":""},{"$f":"IF(ISERROR(VLOOKUP(K82,勤務シフト一覧!$B$4:$C$106,2,FALSE)),\"\",VLOOKUP(K82,勤務シフト一覧!$B$4:$C$106,2,FALSE))","v":""},{"$f":"IF(ISERROR(VLOOKUP(L82,勤務シフト一覧!$B$4:$C$106,2,FALSE)),\"\",VLOOKUP(L82,勤務シフト一覧!$B$4:$C$106,2,FALSE))","v":""},{"$f":"IF(ISERROR(VLOOKUP(M82,勤務シフト一覧!$B$4:$C$106,2,FALSE)),\"\",VLOOKUP(M82,勤務シフト一覧!$B$4:$C$106,2,FALSE))","v":""},{"$f":"IF(ISERROR(VLOOKUP(N82,勤務シフト一覧!$B$4:$C$106,2,FALSE)),\"\",VLOOKUP(N82,勤務シフト一覧!$B$4:$C$106,2,FALSE))","v":""},{"$f":"IF(ISERROR(VLOOKUP(O82,勤務シフト一覧!$B$4:$C$106,2,FALSE)),\"\",VLOOKUP(O82,勤務シフト一覧!$B$4:$C$106,2,FALSE))","v":""},{"$f":"IF(ISERROR(VLOOKUP(P82,勤務シフト一覧!$B$4:$C$106,2,FALSE)),\"\",VLOOKUP(P82,勤務シフト一覧!$B$4:$C$106,2,FALSE))","v":""},{"$f":"IF(ISERROR(VLOOKUP(Q82,勤務シフト一覧!$B$4:$C$106,2,FALSE)),\"\",VLOOKUP(Q82,勤務シフト一覧!$B$4:$C$106,2,FALSE))","v":""},{"$f":"IF(ISERROR(VLOOKUP(R82,勤務シフト一覧!$B$4:$C$106,2,FALSE)),\"\",VLOOKUP(R82,勤務シフト一覧!$B$4:$C$106,2,FALSE))","v":""},{"$f":"IF(ISERROR(VLOOKUP(S82,勤務シフト一覧!$B$4:$C$106,2,FALSE)),\"\",VLOOKUP(S82,勤務シフト一覧!$B$4:$C$106,2,FALSE))","v":""},{"$f":"IF(ISERROR(VLOOKUP(T82,勤務シフト一覧!$B$4:$C$106,2,FALSE)),\"\",VLOOKUP(T82,勤務シフト一覧!$B$4:$C$106,2,FALSE))","v":""},{"$f":"IF(ISERROR(VLOOKUP(U82,勤務シフト一覧!$B$4:$C$106,2,FALSE)),\"\",VLOOKUP(U82,勤務シフト一覧!$B$4:$C$106,2,FALSE))","v":""},{"$f":"IF(ISERROR(VLOOKUP(V82,勤務シフト一覧!$B$4:$C$106,2,FALSE)),\"\",VLOOKUP(V82,勤務シフト一覧!$B$4:$C$106,2,FALSE))","v":""},{"$f":"IF(ISERROR(VLOOKUP(W82,勤務シフト一覧!$B$4:$C$106,2,FALSE)),\"\",VLOOKUP(W82,勤務シフト一覧!$B$4:$C$106,2,FALSE))","v":""},{"$f":"IF(ISERROR(VLOOKUP(X82,勤務シフト一覧!$B$4:$C$106,2,FALSE)),\"\",VLOOKUP(X82,勤務シフト一覧!$B$4:$C$106,2,FALSE))","v":""},{"$f":"IF(ISERROR(VLOOKUP(Y82,勤務シフト一覧!$B$4:$C$106,2,FALSE)),\"\",VLOOKUP(Y82,勤務シフト一覧!$B$4:$C$106,2,FALSE))","v":""},{"$f":"IF(ISERROR(VLOOKUP(Z82,勤務シフト一覧!$B$4:$C$106,2,FALSE)),\"\",VLOOKUP(Z82,勤務シフト一覧!$B$4:$C$106,2,FALSE))","v":""},{"$f":"IF(ISERROR(VLOOKUP(AA82,勤務シフト一覧!$B$4:$C$106,2,FALSE)),\"\",VLOOKUP(AA82,勤務シフト一覧!$B$4:$C$106,2,FALSE))","v":""},{"$f":"IF(ISERROR(VLOOKUP(AB82,勤務シフト一覧!$B$4:$C$106,2,FALSE)),\"\",VLOOKUP(AB82,勤務シフト一覧!$B$4:$C$106,2,FALSE))","v":""},{"$f":"IF(ISERROR(VLOOKUP(AC82,勤務シフト一覧!$B$4:$C$106,2,FALSE)),\"\",VLOOKUP(AC82,勤務シフト一覧!$B$4:$C$106,2,FALSE))","v":""},{"$f":"IF(ISERROR(VLOOKUP(AD82,勤務シフト一覧!$B$4:$C$106,2,FALSE)),\"\",VLOOKUP(AD82,勤務シフト一覧!$B$4:$C$106,2,FALSE))","v":""},{"$f":"IF(ISERROR(VLOOKUP(AE82,勤務シフト一覧!$B$4:$C$106,2,FALSE)),\"\",VLOOKUP(AE82,勤務シフト一覧!$B$4:$C$106,2,FALSE))","v":""},{"$f":"IF(ISERROR(VLOOKUP(AF82,勤務シフト一覧!$B$4:$C$106,2,FALSE)),\"\",VLOOKUP(AF82,勤務シフト一覧!$B$4:$C$106,2,FALSE))","v":""},{"$f":"IF(ISERROR(VLOOKUP(AG82,勤務シフト一覧!$B$4:$C$106,2,FALSE)),\"\",VLOOKUP(AG82,勤務シフト一覧!$B$4:$C$106,2,FALSE))","v":""},{"$f":"IF(ISERROR(VLOOKUP(AH82,勤務シフト一覧!$B$4:$C$106,2,FALSE)),\"\",VLOOKUP(AH82,勤務シフト一覧!$B$4:$C$106,2,FALSE))","v":""},null,{"$f":"IF(ISERROR(VLOOKUP(D82,勤務シフト一覧!$B$4:$D$106,3,FALSE)),\"\",VLOOKUP(D82,勤務シフト一覧!$B$4:$D$106,3,FALSE))","v":""},{"$f":"IF(ISERROR(VLOOKUP(E82,勤務シフト一覧!$B$4:$D$106,3,FALSE)),\"\",VLOOKUP(E82,勤務シフト一覧!$B$4:$D$106,3,FALSE))","v":""},{"$f":"IF(ISERROR(VLOOKUP(F82,勤務シフト一覧!$B$4:$D$106,3,FALSE)),\"\",VLOOKUP(F82,勤務シフト一覧!$B$4:$D$106,3,FALSE))","v":""},{"$f":"IF(ISERROR(VLOOKUP(G82,勤務シフト一覧!$B$4:$D$106,3,FALSE)),\"\",VLOOKUP(G82,勤務シフト一覧!$B$4:$D$106,3,FALSE))","v":""},{"$f":"IF(ISERROR(VLOOKUP(H82,勤務シフト一覧!$B$4:$D$106,3,FALSE)),\"\",VLOOKUP(H82,勤務シフト一覧!$B$4:$D$106,3,FALSE))","v":""},{"$f":"IF(ISERROR(VLOOKUP(I82,勤務シフト一覧!$B$4:$D$106,3,FALSE)),\"\",VLOOKUP(I82,勤務シフト一覧!$B$4:$D$106,3,FALSE))","v":""},{"$f":"IF(ISERROR(VLOOKUP(J82,勤務シフト一覧!$B$4:$D$106,3,FALSE)),\"\",VLOOKUP(J82,勤務シフト一覧!$B$4:$D$106,3,FALSE))","v":""},{"$f":"IF(ISERROR(VLOOKUP(K82,勤務シフト一覧!$B$4:$D$106,3,FALSE)),\"\",VLOOKUP(K82,勤務シフト一覧!$B$4:$D$106,3,FALSE))","v":""},{"$f":"IF(ISERROR(VLOOKUP(L82,勤務シフト一覧!$B$4:$D$106,3,FALSE)),\"\",VLOOKUP(L82,勤務シフト一覧!$B$4:$D$106,3,FALSE))","v":""},{"$f":"IF(ISERROR(VLOOKUP(M82,勤務シフト一覧!$B$4:$D$106,3,FALSE)),\"\",VLOOKUP(M82,勤務シフト一覧!$B$4:$D$106,3,FALSE))","v":""},{"$f":"IF(ISERROR(VLOOKUP(N82,勤務シフト一覧!$B$4:$D$106,3,FALSE)),\"\",VLOOKUP(N82,勤務シフト一覧!$B$4:$D$106,3,FALSE))","v":""},{"$f":"IF(ISERROR(VLOOKUP(O82,勤務シフト一覧!$B$4:$D$106,3,FALSE)),\"\",VLOOKUP(O82,勤務シフト一覧!$B$4:$D$106,3,FALSE))","v":""},{"$f":"IF(ISERROR(VLOOKUP(P82,勤務シフト一覧!$B$4:$D$106,3,FALSE)),\"\",VLOOKUP(P82,勤務シフト一覧!$B$4:$D$106,3,FALSE))","v":""},{"$f":"IF(ISERROR(VLOOKUP(Q82,勤務シフト一覧!$B$4:$D$106,3,FALSE)),\"\",VLOOKUP(Q82,勤務シフト一覧!$B$4:$D$106,3,FALSE))","v":""},{"$f":"IF(ISERROR(VLOOKUP(R82,勤務シフト一覧!$B$4:$D$106,3,FALSE)),\"\",VLOOKUP(R82,勤務シフト一覧!$B$4:$D$106,3,FALSE))","v":""},{"$f":"IF(ISERROR(VLOOKUP(S82,勤務シフト一覧!$B$4:$D$106,3,FALSE)),\"\",VLOOKUP(S82,勤務シフト一覧!$B$4:$D$106,3,FALSE))","v":""},{"$f":"IF(ISERROR(VLOOKUP(T82,勤務シフト一覧!$B$4:$D$106,3,FALSE)),\"\",VLOOKUP(T82,勤務シフト一覧!$B$4:$D$106,3,FALSE))","v":""},{"$f":"IF(ISERROR(VLOOKUP(U82,勤務シフト一覧!$B$4:$D$106,3,FALSE)),\"\",VLOOKUP(U82,勤務シフト一覧!$B$4:$D$106,3,FALSE))","v":""},{"$f":"IF(ISERROR(VLOOKUP(V82,勤務シフト一覧!$B$4:$D$106,3,FALSE)),\"\",VLOOKUP(V82,勤務シフト一覧!$B$4:$D$106,3,FALSE))","v":""},{"$f":"IF(ISERROR(VLOOKUP(W82,勤務シフト一覧!$B$4:$D$106,3,FALSE)),\"\",VLOOKUP(W82,勤務シフト一覧!$B$4:$D$106,3,FALSE))","v":""},{"$f":"IF(ISERROR(VLOOKUP(X82,勤務シフト一覧!$B$4:$D$106,3,FALSE)),\"\",VLOOKUP(X82,勤務シフト一覧!$B$4:$D$106,3,FALSE))","v":""},{"$f":"IF(ISERROR(VLOOKUP(Y82,勤務シフト一覧!$B$4:$D$106,3,FALSE)),\"\",VLOOKUP(Y82,勤務シフト一覧!$B$4:$D$106,3,FALSE))","v":""},{"$f":"IF(ISERROR(VLOOKUP(Z82,勤務シフト一覧!$B$4:$D$106,3,FALSE)),\"\",VLOOKUP(Z82,勤務シフト一覧!$B$4:$D$106,3,FALSE))","v":""},{"$f":"IF(ISERROR(VLOOKUP(AA82,勤務シフト一覧!$B$4:$D$106,3,FALSE)),\"\",VLOOKUP(AA82,勤務シフト一覧!$B$4:$D$106,3,FALSE))","v":""},{"$f":"IF(ISERROR(VLOOKUP(AB82,勤務シフト一覧!$B$4:$D$106,3,FALSE)),\"\",VLOOKUP(AB82,勤務シフト一覧!$B$4:$D$106,3,FALSE))","v":""},{"$f":"IF(ISERROR(VLOOKUP(AC82,勤務シフト一覧!$B$4:$D$106,3,FALSE)),\"\",VLOOKUP(AC82,勤務シフト一覧!$B$4:$D$106,3,FALSE))","v":""},{"$f":"IF(ISERROR(VLOOKUP(AD82,勤務シフト一覧!$B$4:$D$106,3,FALSE)),\"\",VLOOKUP(AD82,勤務シフト一覧!$B$4:$D$106,3,FALSE))","v":""},{"$f":"IF(ISERROR(VLOOKUP(AE82,勤務シフト一覧!$B$4:$D$106,3,FALSE)),\"\",VLOOKUP(AE82,勤務シフト一覧!$B$4:$D$106,3,FALSE))","v":""},{"$f":"IF(ISERROR(VLOOKUP(AF82,勤務シフト一覧!$B$4:$D$106,3,FALSE)),\"\",VLOOKUP(AF82,勤務シフト一覧!$B$4:$D$106,3,FALSE))","v":""},{"$f":"IF(ISERROR(VLOOKUP(AG82,勤務シフト一覧!$B$4:$D$106,3,FALSE)),\"\",VLOOKUP(AG82,勤務シフト一覧!$B$4:$D$106,3,FALSE))","v":""},{"$f":"IF(ISERROR(VLOOKUP(AH82,勤務シフト一覧!$B$4:$D$106,3,FALSE)),\"\",VLOOKUP(AH82,勤務シフト一覧!$B$4:$D$106,3,FALSE))","v":""},0,0,0,0,0,0,0,0,0,0,{"$f":"IF(LEN(職員一覧!D40)<>0,職員一覧!D40,\"\")","v":""},null,{"$f":"IF(勤務シフト一覧!$D83<>0,IF(勤務シフト一覧!$B83<> 0,勤務シフト一覧!$B83,\"\"),\"\")","v":""}]
[null,null,"実施",null,null,null,null,null,null,null,null,null,null,null,null,null,null,null,null,null,null,null,null,null,null,null,null,null,null,null,null,null,null,null,{"$f":"IF(ISERROR(VLOOKUP(D83,勤務シフト一覧!$B$4:$C$106,2,FALSE)),\"\",VLOOKUP(D83,勤務シフト一覧!$B$4:$C$106,2,FALSE))","v":""},{"$f":"IF(ISERROR(VLOOKUP(E83,勤務シフト一覧!$B$4:$C$106,2,FALSE)),\"\",VLOOKUP(E83,勤務シフト一覧!$B$4:$C$106,2,FALSE))","v":""},{"$f":"IF(ISERROR(VLOOKUP(F83,勤務シフト一覧!$B$4:$C$106,2,FALSE)),\"\",VLOOKUP(F83,勤務シフト一覧!$B$4:$C$106,2,FALSE))","v":""},{"$f":"IF(ISERROR(VLOOKUP(G83,勤務シフト一覧!$B$4:$C$106,2,FALSE)),\"\",VLOOKUP(G83,勤務シフト一覧!$B$4:$C$106,2,FALSE))","v":""},{"$f":"IF(ISERROR(VLOOKUP(H83,勤務シフト一覧!$B$4:$C$106,2,FALSE)),\"\",VLOOKUP(H83,勤務シフト一覧!$B$4:$C$106,2,FALSE))","v":""},{"$f":"IF(ISERROR(VLOOKUP(I83,勤務シフト一覧!$B$4:$C$106,2,FALSE)),\"\",VLOOKUP(I83,勤務シフト一覧!$B$4:$C$106,2,FALSE))","v":""},{"$f":"IF(ISERROR(VLOOKUP(J83,勤務シフト一覧!$B$4:$C$106,2,FALSE)),\"\",VLOOKUP(J83,勤務シフト一覧!$B$4:$C$106,2,FALSE))","v":""},{"$f":"IF(ISERROR(VLOOKUP(K83,勤務シフト一覧!$B$4:$C$106,2,FALSE)),\"\",VLOOKUP(K83,勤務シフト一覧!$B$4:$C$106,2,FALSE))","v":""},{"$f":"IF(ISERROR(VLOOKUP(L83,勤務シフト一覧!$B$4:$C$106,2,FALSE)),\"\",VLOOKUP(L83,勤務シフト一覧!$B$4:$C$106,2,FALSE))","v":""},{"$f":"IF(ISERROR(VLOOKUP(M83,勤務シフト一覧!$B$4:$C$106,2,FALSE)),\"\",VLOOKUP(M83,勤務シフト一覧!$B$4:$C$106,2,FALSE))","v":""},{"$f":"IF(ISERROR(VLOOKUP(N83,勤務シフト一覧!$B$4:$C$106,2,FALSE)),\"\",VLOOKUP(N83,勤務シフト一覧!$B$4:$C$106,2,FALSE))","v":""},{"$f":"IF(ISERROR(VLOOKUP(O83,勤務シフト一覧!$B$4:$C$106,2,FALSE)),\"\",VLOOKUP(O83,勤務シフト一覧!$B$4:$C$106,2,FALSE))","v":""},{"$f":"IF(ISERROR(VLOOKUP(P83,勤務シフト一覧!$B$4:$C$106,2,FALSE)),\"\",VLOOKUP(P83,勤務シフト一覧!$B$4:$C$106,2,FALSE))","v":""},{"$f":"IF(ISERROR(VLOOKUP(Q83,勤務シフト一覧!$B$4:$C$106,2,FALSE)),\"\",VLOOKUP(Q83,勤務シフト一覧!$B$4:$C$106,2,FALSE))","v":""},{"$f":"IF(ISERROR(VLOOKUP(R83,勤務シフト一覧!$B$4:$C$106,2,FALSE)),\"\",VLOOKUP(R83,勤務シフト一覧!$B$4:$C$106,2,FALSE))","v":""},{"$f":"IF(ISERROR(VLOOKUP(S83,勤務シフト一覧!$B$4:$C$106,2,FALSE)),\"\",VLOOKUP(S83,勤務シフト一覧!$B$4:$C$106,2,FALSE))","v":""},{"$f":"IF(ISERROR(VLOOKUP(T83,勤務シフト一覧!$B$4:$C$106,2,FALSE)),\"\",VLOOKUP(T83,勤務シフト一覧!$B$4:$C$106,2,FALSE))","v":""},{"$f":"IF(ISERROR(VLOOKUP(U83,勤務シフト一覧!$B$4:$C$106,2,FALSE)),\"\",VLOOKUP(U83,勤務シフト一覧!$B$4:$C$106,2,FALSE))","v":""},{"$f":"IF(ISERROR(VLOOKUP(V83,勤務シフト一覧!$B$4:$C$106,2,FALSE)),\"\",VLOOKUP(V83,勤務シフト一覧!$B$4:$C$106,2,FALSE))","v":""},{"$f":"IF(ISERROR(VLOOKUP(W83,勤務シフト一覧!$B$4:$C$106,2,FALSE)),\"\",VLOOKUP(W83,勤務シフト一覧!$B$4:$C$106,2,FALSE))","v":""},{"$f":"IF(ISERROR(VLOOKUP(X83,勤務シフト一覧!$B$4:$C$106,2,FALSE)),\"\",VLOOKUP(X83,勤務シフト一覧!$B$4:$C$106,2,FALSE))","v":""},{"$f":"IF(ISERROR(VLOOKUP(Y83,勤務シフト一覧!$B$4:$C$106,2,FALSE)),\"\",VLOOKUP(Y83,勤務シフト一覧!$B$4:$C$106,2,FALSE))","v":""},{"$f":"IF(ISERROR(VLOOKUP(Z83,勤務シフト一覧!$B$4:$C$106,2,FALSE)),\"\",VLOOKUP(Z83,勤務シフト一覧!$B$4:$C$106,2,FALSE))","v":""},{"$f":"IF(ISERROR(VLOOKUP(AA83,勤務シフト一覧!$B$4:$C$106,2,FALSE)),\"\",VLOOKUP(AA83,勤務シフト一覧!$B$4:$C$106,2,FALSE))","v":""},{"$f":"IF(ISERROR(VLOOKUP(AB83,勤務シフト一覧!$B$4:$C$106,2,FALSE)),\"\",VLOOKUP(AB83,勤務シフト一覧!$B$4:$C$106,2,FALSE))","v":""},{"$f":"IF(ISERROR(VLOOKUP(AC83,勤務シフト一覧!$B$4:$C$106,2,FALSE)),\"\",VLOOKUP(AC83,勤務シフト一覧!$B$4:$C$106,2,FALSE))","v":""},{"$f":"IF(ISERROR(VLOOKUP(AD83,勤務シフト一覧!$B$4:$C$106,2,FALSE)),\"\",VLOOKUP(AD83,勤務シフト一覧!$B$4:$C$106,2,FALSE))","v":""},{"$f":"IF(ISERROR(VLOOKUP(AE83,勤務シフト一覧!$B$4:$C$106,2,FALSE)),\"\",VLOOKUP(AE83,勤務シフト一覧!$B$4:$C$106,2,FALSE))","v":""},{"$f":"IF(ISERROR(VLOOKUP(AF83,勤務シフト一覧!$B$4:$C$106,2,FALSE)),\"\",VLOOKUP(AF83,勤務シフト一覧!$B$4:$C$106,2,FALSE))","v":""},{"$f":"IF(ISERROR(VLOOKUP(AG83,勤務シフト一覧!$B$4:$C$106,2,FALSE)),\"\",VLOOKUP(AG83,勤務シフト一覧!$B$4:$C$106,2,FALSE))","v":""},{"$f":"IF(ISERROR(VLOOKUP(AH83,勤務シフト一覧!$B$4:$C$106,2,FALSE)),\"\",VLOOKUP(AH83,勤務シフト一覧!$B$4:$C$106,2,FALSE))","v":""},null,{"$f":"IF(ISERROR(VLOOKUP(D83,勤務シフト一覧!$B$4:$D$106,3,FALSE)),\"\",VLOOKUP(D83,勤務シフト一覧!$B$4:$D$106,3,FALSE))","v":""},{"$f":"IF(ISERROR(VLOOKUP(E83,勤務シフト一覧!$B$4:$D$106,3,FALSE)),\"\",VLOOKUP(E83,勤務シフト一覧!$B$4:$D$106,3,FALSE))","v":""},{"$f":"IF(ISERROR(VLOOKUP(F83,勤務シフト一覧!$B$4:$D$106,3,FALSE)),\"\",VLOOKUP(F83,勤務シフト一覧!$B$4:$D$106,3,FALSE))","v":""},{"$f":"IF(ISERROR(VLOOKUP(G83,勤務シフト一覧!$B$4:$D$106,3,FALSE)),\"\",VLOOKUP(G83,勤務シフト一覧!$B$4:$D$106,3,FALSE))","v":""},{"$f":"IF(ISERROR(VLOOKUP(H83,勤務シフト一覧!$B$4:$D$106,3,FALSE)),\"\",VLOOKUP(H83,勤務シフト一覧!$B$4:$D$106,3,FALSE))","v":""},{"$f":"IF(ISERROR(VLOOKUP(I83,勤務シフト一覧!$B$4:$D$106,3,FALSE)),\"\",VLOOKUP(I83,勤務シフト一覧!$B$4:$D$106,3,FALSE))","v":""},{"$f":"IF(ISERROR(VLOOKUP(J83,勤務シフト一覧!$B$4:$D$106,3,FALSE)),\"\",VLOOKUP(J83,勤務シフト一覧!$B$4:$D$106,3,FALSE))","v":""},{"$f":"IF(ISERROR(VLOOKUP(K83,勤務シフト一覧!$B$4:$D$106,3,FALSE)),\"\",VLOOKUP(K83,勤務シフト一覧!$B$4:$D$106,3,FALSE))","v":""},{"$f":"IF(ISERROR(VLOOKUP(L83,勤務シフト一覧!$B$4:$D$106,3,FALSE)),\"\",VLOOKUP(L83,勤務シフト一覧!$B$4:$D$106,3,FALSE))","v":""},{"$f":"IF(ISERROR(VLOOKUP(M83,勤務シフト一覧!$B$4:$D$106,3,FALSE)),\"\",VLOOKUP(M83,勤務シフト一覧!$B$4:$D$106,3,FALSE))","v":""},{"$f":"IF(ISERROR(VLOOKUP(N83,勤務シフト一覧!$B$4:$D$106,3,FALSE)),\"\",VLOOKUP(N83,勤務シフト一覧!$B$4:$D$106,3,FALSE))","v":""},{"$f":"IF(ISERROR(VLOOKUP(O83,勤務シフト一覧!$B$4:$D$106,3,FALSE)),\"\",VLOOKUP(O83,勤務シフト一覧!$B$4:$D$106,3,FALSE))","v":""},{"$f":"IF(ISERROR(VLOOKUP(P83,勤務シフト一覧!$B$4:$D$106,3,FALSE)),\"\",VLOOKUP(P83,勤務シフト一覧!$B$4:$D$106,3,FALSE))","v":""},{"$f":"IF(ISERROR(VLOOKUP(Q83,勤務シフト一覧!$B$4:$D$106,3,FALSE)),\"\",VLOOKUP(Q83,勤務シフト一覧!$B$4:$D$106,3,FALSE))","v":""},{"$f":"IF(ISERROR(VLOOKUP(R83,勤務シフト一覧!$B$4:$D$106,3,FALSE)),\"\",VLOOKUP(R83,勤務シフト一覧!$B$4:$D$106,3,FALSE))","v":""},{"$f":"IF(ISERROR(VLOOKUP(S83,勤務シフト一覧!$B$4:$D$106,3,FALSE)),\"\",VLOOKUP(S83,勤務シフト一覧!$B$4:$D$106,3,FALSE))","v":""},{"$f":"IF(ISERROR(VLOOKUP(T83,勤務シフト一覧!$B$4:$D$106,3,FALSE)),\"\",VLOOKUP(T83,勤務シフト一覧!$B$4:$D$106,3,FALSE))","v":""},{"$f":"IF(ISERROR(VLOOKUP(U83,勤務シフト一覧!$B$4:$D$106,3,FALSE)),\"\",VLOOKUP(U83,勤務シフト一覧!$B$4:$D$106,3,FALSE))","v":""},{"$f":"IF(ISERROR(VLOOKUP(V83,勤務シフト一覧!$B$4:$D$106,3,FALSE)),\"\",VLOOKUP(V83,勤務シフト一覧!$B$4:$D$106,3,FALSE))","v":""},{"$f":"IF(ISERROR(VLOOKUP(W83,勤務シフト一覧!$B$4:$D$106,3,FALSE)),\"\",VLOOKUP(W83,勤務シフト一覧!$B$4:$D$106,3,FALSE))","v":""},{"$f":"IF(ISERROR(VLOOKUP(X83,勤務シフト一覧!$B$4:$D$106,3,FALSE)),\"\",VLOOKUP(X83,勤務シフト一覧!$B$4:$D$106,3,FALSE))","v":""},{"$f":"IF(ISERROR(VLOOKUP(Y83,勤務シフト一覧!$B$4:$D$106,3,FALSE)),\"\",VLOOKUP(Y83,勤務シフト一覧!$B$4:$D$106,3,FALSE))","v":""},{"$f":"IF(ISERROR(VLOOKUP(Z83,勤務シフト一覧!$B$4:$D$106,3,FALSE)),\"\",VLOOKUP(Z83,勤務シフト一覧!$B$4:$D$106,3,FALSE))","v":""},{"$f":"IF(ISERROR(VLOOKUP(AA83,勤務シフト一覧!$B$4:$D$106,3,FALSE)),\"\",VLOOKUP(AA83,勤務シフト一覧!$B$4:$D$106,3,FALSE))","v":""},{"$f":"IF(ISERROR(VLOOKUP(AB83,勤務シフト一覧!$B$4:$D$106,3,FALSE)),\"\",VLOOKUP(AB83,勤務シフト一覧!$B$4:$D$106,3,FALSE))","v":""},{"$f":"IF(ISERROR(VLOOKUP(AC83,勤務シフト一覧!$B$4:$D$106,3,FALSE)),\"\",VLOOKUP(AC83,勤務シフト一覧!$B$4:$D$106,3,FALSE))","v":""},{"$f":"IF(ISERROR(VLOOKUP(AD83,勤務シフト一覧!$B$4:$D$106,3,FALSE)),\"\",VLOOKUP(AD83,勤務シフト一覧!$B$4:$D$106,3,FALSE))","v":""},{"$f":"IF(ISERROR(VLOOKUP(AE83,勤務シフト一覧!$B$4:$D$106,3,FALSE)),\"\",VLOOKUP(AE83,勤務シフト一覧!$B$4:$D$106,3,FALSE))","v":""},{"$f":"IF(ISERROR(VLOOKUP(AF83,勤務シフト一覧!$B$4:$D$106,3,FALSE)),\"\",VLOOKUP(AF83,勤務シフト一覧!$B$4:$D$106,3,FALSE))","v":""},{"$f":"IF(ISERROR(VLOOKUP(AG83,勤務シフト一覧!$B$4:$D$106,3,FALSE)),\"\",VLOOKUP(AG83,勤務シフト一覧!$B$4:$D$106,3,FALSE))","v":""},{"$f":"IF(ISERROR(VLOOKUP(AH83,勤務シフト一覧!$B$4:$D$106,3,FALSE)),\"\",VLOOKUP(AH83,勤務シフト一覧!$B$4:$D$106,3,FALSE))","v":""},0,0,0,0,0,0,0,0,0,0,null,null,{"$f":"IF(勤務シフト一覧!$D84<>0,IF(勤務シフト一覧!$B84<> 0,勤務シフト一覧!$B84,\"\"),\"\")","v":""}]
[{"$f":"IF(LEN(職員一覧!B41)<>0,職員一覧!B41,\"\")","v":""},{"$f":"IF(LEN(職員一覧!C41)<>0,職員一覧!C41,\"\")","v":""},"予定",null,null,null,null,null,null,null,null,null,null,null,null,null,null,null,null,null,null,null,null,null,null,null,null,null,null,null,null,null,null,null,{"$f":"IF(ISERROR(VLOOKUP(D84,勤務シフト一覧!$B$4:$C$106,2,FALSE)),\"\",VLOOKUP(D84,勤務シフト一覧!$B$4:$C$106,2,FALSE))","v":""},{"$f":"IF(ISERROR(VLOOKUP(E84,勤務シフト一覧!$B$4:$C$106,2,FALSE)),\"\",VLOOKUP(E84,勤務シフト一覧!$B$4:$C$106,2,FALSE))","v":""},{"$f":"IF(ISERROR(VLOOKUP(F84,勤務シフト一覧!$B$4:$C$106,2,FALSE)),\"\",VLOOKUP(F84,勤務シフト一覧!$B$4:$C$106,2,FALSE))","v":""},{"$f":"IF(ISERROR(VLOOKUP(G84,勤務シフト一覧!$B$4:$C$106,2,FALSE)),\"\",VLOOKUP(G84,勤務シフト一覧!$B$4:$C$106,2,FALSE))","v":""},{"$f":"IF(ISERROR(VLOOKUP(H84,勤務シフト一覧!$B$4:$C$106,2,FALSE)),\"\",VLOOKUP(H84,勤務シフト一覧!$B$4:$C$106,2,FALSE))","v":""},{"$f":"IF(ISERROR(VLOOKUP(I84,勤務シフト一覧!$B$4:$C$106,2,FALSE)),\"\",VLOOKUP(I84,勤務シフト一覧!$B$4:$C$106,2,FALSE))","v":""},{"$f":"IF(ISERROR(VLOOKUP(J84,勤務シフト一覧!$B$4:$C$106,2,FALSE)),\"\",VLOOKUP(J84,勤務シフト一覧!$B$4:$C$106,2,FALSE))","v":""},{"$f":"IF(ISERROR(VLOOKUP(K84,勤務シフト一覧!$B$4:$C$106,2,FALSE)),\"\",VLOOKUP(K84,勤務シフト一覧!$B$4:$C$106,2,FALSE))","v":""},{"$f":"IF(ISERROR(VLOOKUP(L84,勤務シフト一覧!$B$4:$C$106,2,FALSE)),\"\",VLOOKUP(L84,勤務シフト一覧!$B$4:$C$106,2,FALSE))","v":""},{"$f":"IF(ISERROR(VLOOKUP(M84,勤務シフト一覧!$B$4:$C$106,2,FALSE)),\"\",VLOOKUP(M84,勤務シフト一覧!$B$4:$C$106,2,FALSE))","v":""},{"$f":"IF(ISERROR(VLOOKUP(N84,勤務シフト一覧!$B$4:$C$106,2,FALSE)),\"\",VLOOKUP(N84,勤務シフト一覧!$B$4:$C$106,2,FALSE))","v":""},{"$f":"IF(ISERROR(VLOOKUP(O84,勤務シフト一覧!$B$4:$C$106,2,FALSE)),\"\",VLOOKUP(O84,勤務シフト一覧!$B$4:$C$106,2,FALSE))","v":""},{"$f":"IF(ISERROR(VLOOKUP(P84,勤務シフト一覧!$B$4:$C$106,2,FALSE)),\"\",VLOOKUP(P84,勤務シフト一覧!$B$4:$C$106,2,FALSE))","v":""},{"$f":"IF(ISERROR(VLOOKUP(Q84,勤務シフト一覧!$B$4:$C$106,2,FALSE)),\"\",VLOOKUP(Q84,勤務シフト一覧!$B$4:$C$106,2,FALSE))","v":""},{"$f":"IF(ISERROR(VLOOKUP(R84,勤務シフト一覧!$B$4:$C$106,2,FALSE)),\"\",VLOOKUP(R84,勤務シフト一覧!$B$4:$C$106,2,FALSE))","v":""},{"$f":"IF(ISERROR(VLOOKUP(S84,勤務シフト一覧!$B$4:$C$106,2,FALSE)),\"\",VLOOKUP(S84,勤務シフト一覧!$B$4:$C$106,2,FALSE))","v":""},{"$f":"IF(ISERROR(VLOOKUP(T84,勤務シフト一覧!$B$4:$C$106,2,FALSE)),\"\",VLOOKUP(T84,勤務シフト一覧!$B$4:$C$106,2,FALSE))","v":""},{"$f":"IF(ISERROR(VLOOKUP(U84,勤務シフト一覧!$B$4:$C$106,2,FALSE)),\"\",VLOOKUP(U84,勤務シフト一覧!$B$4:$C$106,2,FALSE))","v":""},{"$f":"IF(ISERROR(VLOOKUP(V84,勤務シフト一覧!$B$4:$C$106,2,FALSE)),\"\",VLOOKUP(V84,勤務シフト一覧!$B$4:$C$106,2,FALSE))","v":""},{"$f":"IF(ISERROR(VLOOKUP(W84,勤務シフト一覧!$B$4:$C$106,2,FALSE)),\"\",VLOOKUP(W84,勤務シフト一覧!$B$4:$C$106,2,FALSE))","v":""},{"$f":"IF(ISERROR(VLOOKUP(X84,勤務シフト一覧!$B$4:$C$106,2,FALSE)),\"\",VLOOKUP(X84,勤務シフト一覧!$B$4:$C$106,2,FALSE))","v":""},{"$f":"IF(ISERROR(VLOOKUP(Y84,勤務シフト一覧!$B$4:$C$106,2,FALSE)),\"\",VLOOKUP(Y84,勤務シフト一覧!$B$4:$C$106,2,FALSE))","v":""},{"$f":"IF(ISERROR(VLOOKUP(Z84,勤務シフト一覧!$B$4:$C$106,2,FALSE)),\"\",VLOOKUP(Z84,勤務シフト一覧!$B$4:$C$106,2,FALSE))","v":""},{"$f":"IF(ISERROR(VLOOKUP(AA84,勤務シフト一覧!$B$4:$C$106,2,FALSE)),\"\",VLOOKUP(AA84,勤務シフト一覧!$B$4:$C$106,2,FALSE))","v":""},{"$f":"IF(ISERROR(VLOOKUP(AB84,勤務シフト一覧!$B$4:$C$106,2,FALSE)),\"\",VLOOKUP(AB84,勤務シフト一覧!$B$4:$C$106,2,FALSE))","v":""},{"$f":"IF(ISERROR(VLOOKUP(AC84,勤務シフト一覧!$B$4:$C$106,2,FALSE)),\"\",VLOOKUP(AC84,勤務シフト一覧!$B$4:$C$106,2,FALSE))","v":""},{"$f":"IF(ISERROR(VLOOKUP(AD84,勤務シフト一覧!$B$4:$C$106,2,FALSE)),\"\",VLOOKUP(AD84,勤務シフト一覧!$B$4:$C$106,2,FALSE))","v":""},{"$f":"IF(ISERROR(VLOOKUP(AE84,勤務シフト一覧!$B$4:$C$106,2,FALSE)),\"\",VLOOKUP(AE84,勤務シフト一覧!$B$4:$C$106,2,FALSE))","v":""},{"$f":"IF(ISERROR(VLOOKUP(AF84,勤務シフト一覧!$B$4:$C$106,2,FALSE)),\"\",VLOOKUP(AF84,勤務シフト一覧!$B$4:$C$106,2,FALSE))","v":""},{"$f":"IF(ISERROR(VLOOKUP(AG84,勤務シフト一覧!$B$4:$C$106,2,FALSE)),\"\",VLOOKUP(AG84,勤務シフト一覧!$B$4:$C$106,2,FALSE))","v":""},{"$f":"IF(ISERROR(VLOOKUP(AH84,勤務シフト一覧!$B$4:$C$106,2,FALSE)),\"\",VLOOKUP(AH84,勤務シフト一覧!$B$4:$C$106,2,FALSE))","v":""},null,{"$f":"IF(ISERROR(VLOOKUP(D84,勤務シフト一覧!$B$4:$D$106,3,FALSE)),\"\",VLOOKUP(D84,勤務シフト一覧!$B$4:$D$106,3,FALSE))","v":""},{"$f":"IF(ISERROR(VLOOKUP(E84,勤務シフト一覧!$B$4:$D$106,3,FALSE)),\"\",VLOOKUP(E84,勤務シフト一覧!$B$4:$D$106,3,FALSE))","v":""},{"$f":"IF(ISERROR(VLOOKUP(F84,勤務シフト一覧!$B$4:$D$106,3,FALSE)),\"\",VLOOKUP(F84,勤務シフト一覧!$B$4:$D$106,3,FALSE))","v":""},{"$f":"IF(ISERROR(VLOOKUP(G84,勤務シフト一覧!$B$4:$D$106,3,FALSE)),\"\",VLOOKUP(G84,勤務シフト一覧!$B$4:$D$106,3,FALSE))","v":""},{"$f":"IF(ISERROR(VLOOKUP(H84,勤務シフト一覧!$B$4:$D$106,3,FALSE)),\"\",VLOOKUP(H84,勤務シフト一覧!$B$4:$D$106,3,FALSE))","v":""},{"$f":"IF(ISERROR(VLOOKUP(I84,勤務シフト一覧!$B$4:$D$106,3,FALSE)),\"\",VLOOKUP(I84,勤務シフト一覧!$B$4:$D$106,3,FALSE))","v":""},{"$f":"IF(ISERROR(VLOOKUP(J84,勤務シフト一覧!$B$4:$D$106,3,FALSE)),\"\",VLOOKUP(J84,勤務シフト一覧!$B$4:$D$106,3,FALSE))","v":""},{"$f":"IF(ISERROR(VLOOKUP(K84,勤務シフト一覧!$B$4:$D$106,3,FALSE)),\"\",VLOOKUP(K84,勤務シフト一覧!$B$4:$D$106,3,FALSE))","v":""},{"$f":"IF(ISERROR(VLOOKUP(L84,勤務シフト一覧!$B$4:$D$106,3,FALSE)),\"\",VLOOKUP(L84,勤務シフト一覧!$B$4:$D$106,3,FALSE))","v":""},{"$f":"IF(ISERROR(VLOOKUP(M84,勤務シフト一覧!$B$4:$D$106,3,FALSE)),\"\",VLOOKUP(M84,勤務シフト一覧!$B$4:$D$106,3,FALSE))","v":""},{"$f":"IF(ISERROR(VLOOKUP(N84,勤務シフト一覧!$B$4:$D$106,3,FALSE)),\"\",VLOOKUP(N84,勤務シフト一覧!$B$4:$D$106,3,FALSE))","v":""},{"$f":"IF(ISERROR(VLOOKUP(O84,勤務シフト一覧!$B$4:$D$106,3,FALSE)),\"\",VLOOKUP(O84,勤務シフト一覧!$B$4:$D$106,3,FALSE))","v":""},{"$f":"IF(ISERROR(VLOOKUP(P84,勤務シフト一覧!$B$4:$D$106,3,FALSE)),\"\",VLOOKUP(P84,勤務シフト一覧!$B$4:$D$106,3,FALSE))","v":""},{"$f":"IF(ISERROR(VLOOKUP(Q84,勤務シフト一覧!$B$4:$D$106,3,FALSE)),\"\",VLOOKUP(Q84,勤務シフト一覧!$B$4:$D$106,3,FALSE))","v":""},{"$f":"IF(ISERROR(VLOOKUP(R84,勤務シフト一覧!$B$4:$D$106,3,FALSE)),\"\",VLOOKUP(R84,勤務シフト一覧!$B$4:$D$106,3,FALSE))","v":""},{"$f":"IF(ISERROR(VLOOKUP(S84,勤務シフト一覧!$B$4:$D$106,3,FALSE)),\"\",VLOOKUP(S84,勤務シフト一覧!$B$4:$D$106,3,FALSE))","v":""},{"$f":"IF(ISERROR(VLOOKUP(T84,勤務シフト一覧!$B$4:$D$106,3,FALSE)),\"\",VLOOKUP(T84,勤務シフト一覧!$B$4:$D$106,3,FALSE))","v":""},{"$f":"IF(ISERROR(VLOOKUP(U84,勤務シフト一覧!$B$4:$D$106,3,FALSE)),\"\",VLOOKUP(U84,勤務シフト一覧!$B$4:$D$106,3,FALSE))","v":""},{"$f":"IF(ISERROR(VLOOKUP(V84,勤務シフト一覧!$B$4:$D$106,3,FALSE)),\"\",VLOOKUP(V84,勤務シフト一覧!$B$4:$D$106,3,FALSE))","v":""},{"$f":"IF(ISERROR(VLOOKUP(W84,勤務シフト一覧!$B$4:$D$106,3,FALSE)),\"\",VLOOKUP(W84,勤務シフト一覧!$B$4:$D$106,3,FALSE))","v":""},{"$f":"IF(ISERROR(VLOOKUP(X84,勤務シフト一覧!$B$4:$D$106,3,FALSE)),\"\",VLOOKUP(X84,勤務シフト一覧!$B$4:$D$106,3,FALSE))","v":""},{"$f":"IF(ISERROR(VLOOKUP(Y84,勤務シフト一覧!$B$4:$D$106,3,FALSE)),\"\",VLOOKUP(Y84,勤務シフト一覧!$B$4:$D$106,3,FALSE))","v":""},{"$f":"IF(ISERROR(VLOOKUP(Z84,勤務シフト一覧!$B$4:$D$106,3,FALSE)),\"\",VLOOKUP(Z84,勤務シフト一覧!$B$4:$D$106,3,FALSE))","v":""},{"$f":"IF(ISERROR(VLOOKUP(AA84,勤務シフト一覧!$B$4:$D$106,3,FALSE)),\"\",VLOOKUP(AA84,勤務シフト一覧!$B$4:$D$106,3,FALSE))","v":""},{"$f":"IF(ISERROR(VLOOKUP(AB84,勤務シフト一覧!$B$4:$D$106,3,FALSE)),\"\",VLOOKUP(AB84,勤務シフト一覧!$B$4:$D$106,3,FALSE))","v":""},{"$f":"IF(ISERROR(VLOOKUP(AC84,勤務シフト一覧!$B$4:$D$106,3,FALSE)),\"\",VLOOKUP(AC84,勤務シフト一覧!$B$4:$D$106,3,FALSE))","v":""},{"$f":"IF(ISERROR(VLOOKUP(AD84,勤務シフト一覧!$B$4:$D$106,3,FALSE)),\"\",VLOOKUP(AD84,勤務シフト一覧!$B$4:$D$106,3,FALSE))","v":""},{"$f":"IF(ISERROR(VLOOKUP(AE84,勤務シフト一覧!$B$4:$D$106,3,FALSE)),\"\",VLOOKUP(AE84,勤務シフト一覧!$B$4:$D$106,3,FALSE))","v":""},{"$f":"IF(ISERROR(VLOOKUP(AF84,勤務シフト一覧!$B$4:$D$106,3,FALSE)),\"\",VLOOKUP(AF84,勤務シフト一覧!$B$4:$D$106,3,FALSE))","v":""},{"$f":"IF(ISERROR(VLOOKUP(AG84,勤務シフト一覧!$B$4:$D$106,3,FALSE)),\"\",VLOOKUP(AG84,勤務シフト一覧!$B$4:$D$106,3,FALSE))","v":""},{"$f":"IF(ISERROR(VLOOKUP(AH84,勤務シフト一覧!$B$4:$D$106,3,FALSE)),\"\",VLOOKUP(AH84,勤務シフト一覧!$B$4:$D$106,3,FALSE))","v":""},0,0,0,0,0,0,0,0,0,0,{"$f":"IF(LEN(職員一覧!D41)<>0,職員一覧!D41,\"\")","v":""},null,{"$f":"IF(勤務シフト一覧!$D85<>0,IF(勤務シフト一覧!$B85<> 0,勤務シフト一覧!$B85,\"\"),\"\")","v":""}]
[null,null,"実施",null,null,null,null,null,null,null,null,null,null,null,null,null,null,null,null,null,null,null,null,null,null,null,null,null,null,null,null,null,null,null,{"$f":"IF(ISERROR(VLOOKUP(D85,勤務シフト一覧!$B$4:$C$106,2,FALSE)),\"\",VLOOKUP(D85,勤務シフト一覧!$B$4:$C$106,2,FALSE))","v":""},{"$f":"IF(ISERROR(VLOOKUP(E85,勤務シフト一覧!$B$4:$C$106,2,FALSE)),\"\",VLOOKUP(E85,勤務シフト一覧!$B$4:$C$106,2,FALSE))","v":""},{"$f":"IF(ISERROR(VLOOKUP(F85,勤務シフト一覧!$B$4:$C$106,2,FALSE)),\"\",VLOOKUP(F85,勤務シフト一覧!$B$4:$C$106,2,FALSE))","v":""},{"$f":"IF(ISERROR(VLOOKUP(G85,勤務シフト一覧!$B$4:$C$106,2,FALSE)),\"\",VLOOKUP(G85,勤務シフト一覧!$B$4:$C$106,2,FALSE))","v":""},{"$f":"IF(ISERROR(VLOOKUP(H85,勤務シフト一覧!$B$4:$C$106,2,FALSE)),\"\",VLOOKUP(H85,勤務シフト一覧!$B$4:$C$106,2,FALSE))","v":""},{"$f":"IF(ISERROR(VLOOKUP(I85,勤務シフト一覧!$B$4:$C$106,2,FALSE)),\"\",VLOOKUP(I85,勤務シフト一覧!$B$4:$C$106,2,FALSE))","v":""},{"$f":"IF(ISERROR(VLOOKUP(J85,勤務シフト一覧!$B$4:$C$106,2,FALSE)),\"\",VLOOKUP(J85,勤務シフト一覧!$B$4:$C$106,2,FALSE))","v":""},{"$f":"IF(ISERROR(VLOOKUP(K85,勤務シフト一覧!$B$4:$C$106,2,FALSE)),\"\",VLOOKUP(K85,勤務シフト一覧!$B$4:$C$106,2,FALSE))","v":""},{"$f":"IF(ISERROR(VLOOKUP(L85,勤務シフト一覧!$B$4:$C$106,2,FALSE)),\"\",VLOOKUP(L85,勤務シフト一覧!$B$4:$C$106,2,FALSE))","v":""},{"$f":"IF(ISERROR(VLOOKUP(M85,勤務シフト一覧!$B$4:$C$106,2,FALSE)),\"\",VLOOKUP(M85,勤務シフト一覧!$B$4:$C$106,2,FALSE))","v":""},{"$f":"IF(ISERROR(VLOOKUP(N85,勤務シフト一覧!$B$4:$C$106,2,FALSE)),\"\",VLOOKUP(N85,勤務シフト一覧!$B$4:$C$106,2,FALSE))","v":""},{"$f":"IF(ISERROR(VLOOKUP(O85,勤務シフト一覧!$B$4:$C$106,2,FALSE)),\"\",VLOOKUP(O85,勤務シフト一覧!$B$4:$C$106,2,FALSE))","v":""},{"$f":"IF(ISERROR(VLOOKUP(P85,勤務シフト一覧!$B$4:$C$106,2,FALSE)),\"\",VLOOKUP(P85,勤務シフト一覧!$B$4:$C$106,2,FALSE))","v":""},{"$f":"IF(ISERROR(VLOOKUP(Q85,勤務シフト一覧!$B$4:$C$106,2,FALSE)),\"\",VLOOKUP(Q85,勤務シフト一覧!$B$4:$C$106,2,FALSE))","v":""},{"$f":"IF(ISERROR(VLOOKUP(R85,勤務シフト一覧!$B$4:$C$106,2,FALSE)),\"\",VLOOKUP(R85,勤務シフト一覧!$B$4:$C$106,2,FALSE))","v":""},{"$f":"IF(ISERROR(VLOOKUP(S85,勤務シフト一覧!$B$4:$C$106,2,FALSE)),\"\",VLOOKUP(S85,勤務シフト一覧!$B$4:$C$106,2,FALSE))","v":""},{"$f":"IF(ISERROR(VLOOKUP(T85,勤務シフト一覧!$B$4:$C$106,2,FALSE)),\"\",VLOOKUP(T85,勤務シフト一覧!$B$4:$C$106,2,FALSE))","v":""},{"$f":"IF(ISERROR(VLOOKUP(U85,勤務シフト一覧!$B$4:$C$106,2,FALSE)),\"\",VLOOKUP(U85,勤務シフト一覧!$B$4:$C$106,2,FALSE))","v":""},{"$f":"IF(ISERROR(VLOOKUP(V85,勤務シフト一覧!$B$4:$C$106,2,FALSE)),\"\",VLOOKUP(V85,勤務シフト一覧!$B$4:$C$106,2,FALSE))","v":""},{"$f":"IF(ISERROR(VLOOKUP(W85,勤務シフト一覧!$B$4:$C$106,2,FALSE)),\"\",VLOOKUP(W85,勤務シフト一覧!$B$4:$C$106,2,FALSE))","v":""},{"$f":"IF(ISERROR(VLOOKUP(X85,勤務シフト一覧!$B$4:$C$106,2,FALSE)),\"\",VLOOKUP(X85,勤務シフト一覧!$B$4:$C$106,2,FALSE))","v":""},{"$f":"IF(ISERROR(VLOOKUP(Y85,勤務シフト一覧!$B$4:$C$106,2,FALSE)),\"\",VLOOKUP(Y85,勤務シフト一覧!$B$4:$C$106,2,FALSE))","v":""},{"$f":"IF(ISERROR(VLOOKUP(Z85,勤務シフト一覧!$B$4:$C$106,2,FALSE)),\"\",VLOOKUP(Z85,勤務シフト一覧!$B$4:$C$106,2,FALSE))","v":""},{"$f":"IF(ISERROR(VLOOKUP(AA85,勤務シフト一覧!$B$4:$C$106,2,FALSE)),\"\",VLOOKUP(AA85,勤務シフト一覧!$B$4:$C$106,2,FALSE))","v":""},{"$f":"IF(ISERROR(VLOOKUP(AB85,勤務シフト一覧!$B$4:$C$106,2,FALSE)),\"\",VLOOKUP(AB85,勤務シフト一覧!$B$4:$C$106,2,FALSE))","v":""},{"$f":"IF(ISERROR(VLOOKUP(AC85,勤務シフト一覧!$B$4:$C$106,2,FALSE)),\"\",VLOOKUP(AC85,勤務シフト一覧!$B$4:$C$106,2,FALSE))","v":""},{"$f":"IF(ISERROR(VLOOKUP(AD85,勤務シフト一覧!$B$4:$C$106,2,FALSE)),\"\",VLOOKUP(AD85,勤務シフト一覧!$B$4:$C$106,2,FALSE))","v":""},{"$f":"IF(ISERROR(VLOOKUP(AE85,勤務シフト一覧!$B$4:$C$106,2,FALSE)),\"\",VLOOKUP(AE85,勤務シフト一覧!$B$4:$C$106,2,FALSE))","v":""},{"$f":"IF(ISERROR(VLOOKUP(AF85,勤務シフト一覧!$B$4:$C$106,2,FALSE)),\"\",VLOOKUP(AF85,勤務シフト一覧!$B$4:$C$106,2,FALSE))","v":""},{"$f":"IF(ISERROR(VLOOKUP(AG85,勤務シフト一覧!$B$4:$C$106,2,FALSE)),\"\",VLOOKUP(AG85,勤務シフト一覧!$B$4:$C$106,2,FALSE))","v":""},{"$f":"IF(ISERROR(VLOOKUP(AH85,勤務シフト一覧!$B$4:$C$106,2,FALSE)),\"\",VLOOKUP(AH85,勤務シフト一覧!$B$4:$C$106,2,FALSE))","v":""},null,{"$f":"IF(ISERROR(VLOOKUP(D85,勤務シフト一覧!$B$4:$D$106,3,FALSE)),\"\",VLOOKUP(D85,勤務シフト一覧!$B$4:$D$106,3,FALSE))","v":""},{"$f":"IF(ISERROR(VLOOKUP(E85,勤務シフト一覧!$B$4:$D$106,3,FALSE)),\"\",VLOOKUP(E85,勤務シフト一覧!$B$4:$D$106,3,FALSE))","v":""},{"$f":"IF(ISERROR(VLOOKUP(F85,勤務シフト一覧!$B$4:$D$106,3,FALSE)),\"\",VLOOKUP(F85,勤務シフト一覧!$B$4:$D$106,3,FALSE))","v":""},{"$f":"IF(ISERROR(VLOOKUP(G85,勤務シフト一覧!$B$4:$D$106,3,FALSE)),\"\",VLOOKUP(G85,勤務シフト一覧!$B$4:$D$106,3,FALSE))","v":""},{"$f":"IF(ISERROR(VLOOKUP(H85,勤務シフト一覧!$B$4:$D$106,3,FALSE)),\"\",VLOOKUP(H85,勤務シフト一覧!$B$4:$D$106,3,FALSE))","v":""},{"$f":"IF(ISERROR(VLOOKUP(I85,勤務シフト一覧!$B$4:$D$106,3,FALSE)),\"\",VLOOKUP(I85,勤務シフト一覧!$B$4:$D$106,3,FALSE))","v":""},{"$f":"IF(ISERROR(VLOOKUP(J85,勤務シフト一覧!$B$4:$D$106,3,FALSE)),\"\",VLOOKUP(J85,勤務シフト一覧!$B$4:$D$106,3,FALSE))","v":""},{"$f":"IF(ISERROR(VLOOKUP(K85,勤務シフト一覧!$B$4:$D$106,3,FALSE)),\"\",VLOOKUP(K85,勤務シフト一覧!$B$4:$D$106,3,FALSE))","v":""},{"$f":"IF(ISERROR(VLOOKUP(L85,勤務シフト一覧!$B$4:$D$106,3,FALSE)),\"\",VLOOKUP(L85,勤務シフト一覧!$B$4:$D$106,3,FALSE))","v":""},{"$f":"IF(ISERROR(VLOOKUP(M85,勤務シフト一覧!$B$4:$D$106,3,FALSE)),\"\",VLOOKUP(M85,勤務シフト一覧!$B$4:$D$106,3,FALSE))","v":""},{"$f":"IF(ISERROR(VLOOKUP(N85,勤務シフト一覧!$B$4:$D$106,3,FALSE)),\"\",VLOOKUP(N85,勤務シフト一覧!$B$4:$D$106,3,FALSE))","v":""},{"$f":"IF(ISERROR(VLOOKUP(O85,勤務シフト一覧!$B$4:$D$106,3,FALSE)),\"\",VLOOKUP(O85,勤務シフト一覧!$B$4:$D$106,3,FALSE))","v":""},{"$f":"IF(ISERROR(VLOOKUP(P85,勤務シフト一覧!$B$4:$D$106,3,FALSE)),\"\",VLOOKUP(P85,勤務シフト一覧!$B$4:$D$106,3,FALSE))","v":""},{"$f":"IF(ISERROR(VLOOKUP(Q85,勤務シフト一覧!$B$4:$D$106,3,FALSE)),\"\",VLOOKUP(Q85,勤務シフト一覧!$B$4:$D$106,3,FALSE))","v":""},{"$f":"IF(ISERROR(VLOOKUP(R85,勤務シフト一覧!$B$4:$D$106,3,FALSE)),\"\",VLOOKUP(R85,勤務シフト一覧!$B$4:$D$106,3,FALSE))","v":""},{"$f":"IF(ISERROR(VLOOKUP(S85,勤務シフト一覧!$B$4:$D$106,3,FALSE)),\"\",VLOOKUP(S85,勤務シフト一覧!$B$4:$D$106,3,FALSE))","v":""},{"$f":"IF(ISERROR(VLOOKUP(T85,勤務シフト一覧!$B$4:$D$106,3,FALSE)),\"\",VLOOKUP(T85,勤務シフト一覧!$B$4:$D$106,3,FALSE))","v":""},{"$f":"IF(ISERROR(VLOOKUP(U85,勤務シフト一覧!$B$4:$D$106,3,FALSE)),\"\",VLOOKUP(U85,勤務シフト一覧!$B$4:$D$106,3,FALSE))","v":""},{"$f":"IF(ISERROR(VLOOKUP(V85,勤務シフト一覧!$B$4:$D$106,3,FALSE)),\"\",VLOOKUP(V85,勤務シフト一覧!$B$4:$D$106,3,FALSE))","v":""},{"$f":"IF(ISERROR(VLOOKUP(W85,勤務シフト一覧!$B$4:$D$106,3,FALSE)),\"\",VLOOKUP(W85,勤務シフト一覧!$B$4:$D$106,3,FALSE))","v":""},{"$f":"IF(ISERROR(VLOOKUP(X85,勤務シフト一覧!$B$4:$D$106,3,FALSE)),\"\",VLOOKUP(X85,勤務シフト一覧!$B$4:$D$106,3,FALSE))","v":""},{"$f":"IF(ISERROR(VLOOKUP(Y85,勤務シフト一覧!$B$4:$D$106,3,FALSE)),\"\",VLOOKUP(Y85,勤務シフト一覧!$B$4:$D$106,3,FALSE))","v":""},{"$f":"IF(ISERROR(VLOOKUP(Z85,勤務シフト一覧!$B$4:$D$106,3,FALSE)),\"\",VLOOKUP(Z85,勤務シフト一覧!$B$4:$D$106,3,FALSE))","v":""},{"$f":"IF(ISERROR(VLOOKUP(AA85,勤務シフト一覧!$B$4:$D$106,3,FALSE)),\"\",VLOOKUP(AA85,勤務シフト一覧!$B$4:$D$106,3,FALSE))","v":""},{"$f":"IF(ISERROR(VLOOKUP(AB85,勤務シフト一覧!$B$4:$D$106,3,FALSE)),\"\",VLOOKUP(AB85,勤務シフト一覧!$B$4:$D$106,3,FALSE))","v":""},{"$f":"IF(ISERROR(VLOOKUP(AC85,勤務シフト一覧!$B$4:$D$106,3,FALSE)),\"\",VLOOKUP(AC85,勤務シフト一覧!$B$4:$D$106,3,FALSE))","v":""},{"$f":"IF(ISERROR(VLOOKUP(AD85,勤務シフト一覧!$B$4:$D$106,3,FALSE)),\"\",VLOOKUP(AD85,勤務シフト一覧!$B$4:$D$106,3,FALSE))","v":""},{"$f":"IF(ISERROR(VLOOKUP(AE85,勤務シフト一覧!$B$4:$D$106,3,FALSE)),\"\",VLOOKUP(AE85,勤務シフト一覧!$B$4:$D$106,3,FALSE))","v":""},{"$f":"IF(ISERROR(VLOOKUP(AF85,勤務シフト一覧!$B$4:$D$106,3,FALSE)),\"\",VLOOKUP(AF85,勤務シフト一覧!$B$4:$D$106,3,FALSE))","v":""},{"$f":"IF(ISERROR(VLOOKUP(AG85,勤務シフト一覧!$B$4:$D$106,3,FALSE)),\"\",VLOOKUP(AG85,勤務シフト一覧!$B$4:$D$106,3,FALSE))","v":""},{"$f":"IF(ISERROR(VLOOKUP(AH85,勤務シフト一覧!$B$4:$D$106,3,FALSE)),\"\",VLOOKUP(AH85,勤務シフト一覧!$B$4:$D$106,3,FALSE))","v":""},0,0,0,0,0,0,0,0,0,0,null,null,{"$f":"IF(勤務シフト一覧!$D86<>0,IF(勤務シフト一覧!$B86<> 0,勤務シフト一覧!$B86,\"\"),\"\")","v":""}]
[{"$f":"IF(LEN(職員一覧!B42)<>0,職員一覧!B42,\"\")","v":""},{"$f":"IF(LEN(職員一覧!C42)<>0,職員一覧!C42,\"\")","v":""},"予定",null,null,null,null,null,null,null,null,null,null,null,null,null,null,null,null,null,null,null,null,null,null,null,null,null,null,null,null,null,null,null,{"$f":"IF(ISERROR(VLOOKUP(D86,勤務シフト一覧!$B$4:$C$106,2,FALSE)),\"\",VLOOKUP(D86,勤務シフト一覧!$B$4:$C$106,2,FALSE))","v":""},{"$f":"IF(ISERROR(VLOOKUP(E86,勤務シフト一覧!$B$4:$C$106,2,FALSE)),\"\",VLOOKUP(E86,勤務シフト一覧!$B$4:$C$106,2,FALSE))","v":""},{"$f":"IF(ISERROR(VLOOKUP(F86,勤務シフト一覧!$B$4:$C$106,2,FALSE)),\"\",VLOOKUP(F86,勤務シフト一覧!$B$4:$C$106,2,FALSE))","v":""},{"$f":"IF(ISERROR(VLOOKUP(G86,勤務シフト一覧!$B$4:$C$106,2,FALSE)),\"\",VLOOKUP(G86,勤務シフト一覧!$B$4:$C$106,2,FALSE))","v":""},{"$f":"IF(ISERROR(VLOOKUP(H86,勤務シフト一覧!$B$4:$C$106,2,FALSE)),\"\",VLOOKUP(H86,勤務シフト一覧!$B$4:$C$106,2,FALSE))","v":""},{"$f":"IF(ISERROR(VLOOKUP(I86,勤務シフト一覧!$B$4:$C$106,2,FALSE)),\"\",VLOOKUP(I86,勤務シフト一覧!$B$4:$C$106,2,FALSE))","v":""},{"$f":"IF(ISERROR(VLOOKUP(J86,勤務シフト一覧!$B$4:$C$106,2,FALSE)),\"\",VLOOKUP(J86,勤務シフト一覧!$B$4:$C$106,2,FALSE))","v":""},{"$f":"IF(ISERROR(VLOOKUP(K86,勤務シフト一覧!$B$4:$C$106,2,FALSE)),\"\",VLOOKUP(K86,勤務シフト一覧!$B$4:$C$106,2,FALSE))","v":""},{"$f":"IF(ISERROR(VLOOKUP(L86,勤務シフト一覧!$B$4:$C$106,2,FALSE)),\"\",VLOOKUP(L86,勤務シフト一覧!$B$4:$C$106,2,FALSE))","v":""},{"$f":"IF(ISERROR(VLOOKUP(M86,勤務シフト一覧!$B$4:$C$106,2,FALSE)),\"\",VLOOKUP(M86,勤務シフト一覧!$B$4:$C$106,2,FALSE))","v":""},{"$f":"IF(ISERROR(VLOOKUP(N86,勤務シフト一覧!$B$4:$C$106,2,FALSE)),\"\",VLOOKUP(N86,勤務シフト一覧!$B$4:$C$106,2,FALSE))","v":""},{"$f":"IF(ISERROR(VLOOKUP(O86,勤務シフト一覧!$B$4:$C$106,2,FALSE)),\"\",VLOOKUP(O86,勤務シフト一覧!$B$4:$C$106,2,FALSE))","v":""},{"$f":"IF(ISERROR(VLOOKUP(P86,勤務シフト一覧!$B$4:$C$106,2,FALSE)),\"\",VLOOKUP(P86,勤務シフト一覧!$B$4:$C$106,2,FALSE))","v":""},{"$f":"IF(ISERROR(VLOOKUP(Q86,勤務シフト一覧!$B$4:$C$106,2,FALSE)),\"\",VLOOKUP(Q86,勤務シフト一覧!$B$4:$C$106,2,FALSE))","v":""},{"$f":"IF(ISERROR(VLOOKUP(R86,勤務シフト一覧!$B$4:$C$106,2,FALSE)),\"\",VLOOKUP(R86,勤務シフト一覧!$B$4:$C$106,2,FALSE))","v":""},{"$f":"IF(ISERROR(VLOOKUP(S86,勤務シフト一覧!$B$4:$C$106,2,FALSE)),\"\",VLOOKUP(S86,勤務シフト一覧!$B$4:$C$106,2,FALSE))","v":""},{"$f":"IF(ISERROR(VLOOKUP(T86,勤務シフト一覧!$B$4:$C$106,2,FALSE)),\"\",VLOOKUP(T86,勤務シフト一覧!$B$4:$C$106,2,FALSE))","v":""},{"$f":"IF(ISERROR(VLOOKUP(U86,勤務シフト一覧!$B$4:$C$106,2,FALSE)),\"\",VLOOKUP(U86,勤務シフト一覧!$B$4:$C$106,2,FALSE))","v":""},{"$f":"IF(ISERROR(VLOOKUP(V86,勤務シフト一覧!$B$4:$C$106,2,FALSE)),\"\",VLOOKUP(V86,勤務シフト一覧!$B$4:$C$106,2,FALSE))","v":""},{"$f":"IF(ISERROR(VLOOKUP(W86,勤務シフト一覧!$B$4:$C$106,2,FALSE)),\"\",VLOOKUP(W86,勤務シフト一覧!$B$4:$C$106,2,FALSE))","v":""},{"$f":"IF(ISERROR(VLOOKUP(X86,勤務シフト一覧!$B$4:$C$106,2,FALSE)),\"\",VLOOKUP(X86,勤務シフト一覧!$B$4:$C$106,2,FALSE))","v":""},{"$f":"IF(ISERROR(VLOOKUP(Y86,勤務シフト一覧!$B$4:$C$106,2,FALSE)),\"\",VLOOKUP(Y86,勤務シフト一覧!$B$4:$C$106,2,FALSE))","v":""},{"$f":"IF(ISERROR(VLOOKUP(Z86,勤務シフト一覧!$B$4:$C$106,2,FALSE)),\"\",VLOOKUP(Z86,勤務シフト一覧!$B$4:$C$106,2,FALSE))","v":""},{"$f":"IF(ISERROR(VLOOKUP(AA86,勤務シフト一覧!$B$4:$C$106,2,FALSE)),\"\",VLOOKUP(AA86,勤務シフト一覧!$B$4:$C$106,2,FALSE))","v":""},{"$f":"IF(ISERROR(VLOOKUP(AB86,勤務シフト一覧!$B$4:$C$106,2,FALSE)),\"\",VLOOKUP(AB86,勤務シフト一覧!$B$4:$C$106,2,FALSE))","v":""},{"$f":"IF(ISERROR(VLOOKUP(AC86,勤務シフト一覧!$B$4:$C$106,2,FALSE)),\"\",VLOOKUP(AC86,勤務シフト一覧!$B$4:$C$106,2,FALSE))","v":""},{"$f":"IF(ISERROR(VLOOKUP(AD86,勤務シフト一覧!$B$4:$C$106,2,FALSE)),\"\",VLOOKUP(AD86,勤務シフト一覧!$B$4:$C$106,2,FALSE))","v":""},{"$f":"IF(ISERROR(VLOOKUP(AE86,勤務シフト一覧!$B$4:$C$106,2,FALSE)),\"\",VLOOKUP(AE86,勤務シフト一覧!$B$4:$C$106,2,FALSE))","v":""},{"$f":"IF(ISERROR(VLOOKUP(AF86,勤務シフト一覧!$B$4:$C$106,2,FALSE)),\"\",VLOOKUP(AF86,勤務シフト一覧!$B$4:$C$106,2,FALSE))","v":""},{"$f":"IF(ISERROR(VLOOKUP(AG86,勤務シフト一覧!$B$4:$C$106,2,FALSE)),\"\",VLOOKUP(AG86,勤務シフト一覧!$B$4:$C$106,2,FALSE))","v":""},{"$f":"IF(ISERROR(VLOOKUP(AH86,勤務シフト一覧!$B$4:$C$106,2,FALSE)),\"\",VLOOKUP(AH86,勤務シフト一覧!$B$4:$C$106,2,FALSE))","v":""},null,{"$f":"IF(ISERROR(VLOOKUP(D86,勤務シフト一覧!$B$4:$D$106,3,FALSE)),\"\",VLOOKUP(D86,勤務シフト一覧!$B$4:$D$106,3,FALSE))","v":""},{"$f":"IF(ISERROR(VLOOKUP(E86,勤務シフト一覧!$B$4:$D$106,3,FALSE)),\"\",VLOOKUP(E86,勤務シフト一覧!$B$4:$D$106,3,FALSE))","v":""},{"$f":"IF(ISERROR(VLOOKUP(F86,勤務シフト一覧!$B$4:$D$106,3,FALSE)),\"\",VLOOKUP(F86,勤務シフト一覧!$B$4:$D$106,3,FALSE))","v":""},{"$f":"IF(ISERROR(VLOOKUP(G86,勤務シフト一覧!$B$4:$D$106,3,FALSE)),\"\",VLOOKUP(G86,勤務シフト一覧!$B$4:$D$106,3,FALSE))","v":""},{"$f":"IF(ISERROR(VLOOKUP(H86,勤務シフト一覧!$B$4:$D$106,3,FALSE)),\"\",VLOOKUP(H86,勤務シフト一覧!$B$4:$D$106,3,FALSE))","v":""},{"$f":"IF(ISERROR(VLOOKUP(I86,勤務シフト一覧!$B$4:$D$106,3,FALSE)),\"\",VLOOKUP(I86,勤務シフト一覧!$B$4:$D$106,3,FALSE))","v":""},{"$f":"IF(ISERROR(VLOOKUP(J86,勤務シフト一覧!$B$4:$D$106,3,FALSE)),\"\",VLOOKUP(J86,勤務シフト一覧!$B$4:$D$106,3,FALSE))","v":""},{"$f":"IF(ISERROR(VLOOKUP(K86,勤務シフト一覧!$B$4:$D$106,3,FALSE)),\"\",VLOOKUP(K86,勤務シフト一覧!$B$4:$D$106,3,FALSE))","v":""},{"$f":"IF(ISERROR(VLOOKUP(L86,勤務シフト一覧!$B$4:$D$106,3,FALSE)),\"\",VLOOKUP(L86,勤務シフト一覧!$B$4:$D$106,3,FALSE))","v":""},{"$f":"IF(ISERROR(VLOOKUP(M86,勤務シフト一覧!$B$4:$D$106,3,FALSE)),\"\",VLOOKUP(M86,勤務シフト一覧!$B$4:$D$106,3,FALSE))","v":""},{"$f":"IF(ISERROR(VLOOKUP(N86,勤務シフト一覧!$B$4:$D$106,3,FALSE)),\"\",VLOOKUP(N86,勤務シフト一覧!$B$4:$D$106,3,FALSE))","v":""},{"$f":"IF(ISERROR(VLOOKUP(O86,勤務シフト一覧!$B$4:$D$106,3,FALSE)),\"\",VLOOKUP(O86,勤務シフト一覧!$B$4:$D$106,3,FALSE))","v":""},{"$f":"IF(ISERROR(VLOOKUP(P86,勤務シフト一覧!$B$4:$D$106,3,FALSE)),\"\",VLOOKUP(P86,勤務シフト一覧!$B$4:$D$106,3,FALSE))","v":""},{"$f":"IF(ISERROR(VLOOKUP(Q86,勤務シフト一覧!$B$4:$D$106,3,FALSE)),\"\",VLOOKUP(Q86,勤務シフト一覧!$B$4:$D$106,3,FALSE))","v":""},{"$f":"IF(ISERROR(VLOOKUP(R86,勤務シフト一覧!$B$4:$D$106,3,FALSE)),\"\",VLOOKUP(R86,勤務シフト一覧!$B$4:$D$106,3,FALSE))","v":""},{"$f":"IF(ISERROR(VLOOKUP(S86,勤務シフト一覧!$B$4:$D$106,3,FALSE)),\"\",VLOOKUP(S86,勤務シフト一覧!$B$4:$D$106,3,FALSE))","v":""},{"$f":"IF(ISERROR(VLOOKUP(T86,勤務シフト一覧!$B$4:$D$106,3,FALSE)),\"\",VLOOKUP(T86,勤務シフト一覧!$B$4:$D$106,3,FALSE))","v":""},{"$f":"IF(ISERROR(VLOOKUP(U86,勤務シフト一覧!$B$4:$D$106,3,FALSE)),\"\",VLOOKUP(U86,勤務シフト一覧!$B$4:$D$106,3,FALSE))","v":""},{"$f":"IF(ISERROR(VLOOKUP(V86,勤務シフト一覧!$B$4:$D$106,3,FALSE)),\"\",VLOOKUP(V86,勤務シフト一覧!$B$4:$D$106,3,FALSE))","v":""},{"$f":"IF(ISERROR(VLOOKUP(W86,勤務シフト一覧!$B$4:$D$106,3,FALSE)),\"\",VLOOKUP(W86,勤務シフト一覧!$B$4:$D$106,3,FALSE))","v":""},{"$f":"IF(ISERROR(VLOOKUP(X86,勤務シフト一覧!$B$4:$D$106,3,FALSE)),\"\",VLOOKUP(X86,勤務シフト一覧!$B$4:$D$106,3,FALSE))","v":""},{"$f":"IF(ISERROR(VLOOKUP(Y86,勤務シフト一覧!$B$4:$D$106,3,FALSE)),\"\",VLOOKUP(Y86,勤務シフト一覧!$B$4:$D$106,3,FALSE))","v":""},{"$f":"IF(ISERROR(VLOOKUP(Z86,勤務シフト一覧!$B$4:$D$106,3,FALSE)),\"\",VLOOKUP(Z86,勤務シフト一覧!$B$4:$D$106,3,FALSE))","v":""},{"$f":"IF(ISERROR(VLOOKUP(AA86,勤務シフト一覧!$B$4:$D$106,3,FALSE)),\"\",VLOOKUP(AA86,勤務シフト一覧!$B$4:$D$106,3,FALSE))","v":""},{"$f":"IF(ISERROR(VLOOKUP(AB86,勤務シフト一覧!$B$4:$D$106,3,FALSE)),\"\",VLOOKUP(AB86,勤務シフト一覧!$B$4:$D$106,3,FALSE))","v":""},{"$f":"IF(ISERROR(VLOOKUP(AC86,勤務シフト一覧!$B$4:$D$106,3,FALSE)),\"\",VLOOKUP(AC86,勤務シフト一覧!$B$4:$D$106,3,FALSE))","v":""},{"$f":"IF(ISERROR(VLOOKUP(AD86,勤務シフト一覧!$B$4:$D$106,3,FALSE)),\"\",VLOOKUP(AD86,勤務シフト一覧!$B$4:$D$106,3,FALSE))","v":""},{"$f":"IF(ISERROR(VLOOKUP(AE86,勤務シフト一覧!$B$4:$D$106,3,FALSE)),\"\",VLOOKUP(AE86,勤務シフト一覧!$B$4:$D$106,3,FALSE))","v":""},{"$f":"IF(ISERROR(VLOOKUP(AF86,勤務シフト一覧!$B$4:$D$106,3,FALSE)),\"\",VLOOKUP(AF86,勤務シフト一覧!$B$4:$D$106,3,FALSE))","v":""},{"$f":"IF(ISERROR(VLOOKUP(AG86,勤務シフト一覧!$B$4:$D$106,3,FALSE)),\"\",VLOOKUP(AG86,勤務シフト一覧!$B$4:$D$106,3,FALSE))","v":""},{"$f":"IF(ISERROR(VLOOKUP(AH86,勤務シフト一覧!$B$4:$D$106,3,FALSE)),\"\",VLOOKUP(AH86,勤務シフト一覧!$B$4:$D$106,3,FALSE))","v":""},0,0,0,0,0,0,0,0,0,0,{"$f":"IF(LEN(職員一覧!D42)<>0,職員一覧!D42,\"\")","v":""},null,{"$f":"IF(勤務シフト一覧!$D87<>0,IF(勤務シフト一覧!$B87<> 0,勤務シフト一覧!$B87,\"\"),\"\")","v":""}]
[null,null,"実施",null,null,null,null,null,null,null,null,null,null,null,null,null,null,null,null,null,null,null,null,null,null,null,null,null,null,null,null,null,null,null,{"$f":"IF(ISERROR(VLOOKUP(D87,勤務シフト一覧!$B$4:$C$106,2,FALSE)),\"\",VLOOKUP(D87,勤務シフト一覧!$B$4:$C$106,2,FALSE))","v":""},{"$f":"IF(ISERROR(VLOOKUP(E87,勤務シフト一覧!$B$4:$C$106,2,FALSE)),\"\",VLOOKUP(E87,勤務シフト一覧!$B$4:$C$106,2,FALSE))","v":""},{"$f":"IF(ISERROR(VLOOKUP(F87,勤務シフト一覧!$B$4:$C$106,2,FALSE)),\"\",VLOOKUP(F87,勤務シフト一覧!$B$4:$C$106,2,FALSE))","v":""},{"$f":"IF(ISERROR(VLOOKUP(G87,勤務シフト一覧!$B$4:$C$106,2,FALSE)),\"\",VLOOKUP(G87,勤務シフト一覧!$B$4:$C$106,2,FALSE))","v":""},{"$f":"IF(ISERROR(VLOOKUP(H87,勤務シフト一覧!$B$4:$C$106,2,FALSE)),\"\",VLOOKUP(H87,勤務シフト一覧!$B$4:$C$106,2,FALSE))","v":""},{"$f":"IF(ISERROR(VLOOKUP(I87,勤務シフト一覧!$B$4:$C$106,2,FALSE)),\"\",VLOOKUP(I87,勤務シフト一覧!$B$4:$C$106,2,FALSE))","v":""},{"$f":"IF(ISERROR(VLOOKUP(J87,勤務シフト一覧!$B$4:$C$106,2,FALSE)),\"\",VLOOKUP(J87,勤務シフト一覧!$B$4:$C$106,2,FALSE))","v":""},{"$f":"IF(ISERROR(VLOOKUP(K87,勤務シフト一覧!$B$4:$C$106,2,FALSE)),\"\",VLOOKUP(K87,勤務シフト一覧!$B$4:$C$106,2,FALSE))","v":""},{"$f":"IF(ISERROR(VLOOKUP(L87,勤務シフト一覧!$B$4:$C$106,2,FALSE)),\"\",VLOOKUP(L87,勤務シフト一覧!$B$4:$C$106,2,FALSE))","v":""},{"$f":"IF(ISERROR(VLOOKUP(M87,勤務シフト一覧!$B$4:$C$106,2,FALSE)),\"\",VLOOKUP(M87,勤務シフト一覧!$B$4:$C$106,2,FALSE))","v":""},{"$f":"IF(ISERROR(VLOOKUP(N87,勤務シフト一覧!$B$4:$C$106,2,FALSE)),\"\",VLOOKUP(N87,勤務シフト一覧!$B$4:$C$106,2,FALSE))","v":""},{"$f":"IF(ISERROR(VLOOKUP(O87,勤務シフト一覧!$B$4:$C$106,2,FALSE)),\"\",VLOOKUP(O87,勤務シフト一覧!$B$4:$C$106,2,FALSE))","v":""},{"$f":"IF(ISERROR(VLOOKUP(P87,勤務シフト一覧!$B$4:$C$106,2,FALSE)),\"\",VLOOKUP(P87,勤務シフト一覧!$B$4:$C$106,2,FALSE))","v":""},{"$f":"IF(ISERROR(VLOOKUP(Q87,勤務シフト一覧!$B$4:$C$106,2,FALSE)),\"\",VLOOKUP(Q87,勤務シフト一覧!$B$4:$C$106,2,FALSE))","v":""},{"$f":"IF(ISERROR(VLOOKUP(R87,勤務シフト一覧!$B$4:$C$106,2,FALSE)),\"\",VLOOKUP(R87,勤務シフト一覧!$B$4:$C$106,2,FALSE))","v":""},{"$f":"IF(ISERROR(VLOOKUP(S87,勤務シフト一覧!$B$4:$C$106,2,FALSE)),\"\",VLOOKUP(S87,勤務シフト一覧!$B$4:$C$106,2,FALSE))","v":""},{"$f":"IF(ISERROR(VLOOKUP(T87,勤務シフト一覧!$B$4:$C$106,2,FALSE)),\"\",VLOOKUP(T87,勤務シフト一覧!$B$4:$C$106,2,FALSE))","v":""},{"$f":"IF(ISERROR(VLOOKUP(U87,勤務シフト一覧!$B$4:$C$106,2,FALSE)),\"\",VLOOKUP(U87,勤務シフト一覧!$B$4:$C$106,2,FALSE))","v":""},{"$f":"IF(ISERROR(VLOOKUP(V87,勤務シフト一覧!$B$4:$C$106,2,FALSE)),\"\",VLOOKUP(V87,勤務シフト一覧!$B$4:$C$106,2,FALSE))","v":""},{"$f":"IF(ISERROR(VLOOKUP(W87,勤務シフト一覧!$B$4:$C$106,2,FALSE)),\"\",VLOOKUP(W87,勤務シフト一覧!$B$4:$C$106,2,FALSE))","v":""},{"$f":"IF(ISERROR(VLOOKUP(X87,勤務シフト一覧!$B$4:$C$106,2,FALSE)),\"\",VLOOKUP(X87,勤務シフト一覧!$B$4:$C$106,2,FALSE))","v":""},{"$f":"IF(ISERROR(VLOOKUP(Y87,勤務シフト一覧!$B$4:$C$106,2,FALSE)),\"\",VLOOKUP(Y87,勤務シフト一覧!$B$4:$C$106,2,FALSE))","v":""},{"$f":"IF(ISERROR(VLOOKUP(Z87,勤務シフト一覧!$B$4:$C$106,2,FALSE)),\"\",VLOOKUP(Z87,勤務シフト一覧!$B$4:$C$106,2,FALSE))","v":""},{"$f":"IF(ISERROR(VLOOKUP(AA87,勤務シフト一覧!$B$4:$C$106,2,FALSE)),\"\",VLOOKUP(AA87,勤務シフト一覧!$B$4:$C$106,2,FALSE))","v":""},{"$f":"IF(ISERROR(VLOOKUP(AB87,勤務シフト一覧!$B$4:$C$106,2,FALSE)),\"\",VLOOKUP(AB87,勤務シフト一覧!$B$4:$C$106,2,FALSE))","v":""},{"$f":"IF(ISERROR(VLOOKUP(AC87,勤務シフト一覧!$B$4:$C$106,2,FALSE)),\"\",VLOOKUP(AC87,勤務シフト一覧!$B$4:$C$106,2,FALSE))","v":""},{"$f":"IF(ISERROR(VLOOKUP(AD87,勤務シフト一覧!$B$4:$C$106,2,FALSE)),\"\",VLOOKUP(AD87,勤務シフト一覧!$B$4:$C$106,2,FALSE))","v":""},{"$f":"IF(ISERROR(VLOOKUP(AE87,勤務シフト一覧!$B$4:$C$106,2,FALSE)),\"\",VLOOKUP(AE87,勤務シフト一覧!$B$4:$C$106,2,FALSE))","v":""},{"$f":"IF(ISERROR(VLOOKUP(AF87,勤務シフト一覧!$B$4:$C$106,2,FALSE)),\"\",VLOOKUP(AF87,勤務シフト一覧!$B$4:$C$106,2,FALSE))","v":""},{"$f":"IF(ISERROR(VLOOKUP(AG87,勤務シフト一覧!$B$4:$C$106,2,FALSE)),\"\",VLOOKUP(AG87,勤務シフト一覧!$B$4:$C$106,2,FALSE))","v":""},{"$f":"IF(ISERROR(VLOOKUP(AH87,勤務シフト一覧!$B$4:$C$106,2,FALSE)),\"\",VLOOKUP(AH87,勤務シフト一覧!$B$4:$C$106,2,FALSE))","v":""},null,{"$f":"IF(ISERROR(VLOOKUP(D87,勤務シフト一覧!$B$4:$D$106,3,FALSE)),\"\",VLOOKUP(D87,勤務シフト一覧!$B$4:$D$106,3,FALSE))","v":""},{"$f":"IF(ISERROR(VLOOKUP(E87,勤務シフト一覧!$B$4:$D$106,3,FALSE)),\"\",VLOOKUP(E87,勤務シフト一覧!$B$4:$D$106,3,FALSE))","v":""},{"$f":"IF(ISERROR(VLOOKUP(F87,勤務シフト一覧!$B$4:$D$106,3,FALSE)),\"\",VLOOKUP(F87,勤務シフト一覧!$B$4:$D$106,3,FALSE))","v":""},{"$f":"IF(ISERROR(VLOOKUP(G87,勤務シフト一覧!$B$4:$D$106,3,FALSE)),\"\",VLOOKUP(G87,勤務シフト一覧!$B$4:$D$106,3,FALSE))","v":""},{"$f":"IF(ISERROR(VLOOKUP(H87,勤務シフト一覧!$B$4:$D$106,3,FALSE)),\"\",VLOOKUP(H87,勤務シフト一覧!$B$4:$D$106,3,FALSE))","v":""},{"$f":"IF(ISERROR(VLOOKUP(I87,勤務シフト一覧!$B$4:$D$106,3,FALSE)),\"\",VLOOKUP(I87,勤務シフト一覧!$B$4:$D$106,3,FALSE))","v":""},{"$f":"IF(ISERROR(VLOOKUP(J87,勤務シフト一覧!$B$4:$D$106,3,FALSE)),\"\",VLOOKUP(J87,勤務シフト一覧!$B$4:$D$106,3,FALSE))","v":""},{"$f":"IF(ISERROR(VLOOKUP(K87,勤務シフト一覧!$B$4:$D$106,3,FALSE)),\"\",VLOOKUP(K87,勤務シフト一覧!$B$4:$D$106,3,FALSE))","v":""},{"$f":"IF(ISERROR(VLOOKUP(L87,勤務シフト一覧!$B$4:$D$106,3,FALSE)),\"\",VLOOKUP(L87,勤務シフト一覧!$B$4:$D$106,3,FALSE))","v":""},{"$f":"IF(ISERROR(VLOOKUP(M87,勤務シフト一覧!$B$4:$D$106,3,FALSE)),\"\",VLOOKUP(M87,勤務シフト一覧!$B$4:$D$106,3,FALSE))","v":""},{"$f":"IF(ISERROR(VLOOKUP(N87,勤務シフト一覧!$B$4:$D$106,3,FALSE)),\"\",VLOOKUP(N87,勤務シフト一覧!$B$4:$D$106,3,FALSE))","v":""},{"$f":"IF(ISERROR(VLOOKUP(O87,勤務シフト一覧!$B$4:$D$106,3,FALSE)),\"\",VLOOKUP(O87,勤務シフト一覧!$B$4:$D$106,3,FALSE))","v":""},{"$f":"IF(ISERROR(VLOOKUP(P87,勤務シフト一覧!$B$4:$D$106,3,FALSE)),\"\",VLOOKUP(P87,勤務シフト一覧!$B$4:$D$106,3,FALSE))","v":""},{"$f":"IF(ISERROR(VLOOKUP(Q87,勤務シフト一覧!$B$4:$D$106,3,FALSE)),\"\",VLOOKUP(Q87,勤務シフト一覧!$B$4:$D$106,3,FALSE))","v":""},{"$f":"IF(ISERROR(VLOOKUP(R87,勤務シフト一覧!$B$4:$D$106,3,FALSE)),\"\",VLOOKUP(R87,勤務シフト一覧!$B$4:$D$106,3,FALSE))","v":""},{"$f":"IF(ISERROR(VLOOKUP(S87,勤務シフト一覧!$B$4:$D$106,3,FALSE)),\"\",VLOOKUP(S87,勤務シフト一覧!$B$4:$D$106,3,FALSE))","v":""},{"$f":"IF(ISERROR(VLOOKUP(T87,勤務シフト一覧!$B$4:$D$106,3,FALSE)),\"\",VLOOKUP(T87,勤務シフト一覧!$B$4:$D$106,3,FALSE))","v":""},{"$f":"IF(ISERROR(VLOOKUP(U87,勤務シフト一覧!$B$4:$D$106,3,FALSE)),\"\",VLOOKUP(U87,勤務シフト一覧!$B$4:$D$106,3,FALSE))","v":""},{"$f":"IF(ISERROR(VLOOKUP(V87,勤務シフト一覧!$B$4:$D$106,3,FALSE)),\"\",VLOOKUP(V87,勤務シフト一覧!$B$4:$D$106,3,FALSE))","v":""},{"$f":"IF(ISERROR(VLOOKUP(W87,勤務シフト一覧!$B$4:$D$106,3,FALSE)),\"\",VLOOKUP(W87,勤務シフト一覧!$B$4:$D$106,3,FALSE))","v":""},{"$f":"IF(ISERROR(VLOOKUP(X87,勤務シフト一覧!$B$4:$D$106,3,FALSE)),\"\",VLOOKUP(X87,勤務シフト一覧!$B$4:$D$106,3,FALSE))","v":""},{"$f":"IF(ISERROR(VLOOKUP(Y87,勤務シフト一覧!$B$4:$D$106,3,FALSE)),\"\",VLOOKUP(Y87,勤務シフト一覧!$B$4:$D$106,3,FALSE))","v":""},{"$f":"IF(ISERROR(VLOOKUP(Z87,勤務シフト一覧!$B$4:$D$106,3,FALSE)),\"\",VLOOKUP(Z87,勤務シフト一覧!$B$4:$D$106,3,FALSE))","v":""},{"$f":"IF(ISERROR(VLOOKUP(AA87,勤務シフト一覧!$B$4:$D$106,3,FALSE)),\"\",VLOOKUP(AA87,勤務シフト一覧!$B$4:$D$106,3,FALSE))","v":""},{"$f":"IF(ISERROR(VLOOKUP(AB87,勤務シフト一覧!$B$4:$D$106,3,FALSE)),\"\",VLOOKUP(AB87,勤務シフト一覧!$B$4:$D$106,3,FALSE))","v":""},{"$f":"IF(ISERROR(VLOOKUP(AC87,勤務シフト一覧!$B$4:$D$106,3,FALSE)),\"\",VLOOKUP(AC87,勤務シフト一覧!$B$4:$D$106,3,FALSE))","v":""},{"$f":"IF(ISERROR(VLOOKUP(AD87,勤務シフト一覧!$B$4:$D$106,3,FALSE)),\"\",VLOOKUP(AD87,勤務シフト一覧!$B$4:$D$106,3,FALSE))","v":""},{"$f":"IF(ISERROR(VLOOKUP(AE87,勤務シフト一覧!$B$4:$D$106,3,FALSE)),\"\",VLOOKUP(AE87,勤務シフト一覧!$B$4:$D$106,3,FALSE))","v":""},{"$f":"IF(ISERROR(VLOOKUP(AF87,勤務シフト一覧!$B$4:$D$106,3,FALSE)),\"\",VLOOKUP(AF87,勤務シフト一覧!$B$4:$D$106,3,FALSE))","v":""},{"$f":"IF(ISERROR(VLOOKUP(AG87,勤務シフト一覧!$B$4:$D$106,3,FALSE)),\"\",VLOOKUP(AG87,勤務シフト一覧!$B$4:$D$106,3,FALSE))","v":""},{"$f":"IF(ISERROR(VLOOKUP(AH87,勤務シフト一覧!$B$4:$D$106,3,FALSE)),\"\",VLOOKUP(AH87,勤務シフト一覧!$B$4:$D$106,3,FALSE))","v":""},0,0,0,0,0,0,0,0,0,0,null,null,{"$f":"IF(勤務シフト一覧!$D88<>0,IF(勤務シフト一覧!$B88<> 0,勤務シフト一覧!$B88,\"\"),\"\")","v":""}]
[{"$f":"IF(LEN(職員一覧!B43)<>0,職員一覧!B43,\"\")","v":""},{"$f":"IF(LEN(職員一覧!C43)<>0,職員一覧!C43,\"\")","v":""},"予定",null,null,null,null,null,null,null,null,null,null,null,null,null,null,null,null,null,null,null,null,null,null,null,null,null,null,null,null,null,null,null,{"$f":"IF(ISERROR(VLOOKUP(D88,勤務シフト一覧!$B$4:$C$106,2,FALSE)),\"\",VLOOKUP(D88,勤務シフト一覧!$B$4:$C$106,2,FALSE))","v":""},{"$f":"IF(ISERROR(VLOOKUP(E88,勤務シフト一覧!$B$4:$C$106,2,FALSE)),\"\",VLOOKUP(E88,勤務シフト一覧!$B$4:$C$106,2,FALSE))","v":""},{"$f":"IF(ISERROR(VLOOKUP(F88,勤務シフト一覧!$B$4:$C$106,2,FALSE)),\"\",VLOOKUP(F88,勤務シフト一覧!$B$4:$C$106,2,FALSE))","v":""},{"$f":"IF(ISERROR(VLOOKUP(G88,勤務シフト一覧!$B$4:$C$106,2,FALSE)),\"\",VLOOKUP(G88,勤務シフト一覧!$B$4:$C$106,2,FALSE))","v":""},{"$f":"IF(ISERROR(VLOOKUP(H88,勤務シフト一覧!$B$4:$C$106,2,FALSE)),\"\",VLOOKUP(H88,勤務シフト一覧!$B$4:$C$106,2,FALSE))","v":""},{"$f":"IF(ISERROR(VLOOKUP(I88,勤務シフト一覧!$B$4:$C$106,2,FALSE)),\"\",VLOOKUP(I88,勤務シフト一覧!$B$4:$C$106,2,FALSE))","v":""},{"$f":"IF(ISERROR(VLOOKUP(J88,勤務シフト一覧!$B$4:$C$106,2,FALSE)),\"\",VLOOKUP(J88,勤務シフト一覧!$B$4:$C$106,2,FALSE))","v":""},{"$f":"IF(ISERROR(VLOOKUP(K88,勤務シフト一覧!$B$4:$C$106,2,FALSE)),\"\",VLOOKUP(K88,勤務シフト一覧!$B$4:$C$106,2,FALSE))","v":""},{"$f":"IF(ISERROR(VLOOKUP(L88,勤務シフト一覧!$B$4:$C$106,2,FALSE)),\"\",VLOOKUP(L88,勤務シフト一覧!$B$4:$C$106,2,FALSE))","v":""},{"$f":"IF(ISERROR(VLOOKUP(M88,勤務シフト一覧!$B$4:$C$106,2,FALSE)),\"\",VLOOKUP(M88,勤務シフト一覧!$B$4:$C$106,2,FALSE))","v":""},{"$f":"IF(ISERROR(VLOOKUP(N88,勤務シフト一覧!$B$4:$C$106,2,FALSE)),\"\",VLOOKUP(N88,勤務シフト一覧!$B$4:$C$106,2,FALSE))","v":""},{"$f":"IF(ISERROR(VLOOKUP(O88,勤務シフト一覧!$B$4:$C$106,2,FALSE)),\"\",VLOOKUP(O88,勤務シフト一覧!$B$4:$C$106,2,FALSE))","v":""},{"$f":"IF(ISERROR(VLOOKUP(P88,勤務シフト一覧!$B$4:$C$106,2,FALSE)),\"\",VLOOKUP(P88,勤務シフト一覧!$B$4:$C$106,2,FALSE))","v":""},{"$f":"IF(ISERROR(VLOOKUP(Q88,勤務シフト一覧!$B$4:$C$106,2,FALSE)),\"\",VLOOKUP(Q88,勤務シフト一覧!$B$4:$C$106,2,FALSE))","v":""},{"$f":"IF(ISERROR(VLOOKUP(R88,勤務シフト一覧!$B$4:$C$106,2,FALSE)),\"\",VLOOKUP(R88,勤務シフト一覧!$B$4:$C$106,2,FALSE))","v":""},{"$f":"IF(ISERROR(VLOOKUP(S88,勤務シフト一覧!$B$4:$C$106,2,FALSE)),\"\",VLOOKUP(S88,勤務シフト一覧!$B$4:$C$106,2,FALSE))","v":""},{"$f":"IF(ISERROR(VLOOKUP(T88,勤務シフト一覧!$B$4:$C$106,2,FALSE)),\"\",VLOOKUP(T88,勤務シフト一覧!$B$4:$C$106,2,FALSE))","v":""},{"$f":"IF(ISERROR(VLOOKUP(U88,勤務シフト一覧!$B$4:$C$106,2,FALSE)),\"\",VLOOKUP(U88,勤務シフト一覧!$B$4:$C$106,2,FALSE))","v":""},{"$f":"IF(ISERROR(VLOOKUP(V88,勤務シフト一覧!$B$4:$C$106,2,FALSE)),\"\",VLOOKUP(V88,勤務シフト一覧!$B$4:$C$106,2,FALSE))","v":""},{"$f":"IF(ISERROR(VLOOKUP(W88,勤務シフト一覧!$B$4:$C$106,2,FALSE)),\"\",VLOOKUP(W88,勤務シフト一覧!$B$4:$C$106,2,FALSE))","v":""},{"$f":"IF(ISERROR(VLOOKUP(X88,勤務シフト一覧!$B$4:$C$106,2,FALSE)),\"\",VLOOKUP(X88,勤務シフト一覧!$B$4:$C$106,2,FALSE))","v":""},{"$f":"IF(ISERROR(VLOOKUP(Y88,勤務シフト一覧!$B$4:$C$106,2,FALSE)),\"\",VLOOKUP(Y88,勤務シフト一覧!$B$4:$C$106,2,FALSE))","v":""},{"$f":"IF(ISERROR(VLOOKUP(Z88,勤務シフト一覧!$B$4:$C$106,2,FALSE)),\"\",VLOOKUP(Z88,勤務シフト一覧!$B$4:$C$106,2,FALSE))","v":""},{"$f":"IF(ISERROR(VLOOKUP(AA88,勤務シフト一覧!$B$4:$C$106,2,FALSE)),\"\",VLOOKUP(AA88,勤務シフト一覧!$B$4:$C$106,2,FALSE))","v":""},{"$f":"IF(ISERROR(VLOOKUP(AB88,勤務シフト一覧!$B$4:$C$106,2,FALSE)),\"\",VLOOKUP(AB88,勤務シフト一覧!$B$4:$C$106,2,FALSE))","v":""},{"$f":"IF(ISERROR(VLOOKUP(AC88,勤務シフト一覧!$B$4:$C$106,2,FALSE)),\"\",VLOOKUP(AC88,勤務シフト一覧!$B$4:$C$106,2,FALSE))","v":""},{"$f":"IF(ISERROR(VLOOKUP(AD88,勤務シフト一覧!$B$4:$C$106,2,FALSE)),\"\",VLOOKUP(AD88,勤務シフト一覧!$B$4:$C$106,2,FALSE))","v":""},{"$f":"IF(ISERROR(VLOOKUP(AE88,勤務シフト一覧!$B$4:$C$106,2,FALSE)),\"\",VLOOKUP(AE88,勤務シフト一覧!$B$4:$C$106,2,FALSE))","v":""},{"$f":"IF(ISERROR(VLOOKUP(AF88,勤務シフト一覧!$B$4:$C$106,2,FALSE)),\"\",VLOOKUP(AF88,勤務シフト一覧!$B$4:$C$106,2,FALSE))","v":""},{"$f":"IF(ISERROR(VLOOKUP(AG88,勤務シフト一覧!$B$4:$C$106,2,FALSE)),\"\",VLOOKUP(AG88,勤務シフト一覧!$B$4:$C$106,2,FALSE))","v":""},{"$f":"IF(ISERROR(VLOOKUP(AH88,勤務シフト一覧!$B$4:$C$106,2,FALSE)),\"\",VLOOKUP(AH88,勤務シフト一覧!$B$4:$C$106,2,FALSE))","v":""},null,{"$f":"IF(ISERROR(VLOOKUP(D88,勤務シフト一覧!$B$4:$D$106,3,FALSE)),\"\",VLOOKUP(D88,勤務シフト一覧!$B$4:$D$106,3,FALSE))","v":""},{"$f":"IF(ISERROR(VLOOKUP(E88,勤務シフト一覧!$B$4:$D$106,3,FALSE)),\"\",VLOOKUP(E88,勤務シフト一覧!$B$4:$D$106,3,FALSE))","v":""},{"$f":"IF(ISERROR(VLOOKUP(F88,勤務シフト一覧!$B$4:$D$106,3,FALSE)),\"\",VLOOKUP(F88,勤務シフト一覧!$B$4:$D$106,3,FALSE))","v":""},{"$f":"IF(ISERROR(VLOOKUP(G88,勤務シフト一覧!$B$4:$D$106,3,FALSE)),\"\",VLOOKUP(G88,勤務シフト一覧!$B$4:$D$106,3,FALSE))","v":""},{"$f":"IF(ISERROR(VLOOKUP(H88,勤務シフト一覧!$B$4:$D$106,3,FALSE)),\"\",VLOOKUP(H88,勤務シフト一覧!$B$4:$D$106,3,FALSE))","v":""},{"$f":"IF(ISERROR(VLOOKUP(I88,勤務シフト一覧!$B$4:$D$106,3,FALSE)),\"\",VLOOKUP(I88,勤務シフト一覧!$B$4:$D$106,3,FALSE))","v":""},{"$f":"IF(ISERROR(VLOOKUP(J88,勤務シフト一覧!$B$4:$D$106,3,FALSE)),\"\",VLOOKUP(J88,勤務シフト一覧!$B$4:$D$106,3,FALSE))","v":""},{"$f":"IF(ISERROR(VLOOKUP(K88,勤務シフト一覧!$B$4:$D$106,3,FALSE)),\"\",VLOOKUP(K88,勤務シフト一覧!$B$4:$D$106,3,FALSE))","v":""},{"$f":"IF(ISERROR(VLOOKUP(L88,勤務シフト一覧!$B$4:$D$106,3,FALSE)),\"\",VLOOKUP(L88,勤務シフト一覧!$B$4:$D$106,3,FALSE))","v":""},{"$f":"IF(ISERROR(VLOOKUP(M88,勤務シフト一覧!$B$4:$D$106,3,FALSE)),\"\",VLOOKUP(M88,勤務シフト一覧!$B$4:$D$106,3,FALSE))","v":""},{"$f":"IF(ISERROR(VLOOKUP(N88,勤務シフト一覧!$B$4:$D$106,3,FALSE)),\"\",VLOOKUP(N88,勤務シフト一覧!$B$4:$D$106,3,FALSE))","v":""},{"$f":"IF(ISERROR(VLOOKUP(O88,勤務シフト一覧!$B$4:$D$106,3,FALSE)),\"\",VLOOKUP(O88,勤務シフト一覧!$B$4:$D$106,3,FALSE))","v":""},{"$f":"IF(ISERROR(VLOOKUP(P88,勤務シフト一覧!$B$4:$D$106,3,FALSE)),\"\",VLOOKUP(P88,勤務シフト一覧!$B$4:$D$106,3,FALSE))","v":""},{"$f":"IF(ISERROR(VLOOKUP(Q88,勤務シフト一覧!$B$4:$D$106,3,FALSE)),\"\",VLOOKUP(Q88,勤務シフト一覧!$B$4:$D$106,3,FALSE))","v":""},{"$f":"IF(ISERROR(VLOOKUP(R88,勤務シフト一覧!$B$4:$D$106,3,FALSE)),\"\",VLOOKUP(R88,勤務シフト一覧!$B$4:$D$106,3,FALSE))","v":""},{"$f":"IF(ISERROR(VLOOKUP(S88,勤務シフト一覧!$B$4:$D$106,3,FALSE)),\"\",VLOOKUP(S88,勤務シフト一覧!$B$4:$D$106,3,FALSE))","v":""},{"$f":"IF(ISERROR(VLOOKUP(T88,勤務シフト一覧!$B$4:$D$106,3,FALSE)),\"\",VLOOKUP(T88,勤務シフト一覧!$B$4:$D$106,3,FALSE))","v":""},{"$f":"IF(ISERROR(VLOOKUP(U88,勤務シフト一覧!$B$4:$D$106,3,FALSE)),\"\",VLOOKUP(U88,勤務シフト一覧!$B$4:$D$106,3,FALSE))","v":""},{"$f":"IF(ISERROR(VLOOKUP(V88,勤務シフト一覧!$B$4:$D$106,3,FALSE)),\"\",VLOOKUP(V88,勤務シフト一覧!$B$4:$D$106,3,FALSE))","v":""},{"$f":"IF(ISERROR(VLOOKUP(W88,勤務シフト一覧!$B$4:$D$106,3,FALSE)),\"\",VLOOKUP(W88,勤務シフト一覧!$B$4:$D$106,3,FALSE))","v":""},{"$f":"IF(ISERROR(VLOOKUP(X88,勤務シフト一覧!$B$4:$D$106,3,FALSE)),\"\",VLOOKUP(X88,勤務シフト一覧!$B$4:$D$106,3,FALSE))","v":""},{"$f":"IF(ISERROR(VLOOKUP(Y88,勤務シフト一覧!$B$4:$D$106,3,FALSE)),\"\",VLOOKUP(Y88,勤務シフト一覧!$B$4:$D$106,3,FALSE))","v":""},{"$f":"IF(ISERROR(VLOOKUP(Z88,勤務シフト一覧!$B$4:$D$106,3,FALSE)),\"\",VLOOKUP(Z88,勤務シフト一覧!$B$4:$D$106,3,FALSE))","v":""},{"$f":"IF(ISERROR(VLOOKUP(AA88,勤務シフト一覧!$B$4:$D$106,3,FALSE)),\"\",VLOOKUP(AA88,勤務シフト一覧!$B$4:$D$106,3,FALSE))","v":""},{"$f":"IF(ISERROR(VLOOKUP(AB88,勤務シフト一覧!$B$4:$D$106,3,FALSE)),\"\",VLOOKUP(AB88,勤務シフト一覧!$B$4:$D$106,3,FALSE))","v":""},{"$f":"IF(ISERROR(VLOOKUP(AC88,勤務シフト一覧!$B$4:$D$106,3,FALSE)),\"\",VLOOKUP(AC88,勤務シフト一覧!$B$4:$D$106,3,FALSE))","v":""},{"$f":"IF(ISERROR(VLOOKUP(AD88,勤務シフト一覧!$B$4:$D$106,3,FALSE)),\"\",VLOOKUP(AD88,勤務シフト一覧!$B$4:$D$106,3,FALSE))","v":""},{"$f":"IF(ISERROR(VLOOKUP(AE88,勤務シフト一覧!$B$4:$D$106,3,FALSE)),\"\",VLOOKUP(AE88,勤務シフト一覧!$B$4:$D$106,3,FALSE))","v":""},{"$f":"IF(ISERROR(VLOOKUP(AF88,勤務シフト一覧!$B$4:$D$106,3,FALSE)),\"\",VLOOKUP(AF88,勤務シフト一覧!$B$4:$D$106,3,FALSE))","v":""},{"$f":"IF(ISERROR(VLOOKUP(AG88,勤務シフト一覧!$B$4:$D$106,3,FALSE)),\"\",VLOOKUP(AG88,勤務シフト一覧!$B$4:$D$106,3,FALSE))","v":""},{"$f":"IF(ISERROR(VLOOKUP(AH88,勤務シフト一覧!$B$4:$D$106,3,FALSE)),\"\",VLOOKUP(AH88,勤務シフト一覧!$B$4:$D$106,3,FALSE))","v":""},0,0,0,0,0,0,0,0,0,0,{"$f":"IF(LEN(職員一覧!D43)<>0,職員一覧!D43,\"\")","v":""},null,{"$f":"IF(勤務シフト一覧!$D89<>0,IF(勤務シフト一覧!$B89<> 0,勤務シフト一覧!$B89,\"\"),\"\")","v":""}]
[null,null,"実施",null,null,null,null,null,null,null,null,null,null,null,null,null,null,null,null,null,null,null,null,null,null,null,null,null,null,null,null,null,null,null,{"$f":"IF(ISERROR(VLOOKUP(D89,勤務シフト一覧!$B$4:$C$106,2,FALSE)),\"\",VLOOKUP(D89,勤務シフト一覧!$B$4:$C$106,2,FALSE))","v":""},{"$f":"IF(ISERROR(VLOOKUP(E89,勤務シフト一覧!$B$4:$C$106,2,FALSE)),\"\",VLOOKUP(E89,勤務シフト一覧!$B$4:$C$106,2,FALSE))","v":""},{"$f":"IF(ISERROR(VLOOKUP(F89,勤務シフト一覧!$B$4:$C$106,2,FALSE)),\"\",VLOOKUP(F89,勤務シフト一覧!$B$4:$C$106,2,FALSE))","v":""},{"$f":"IF(ISERROR(VLOOKUP(G89,勤務シフト一覧!$B$4:$C$106,2,FALSE)),\"\",VLOOKUP(G89,勤務シフト一覧!$B$4:$C$106,2,FALSE))","v":""},{"$f":"IF(ISERROR(VLOOKUP(H89,勤務シフト一覧!$B$4:$C$106,2,FALSE)),\"\",VLOOKUP(H89,勤務シフト一覧!$B$4:$C$106,2,FALSE))","v":""},{"$f":"IF(ISERROR(VLOOKUP(I89,勤務シフト一覧!$B$4:$C$106,2,FALSE)),\"\",VLOOKUP(I89,勤務シフト一覧!$B$4:$C$106,2,FALSE))","v":""},{"$f":"IF(ISERROR(VLOOKUP(J89,勤務シフト一覧!$B$4:$C$106,2,FALSE)),\"\",VLOOKUP(J89,勤務シフト一覧!$B$4:$C$106,2,FALSE))","v":""},{"$f":"IF(ISERROR(VLOOKUP(K89,勤務シフト一覧!$B$4:$C$106,2,FALSE)),\"\",VLOOKUP(K89,勤務シフト一覧!$B$4:$C$106,2,FALSE))","v":""},{"$f":"IF(ISERROR(VLOOKUP(L89,勤務シフト一覧!$B$4:$C$106,2,FALSE)),\"\",VLOOKUP(L89,勤務シフト一覧!$B$4:$C$106,2,FALSE))","v":""},{"$f":"IF(ISERROR(VLOOKUP(M89,勤務シフト一覧!$B$4:$C$106,2,FALSE)),\"\",VLOOKUP(M89,勤務シフト一覧!$B$4:$C$106,2,FALSE))","v":""},{"$f":"IF(ISERROR(VLOOKUP(N89,勤務シフト一覧!$B$4:$C$106,2,FALSE)),\"\",VLOOKUP(N89,勤務シフト一覧!$B$4:$C$106,2,FALSE))","v":""},{"$f":"IF(ISERROR(VLOOKUP(O89,勤務シフト一覧!$B$4:$C$106,2,FALSE)),\"\",VLOOKUP(O89,勤務シフト一覧!$B$4:$C$106,2,FALSE))","v":""},{"$f":"IF(ISERROR(VLOOKUP(P89,勤務シフト一覧!$B$4:$C$106,2,FALSE)),\"\",VLOOKUP(P89,勤務シフト一覧!$B$4:$C$106,2,FALSE))","v":""},{"$f":"IF(ISERROR(VLOOKUP(Q89,勤務シフト一覧!$B$4:$C$106,2,FALSE)),\"\",VLOOKUP(Q89,勤務シフト一覧!$B$4:$C$106,2,FALSE))","v":""},{"$f":"IF(ISERROR(VLOOKUP(R89,勤務シフト一覧!$B$4:$C$106,2,FALSE)),\"\",VLOOKUP(R89,勤務シフト一覧!$B$4:$C$106,2,FALSE))","v":""},{"$f":"IF(ISERROR(VLOOKUP(S89,勤務シフト一覧!$B$4:$C$106,2,FALSE)),\"\",VLOOKUP(S89,勤務シフト一覧!$B$4:$C$106,2,FALSE))","v":""},{"$f":"IF(ISERROR(VLOOKUP(T89,勤務シフト一覧!$B$4:$C$106,2,FALSE)),\"\",VLOOKUP(T89,勤務シフト一覧!$B$4:$C$106,2,FALSE))","v":""},{"$f":"IF(ISERROR(VLOOKUP(U89,勤務シフト一覧!$B$4:$C$106,2,FALSE)),\"\",VLOOKUP(U89,勤務シフト一覧!$B$4:$C$106,2,FALSE))","v":""},{"$f":"IF(ISERROR(VLOOKUP(V89,勤務シフト一覧!$B$4:$C$106,2,FALSE)),\"\",VLOOKUP(V89,勤務シフト一覧!$B$4:$C$106,2,FALSE))","v":""},{"$f":"IF(ISERROR(VLOOKUP(W89,勤務シフト一覧!$B$4:$C$106,2,FALSE)),\"\",VLOOKUP(W89,勤務シフト一覧!$B$4:$C$106,2,FALSE))","v":""},{"$f":"IF(ISERROR(VLOOKUP(X89,勤務シフト一覧!$B$4:$C$106,2,FALSE)),\"\",VLOOKUP(X89,勤務シフト一覧!$B$4:$C$106,2,FALSE))","v":""},{"$f":"IF(ISERROR(VLOOKUP(Y89,勤務シフト一覧!$B$4:$C$106,2,FALSE)),\"\",VLOOKUP(Y89,勤務シフト一覧!$B$4:$C$106,2,FALSE))","v":""},{"$f":"IF(ISERROR(VLOOKUP(Z89,勤務シフト一覧!$B$4:$C$106,2,FALSE)),\"\",VLOOKUP(Z89,勤務シフト一覧!$B$4:$C$106,2,FALSE))","v":""},{"$f":"IF(ISERROR(VLOOKUP(AA89,勤務シフト一覧!$B$4:$C$106,2,FALSE)),\"\",VLOOKUP(AA89,勤務シフト一覧!$B$4:$C$106,2,FALSE))","v":""},{"$f":"IF(ISERROR(VLOOKUP(AB89,勤務シフト一覧!$B$4:$C$106,2,FALSE)),\"\",VLOOKUP(AB89,勤務シフト一覧!$B$4:$C$106,2,FALSE))","v":""},{"$f":"IF(ISERROR(VLOOKUP(AC89,勤務シフト一覧!$B$4:$C$106,2,FALSE)),\"\",VLOOKUP(AC89,勤務シフト一覧!$B$4:$C$106,2,FALSE))","v":""},{"$f":"IF(ISERROR(VLOOKUP(AD89,勤務シフト一覧!$B$4:$C$106,2,FALSE)),\"\",VLOOKUP(AD89,勤務シフト一覧!$B$4:$C$106,2,FALSE))","v":""},{"$f":"IF(ISERROR(VLOOKUP(AE89,勤務シフト一覧!$B$4:$C$106,2,FALSE)),\"\",VLOOKUP(AE89,勤務シフト一覧!$B$4:$C$106,2,FALSE))","v":""},{"$f":"IF(ISERROR(VLOOKUP(AF89,勤務シフト一覧!$B$4:$C$106,2,FALSE)),\"\",VLOOKUP(AF89,勤務シフト一覧!$B$4:$C$106,2,FALSE))","v":""},{"$f":"IF(ISERROR(VLOOKUP(AG89,勤務シフト一覧!$B$4:$C$106,2,FALSE)),\"\",VLOOKUP(AG89,勤務シフト一覧!$B$4:$C$106,2,FALSE))","v":""},{"$f":"IF(ISERROR(VLOOKUP(AH89,勤務シフト一覧!$B$4:$C$106,2,FALSE)),\"\",VLOOKUP(AH89,勤務シフト一覧!$B$4:$C$106,2,FALSE))","v":""},null,{"$f":"IF(ISERROR(VLOOKUP(D89,勤務シフト一覧!$B$4:$D$106,3,FALSE)),\"\",VLOOKUP(D89,勤務シフト一覧!$B$4:$D$106,3,FALSE))","v":""},{"$f":"IF(ISERROR(VLOOKUP(E89,勤務シフト一覧!$B$4:$D$106,3,FALSE)),\"\",VLOOKUP(E89,勤務シフト一覧!$B$4:$D$106,3,FALSE))","v":""},{"$f":"IF(ISERROR(VLOOKUP(F89,勤務シフト一覧!$B$4:$D$106,3,FALSE)),\"\",VLOOKUP(F89,勤務シフト一覧!$B$4:$D$106,3,FALSE))","v":""},{"$f":"IF(ISERROR(VLOOKUP(G89,勤務シフト一覧!$B$4:$D$106,3,FALSE)),\"\",VLOOKUP(G89,勤務シフト一覧!$B$4:$D$106,3,FALSE))","v":""},{"$f":"IF(ISERROR(VLOOKUP(H89,勤務シフト一覧!$B$4:$D$106,3,FALSE)),\"\",VLOOKUP(H89,勤務シフト一覧!$B$4:$D$106,3,FALSE))","v":""},{"$f":"IF(ISERROR(VLOOKUP(I89,勤務シフト一覧!$B$4:$D$106,3,FALSE)),\"\",VLOOKUP(I89,勤務シフト一覧!$B$4:$D$106,3,FALSE))","v":""},{"$f":"IF(ISERROR(VLOOKUP(J89,勤務シフト一覧!$B$4:$D$106,3,FALSE)),\"\",VLOOKUP(J89,勤務シフト一覧!$B$4:$D$106,3,FALSE))","v":""},{"$f":"IF(ISERROR(VLOOKUP(K89,勤務シフト一覧!$B$4:$D$106,3,FALSE)),\"\",VLOOKUP(K89,勤務シフト一覧!$B$4:$D$106,3,FALSE))","v":""},{"$f":"IF(ISERROR(VLOOKUP(L89,勤務シフト一覧!$B$4:$D$106,3,FALSE)),\"\",VLOOKUP(L89,勤務シフト一覧!$B$4:$D$106,3,FALSE))","v":""},{"$f":"IF(ISERROR(VLOOKUP(M89,勤務シフト一覧!$B$4:$D$106,3,FALSE)),\"\",VLOOKUP(M89,勤務シフト一覧!$B$4:$D$106,3,FALSE))","v":""},{"$f":"IF(ISERROR(VLOOKUP(N89,勤務シフト一覧!$B$4:$D$106,3,FALSE)),\"\",VLOOKUP(N89,勤務シフト一覧!$B$4:$D$106,3,FALSE))","v":""},{"$f":"IF(ISERROR(VLOOKUP(O89,勤務シフト一覧!$B$4:$D$106,3,FALSE)),\"\",VLOOKUP(O89,勤務シフト一覧!$B$4:$D$106,3,FALSE))","v":""},{"$f":"IF(ISERROR(VLOOKUP(P89,勤務シフト一覧!$B$4:$D$106,3,FALSE)),\"\",VLOOKUP(P89,勤務シフト一覧!$B$4:$D$106,3,FALSE))","v":""},{"$f":"IF(ISERROR(VLOOKUP(Q89,勤務シフト一覧!$B$4:$D$106,3,FALSE)),\"\",VLOOKUP(Q89,勤務シフト一覧!$B$4:$D$106,3,FALSE))","v":""},{"$f":"IF(ISERROR(VLOOKUP(R89,勤務シフト一覧!$B$4:$D$106,3,FALSE)),\"\",VLOOKUP(R89,勤務シフト一覧!$B$4:$D$106,3,FALSE))","v":""},{"$f":"IF(ISERROR(VLOOKUP(S89,勤務シフト一覧!$B$4:$D$106,3,FALSE)),\"\",VLOOKUP(S89,勤務シフト一覧!$B$4:$D$106,3,FALSE))","v":""},{"$f":"IF(ISERROR(VLOOKUP(T89,勤務シフト一覧!$B$4:$D$106,3,FALSE)),\"\",VLOOKUP(T89,勤務シフト一覧!$B$4:$D$106,3,FALSE))","v":""},{"$f":"IF(ISERROR(VLOOKUP(U89,勤務シフト一覧!$B$4:$D$106,3,FALSE)),\"\",VLOOKUP(U89,勤務シフト一覧!$B$4:$D$106,3,FALSE))","v":""},{"$f":"IF(ISERROR(VLOOKUP(V89,勤務シフト一覧!$B$4:$D$106,3,FALSE)),\"\",VLOOKUP(V89,勤務シフト一覧!$B$4:$D$106,3,FALSE))","v":""},{"$f":"IF(ISERROR(VLOOKUP(W89,勤務シフト一覧!$B$4:$D$106,3,FALSE)),\"\",VLOOKUP(W89,勤務シフト一覧!$B$4:$D$106,3,FALSE))","v":""},{"$f":"IF(ISERROR(VLOOKUP(X89,勤務シフト一覧!$B$4:$D$106,3,FALSE)),\"\",VLOOKUP(X89,勤務シフト一覧!$B$4:$D$106,3,FALSE))","v":""},{"$f":"IF(ISERROR(VLOOKUP(Y89,勤務シフト一覧!$B$4:$D$106,3,FALSE)),\"\",VLOOKUP(Y89,勤務シフト一覧!$B$4:$D$106,3,FALSE))","v":""},{"$f":"IF(ISERROR(VLOOKUP(Z89,勤務シフト一覧!$B$4:$D$106,3,FALSE)),\"\",VLOOKUP(Z89,勤務シフト一覧!$B$4:$D$106,3,FALSE))","v":""},{"$f":"IF(ISERROR(VLOOKUP(AA89,勤務シフト一覧!$B$4:$D$106,3,FALSE)),\"\",VLOOKUP(AA89,勤務シフト一覧!$B$4:$D$106,3,FALSE))","v":""},{"$f":"IF(ISERROR(VLOOKUP(AB89,勤務シフト一覧!$B$4:$D$106,3,FALSE)),\"\",VLOOKUP(AB89,勤務シフト一覧!$B$4:$D$106,3,FALSE))","v":""},{"$f":"IF(ISERROR(VLOOKUP(AC89,勤務シフト一覧!$B$4:$D$106,3,FALSE)),\"\",VLOOKUP(AC89,勤務シフト一覧!$B$4:$D$106,3,FALSE))","v":""},{"$f":"IF(ISERROR(VLOOKUP(AD89,勤務シフト一覧!$B$4:$D$106,3,FALSE)),\"\",VLOOKUP(AD89,勤務シフト一覧!$B$4:$D$106,3,FALSE))","v":""},{"$f":"IF(ISERROR(VLOOKUP(AE89,勤務シフト一覧!$B$4:$D$106,3,FALSE)),\"\",VLOOKUP(AE89,勤務シフト一覧!$B$4:$D$106,3,FALSE))","v":""},{"$f":"IF(ISERROR(VLOOKUP(AF89,勤務シフト一覧!$B$4:$D$106,3,FALSE)),\"\",VLOOKUP(AF89,勤務シフト一覧!$B$4:$D$106,3,FALSE))","v":""},{"$f":"IF(ISERROR(VLOOKUP(AG89,勤務シフト一覧!$B$4:$D$106,3,FALSE)),\"\",VLOOKUP(AG89,勤務シフト一覧!$B$4:$D$106,3,FALSE))","v":""},{"$f":"IF(ISERROR(VLOOKUP(AH89,勤務シフト一覧!$B$4:$D$106,3,FALSE)),\"\",VLOOKUP(AH89,勤務シフト一覧!$B$4:$D$106,3,FALSE))","v":""},0,0,0,0,0,0,0,0,0,0,null,null,{"$f":"IF(勤務シフト一覧!$D90<>0,IF(勤務シフト一覧!$B90<> 0,勤務シフト一覧!$B90,\"\"),\"\")","v":""}]
[{"$f":"IF(LEN(職員一覧!B44)<>0,職員一覧!B44,\"\")","v":""},{"$f":"IF(LEN(職員一覧!C44)<>0,職員一覧!C44,\"\")","v":""},"予定",null,null,null,null,null,null,null,null,null,null,null,null,null,null,null,null,null,null,null,null,null,null,null,null,null,null,null,null,null,null,null,{"$f":"IF(ISERROR(VLOOKUP(D90,勤務シフト一覧!$B$4:$C$106,2,FALSE)),\"\",VLOOKUP(D90,勤務シフト一覧!$B$4:$C$106,2,FALSE))","v":""},{"$f":"IF(ISERROR(VLOOKUP(E90,勤務シフト一覧!$B$4:$C$106,2,FALSE)),\"\",VLOOKUP(E90,勤務シフト一覧!$B$4:$C$106,2,FALSE))","v":""},{"$f":"IF(ISERROR(VLOOKUP(F90,勤務シフト一覧!$B$4:$C$106,2,FALSE)),\"\",VLOOKUP(F90,勤務シフト一覧!$B$4:$C$106,2,FALSE))","v":""},{"$f":"IF(ISERROR(VLOOKUP(G90,勤務シフト一覧!$B$4:$C$106,2,FALSE)),\"\",VLOOKUP(G90,勤務シフト一覧!$B$4:$C$106,2,FALSE))","v":""},{"$f":"IF(ISERROR(VLOOKUP(H90,勤務シフト一覧!$B$4:$C$106,2,FALSE)),\"\",VLOOKUP(H90,勤務シフト一覧!$B$4:$C$106,2,FALSE))","v":""},{"$f":"IF(ISERROR(VLOOKUP(I90,勤務シフト一覧!$B$4:$C$106,2,FALSE)),\"\",VLOOKUP(I90,勤務シフト一覧!$B$4:$C$106,2,FALSE))","v":""},{"$f":"IF(ISERROR(VLOOKUP(J90,勤務シフト一覧!$B$4:$C$106,2,FALSE)),\"\",VLOOKUP(J90,勤務シフト一覧!$B$4:$C$106,2,FALSE))","v":""},{"$f":"IF(ISERROR(VLOOKUP(K90,勤務シフト一覧!$B$4:$C$106,2,FALSE)),\"\",VLOOKUP(K90,勤務シフト一覧!$B$4:$C$106,2,FALSE))","v":""},{"$f":"IF(ISERROR(VLOOKUP(L90,勤務シフト一覧!$B$4:$C$106,2,FALSE)),\"\",VLOOKUP(L90,勤務シフト一覧!$B$4:$C$106,2,FALSE))","v":""},{"$f":"IF(ISERROR(VLOOKUP(M90,勤務シフト一覧!$B$4:$C$106,2,FALSE)),\"\",VLOOKUP(M90,勤務シフト一覧!$B$4:$C$106,2,FALSE))","v":""},{"$f":"IF(ISERROR(VLOOKUP(N90,勤務シフト一覧!$B$4:$C$106,2,FALSE)),\"\",VLOOKUP(N90,勤務シフト一覧!$B$4:$C$106,2,FALSE))","v":""},{"$f":"IF(ISERROR(VLOOKUP(O90,勤務シフト一覧!$B$4:$C$106,2,FALSE)),\"\",VLOOKUP(O90,勤務シフト一覧!$B$4:$C$106,2,FALSE))","v":""},{"$f":"IF(ISERROR(VLOOKUP(P90,勤務シフト一覧!$B$4:$C$106,2,FALSE)),\"\",VLOOKUP(P90,勤務シフト一覧!$B$4:$C$106,2,FALSE))","v":""},{"$f":"IF(ISERROR(VLOOKUP(Q90,勤務シフト一覧!$B$4:$C$106,2,FALSE)),\"\",VLOOKUP(Q90,勤務シフト一覧!$B$4:$C$106,2,FALSE))","v":""},{"$f":"IF(ISERROR(VLOOKUP(R90,勤務シフト一覧!$B$4:$C$106,2,FALSE)),\"\",VLOOKUP(R90,勤務シフト一覧!$B$4:$C$106,2,FALSE))","v":""},{"$f":"IF(ISERROR(VLOOKUP(S90,勤務シフト一覧!$B$4:$C$106,2,FALSE)),\"\",VLOOKUP(S90,勤務シフト一覧!$B$4:$C$106,2,FALSE))","v":""},{"$f":"IF(ISERROR(VLOOKUP(T90,勤務シフト一覧!$B$4:$C$106,2,FALSE)),\"\",VLOOKUP(T90,勤務シフト一覧!$B$4:$C$106,2,FALSE))","v":""},{"$f":"IF(ISERROR(VLOOKUP(U90,勤務シフト一覧!$B$4:$C$106,2,FALSE)),\"\",VLOOKUP(U90,勤務シフト一覧!$B$4:$C$106,2,FALSE))","v":""},{"$f":"IF(ISERROR(VLOOKUP(V90,勤務シフト一覧!$B$4:$C$106,2,FALSE)),\"\",VLOOKUP(V90,勤務シフト一覧!$B$4:$C$106,2,FALSE))","v":""},{"$f":"IF(ISERROR(VLOOKUP(W90,勤務シフト一覧!$B$4:$C$106,2,FALSE)),\"\",VLOOKUP(W90,勤務シフト一覧!$B$4:$C$106,2,FALSE))","v":""},{"$f":"IF(ISERROR(VLOOKUP(X90,勤務シフト一覧!$B$4:$C$106,2,FALSE)),\"\",VLOOKUP(X90,勤務シフト一覧!$B$4:$C$106,2,FALSE))","v":""},{"$f":"IF(ISERROR(VLOOKUP(Y90,勤務シフト一覧!$B$4:$C$106,2,FALSE)),\"\",VLOOKUP(Y90,勤務シフト一覧!$B$4:$C$106,2,FALSE))","v":""},{"$f":"IF(ISERROR(VLOOKUP(Z90,勤務シフト一覧!$B$4:$C$106,2,FALSE)),\"\",VLOOKUP(Z90,勤務シフト一覧!$B$4:$C$106,2,FALSE))","v":""},{"$f":"IF(ISERROR(VLOOKUP(AA90,勤務シフト一覧!$B$4:$C$106,2,FALSE)),\"\",VLOOKUP(AA90,勤務シフト一覧!$B$4:$C$106,2,FALSE))","v":""},{"$f":"IF(ISERROR(VLOOKUP(AB90,勤務シフト一覧!$B$4:$C$106,2,FALSE)),\"\",VLOOKUP(AB90,勤務シフト一覧!$B$4:$C$106,2,FALSE))","v":""},{"$f":"IF(ISERROR(VLOOKUP(AC90,勤務シフト一覧!$B$4:$C$106,2,FALSE)),\"\",VLOOKUP(AC90,勤務シフト一覧!$B$4:$C$106,2,FALSE))","v":""},{"$f":"IF(ISERROR(VLOOKUP(AD90,勤務シフト一覧!$B$4:$C$106,2,FALSE)),\"\",VLOOKUP(AD90,勤務シフト一覧!$B$4:$C$106,2,FALSE))","v":""},{"$f":"IF(ISERROR(VLOOKUP(AE90,勤務シフト一覧!$B$4:$C$106,2,FALSE)),\"\",VLOOKUP(AE90,勤務シフト一覧!$B$4:$C$106,2,FALSE))","v":""},{"$f":"IF(ISERROR(VLOOKUP(AF90,勤務シフト一覧!$B$4:$C$106,2,FALSE)),\"\",VLOOKUP(AF90,勤務シフト一覧!$B$4:$C$106,2,FALSE))","v":""},{"$f":"IF(ISERROR(VLOOKUP(AG90,勤務シフト一覧!$B$4:$C$106,2,FALSE)),\"\",VLOOKUP(AG90,勤務シフト一覧!$B$4:$C$106,2,FALSE))","v":""},{"$f":"IF(ISERROR(VLOOKUP(AH90,勤務シフト一覧!$B$4:$C$106,2,FALSE)),\"\",VLOOKUP(AH90,勤務シフト一覧!$B$4:$C$106,2,FALSE))","v":""},null,{"$f":"IF(ISERROR(VLOOKUP(D90,勤務シフト一覧!$B$4:$D$106,3,FALSE)),\"\",VLOOKUP(D90,勤務シフト一覧!$B$4:$D$106,3,FALSE))","v":""},{"$f":"IF(ISERROR(VLOOKUP(E90,勤務シフト一覧!$B$4:$D$106,3,FALSE)),\"\",VLOOKUP(E90,勤務シフト一覧!$B$4:$D$106,3,FALSE))","v":""},{"$f":"IF(ISERROR(VLOOKUP(F90,勤務シフト一覧!$B$4:$D$106,3,FALSE)),\"\",VLOOKUP(F90,勤務シフト一覧!$B$4:$D$106,3,FALSE))","v":""},{"$f":"IF(ISERROR(VLOOKUP(G90,勤務シフト一覧!$B$4:$D$106,3,FALSE)),\"\",VLOOKUP(G90,勤務シフト一覧!$B$4:$D$106,3,FALSE))","v":""},{"$f":"IF(ISERROR(VLOOKUP(H90,勤務シフト一覧!$B$4:$D$106,3,FALSE)),\"\",VLOOKUP(H90,勤務シフト一覧!$B$4:$D$106,3,FALSE))","v":""},{"$f":"IF(ISERROR(VLOOKUP(I90,勤務シフト一覧!$B$4:$D$106,3,FALSE)),\"\",VLOOKUP(I90,勤務シフト一覧!$B$4:$D$106,3,FALSE))","v":""},{"$f":"IF(ISERROR(VLOOKUP(J90,勤務シフト一覧!$B$4:$D$106,3,FALSE)),\"\",VLOOKUP(J90,勤務シフト一覧!$B$4:$D$106,3,FALSE))","v":""},{"$f":"IF(ISERROR(VLOOKUP(K90,勤務シフト一覧!$B$4:$D$106,3,FALSE)),\"\",VLOOKUP(K90,勤務シフト一覧!$B$4:$D$106,3,FALSE))","v":""},{"$f":"IF(ISERROR(VLOOKUP(L90,勤務シフト一覧!$B$4:$D$106,3,FALSE)),\"\",VLOOKUP(L90,勤務シフト一覧!$B$4:$D$106,3,FALSE))","v":""},{"$f":"IF(ISERROR(VLOOKUP(M90,勤務シフト一覧!$B$4:$D$106,3,FALSE)),\"\",VLOOKUP(M90,勤務シフト一覧!$B$4:$D$106,3,FALSE))","v":""},{"$f":"IF(ISERROR(VLOOKUP(N90,勤務シフト一覧!$B$4:$D$106,3,FALSE)),\"\",VLOOKUP(N90,勤務シフト一覧!$B$4:$D$106,3,FALSE))","v":""},{"$f":"IF(ISERROR(VLOOKUP(O90,勤務シフト一覧!$B$4:$D$106,3,FALSE)),\"\",VLOOKUP(O90,勤務シフト一覧!$B$4:$D$106,3,FALSE))","v":""},{"$f":"IF(ISERROR(VLOOKUP(P90,勤務シフト一覧!$B$4:$D$106,3,FALSE)),\"\",VLOOKUP(P90,勤務シフト一覧!$B$4:$D$106,3,FALSE))","v":""},{"$f":"IF(ISERROR(VLOOKUP(Q90,勤務シフト一覧!$B$4:$D$106,3,FALSE)),\"\",VLOOKUP(Q90,勤務シフト一覧!$B$4:$D$106,3,FALSE))","v":""},{"$f":"IF(ISERROR(VLOOKUP(R90,勤務シフト一覧!$B$4:$D$106,3,FALSE)),\"\",VLOOKUP(R90,勤務シフト一覧!$B$4:$D$106,3,FALSE))","v":""},{"$f":"IF(ISERROR(VLOOKUP(S90,勤務シフト一覧!$B$4:$D$106,3,FALSE)),\"\",VLOOKUP(S90,勤務シフト一覧!$B$4:$D$106,3,FALSE))","v":""},{"$f":"IF(ISERROR(VLOOKUP(T90,勤務シフト一覧!$B$4:$D$106,3,FALSE)),\"\",VLOOKUP(T90,勤務シフト一覧!$B$4:$D$106,3,FALSE))","v":""},{"$f":"IF(ISERROR(VLOOKUP(U90,勤務シフト一覧!$B$4:$D$106,3,FALSE)),\"\",VLOOKUP(U90,勤務シフト一覧!$B$4:$D$106,3,FALSE))","v":""},{"$f":"IF(ISERROR(VLOOKUP(V90,勤務シフト一覧!$B$4:$D$106,3,FALSE)),\"\",VLOOKUP(V90,勤務シフト一覧!$B$4:$D$106,3,FALSE))","v":""},{"$f":"IF(ISERROR(VLOOKUP(W90,勤務シフト一覧!$B$4:$D$106,3,FALSE)),\"\",VLOOKUP(W90,勤務シフト一覧!$B$4:$D$106,3,FALSE))","v":""},{"$f":"IF(ISERROR(VLOOKUP(X90,勤務シフト一覧!$B$4:$D$106,3,FALSE)),\"\",VLOOKUP(X90,勤務シフト一覧!$B$4:$D$106,3,FALSE))","v":""},{"$f":"IF(ISERROR(VLOOKUP(Y90,勤務シフト一覧!$B$4:$D$106,3,FALSE)),\"\",VLOOKUP(Y90,勤務シフト一覧!$B$4:$D$106,3,FALSE))","v":""},{"$f":"IF(ISERROR(VLOOKUP(Z90,勤務シフト一覧!$B$4:$D$106,3,FALSE)),\"\",VLOOKUP(Z90,勤務シフト一覧!$B$4:$D$106,3,FALSE))","v":""},{"$f":"IF(ISERROR(VLOOKUP(AA90,勤務シフト一覧!$B$4:$D$106,3,FALSE)),\"\",VLOOKUP(AA90,勤務シフト一覧!$B$4:$D$106,3,FALSE))","v":""},{"$f":"IF(ISERROR(VLOOKUP(AB90,勤務シフト一覧!$B$4:$D$106,3,FALSE)),\"\",VLOOKUP(AB90,勤務シフト一覧!$B$4:$D$106,3,FALSE))","v":""},{"$f":"IF(ISERROR(VLOOKUP(AC90,勤務シフト一覧!$B$4:$D$106,3,FALSE)),\"\",VLOOKUP(AC90,勤務シフト一覧!$B$4:$D$106,3,FALSE))","v":""},{"$f":"IF(ISERROR(VLOOKUP(AD90,勤務シフト一覧!$B$4:$D$106,3,FALSE)),\"\",VLOOKUP(AD90,勤務シフト一覧!$B$4:$D$106,3,FALSE))","v":""},{"$f":"IF(ISERROR(VLOOKUP(AE90,勤務シフト一覧!$B$4:$D$106,3,FALSE)),\"\",VLOOKUP(AE90,勤務シフト一覧!$B$4:$D$106,3,FALSE))","v":""},{"$f":"IF(ISERROR(VLOOKUP(AF90,勤務シフト一覧!$B$4:$D$106,3,FALSE)),\"\",VLOOKUP(AF90,勤務シフト一覧!$B$4:$D$106,3,FALSE))","v":""},{"$f":"IF(ISERROR(VLOOKUP(AG90,勤務シフト一覧!$B$4:$D$106,3,FALSE)),\"\",VLOOKUP(AG90,勤務シフト一覧!$B$4:$D$106,3,FALSE))","v":""},{"$f":"IF(ISERROR(VLOOKUP(AH90,勤務シフト一覧!$B$4:$D$106,3,FALSE)),\"\",VLOOKUP(AH90,勤務シフト一覧!$B$4:$D$106,3,FALSE))","v":""},{"$f":"COUNTIF(AI90:BM90,$CT$3)","v":0},{"$f":"COUNTIF(AI90:BM90,$CU$3)","v":0},{"$f":"COUNTIF(AI90:BM90,$CV$3)","v":0},{"$f":"COUNTIF(AI90:BM90,$CW$3)","v":0},{"$f":"COUNTIF(AI90:BM90,$CX$3)","v":0},{"$f":"COUNTIF(AI90:BM90,$CY$3)","v":0},{"$f":"COUNTIF(AI90:BM90,$CZ$3)","v":0},{"$f":"COUNTIF(AI90:BM90,$DA$3)","v":0},{"$f":"COUNTIF(AI90:BM90,$DB$3)","v":0},{"$f":"COUNTIF(AI90:BM90,$DC$3)","v":0},{"$f":"IF(LEN(職員一覧!D44)<>0,職員一覧!D44,\"\")","v":""},null,{"$f":"IF(勤務シフト一覧!$D91<>0,IF(勤務シフト一覧!$B91<> 0,勤務シフト一覧!$B91,\"\"),\"\")","v":""}]
[null,null,"実施",null,null,null,null,null,null,null,null,null,null,null,null,null,null,null,null,null,null,null,null,null,null,null,null,null,null,null,null,null,null,null,{"$f":"IF(ISERROR(VLOOKUP(D91,勤務シフト一覧!$B$4:$C$106,2,FALSE)),\"\",VLOOKUP(D91,勤務シフト一覧!$B$4:$C$106,2,FALSE))","v":""},{"$f":"IF(ISERROR(VLOOKUP(E91,勤務シフト一覧!$B$4:$C$106,2,FALSE)),\"\",VLOOKUP(E91,勤務シフト一覧!$B$4:$C$106,2,FALSE))","v":""},{"$f":"IF(ISERROR(VLOOKUP(F91,勤務シフト一覧!$B$4:$C$106,2,FALSE)),\"\",VLOOKUP(F91,勤務シフト一覧!$B$4:$C$106,2,FALSE))","v":""},{"$f":"IF(ISERROR(VLOOKUP(G91,勤務シフト一覧!$B$4:$C$106,2,FALSE)),\"\",VLOOKUP(G91,勤務シフト一覧!$B$4:$C$106,2,FALSE))","v":""},{"$f":"IF(ISERROR(VLOOKUP(H91,勤務シフト一覧!$B$4:$C$106,2,FALSE)),\"\",VLOOKUP(H91,勤務シフト一覧!$B$4:$C$106,2,FALSE))","v":""},{"$f":"IF(ISERROR(VLOOKUP(I91,勤務シフト一覧!$B$4:$C$106,2,FALSE)),\"\",VLOOKUP(I91,勤務シフト一覧!$B$4:$C$106,2,FALSE))","v":""},{"$f":"IF(ISERROR(VLOOKUP(J91,勤務シフト一覧!$B$4:$C$106,2,FALSE)),\"\",VLOOKUP(J91,勤務シフト一覧!$B$4:$C$106,2,FALSE))","v":""},{"$f":"IF(ISERROR(VLOOKUP(K91,勤務シフト一覧!$B$4:$C$106,2,FALSE)),\"\",VLOOKUP(K91,勤務シフト一覧!$B$4:$C$106,2,FALSE))","v":""},{"$f":"IF(ISERROR(VLOOKUP(L91,勤務シフト一覧!$B$4:$C$106,2,FALSE)),\"\",VLOOKUP(L91,勤務シフト一覧!$B$4:$C$106,2,FALSE))","v":""},{"$f":"IF(ISERROR(VLOOKUP(M91,勤務シフト一覧!$B$4:$C$106,2,FALSE)),\"\",VLOOKUP(M91,勤務シフト一覧!$B$4:$C$106,2,FALSE))","v":""},{"$f":"IF(ISERROR(VLOOKUP(N91,勤務シフト一覧!$B$4:$C$106,2,FALSE)),\"\",VLOOKUP(N91,勤務シフト一覧!$B$4:$C$106,2,FALSE))","v":""},{"$f":"IF(ISERROR(VLOOKUP(O91,勤務シフト一覧!$B$4:$C$106,2,FALSE)),\"\",VLOOKUP(O91,勤務シフト一覧!$B$4:$C$106,2,FALSE))","v":""},{"$f":"IF(ISERROR(VLOOKUP(P91,勤務シフト一覧!$B$4:$C$106,2,FALSE)),\"\",VLOOKUP(P91,勤務シフト一覧!$B$4:$C$106,2,FALSE))","v":""},{"$f":"IF(ISERROR(VLOOKUP(Q91,勤務シフト一覧!$B$4:$C$106,2,FALSE)),\"\",VLOOKUP(Q91,勤務シフト一覧!$B$4:$C$106,2,FALSE))","v":""},{"$f":"IF(ISERROR(VLOOKUP(R91,勤務シフト一覧!$B$4:$C$106,2,FALSE)),\"\",VLOOKUP(R91,勤務シフト一覧!$B$4:$C$106,2,FALSE))","v":""},{"$f":"IF(ISERROR(VLOOKUP(S91,勤務シフト一覧!$B$4:$C$106,2,FALSE)),\"\",VLOOKUP(S91,勤務シフト一覧!$B$4:$C$106,2,FALSE))","v":""},{"$f":"IF(ISERROR(VLOOKUP(T91,勤務シフト一覧!$B$4:$C$106,2,FALSE)),\"\",VLOOKUP(T91,勤務シフト一覧!$B$4:$C$106,2,FALSE))","v":""},{"$f":"IF(ISERROR(VLOOKUP(U91,勤務シフト一覧!$B$4:$C$106,2,FALSE)),\"\",VLOOKUP(U91,勤務シフト一覧!$B$4:$C$106,2,FALSE))","v":""},{"$f":"IF(ISERROR(VLOOKUP(V91,勤務シフト一覧!$B$4:$C$106,2,FALSE)),\"\",VLOOKUP(V91,勤務シフト一覧!$B$4:$C$106,2,FALSE))","v":""},{"$f":"IF(ISERROR(VLOOKUP(W91,勤務シフト一覧!$B$4:$C$106,2,FALSE)),\"\",VLOOKUP(W91,勤務シフト一覧!$B$4:$C$106,2,FALSE))","v":""},{"$f":"IF(ISERROR(VLOOKUP(X91,勤務シフト一覧!$B$4:$C$106,2,FALSE)),\"\",VLOOKUP(X91,勤務シフト一覧!$B$4:$C$106,2,FALSE))","v":""},{"$f":"IF(ISERROR(VLOOKUP(Y91,勤務シフト一覧!$B$4:$C$106,2,FALSE)),\"\",VLOOKUP(Y91,勤務シフト一覧!$B$4:$C$106,2,FALSE))","v":""},{"$f":"IF(ISERROR(VLOOKUP(Z91,勤務シフト一覧!$B$4:$C$106,2,FALSE)),\"\",VLOOKUP(Z91,勤務シフト一覧!$B$4:$C$106,2,FALSE))","v":""},{"$f":"IF(ISERROR(VLOOKUP(AA91,勤務シフト一覧!$B$4:$C$106,2,FALSE)),\"\",VLOOKUP(AA91,勤務シフト一覧!$B$4:$C$106,2,FALSE))","v":""},{"$f":"IF(ISERROR(VLOOKUP(AB91,勤務シフト一覧!$B$4:$C$106,2,FALSE)),\"\",VLOOKUP(AB91,勤務シフト一覧!$B$4:$C$106,2,FALSE))","v":""},{"$f":"IF(ISERROR(VLOOKUP(AC91,勤務シフト一覧!$B$4:$C$106,2,FALSE)),\"\",VLOOKUP(AC91,勤務シフト一覧!$B$4:$C$106,2,FALSE))","v":""},{"$f":"IF(ISERROR(VLOOKUP(AD91,勤務シフト一覧!$B$4:$C$106,2,FALSE)),\"\",VLOOKUP(AD91,勤務シフト一覧!$B$4:$C$106,2,FALSE))","v":""},{"$f":"IF(ISERROR(VLOOKUP(AE91,勤務シフト一覧!$B$4:$C$106,2,FALSE)),\"\",VLOOKUP(AE91,勤務シフト一覧!$B$4:$C$106,2,FALSE))","v":""},{"$f":"IF(ISERROR(VLOOKUP(AF91,勤務シフト一覧!$B$4:$C$106,2,FALSE)),\"\",VLOOKUP(AF91,勤務シフト一覧!$B$4:$C$106,2,FALSE))","v":""},{"$f":"IF(ISERROR(VLOOKUP(AG91,勤務シフト一覧!$B$4:$C$106,2,FALSE)),\"\",VLOOKUP(AG91,勤務シフト一覧!$B$4:$C$106,2,FALSE))","v":""},{"$f":"IF(ISERROR(VLOOKUP(AH91,勤務シフト一覧!$B$4:$C$106,2,FALSE)),\"\",VLOOKUP(AH91,勤務シフト一覧!$B$4:$C$106,2,FALSE))","v":""},null,{"$f":"IF(ISERROR(VLOOKUP(D91,勤務シフト一覧!$B$4:$D$106,3,FALSE)),\"\",VLOOKUP(D91,勤務シフト一覧!$B$4:$D$106,3,FALSE))","v":""},{"$f":"IF(ISERROR(VLOOKUP(E91,勤務シフト一覧!$B$4:$D$106,3,FALSE)),\"\",VLOOKUP(E91,勤務シフト一覧!$B$4:$D$106,3,FALSE))","v":""},{"$f":"IF(ISERROR(VLOOKUP(F91,勤務シフト一覧!$B$4:$D$106,3,FALSE)),\"\",VLOOKUP(F91,勤務シフト一覧!$B$4:$D$106,3,FALSE))","v":""},{"$f":"IF(ISERROR(VLOOKUP(G91,勤務シフト一覧!$B$4:$D$106,3,FALSE)),\"\",VLOOKUP(G91,勤務シフト一覧!$B$4:$D$106,3,FALSE))","v":""},{"$f":"IF(ISERROR(VLOOKUP(H91,勤務シフト一覧!$B$4:$D$106,3,FALSE)),\"\",VLOOKUP(H91,勤務シフト一覧!$B$4:$D$106,3,FALSE))","v":""},{"$f":"IF(ISERROR(VLOOKUP(I91,勤務シフト一覧!$B$4:$D$106,3,FALSE)),\"\",VLOOKUP(I91,勤務シフト一覧!$B$4:$D$106,3,FALSE))","v":""},{"$f":"IF(ISERROR(VLOOKUP(J91,勤務シフト一覧!$B$4:$D$106,3,FALSE)),\"\",VLOOKUP(J91,勤務シフト一覧!$B$4:$D$106,3,FALSE))","v":""},{"$f":"IF(ISERROR(VLOOKUP(K91,勤務シフト一覧!$B$4:$D$106,3,FALSE)),\"\",VLOOKUP(K91,勤務シフト一覧!$B$4:$D$106,3,FALSE))","v":""},{"$f":"IF(ISERROR(VLOOKUP(L91,勤務シフト一覧!$B$4:$D$106,3,FALSE)),\"\",VLOOKUP(L91,勤務シフト一覧!$B$4:$D$106,3,FALSE))","v":""},{"$f":"IF(ISERROR(VLOOKUP(M91,勤務シフト一覧!$B$4:$D$106,3,FALSE)),\"\",VLOOKUP(M91,勤務シフト一覧!$B$4:$D$106,3,FALSE))","v":""},{"$f":"IF(ISERROR(VLOOKUP(N91,勤務シフト一覧!$B$4:$D$106,3,FALSE)),\"\",VLOOKUP(N91,勤務シフト一覧!$B$4:$D$106,3,FALSE))","v":""},{"$f":"IF(ISERROR(VLOOKUP(O91,勤務シフト一覧!$B$4:$D$106,3,FALSE)),\"\",VLOOKUP(O91,勤務シフト一覧!$B$4:$D$106,3,FALSE))","v":""},{"$f":"IF(ISERROR(VLOOKUP(P91,勤務シフト一覧!$B$4:$D$106,3,FALSE)),\"\",VLOOKUP(P91,勤務シフト一覧!$B$4:$D$106,3,FALSE))","v":""},{"$f":"IF(ISERROR(VLOOKUP(Q91,勤務シフト一覧!$B$4:$D$106,3,FALSE)),\"\",VLOOKUP(Q91,勤務シフト一覧!$B$4:$D$106,3,FALSE))","v":""},{"$f":"IF(ISERROR(VLOOKUP(R91,勤務シフト一覧!$B$4:$D$106,3,FALSE)),\"\",VLOOKUP(R91,勤務シフト一覧!$B$4:$D$106,3,FALSE))","v":""},{"$f":"IF(ISERROR(VLOOKUP(S91,勤務シフト一覧!$B$4:$D$106,3,FALSE)),\"\",VLOOKUP(S91,勤務シフト一覧!$B$4:$D$106,3,FALSE))","v":""},{"$f":"IF(ISERROR(VLOOKUP(T91,勤務シフト一覧!$B$4:$D$106,3,FALSE)),\"\",VLOOKUP(T91,勤務シフト一覧!$B$4:$D$106,3,FALSE))","v":""},{"$f":"IF(ISERROR(VLOOKUP(U91,勤務シフト一覧!$B$4:$D$106,3,FALSE)),\"\",VLOOKUP(U91,勤務シフト一覧!$B$4:$D$106,3,FALSE))","v":""},{"$f":"IF(ISERROR(VLOOKUP(V91,勤務シフト一覧!$B$4:$D$106,3,FALSE)),\"\",VLOOKUP(V91,勤務シフト一覧!$B$4:$D$106,3,FALSE))","v":""},{"$f":"IF(ISERROR(VLOOKUP(W91,勤務シフト一覧!$B$4:$D$106,3,FALSE)),\"\",VLOOKUP(W91,勤務シフト一覧!$B$4:$D$106,3,FALSE))","v":""},{"$f":"IF(ISERROR(VLOOKUP(X91,勤務シフト一覧!$B$4:$D$106,3,FALSE)),\"\",VLOOKUP(X91,勤務シフト一覧!$B$4:$D$106,3,FALSE))","v":""},{"$f":"IF(ISERROR(VLOOKUP(Y91,勤務シフト一覧!$B$4:$D$106,3,FALSE)),\"\",VLOOKUP(Y91,勤務シフト一覧!$B$4:$D$106,3,FALSE))","v":""},{"$f":"IF(ISERROR(VLOOKUP(Z91,勤務シフト一覧!$B$4:$D$106,3,FALSE)),\"\",VLOOKUP(Z91,勤務シフト一覧!$B$4:$D$106,3,FALSE))","v":""},{"$f":"IF(ISERROR(VLOOKUP(AA91,勤務シフト一覧!$B$4:$D$106,3,FALSE)),\"\",VLOOKUP(AA91,勤務シフト一覧!$B$4:$D$106,3,FALSE))","v":""},{"$f":"IF(ISERROR(VLOOKUP(AB91,勤務シフト一覧!$B$4:$D$106,3,FALSE)),\"\",VLOOKUP(AB91,勤務シフト一覧!$B$4:$D$106,3,FALSE))","v":""},{"$f":"IF(ISERROR(VLOOKUP(AC91,勤務シフト一覧!$B$4:$D$106,3,FALSE)),\"\",VLOOKUP(AC91,勤務シフト一覧!$B$4:$D$106,3,FALSE))","v":""},{"$f":"IF(ISERROR(VLOOKUP(AD91,勤務シフト一覧!$B$4:$D$106,3,FALSE)),\"\",VLOOKUP(AD91,勤務シフト一覧!$B$4:$D$106,3,FALSE))","v":""},{"$f":"IF(ISERROR(VLOOKUP(AE91,勤務シフト一覧!$B$4:$D$106,3,FALSE)),\"\",VLOOKUP(AE91,勤務シフト一覧!$B$4:$D$106,3,FALSE))","v":""},{"$f":"IF(ISERROR(VLOOKUP(AF91,勤務シフト一覧!$B$4:$D$106,3,FALSE)),\"\",VLOOKUP(AF91,勤務シフト一覧!$B$4:$D$106,3,FALSE))","v":""},{"$f":"IF(ISERROR(VLOOKUP(AG91,勤務シフト一覧!$B$4:$D$106,3,FALSE)),\"\",VLOOKUP(AG91,勤務シフト一覧!$B$4:$D$106,3,FALSE))","v":""},{"$f":"IF(ISERROR(VLOOKUP(AH91,勤務シフト一覧!$B$4:$D$106,3,FALSE)),\"\",VLOOKUP(AH91,勤務シフト一覧!$B$4:$D$106,3,FALSE))","v":""},0,0,0,0,0,0,0,0,0,0,null,null,{"$f":"IF(勤務シフト一覧!$D92<>0,IF(勤務シフト一覧!$B92<> 0,勤務シフト一覧!$B92,\"\"),\"\")","v":""}]
[{"$f":"IF(LEN(職員一覧!B45)<>0,職員一覧!B45,\"\")","v":""},{"$f":"IF(LEN(職員一覧!C45)<>0,職員一覧!C45,\"\")","v":""},"予定",null,null,null,null,null,null,null,null,null,null,null,null,null,null,null,null,null,null,null,null,null,null,null,null,null,null,null,null,null,null,null,{"$f":"IF(ISERROR(VLOOKUP(D92,勤務シフト一覧!$B$4:$C$106,2,FALSE)),\"\",VLOOKUP(D92,勤務シフト一覧!$B$4:$C$106,2,FALSE))","v":""},{"$f":"IF(ISERROR(VLOOKUP(E92,勤務シフト一覧!$B$4:$C$106,2,FALSE)),\"\",VLOOKUP(E92,勤務シフト一覧!$B$4:$C$106,2,FALSE))","v":""},{"$f":"IF(ISERROR(VLOOKUP(F92,勤務シフト一覧!$B$4:$C$106,2,FALSE)),\"\",VLOOKUP(F92,勤務シフト一覧!$B$4:$C$106,2,FALSE))","v":""},{"$f":"IF(ISERROR(VLOOKUP(G92,勤務シフト一覧!$B$4:$C$106,2,FALSE)),\"\",VLOOKUP(G92,勤務シフト一覧!$B$4:$C$106,2,FALSE))","v":""},{"$f":"IF(ISERROR(VLOOKUP(H92,勤務シフト一覧!$B$4:$C$106,2,FALSE)),\"\",VLOOKUP(H92,勤務シフト一覧!$B$4:$C$106,2,FALSE))","v":""},{"$f":"IF(ISERROR(VLOOKUP(I92,勤務シフト一覧!$B$4:$C$106,2,FALSE)),\"\",VLOOKUP(I92,勤務シフト一覧!$B$4:$C$106,2,FALSE))","v":""},{"$f":"IF(ISERROR(VLOOKUP(J92,勤務シフト一覧!$B$4:$C$106,2,FALSE)),\"\",VLOOKUP(J92,勤務シフト一覧!$B$4:$C$106,2,FALSE))","v":""},{"$f":"IF(ISERROR(VLOOKUP(K92,勤務シフト一覧!$B$4:$C$106,2,FALSE)),\"\",VLOOKUP(K92,勤務シフト一覧!$B$4:$C$106,2,FALSE))","v":""},{"$f":"IF(ISERROR(VLOOKUP(L92,勤務シフト一覧!$B$4:$C$106,2,FALSE)),\"\",VLOOKUP(L92,勤務シフト一覧!$B$4:$C$106,2,FALSE))","v":""},{"$f":"IF(ISERROR(VLOOKUP(M92,勤務シフト一覧!$B$4:$C$106,2,FALSE)),\"\",VLOOKUP(M92,勤務シフト一覧!$B$4:$C$106,2,FALSE))","v":""},{"$f":"IF(ISERROR(VLOOKUP(N92,勤務シフト一覧!$B$4:$C$106,2,FALSE)),\"\",VLOOKUP(N92,勤務シフト一覧!$B$4:$C$106,2,FALSE))","v":""},{"$f":"IF(ISERROR(VLOOKUP(O92,勤務シフト一覧!$B$4:$C$106,2,FALSE)),\"\",VLOOKUP(O92,勤務シフト一覧!$B$4:$C$106,2,FALSE))","v":""},{"$f":"IF(ISERROR(VLOOKUP(P92,勤務シフト一覧!$B$4:$C$106,2,FALSE)),\"\",VLOOKUP(P92,勤務シフト一覧!$B$4:$C$106,2,FALSE))","v":""},{"$f":"IF(ISERROR(VLOOKUP(Q92,勤務シフト一覧!$B$4:$C$106,2,FALSE)),\"\",VLOOKUP(Q92,勤務シフト一覧!$B$4:$C$106,2,FALSE))","v":""},{"$f":"IF(ISERROR(VLOOKUP(R92,勤務シフト一覧!$B$4:$C$106,2,FALSE)),\"\",VLOOKUP(R92,勤務シフト一覧!$B$4:$C$106,2,FALSE))","v":""},{"$f":"IF(ISERROR(VLOOKUP(S92,勤務シフト一覧!$B$4:$C$106,2,FALSE)),\"\",VLOOKUP(S92,勤務シフト一覧!$B$4:$C$106,2,FALSE))","v":""},{"$f":"IF(ISERROR(VLOOKUP(T92,勤務シフト一覧!$B$4:$C$106,2,FALSE)),\"\",VLOOKUP(T92,勤務シフト一覧!$B$4:$C$106,2,FALSE))","v":""},{"$f":"IF(ISERROR(VLOOKUP(U92,勤務シフト一覧!$B$4:$C$106,2,FALSE)),\"\",VLOOKUP(U92,勤務シフト一覧!$B$4:$C$106,2,FALSE))","v":""},{"$f":"IF(ISERROR(VLOOKUP(V92,勤務シフト一覧!$B$4:$C$106,2,FALSE)),\"\",VLOOKUP(V92,勤務シフト一覧!$B$4:$C$106,2,FALSE))","v":""},{"$f":"IF(ISERROR(VLOOKUP(W92,勤務シフト一覧!$B$4:$C$106,2,FALSE)),\"\",VLOOKUP(W92,勤務シフト一覧!$B$4:$C$106,2,FALSE))","v":""},{"$f":"IF(ISERROR(VLOOKUP(X92,勤務シフト一覧!$B$4:$C$106,2,FALSE)),\"\",VLOOKUP(X92,勤務シフト一覧!$B$4:$C$106,2,FALSE))","v":""},{"$f":"IF(ISERROR(VLOOKUP(Y92,勤務シフト一覧!$B$4:$C$106,2,FALSE)),\"\",VLOOKUP(Y92,勤務シフト一覧!$B$4:$C$106,2,FALSE))","v":""},{"$f":"IF(ISERROR(VLOOKUP(Z92,勤務シフト一覧!$B$4:$C$106,2,FALSE)),\"\",VLOOKUP(Z92,勤務シフト一覧!$B$4:$C$106,2,FALSE))","v":""},{"$f":"IF(ISERROR(VLOOKUP(AA92,勤務シフト一覧!$B$4:$C$106,2,FALSE)),\"\",VLOOKUP(AA92,勤務シフト一覧!$B$4:$C$106,2,FALSE))","v":""},{"$f":"IF(ISERROR(VLOOKUP(AB92,勤務シフト一覧!$B$4:$C$106,2,FALSE)),\"\",VLOOKUP(AB92,勤務シフト一覧!$B$4:$C$106,2,FALSE))","v":""},{"$f":"IF(ISERROR(VLOOKUP(AC92,勤務シフト一覧!$B$4:$C$106,2,FALSE)),\"\",VLOOKUP(AC92,勤務シフト一覧!$B$4:$C$106,2,FALSE))","v":""},{"$f":"IF(ISERROR(VLOOKUP(AD92,勤務シフト一覧!$B$4:$C$106,2,FALSE)),\"\",VLOOKUP(AD92,勤務シフト一覧!$B$4:$C$106,2,FALSE))","v":""},{"$f":"IF(ISERROR(VLOOKUP(AE92,勤務シフト一覧!$B$4:$C$106,2,FALSE)),\"\",VLOOKUP(AE92,勤務シフト一覧!$B$4:$C$106,2,FALSE))","v":""},{"$f":"IF(ISERROR(VLOOKUP(AF92,勤務シフト一覧!$B$4:$C$106,2,FALSE)),\"\",VLOOKUP(AF92,勤務シフト一覧!$B$4:$C$106,2,FALSE))","v":""},{"$f":"IF(ISERROR(VLOOKUP(AG92,勤務シフト一覧!$B$4:$C$106,2,FALSE)),\"\",VLOOKUP(AG92,勤務シフト一覧!$B$4:$C$106,2,FALSE))","v":""},{"$f":"IF(ISERROR(VLOOKUP(AH92,勤務シフト一覧!$B$4:$C$106,2,FALSE)),\"\",VLOOKUP(AH92,勤務シフト一覧!$B$4:$C$106,2,FALSE))","v":""},null,{"$f":"IF(ISERROR(VLOOKUP(D92,勤務シフト一覧!$B$4:$D$106,3,FALSE)),\"\",VLOOKUP(D92,勤務シフト一覧!$B$4:$D$106,3,FALSE))","v":""},{"$f":"IF(ISERROR(VLOOKUP(E92,勤務シフト一覧!$B$4:$D$106,3,FALSE)),\"\",VLOOKUP(E92,勤務シフト一覧!$B$4:$D$106,3,FALSE))","v":""},{"$f":"IF(ISERROR(VLOOKUP(F92,勤務シフト一覧!$B$4:$D$106,3,FALSE)),\"\",VLOOKUP(F92,勤務シフト一覧!$B$4:$D$106,3,FALSE))","v":""},{"$f":"IF(ISERROR(VLOOKUP(G92,勤務シフト一覧!$B$4:$D$106,3,FALSE)),\"\",VLOOKUP(G92,勤務シフト一覧!$B$4:$D$106,3,FALSE))","v":""},{"$f":"IF(ISERROR(VLOOKUP(H92,勤務シフト一覧!$B$4:$D$106,3,FALSE)),\"\",VLOOKUP(H92,勤務シフト一覧!$B$4:$D$106,3,FALSE))","v":""},{"$f":"IF(ISERROR(VLOOKUP(I92,勤務シフト一覧!$B$4:$D$106,3,FALSE)),\"\",VLOOKUP(I92,勤務シフト一覧!$B$4:$D$106,3,FALSE))","v":""},{"$f":"IF(ISERROR(VLOOKUP(J92,勤務シフト一覧!$B$4:$D$106,3,FALSE)),\"\",VLOOKUP(J92,勤務シフト一覧!$B$4:$D$106,3,FALSE))","v":""},{"$f":"IF(ISERROR(VLOOKUP(K92,勤務シフト一覧!$B$4:$D$106,3,FALSE)),\"\",VLOOKUP(K92,勤務シフト一覧!$B$4:$D$106,3,FALSE))","v":""},{"$f":"IF(ISERROR(VLOOKUP(L92,勤務シフト一覧!$B$4:$D$106,3,FALSE)),\"\",VLOOKUP(L92,勤務シフト一覧!$B$4:$D$106,3,FALSE))","v":""},{"$f":"IF(ISERROR(VLOOKUP(M92,勤務シフト一覧!$B$4:$D$106,3,FALSE)),\"\",VLOOKUP(M92,勤務シフト一覧!$B$4:$D$106,3,FALSE))","v":""},{"$f":"IF(ISERROR(VLOOKUP(N92,勤務シフト一覧!$B$4:$D$106,3,FALSE)),\"\",VLOOKUP(N92,勤務シフト一覧!$B$4:$D$106,3,FALSE))","v":""},{"$f":"IF(ISERROR(VLOOKUP(O92,勤務シフト一覧!$B$4:$D$106,3,FALSE)),\"\",VLOOKUP(O92,勤務シフト一覧!$B$4:$D$106,3,FALSE))","v":""},{"$f":"IF(ISERROR(VLOOKUP(P92,勤務シフト一覧!$B$4:$D$106,3,FALSE)),\"\",VLOOKUP(P92,勤務シフト一覧!$B$4:$D$106,3,FALSE))","v":""},{"$f":"IF(ISERROR(VLOOKUP(Q92,勤務シフト一覧!$B$4:$D$106,3,FALSE)),\"\",VLOOKUP(Q92,勤務シフト一覧!$B$4:$D$106,3,FALSE))","v":""},{"$f":"IF(ISERROR(VLOOKUP(R92,勤務シフト一覧!$B$4:$D$106,3,FALSE)),\"\",VLOOKUP(R92,勤務シフト一覧!$B$4:$D$106,3,FALSE))","v":""},{"$f":"IF(ISERROR(VLOOKUP(S92,勤務シフト一覧!$B$4:$D$106,3,FALSE)),\"\",VLOOKUP(S92,勤務シフト一覧!$B$4:$D$106,3,FALSE))","v":""},{"$f":"IF(ISERROR(VLOOKUP(T92,勤務シフト一覧!$B$4:$D$106,3,FALSE)),\"\",VLOOKUP(T92,勤務シフト一覧!$B$4:$D$106,3,FALSE))","v":""},{"$f":"IF(ISERROR(VLOOKUP(U92,勤務シフト一覧!$B$4:$D$106,3,FALSE)),\"\",VLOOKUP(U92,勤務シフト一覧!$B$4:$D$106,3,FALSE))","v":""},{"$f":"IF(ISERROR(VLOOKUP(V92,勤務シフト一覧!$B$4:$D$106,3,FALSE)),\"\",VLOOKUP(V92,勤務シフト一覧!$B$4:$D$106,3,FALSE))","v":""},{"$f":"IF(ISERROR(VLOOKUP(W92,勤務シフト一覧!$B$4:$D$106,3,FALSE)),\"\",VLOOKUP(W92,勤務シフト一覧!$B$4:$D$106,3,FALSE))","v":""},{"$f":"IF(ISERROR(VLOOKUP(X92,勤務シフト一覧!$B$4:$D$106,3,FALSE)),\"\",VLOOKUP(X92,勤務シフト一覧!$B$4:$D$106,3,FALSE))","v":""},{"$f":"IF(ISERROR(VLOOKUP(Y92,勤務シフト一覧!$B$4:$D$106,3,FALSE)),\"\",VLOOKUP(Y92,勤務シフト一覧!$B$4:$D$106,3,FALSE))","v":""},{"$f":"IF(ISERROR(VLOOKUP(Z92,勤務シフト一覧!$B$4:$D$106,3,FALSE)),\"\",VLOOKUP(Z92,勤務シフト一覧!$B$4:$D$106,3,FALSE))","v":""},{"$f":"IF(ISERROR(VLOOKUP(AA92,勤務シフト一覧!$B$4:$D$106,3,FALSE)),\"\",VLOOKUP(AA92,勤務シフト一覧!$B$4:$D$106,3,FALSE))","v":""},{"$f":"IF(ISERROR(VLOOKUP(AB92,勤務シフト一覧!$B$4:$D$106,3,FALSE)),\"\",VLOOKUP(AB92,勤務シフト一覧!$B$4:$D$106,3,FALSE))","v":""},{"$f":"IF(ISERROR(VLOOKUP(AC92,勤務シフト一覧!$B$4:$D$106,3,FALSE)),\"\",VLOOKUP(AC92,勤務シフト一覧!$B$4:$D$106,3,FALSE))","v":""},{"$f":"IF(ISERROR(VLOOKUP(AD92,勤務シフト一覧!$B$4:$D$106,3,FALSE)),\"\",VLOOKUP(AD92,勤務シフト一覧!$B$4:$D$106,3,FALSE))","v":""},{"$f":"IF(ISERROR(VLOOKUP(AE92,勤務シフト一覧!$B$4:$D$106,3,FALSE)),\"\",VLOOKUP(AE92,勤務シフト一覧!$B$4:$D$106,3,FALSE))","v":""},{"$f":"IF(ISERROR(VLOOKUP(AF92,勤務シフト一覧!$B$4:$D$106,3,FALSE)),\"\",VLOOKUP(AF92,勤務シフト一覧!$B$4:$D$106,3,FALSE))","v":""},{"$f":"IF(ISERROR(VLOOKUP(AG92,勤務シフト一覧!$B$4:$D$106,3,FALSE)),\"\",VLOOKUP(AG92,勤務シフト一覧!$B$4:$D$106,3,FALSE))","v":""},{"$f":"IF(ISERROR(VLOOKUP(AH92,勤務シフト一覧!$B$4:$D$106,3,FALSE)),\"\",VLOOKUP(AH92,勤務シフト一覧!$B$4:$D$106,3,FALSE))","v":""},0,0,0,0,0,0,0,0,0,0,{"$f":"IF(LEN(職員一覧!D45)<>0,職員一覧!D45,\"\")","v":""},null,{"$f":"IF(勤務シフト一覧!$D93<>0,IF(勤務シフト一覧!$B93<> 0,勤務シフト一覧!$B93,\"\"),\"\")","v":""}]
[null,null,"実施",null,null,null,null,null,null,null,null,null,null,null,null,null,null,null,null,null,null,null,null,null,null,null,null,null,null,null,null,null,null,null,{"$f":"IF(ISERROR(VLOOKUP(D93,勤務シフト一覧!$B$4:$C$106,2,FALSE)),\"\",VLOOKUP(D93,勤務シフト一覧!$B$4:$C$106,2,FALSE))","v":""},{"$f":"IF(ISERROR(VLOOKUP(E93,勤務シフト一覧!$B$4:$C$106,2,FALSE)),\"\",VLOOKUP(E93,勤務シフト一覧!$B$4:$C$106,2,FALSE))","v":""},{"$f":"IF(ISERROR(VLOOKUP(F93,勤務シフト一覧!$B$4:$C$106,2,FALSE)),\"\",VLOOKUP(F93,勤務シフト一覧!$B$4:$C$106,2,FALSE))","v":""},{"$f":"IF(ISERROR(VLOOKUP(G93,勤務シフト一覧!$B$4:$C$106,2,FALSE)),\"\",VLOOKUP(G93,勤務シフト一覧!$B$4:$C$106,2,FALSE))","v":""},{"$f":"IF(ISERROR(VLOOKUP(H93,勤務シフト一覧!$B$4:$C$106,2,FALSE)),\"\",VLOOKUP(H93,勤務シフト一覧!$B$4:$C$106,2,FALSE))","v":""},{"$f":"IF(ISERROR(VLOOKUP(I93,勤務シフト一覧!$B$4:$C$106,2,FALSE)),\"\",VLOOKUP(I93,勤務シフト一覧!$B$4:$C$106,2,FALSE))","v":""},{"$f":"IF(ISERROR(VLOOKUP(J93,勤務シフト一覧!$B$4:$C$106,2,FALSE)),\"\",VLOOKUP(J93,勤務シフト一覧!$B$4:$C$106,2,FALSE))","v":""},{"$f":"IF(ISERROR(VLOOKUP(K93,勤務シフト一覧!$B$4:$C$106,2,FALSE)),\"\",VLOOKUP(K93,勤務シフト一覧!$B$4:$C$106,2,FALSE))","v":""},{"$f":"IF(ISERROR(VLOOKUP(L93,勤務シフト一覧!$B$4:$C$106,2,FALSE)),\"\",VLOOKUP(L93,勤務シフト一覧!$B$4:$C$106,2,FALSE))","v":""},{"$f":"IF(ISERROR(VLOOKUP(M93,勤務シフト一覧!$B$4:$C$106,2,FALSE)),\"\",VLOOKUP(M93,勤務シフト一覧!$B$4:$C$106,2,FALSE))","v":""},{"$f":"IF(ISERROR(VLOOKUP(N93,勤務シフト一覧!$B$4:$C$106,2,FALSE)),\"\",VLOOKUP(N93,勤務シフト一覧!$B$4:$C$106,2,FALSE))","v":""},{"$f":"IF(ISERROR(VLOOKUP(O93,勤務シフト一覧!$B$4:$C$106,2,FALSE)),\"\",VLOOKUP(O93,勤務シフト一覧!$B$4:$C$106,2,FALSE))","v":""},{"$f":"IF(ISERROR(VLOOKUP(P93,勤務シフト一覧!$B$4:$C$106,2,FALSE)),\"\",VLOOKUP(P93,勤務シフト一覧!$B$4:$C$106,2,FALSE))","v":""},{"$f":"IF(ISERROR(VLOOKUP(Q93,勤務シフト一覧!$B$4:$C$106,2,FALSE)),\"\",VLOOKUP(Q93,勤務シフト一覧!$B$4:$C$106,2,FALSE))","v":""},{"$f":"IF(ISERROR(VLOOKUP(R93,勤務シフト一覧!$B$4:$C$106,2,FALSE)),\"\",VLOOKUP(R93,勤務シフト一覧!$B$4:$C$106,2,FALSE))","v":""},{"$f":"IF(ISERROR(VLOOKUP(S93,勤務シフト一覧!$B$4:$C$106,2,FALSE)),\"\",VLOOKUP(S93,勤務シフト一覧!$B$4:$C$106,2,FALSE))","v":""},{"$f":"IF(ISERROR(VLOOKUP(T93,勤務シフト一覧!$B$4:$C$106,2,FALSE)),\"\",VLOOKUP(T93,勤務シフト一覧!$B$4:$C$106,2,FALSE))","v":""},{"$f":"IF(ISERROR(VLOOKUP(U93,勤務シフト一覧!$B$4:$C$106,2,FALSE)),\"\",VLOOKUP(U93,勤務シフト一覧!$B$4:$C$106,2,FALSE))","v":""},{"$f":"IF(ISERROR(VLOOKUP(V93,勤務シフト一覧!$B$4:$C$106,2,FALSE)),\"\",VLOOKUP(V93,勤務シフト一覧!$B$4:$C$106,2,FALSE))","v":""},{"$f":"IF(ISERROR(VLOOKUP(W93,勤務シフト一覧!$B$4:$C$106,2,FALSE)),\"\",VLOOKUP(W93,勤務シフト一覧!$B$4:$C$106,2,FALSE))","v":""},{"$f":"IF(ISERROR(VLOOKUP(X93,勤務シフト一覧!$B$4:$C$106,2,FALSE)),\"\",VLOOKUP(X93,勤務シフト一覧!$B$4:$C$106,2,FALSE))","v":""},{"$f":"IF(ISERROR(VLOOKUP(Y93,勤務シフト一覧!$B$4:$C$106,2,FALSE)),\"\",VLOOKUP(Y93,勤務シフト一覧!$B$4:$C$106,2,FALSE))","v":""},{"$f":"IF(ISERROR(VLOOKUP(Z93,勤務シフト一覧!$B$4:$C$106,2,FALSE)),\"\",VLOOKUP(Z93,勤務シフト一覧!$B$4:$C$106,2,FALSE))","v":""},{"$f":"IF(ISERROR(VLOOKUP(AA93,勤務シフト一覧!$B$4:$C$106,2,FALSE)),\"\",VLOOKUP(AA93,勤務シフト一覧!$B$4:$C$106,2,FALSE))","v":""},{"$f":"IF(ISERROR(VLOOKUP(AB93,勤務シフト一覧!$B$4:$C$106,2,FALSE)),\"\",VLOOKUP(AB93,勤務シフト一覧!$B$4:$C$106,2,FALSE))","v":""},{"$f":"IF(ISERROR(VLOOKUP(AC93,勤務シフト一覧!$B$4:$C$106,2,FALSE)),\"\",VLOOKUP(AC93,勤務シフト一覧!$B$4:$C$106,2,FALSE))","v":""},{"$f":"IF(ISERROR(VLOOKUP(AD93,勤務シフト一覧!$B$4:$C$106,2,FALSE)),\"\",VLOOKUP(AD93,勤務シフト一覧!$B$4:$C$106,2,FALSE))","v":""},{"$f":"IF(ISERROR(VLOOKUP(AE93,勤務シフト一覧!$B$4:$C$106,2,FALSE)),\"\",VLOOKUP(AE93,勤務シフト一覧!$B$4:$C$106,2,FALSE))","v":""},{"$f":"IF(ISERROR(VLOOKUP(AF93,勤務シフト一覧!$B$4:$C$106,2,FALSE)),\"\",VLOOKUP(AF93,勤務シフト一覧!$B$4:$C$106,2,FALSE))","v":""},{"$f":"IF(ISERROR(VLOOKUP(AG93,勤務シフト一覧!$B$4:$C$106,2,FALSE)),\"\",VLOOKUP(AG93,勤務シフト一覧!$B$4:$C$106,2,FALSE))","v":""},{"$f":"IF(ISERROR(VLOOKUP(AH93,勤務シフト一覧!$B$4:$C$106,2,FALSE)),\"\",VLOOKUP(AH93,勤務シフト一覧!$B$4:$C$106,2,FALSE))","v":""},null,{"$f":"IF(ISERROR(VLOOKUP(D93,勤務シフト一覧!$B$4:$D$106,3,FALSE)),\"\",VLOOKUP(D93,勤務シフト一覧!$B$4:$D$106,3,FALSE))","v":""},{"$f":"IF(ISERROR(VLOOKUP(E93,勤務シフト一覧!$B$4:$D$106,3,FALSE)),\"\",VLOOKUP(E93,勤務シフト一覧!$B$4:$D$106,3,FALSE))","v":""},{"$f":"IF(ISERROR(VLOOKUP(F93,勤務シフト一覧!$B$4:$D$106,3,FALSE)),\"\",VLOOKUP(F93,勤務シフト一覧!$B$4:$D$106,3,FALSE))","v":""},{"$f":"IF(ISERROR(VLOOKUP(G93,勤務シフト一覧!$B$4:$D$106,3,FALSE)),\"\",VLOOKUP(G93,勤務シフト一覧!$B$4:$D$106,3,FALSE))","v":""},{"$f":"IF(ISERROR(VLOOKUP(H93,勤務シフト一覧!$B$4:$D$106,3,FALSE)),\"\",VLOOKUP(H93,勤務シフト一覧!$B$4:$D$106,3,FALSE))","v":""},{"$f":"IF(ISERROR(VLOOKUP(I93,勤務シフト一覧!$B$4:$D$106,3,FALSE)),\"\",VLOOKUP(I93,勤務シフト一覧!$B$4:$D$106,3,FALSE))","v":""},{"$f":"IF(ISERROR(VLOOKUP(J93,勤務シフト一覧!$B$4:$D$106,3,FALSE)),\"\",VLOOKUP(J93,勤務シフト一覧!$B$4:$D$106,3,FALSE))","v":""},{"$f":"IF(ISERROR(VLOOKUP(K93,勤務シフト一覧!$B$4:$D$106,3,FALSE)),\"\",VLOOKUP(K93,勤務シフト一覧!$B$4:$D$106,3,FALSE))","v":""},{"$f":"IF(ISERROR(VLOOKUP(L93,勤務シフト一覧!$B$4:$D$106,3,FALSE)),\"\",VLOOKUP(L93,勤務シフト一覧!$B$4:$D$106,3,FALSE))","v":""},{"$f":"IF(ISERROR(VLOOKUP(M93,勤務シフト一覧!$B$4:$D$106,3,FALSE)),\"\",VLOOKUP(M93,勤務シフト一覧!$B$4:$D$106,3,FALSE))","v":""},{"$f":"IF(ISERROR(VLOOKUP(N93,勤務シフト一覧!$B$4:$D$106,3,FALSE)),\"\",VLOOKUP(N93,勤務シフト一覧!$B$4:$D$106,3,FALSE))","v":""},{"$f":"IF(ISERROR(VLOOKUP(O93,勤務シフト一覧!$B$4:$D$106,3,FALSE)),\"\",VLOOKUP(O93,勤務シフト一覧!$B$4:$D$106,3,FALSE))","v":""},{"$f":"IF(ISERROR(VLOOKUP(P93,勤務シフト一覧!$B$4:$D$106,3,FALSE)),\"\",VLOOKUP(P93,勤務シフト一覧!$B$4:$D$106,3,FALSE))","v":""},{"$f":"IF(ISERROR(VLOOKUP(Q93,勤務シフト一覧!$B$4:$D$106,3,FALSE)),\"\",VLOOKUP(Q93,勤務シフト一覧!$B$4:$D$106,3,FALSE))","v":""},{"$f":"IF(ISERROR(VLOOKUP(R93,勤務シフト一覧!$B$4:$D$106,3,FALSE)),\"\",VLOOKUP(R93,勤務シフト一覧!$B$4:$D$106,3,FALSE))","v":""},{"$f":"IF(ISERROR(VLOOKUP(S93,勤務シフト一覧!$B$4:$D$106,3,FALSE)),\"\",VLOOKUP(S93,勤務シフト一覧!$B$4:$D$106,3,FALSE))","v":""},{"$f":"IF(ISERROR(VLOOKUP(T93,勤務シフト一覧!$B$4:$D$106,3,FALSE)),\"\",VLOOKUP(T93,勤務シフト一覧!$B$4:$D$106,3,FALSE))","v":""},{"$f":"IF(ISERROR(VLOOKUP(U93,勤務シフト一覧!$B$4:$D$106,3,FALSE)),\"\",VLOOKUP(U93,勤務シフト一覧!$B$4:$D$106,3,FALSE))","v":""},{"$f":"IF(ISERROR(VLOOKUP(V93,勤務シフト一覧!$B$4:$D$106,3,FALSE)),\"\",VLOOKUP(V93,勤務シフト一覧!$B$4:$D$106,3,FALSE))","v":""},{"$f":"IF(ISERROR(VLOOKUP(W93,勤務シフト一覧!$B$4:$D$106,3,FALSE)),\"\",VLOOKUP(W93,勤務シフト一覧!$B$4:$D$106,3,FALSE))","v":""},{"$f":"IF(ISERROR(VLOOKUP(X93,勤務シフト一覧!$B$4:$D$106,3,FALSE)),\"\",VLOOKUP(X93,勤務シフト一覧!$B$4:$D$106,3,FALSE))","v":""},{"$f":"IF(ISERROR(VLOOKUP(Y93,勤務シフト一覧!$B$4:$D$106,3,FALSE)),\"\",VLOOKUP(Y93,勤務シフト一覧!$B$4:$D$106,3,FALSE))","v":""},{"$f":"IF(ISERROR(VLOOKUP(Z93,勤務シフト一覧!$B$4:$D$106,3,FALSE)),\"\",VLOOKUP(Z93,勤務シフト一覧!$B$4:$D$106,3,FALSE))","v":""},{"$f":"IF(ISERROR(VLOOKUP(AA93,勤務シフト一覧!$B$4:$D$106,3,FALSE)),\"\",VLOOKUP(AA93,勤務シフト一覧!$B$4:$D$106,3,FALSE))","v":""},{"$f":"IF(ISERROR(VLOOKUP(AB93,勤務シフト一覧!$B$4:$D$106,3,FALSE)),\"\",VLOOKUP(AB93,勤務シフト一覧!$B$4:$D$106,3,FALSE))","v":""},{"$f":"IF(ISERROR(VLOOKUP(AC93,勤務シフト一覧!$B$4:$D$106,3,FALSE)),\"\",VLOOKUP(AC93,勤務シフト一覧!$B$4:$D$106,3,FALSE))","v":""},{"$f":"IF(ISERROR(VLOOKUP(AD93,勤務シフト一覧!$B$4:$D$106,3,FALSE)),\"\",VLOOKUP(AD93,勤務シフト一覧!$B$4:$D$106,3,FALSE))","v":""},{"$f":"IF(ISERROR(VLOOKUP(AE93,勤務シフト一覧!$B$4:$D$106,3,FALSE)),\"\",VLOOKUP(AE93,勤務シフト一覧!$B$4:$D$106,3,FALSE))","v":""},{"$f":"IF(ISERROR(VLOOKUP(AF93,勤務シフト一覧!$B$4:$D$106,3,FALSE)),\"\",VLOOKUP(AF93,勤務シフト一覧!$B$4:$D$106,3,FALSE))","v":""},{"$f":"IF(ISERROR(VLOOKUP(AG93,勤務シフト一覧!$B$4:$D$106,3,FALSE)),\"\",VLOOKUP(AG93,勤務シフト一覧!$B$4:$D$106,3,FALSE))","v":""},{"$f":"IF(ISERROR(VLOOKUP(AH93,勤務シフト一覧!$B$4:$D$106,3,FALSE)),\"\",VLOOKUP(AH93,勤務シフト一覧!$B$4:$D$106,3,FALSE))","v":""},0,0,0,0,0,0,0,0,0,0,null,null,{"$f":"IF(勤務シフト一覧!$D94<>0,IF(勤務シフト一覧!$B94<> 0,勤務シフト一覧!$B94,\"\"),\"\")","v":""}]
[{"$f":"IF(LEN(職員一覧!B46)<>0,職員一覧!B46,\"\")","v":""},{"$f":"IF(LEN(職員一覧!C46)<>0,職員一覧!C46,\"\")","v":""},"予定",null,null,null,null,null,null,null,null,null,null,null,null,null,null,null,null,null,null,null,null,null,null,null,null,null,null,null,null,null,null,null,{"$f":"IF(ISERROR(VLOOKUP(D94,勤務シフト一覧!$B$4:$C$106,2,FALSE)),\"\",VLOOKUP(D94,勤務シフト一覧!$B$4:$C$106,2,FALSE))","v":""},{"$f":"IF(ISERROR(VLOOKUP(E94,勤務シフト一覧!$B$4:$C$106,2,FALSE)),\"\",VLOOKUP(E94,勤務シフト一覧!$B$4:$C$106,2,FALSE))","v":""},{"$f":"IF(ISERROR(VLOOKUP(F94,勤務シフト一覧!$B$4:$C$106,2,FALSE)),\"\",VLOOKUP(F94,勤務シフト一覧!$B$4:$C$106,2,FALSE))","v":""},{"$f":"IF(ISERROR(VLOOKUP(G94,勤務シフト一覧!$B$4:$C$106,2,FALSE)),\"\",VLOOKUP(G94,勤務シフト一覧!$B$4:$C$106,2,FALSE))","v":""},{"$f":"IF(ISERROR(VLOOKUP(H94,勤務シフト一覧!$B$4:$C$106,2,FALSE)),\"\",VLOOKUP(H94,勤務シフト一覧!$B$4:$C$106,2,FALSE))","v":""},{"$f":"IF(ISERROR(VLOOKUP(I94,勤務シフト一覧!$B$4:$C$106,2,FALSE)),\"\",VLOOKUP(I94,勤務シフト一覧!$B$4:$C$106,2,FALSE))","v":""},{"$f":"IF(ISERROR(VLOOKUP(J94,勤務シフト一覧!$B$4:$C$106,2,FALSE)),\"\",VLOOKUP(J94,勤務シフト一覧!$B$4:$C$106,2,FALSE))","v":""},{"$f":"IF(ISERROR(VLOOKUP(K94,勤務シフト一覧!$B$4:$C$106,2,FALSE)),\"\",VLOOKUP(K94,勤務シフト一覧!$B$4:$C$106,2,FALSE))","v":""},{"$f":"IF(ISERROR(VLOOKUP(L94,勤務シフト一覧!$B$4:$C$106,2,FALSE)),\"\",VLOOKUP(L94,勤務シフト一覧!$B$4:$C$106,2,FALSE))","v":""},{"$f":"IF(ISERROR(VLOOKUP(M94,勤務シフト一覧!$B$4:$C$106,2,FALSE)),\"\",VLOOKUP(M94,勤務シフト一覧!$B$4:$C$106,2,FALSE))","v":""},{"$f":"IF(ISERROR(VLOOKUP(N94,勤務シフト一覧!$B$4:$C$106,2,FALSE)),\"\",VLOOKUP(N94,勤務シフト一覧!$B$4:$C$106,2,FALSE))","v":""},{"$f":"IF(ISERROR(VLOOKUP(O94,勤務シフト一覧!$B$4:$C$106,2,FALSE)),\"\",VLOOKUP(O94,勤務シフト一覧!$B$4:$C$106,2,FALSE))","v":""},{"$f":"IF(ISERROR(VLOOKUP(P94,勤務シフト一覧!$B$4:$C$106,2,FALSE)),\"\",VLOOKUP(P94,勤務シフト一覧!$B$4:$C$106,2,FALSE))","v":""},{"$f":"IF(ISERROR(VLOOKUP(Q94,勤務シフト一覧!$B$4:$C$106,2,FALSE)),\"\",VLOOKUP(Q94,勤務シフト一覧!$B$4:$C$106,2,FALSE))","v":""},{"$f":"IF(ISERROR(VLOOKUP(R94,勤務シフト一覧!$B$4:$C$106,2,FALSE)),\"\",VLOOKUP(R94,勤務シフト一覧!$B$4:$C$106,2,FALSE))","v":""},{"$f":"IF(ISERROR(VLOOKUP(S94,勤務シフト一覧!$B$4:$C$106,2,FALSE)),\"\",VLOOKUP(S94,勤務シフト一覧!$B$4:$C$106,2,FALSE))","v":""},{"$f":"IF(ISERROR(VLOOKUP(T94,勤務シフト一覧!$B$4:$C$106,2,FALSE)),\"\",VLOOKUP(T94,勤務シフト一覧!$B$4:$C$106,2,FALSE))","v":""},{"$f":"IF(ISERROR(VLOOKUP(U94,勤務シフト一覧!$B$4:$C$106,2,FALSE)),\"\",VLOOKUP(U94,勤務シフト一覧!$B$4:$C$106,2,FALSE))","v":""},{"$f":"IF(ISERROR(VLOOKUP(V94,勤務シフト一覧!$B$4:$C$106,2,FALSE)),\"\",VLOOKUP(V94,勤務シフト一覧!$B$4:$C$106,2,FALSE))","v":""},{"$f":"IF(ISERROR(VLOOKUP(W94,勤務シフト一覧!$B$4:$C$106,2,FALSE)),\"\",VLOOKUP(W94,勤務シフト一覧!$B$4:$C$106,2,FALSE))","v":""},{"$f":"IF(ISERROR(VLOOKUP(X94,勤務シフト一覧!$B$4:$C$106,2,FALSE)),\"\",VLOOKUP(X94,勤務シフト一覧!$B$4:$C$106,2,FALSE))","v":""},{"$f":"IF(ISERROR(VLOOKUP(Y94,勤務シフト一覧!$B$4:$C$106,2,FALSE)),\"\",VLOOKUP(Y94,勤務シフト一覧!$B$4:$C$106,2,FALSE))","v":""},{"$f":"IF(ISERROR(VLOOKUP(Z94,勤務シフト一覧!$B$4:$C$106,2,FALSE)),\"\",VLOOKUP(Z94,勤務シフト一覧!$B$4:$C$106,2,FALSE))","v":""},{"$f":"IF(ISERROR(VLOOKUP(AA94,勤務シフト一覧!$B$4:$C$106,2,FALSE)),\"\",VLOOKUP(AA94,勤務シフト一覧!$B$4:$C$106,2,FALSE))","v":""},{"$f":"IF(ISERROR(VLOOKUP(AB94,勤務シフト一覧!$B$4:$C$106,2,FALSE)),\"\",VLOOKUP(AB94,勤務シフト一覧!$B$4:$C$106,2,FALSE))","v":""},{"$f":"IF(ISERROR(VLOOKUP(AC94,勤務シフト一覧!$B$4:$C$106,2,FALSE)),\"\",VLOOKUP(AC94,勤務シフト一覧!$B$4:$C$106,2,FALSE))","v":""},{"$f":"IF(ISERROR(VLOOKUP(AD94,勤務シフト一覧!$B$4:$C$106,2,FALSE)),\"\",VLOOKUP(AD94,勤務シフト一覧!$B$4:$C$106,2,FALSE))","v":""},{"$f":"IF(ISERROR(VLOOKUP(AE94,勤務シフト一覧!$B$4:$C$106,2,FALSE)),\"\",VLOOKUP(AE94,勤務シフト一覧!$B$4:$C$106,2,FALSE))","v":""},{"$f":"IF(ISERROR(VLOOKUP(AF94,勤務シフト一覧!$B$4:$C$106,2,FALSE)),\"\",VLOOKUP(AF94,勤務シフト一覧!$B$4:$C$106,2,FALSE))","v":""},{"$f":"IF(ISERROR(VLOOKUP(AG94,勤務シフト一覧!$B$4:$C$106,2,FALSE)),\"\",VLOOKUP(AG94,勤務シフト一覧!$B$4:$C$106,2,FALSE))","v":""},{"$f":"IF(ISERROR(VLOOKUP(AH94,勤務シフト一覧!$B$4:$C$106,2,FALSE)),\"\",VLOOKUP(AH94,勤務シフト一覧!$B$4:$C$106,2,FALSE))","v":""},null,{"$f":"IF(ISERROR(VLOOKUP(D94,勤務シフト一覧!$B$4:$D$106,3,FALSE)),\"\",VLOOKUP(D94,勤務シフト一覧!$B$4:$D$106,3,FALSE))","v":""},{"$f":"IF(ISERROR(VLOOKUP(E94,勤務シフト一覧!$B$4:$D$106,3,FALSE)),\"\",VLOOKUP(E94,勤務シフト一覧!$B$4:$D$106,3,FALSE))","v":""},{"$f":"IF(ISERROR(VLOOKUP(F94,勤務シフト一覧!$B$4:$D$106,3,FALSE)),\"\",VLOOKUP(F94,勤務シフト一覧!$B$4:$D$106,3,FALSE))","v":""},{"$f":"IF(ISERROR(VLOOKUP(G94,勤務シフト一覧!$B$4:$D$106,3,FALSE)),\"\",VLOOKUP(G94,勤務シフト一覧!$B$4:$D$106,3,FALSE))","v":""},{"$f":"IF(ISERROR(VLOOKUP(H94,勤務シフト一覧!$B$4:$D$106,3,FALSE)),\"\",VLOOKUP(H94,勤務シフト一覧!$B$4:$D$106,3,FALSE))","v":""},{"$f":"IF(ISERROR(VLOOKUP(I94,勤務シフト一覧!$B$4:$D$106,3,FALSE)),\"\",VLOOKUP(I94,勤務シフト一覧!$B$4:$D$106,3,FALSE))","v":""},{"$f":"IF(ISERROR(VLOOKUP(J94,勤務シフト一覧!$B$4:$D$106,3,FALSE)),\"\",VLOOKUP(J94,勤務シフト一覧!$B$4:$D$106,3,FALSE))","v":""},{"$f":"IF(ISERROR(VLOOKUP(K94,勤務シフト一覧!$B$4:$D$106,3,FALSE)),\"\",VLOOKUP(K94,勤務シフト一覧!$B$4:$D$106,3,FALSE))","v":""},{"$f":"IF(ISERROR(VLOOKUP(L94,勤務シフト一覧!$B$4:$D$106,3,FALSE)),\"\",VLOOKUP(L94,勤務シフト一覧!$B$4:$D$106,3,FALSE))","v":""},{"$f":"IF(ISERROR(VLOOKUP(M94,勤務シフト一覧!$B$4:$D$106,3,FALSE)),\"\",VLOOKUP(M94,勤務シフト一覧!$B$4:$D$106,3,FALSE))","v":""},{"$f":"IF(ISERROR(VLOOKUP(N94,勤務シフト一覧!$B$4:$D$106,3,FALSE)),\"\",VLOOKUP(N94,勤務シフト一覧!$B$4:$D$106,3,FALSE))","v":""},{"$f":"IF(ISERROR(VLOOKUP(O94,勤務シフト一覧!$B$4:$D$106,3,FALSE)),\"\",VLOOKUP(O94,勤務シフト一覧!$B$4:$D$106,3,FALSE))","v":""},{"$f":"IF(ISERROR(VLOOKUP(P94,勤務シフト一覧!$B$4:$D$106,3,FALSE)),\"\",VLOOKUP(P94,勤務シフト一覧!$B$4:$D$106,3,FALSE))","v":""},{"$f":"IF(ISERROR(VLOOKUP(Q94,勤務シフト一覧!$B$4:$D$106,3,FALSE)),\"\",VLOOKUP(Q94,勤務シフト一覧!$B$4:$D$106,3,FALSE))","v":""},{"$f":"IF(ISERROR(VLOOKUP(R94,勤務シフト一覧!$B$4:$D$106,3,FALSE)),\"\",VLOOKUP(R94,勤務シフト一覧!$B$4:$D$106,3,FALSE))","v":""},{"$f":"IF(ISERROR(VLOOKUP(S94,勤務シフト一覧!$B$4:$D$106,3,FALSE)),\"\",VLOOKUP(S94,勤務シフト一覧!$B$4:$D$106,3,FALSE))","v":""},{"$f":"IF(ISERROR(VLOOKUP(T94,勤務シフト一覧!$B$4:$D$106,3,FALSE)),\"\",VLOOKUP(T94,勤務シフト一覧!$B$4:$D$106,3,FALSE))","v":""},{"$f":"IF(ISERROR(VLOOKUP(U94,勤務シフト一覧!$B$4:$D$106,3,FALSE)),\"\",VLOOKUP(U94,勤務シフト一覧!$B$4:$D$106,3,FALSE))","v":""},{"$f":"IF(ISERROR(VLOOKUP(V94,勤務シフト一覧!$B$4:$D$106,3,FALSE)),\"\",VLOOKUP(V94,勤務シフト一覧!$B$4:$D$106,3,FALSE))","v":""},{"$f":"IF(ISERROR(VLOOKUP(W94,勤務シフト一覧!$B$4:$D$106,3,FALSE)),\"\",VLOOKUP(W94,勤務シフト一覧!$B$4:$D$106,3,FALSE))","v":""},{"$f":"IF(ISERROR(VLOOKUP(X94,勤務シフト一覧!$B$4:$D$106,3,FALSE)),\"\",VLOOKUP(X94,勤務シフト一覧!$B$4:$D$106,3,FALSE))","v":""},{"$f":"IF(ISERROR(VLOOKUP(Y94,勤務シフト一覧!$B$4:$D$106,3,FALSE)),\"\",VLOOKUP(Y94,勤務シフト一覧!$B$4:$D$106,3,FALSE))","v":""},{"$f":"IF(ISERROR(VLOOKUP(Z94,勤務シフト一覧!$B$4:$D$106,3,FALSE)),\"\",VLOOKUP(Z94,勤務シフト一覧!$B$4:$D$106,3,FALSE))","v":""},{"$f":"IF(ISERROR(VLOOKUP(AA94,勤務シフト一覧!$B$4:$D$106,3,FALSE)),\"\",VLOOKUP(AA94,勤務シフト一覧!$B$4:$D$106,3,FALSE))","v":""},{"$f":"IF(ISERROR(VLOOKUP(AB94,勤務シフト一覧!$B$4:$D$106,3,FALSE)),\"\",VLOOKUP(AB94,勤務シフト一覧!$B$4:$D$106,3,FALSE))","v":""},{"$f":"IF(ISERROR(VLOOKUP(AC94,勤務シフト一覧!$B$4:$D$106,3,FALSE)),\"\",VLOOKUP(AC94,勤務シフト一覧!$B$4:$D$106,3,FALSE))","v":""},{"$f":"IF(ISERROR(VLOOKUP(AD94,勤務シフト一覧!$B$4:$D$106,3,FALSE)),\"\",VLOOKUP(AD94,勤務シフト一覧!$B$4:$D$106,3,FALSE))","v":""},{"$f":"IF(ISERROR(VLOOKUP(AE94,勤務シフト一覧!$B$4:$D$106,3,FALSE)),\"\",VLOOKUP(AE94,勤務シフト一覧!$B$4:$D$106,3,FALSE))","v":""},{"$f":"IF(ISERROR(VLOOKUP(AF94,勤務シフト一覧!$B$4:$D$106,3,FALSE)),\"\",VLOOKUP(AF94,勤務シフト一覧!$B$4:$D$106,3,FALSE))","v":""},{"$f":"IF(ISERROR(VLOOKUP(AG94,勤務シフト一覧!$B$4:$D$106,3,FALSE)),\"\",VLOOKUP(AG94,勤務シフト一覧!$B$4:$D$106,3,FALSE))","v":""},{"$f":"IF(ISERROR(VLOOKUP(AH94,勤務シフト一覧!$B$4:$D$106,3,FALSE)),\"\",VLOOKUP(AH94,勤務シフト一覧!$B$4:$D$106,3,FALSE))","v":""},0,0,0,0,0,0,0,0,0,0,{"$f":"IF(LEN(職員一覧!D46)<>0,職員一覧!D46,\"\")","v":""},null,{"$f":"IF(勤務シフト一覧!$D95<>0,IF(勤務シフト一覧!$B95<> 0,勤務シフト一覧!$B95,\"\"),\"\")","v":""}]
[null,null,"実施",null,null,null,null,null,null,null,null,null,null,null,null,null,null,null,null,null,null,null,null,null,null,null,null,null,null,null,null,null,null,null,{"$f":"IF(ISERROR(VLOOKUP(D95,勤務シフト一覧!$B$4:$C$106,2,FALSE)),\"\",VLOOKUP(D95,勤務シフト一覧!$B$4:$C$106,2,FALSE))","v":""},{"$f":"IF(ISERROR(VLOOKUP(E95,勤務シフト一覧!$B$4:$C$106,2,FALSE)),\"\",VLOOKUP(E95,勤務シフト一覧!$B$4:$C$106,2,FALSE))","v":""},{"$f":"IF(ISERROR(VLOOKUP(F95,勤務シフト一覧!$B$4:$C$106,2,FALSE)),\"\",VLOOKUP(F95,勤務シフト一覧!$B$4:$C$106,2,FALSE))","v":""},{"$f":"IF(ISERROR(VLOOKUP(G95,勤務シフト一覧!$B$4:$C$106,2,FALSE)),\"\",VLOOKUP(G95,勤務シフト一覧!$B$4:$C$106,2,FALSE))","v":""},{"$f":"IF(ISERROR(VLOOKUP(H95,勤務シフト一覧!$B$4:$C$106,2,FALSE)),\"\",VLOOKUP(H95,勤務シフト一覧!$B$4:$C$106,2,FALSE))","v":""},{"$f":"IF(ISERROR(VLOOKUP(I95,勤務シフト一覧!$B$4:$C$106,2,FALSE)),\"\",VLOOKUP(I95,勤務シフト一覧!$B$4:$C$106,2,FALSE))","v":""},{"$f":"IF(ISERROR(VLOOKUP(J95,勤務シフト一覧!$B$4:$C$106,2,FALSE)),\"\",VLOOKUP(J95,勤務シフト一覧!$B$4:$C$106,2,FALSE))","v":""},{"$f":"IF(ISERROR(VLOOKUP(K95,勤務シフト一覧!$B$4:$C$106,2,FALSE)),\"\",VLOOKUP(K95,勤務シフト一覧!$B$4:$C$106,2,FALSE))","v":""},{"$f":"IF(ISERROR(VLOOKUP(L95,勤務シフト一覧!$B$4:$C$106,2,FALSE)),\"\",VLOOKUP(L95,勤務シフト一覧!$B$4:$C$106,2,FALSE))","v":""},{"$f":"IF(ISERROR(VLOOKUP(M95,勤務シフト一覧!$B$4:$C$106,2,FALSE)),\"\",VLOOKUP(M95,勤務シフト一覧!$B$4:$C$106,2,FALSE))","v":""},{"$f":"IF(ISERROR(VLOOKUP(N95,勤務シフト一覧!$B$4:$C$106,2,FALSE)),\"\",VLOOKUP(N95,勤務シフト一覧!$B$4:$C$106,2,FALSE))","v":""},{"$f":"IF(ISERROR(VLOOKUP(O95,勤務シフト一覧!$B$4:$C$106,2,FALSE)),\"\",VLOOKUP(O95,勤務シフト一覧!$B$4:$C$106,2,FALSE))","v":""},{"$f":"IF(ISERROR(VLOOKUP(P95,勤務シフト一覧!$B$4:$C$106,2,FALSE)),\"\",VLOOKUP(P95,勤務シフト一覧!$B$4:$C$106,2,FALSE))","v":""},{"$f":"IF(ISERROR(VLOOKUP(Q95,勤務シフト一覧!$B$4:$C$106,2,FALSE)),\"\",VLOOKUP(Q95,勤務シフト一覧!$B$4:$C$106,2,FALSE))","v":""},{"$f":"IF(ISERROR(VLOOKUP(R95,勤務シフト一覧!$B$4:$C$106,2,FALSE)),\"\",VLOOKUP(R95,勤務シフト一覧!$B$4:$C$106,2,FALSE))","v":""},{"$f":"IF(ISERROR(VLOOKUP(S95,勤務シフト一覧!$B$4:$C$106,2,FALSE)),\"\",VLOOKUP(S95,勤務シフト一覧!$B$4:$C$106,2,FALSE))","v":""},{"$f":"IF(ISERROR(VLOOKUP(T95,勤務シフト一覧!$B$4:$C$106,2,FALSE)),\"\",VLOOKUP(T95,勤務シフト一覧!$B$4:$C$106,2,FALSE))","v":""},{"$f":"IF(ISERROR(VLOOKUP(U95,勤務シフト一覧!$B$4:$C$106,2,FALSE)),\"\",VLOOKUP(U95,勤務シフト一覧!$B$4:$C$106,2,FALSE))","v":""},{"$f":"IF(ISERROR(VLOOKUP(V95,勤務シフト一覧!$B$4:$C$106,2,FALSE)),\"\",VLOOKUP(V95,勤務シフト一覧!$B$4:$C$106,2,FALSE))","v":""},{"$f":"IF(ISERROR(VLOOKUP(W95,勤務シフト一覧!$B$4:$C$106,2,FALSE)),\"\",VLOOKUP(W95,勤務シフト一覧!$B$4:$C$106,2,FALSE))","v":""},{"$f":"IF(ISERROR(VLOOKUP(X95,勤務シフト一覧!$B$4:$C$106,2,FALSE)),\"\",VLOOKUP(X95,勤務シフト一覧!$B$4:$C$106,2,FALSE))","v":""},{"$f":"IF(ISERROR(VLOOKUP(Y95,勤務シフト一覧!$B$4:$C$106,2,FALSE)),\"\",VLOOKUP(Y95,勤務シフト一覧!$B$4:$C$106,2,FALSE))","v":""},{"$f":"IF(ISERROR(VLOOKUP(Z95,勤務シフト一覧!$B$4:$C$106,2,FALSE)),\"\",VLOOKUP(Z95,勤務シフト一覧!$B$4:$C$106,2,FALSE))","v":""},{"$f":"IF(ISERROR(VLOOKUP(AA95,勤務シフト一覧!$B$4:$C$106,2,FALSE)),\"\",VLOOKUP(AA95,勤務シフト一覧!$B$4:$C$106,2,FALSE))","v":""},{"$f":"IF(ISERROR(VLOOKUP(AB95,勤務シフト一覧!$B$4:$C$106,2,FALSE)),\"\",VLOOKUP(AB95,勤務シフト一覧!$B$4:$C$106,2,FALSE))","v":""},{"$f":"IF(ISERROR(VLOOKUP(AC95,勤務シフト一覧!$B$4:$C$106,2,FALSE)),\"\",VLOOKUP(AC95,勤務シフト一覧!$B$4:$C$106,2,FALSE))","v":""},{"$f":"IF(ISERROR(VLOOKUP(AD95,勤務シフト一覧!$B$4:$C$106,2,FALSE)),\"\",VLOOKUP(AD95,勤務シフト一覧!$B$4:$C$106,2,FALSE))","v":""},{"$f":"IF(ISERROR(VLOOKUP(AE95,勤務シフト一覧!$B$4:$C$106,2,FALSE)),\"\",VLOOKUP(AE95,勤務シフト一覧!$B$4:$C$106,2,FALSE))","v":""},{"$f":"IF(ISERROR(VLOOKUP(AF95,勤務シフト一覧!$B$4:$C$106,2,FALSE)),\"\",VLOOKUP(AF95,勤務シフト一覧!$B$4:$C$106,2,FALSE))","v":""},{"$f":"IF(ISERROR(VLOOKUP(AG95,勤務シフト一覧!$B$4:$C$106,2,FALSE)),\"\",VLOOKUP(AG95,勤務シフト一覧!$B$4:$C$106,2,FALSE))","v":""},{"$f":"IF(ISERROR(VLOOKUP(AH95,勤務シフト一覧!$B$4:$C$106,2,FALSE)),\"\",VLOOKUP(AH95,勤務シフト一覧!$B$4:$C$106,2,FALSE))","v":""},null,{"$f":"IF(ISERROR(VLOOKUP(D95,勤務シフト一覧!$B$4:$D$106,3,FALSE)),\"\",VLOOKUP(D95,勤務シフト一覧!$B$4:$D$106,3,FALSE))","v":""},{"$f":"IF(ISERROR(VLOOKUP(E95,勤務シフト一覧!$B$4:$D$106,3,FALSE)),\"\",VLOOKUP(E95,勤務シフト一覧!$B$4:$D$106,3,FALSE))","v":""},{"$f":"IF(ISERROR(VLOOKUP(F95,勤務シフト一覧!$B$4:$D$106,3,FALSE)),\"\",VLOOKUP(F95,勤務シフト一覧!$B$4:$D$106,3,FALSE))","v":""},{"$f":"IF(ISERROR(VLOOKUP(G95,勤務シフト一覧!$B$4:$D$106,3,FALSE)),\"\",VLOOKUP(G95,勤務シフト一覧!$B$4:$D$106,3,FALSE))","v":""},{"$f":"IF(ISERROR(VLOOKUP(H95,勤務シフト一覧!$B$4:$D$106,3,FALSE)),\"\",VLOOKUP(H95,勤務シフト一覧!$B$4:$D$106,3,FALSE))","v":""},{"$f":"IF(ISERROR(VLOOKUP(I95,勤務シフト一覧!$B$4:$D$106,3,FALSE)),\"\",VLOOKUP(I95,勤務シフト一覧!$B$4:$D$106,3,FALSE))","v":""},{"$f":"IF(ISERROR(VLOOKUP(J95,勤務シフト一覧!$B$4:$D$106,3,FALSE)),\"\",VLOOKUP(J95,勤務シフト一覧!$B$4:$D$106,3,FALSE))","v":""},{"$f":"IF(ISERROR(VLOOKUP(K95,勤務シフト一覧!$B$4:$D$106,3,FALSE)),\"\",VLOOKUP(K95,勤務シフト一覧!$B$4:$D$106,3,FALSE))","v":""},{"$f":"IF(ISERROR(VLOOKUP(L95,勤務シフト一覧!$B$4:$D$106,3,FALSE)),\"\",VLOOKUP(L95,勤務シフト一覧!$B$4:$D$106,3,FALSE))","v":""},{"$f":"IF(ISERROR(VLOOKUP(M95,勤務シフト一覧!$B$4:$D$106,3,FALSE)),\"\",VLOOKUP(M95,勤務シフト一覧!$B$4:$D$106,3,FALSE))","v":""},{"$f":"IF(ISERROR(VLOOKUP(N95,勤務シフト一覧!$B$4:$D$106,3,FALSE)),\"\",VLOOKUP(N95,勤務シフト一覧!$B$4:$D$106,3,FALSE))","v":""},{"$f":"IF(ISERROR(VLOOKUP(O95,勤務シフト一覧!$B$4:$D$106,3,FALSE)),\"\",VLOOKUP(O95,勤務シフト一覧!$B$4:$D$106,3,FALSE))","v":""},{"$f":"IF(ISERROR(VLOOKUP(P95,勤務シフト一覧!$B$4:$D$106,3,FALSE)),\"\",VLOOKUP(P95,勤務シフト一覧!$B$4:$D$106,3,FALSE))","v":""},{"$f":"IF(ISERROR(VLOOKUP(Q95,勤務シフト一覧!$B$4:$D$106,3,FALSE)),\"\",VLOOKUP(Q95,勤務シフト一覧!$B$4:$D$106,3,FALSE))","v":""},{"$f":"IF(ISERROR(VLOOKUP(R95,勤務シフト一覧!$B$4:$D$106,3,FALSE)),\"\",VLOOKUP(R95,勤務シフト一覧!$B$4:$D$106,3,FALSE))","v":""},{"$f":"IF(ISERROR(VLOOKUP(S95,勤務シフト一覧!$B$4:$D$106,3,FALSE)),\"\",VLOOKUP(S95,勤務シフト一覧!$B$4:$D$106,3,FALSE))","v":""},{"$f":"IF(ISERROR(VLOOKUP(T95,勤務シフト一覧!$B$4:$D$106,3,FALSE)),\"\",VLOOKUP(T95,勤務シフト一覧!$B$4:$D$106,3,FALSE))","v":""},{"$f":"IF(ISERROR(VLOOKUP(U95,勤務シフト一覧!$B$4:$D$106,3,FALSE)),\"\",VLOOKUP(U95,勤務シフト一覧!$B$4:$D$106,3,FALSE))","v":""},{"$f":"IF(ISERROR(VLOOKUP(V95,勤務シフト一覧!$B$4:$D$106,3,FALSE)),\"\",VLOOKUP(V95,勤務シフト一覧!$B$4:$D$106,3,FALSE))","v":""},{"$f":"IF(ISERROR(VLOOKUP(W95,勤務シフト一覧!$B$4:$D$106,3,FALSE)),\"\",VLOOKUP(W95,勤務シフト一覧!$B$4:$D$106,3,FALSE))","v":""},{"$f":"IF(ISERROR(VLOOKUP(X95,勤務シフト一覧!$B$4:$D$106,3,FALSE)),\"\",VLOOKUP(X95,勤務シフト一覧!$B$4:$D$106,3,FALSE))","v":""},{"$f":"IF(ISERROR(VLOOKUP(Y95,勤務シフト一覧!$B$4:$D$106,3,FALSE)),\"\",VLOOKUP(Y95,勤務シフト一覧!$B$4:$D$106,3,FALSE))","v":""},{"$f":"IF(ISERROR(VLOOKUP(Z95,勤務シフト一覧!$B$4:$D$106,3,FALSE)),\"\",VLOOKUP(Z95,勤務シフト一覧!$B$4:$D$106,3,FALSE))","v":""},{"$f":"IF(ISERROR(VLOOKUP(AA95,勤務シフト一覧!$B$4:$D$106,3,FALSE)),\"\",VLOOKUP(AA95,勤務シフト一覧!$B$4:$D$106,3,FALSE))","v":""},{"$f":"IF(ISERROR(VLOOKUP(AB95,勤務シフト一覧!$B$4:$D$106,3,FALSE)),\"\",VLOOKUP(AB95,勤務シフト一覧!$B$4:$D$106,3,FALSE))","v":""},{"$f":"IF(ISERROR(VLOOKUP(AC95,勤務シフト一覧!$B$4:$D$106,3,FALSE)),\"\",VLOOKUP(AC95,勤務シフト一覧!$B$4:$D$106,3,FALSE))","v":""},{"$f":"IF(ISERROR(VLOOKUP(AD95,勤務シフト一覧!$B$4:$D$106,3,FALSE)),\"\",VLOOKUP(AD95,勤務シフト一覧!$B$4:$D$106,3,FALSE))","v":""},{"$f":"IF(ISERROR(VLOOKUP(AE95,勤務シフト一覧!$B$4:$D$106,3,FALSE)),\"\",VLOOKUP(AE95,勤務シフト一覧!$B$4:$D$106,3,FALSE))","v":""},{"$f":"IF(ISERROR(VLOOKUP(AF95,勤務シフト一覧!$B$4:$D$106,3,FALSE)),\"\",VLOOKUP(AF95,勤務シフト一覧!$B$4:$D$106,3,FALSE))","v":""},{"$f":"IF(ISERROR(VLOOKUP(AG95,勤務シフト一覧!$B$4:$D$106,3,FALSE)),\"\",VLOOKUP(AG95,勤務シフト一覧!$B$4:$D$106,3,FALSE))","v":""},{"$f":"IF(ISERROR(VLOOKUP(AH95,勤務シフト一覧!$B$4:$D$106,3,FALSE)),\"\",VLOOKUP(AH95,勤務シフト一覧!$B$4:$D$106,3,FALSE))","v":""},0,0,0,0,0,0,0,0,0,0,null,null,{"$f":"IF(勤務シフト一覧!$D96<>0,IF(勤務シフト一覧!$B96<> 0,勤務シフト一覧!$B96,\"\"),\"\")","v":""}]
[{"$f":"IF(LEN(職員一覧!B47)<>0,職員一覧!B47,\"\")","v":""},{"$f":"IF(LEN(職員一覧!C47)<>0,職員一覧!C47,\"\")","v":""},"予定",null,null,null,null,null,null,null,null,null,null,null,null,null,null,null,null,null,null,null,null,null,null,null,null,null,null,null,null,null,null,null,{"$f":"IF(ISERROR(VLOOKUP(D96,勤務シフト一覧!$B$4:$C$106,2,FALSE)),\"\",VLOOKUP(D96,勤務シフト一覧!$B$4:$C$106,2,FALSE))","v":""},{"$f":"IF(ISERROR(VLOOKUP(E96,勤務シフト一覧!$B$4:$C$106,2,FALSE)),\"\",VLOOKUP(E96,勤務シフト一覧!$B$4:$C$106,2,FALSE))","v":""},{"$f":"IF(ISERROR(VLOOKUP(F96,勤務シフト一覧!$B$4:$C$106,2,FALSE)),\"\",VLOOKUP(F96,勤務シフト一覧!$B$4:$C$106,2,FALSE))","v":""},{"$f":"IF(ISERROR(VLOOKUP(G96,勤務シフト一覧!$B$4:$C$106,2,FALSE)),\"\",VLOOKUP(G96,勤務シフト一覧!$B$4:$C$106,2,FALSE))","v":""},{"$f":"IF(ISERROR(VLOOKUP(H96,勤務シフト一覧!$B$4:$C$106,2,FALSE)),\"\",VLOOKUP(H96,勤務シフト一覧!$B$4:$C$106,2,FALSE))","v":""},{"$f":"IF(ISERROR(VLOOKUP(I96,勤務シフト一覧!$B$4:$C$106,2,FALSE)),\"\",VLOOKUP(I96,勤務シフト一覧!$B$4:$C$106,2,FALSE))","v":""},{"$f":"IF(ISERROR(VLOOKUP(J96,勤務シフト一覧!$B$4:$C$106,2,FALSE)),\"\",VLOOKUP(J96,勤務シフト一覧!$B$4:$C$106,2,FALSE))","v":""},{"$f":"IF(ISERROR(VLOOKUP(K96,勤務シフト一覧!$B$4:$C$106,2,FALSE)),\"\",VLOOKUP(K96,勤務シフト一覧!$B$4:$C$106,2,FALSE))","v":""},{"$f":"IF(ISERROR(VLOOKUP(L96,勤務シフト一覧!$B$4:$C$106,2,FALSE)),\"\",VLOOKUP(L96,勤務シフト一覧!$B$4:$C$106,2,FALSE))","v":""},{"$f":"IF(ISERROR(VLOOKUP(M96,勤務シフト一覧!$B$4:$C$106,2,FALSE)),\"\",VLOOKUP(M96,勤務シフト一覧!$B$4:$C$106,2,FALSE))","v":""},{"$f":"IF(ISERROR(VLOOKUP(N96,勤務シフト一覧!$B$4:$C$106,2,FALSE)),\"\",VLOOKUP(N96,勤務シフト一覧!$B$4:$C$106,2,FALSE))","v":""},{"$f":"IF(ISERROR(VLOOKUP(O96,勤務シフト一覧!$B$4:$C$106,2,FALSE)),\"\",VLOOKUP(O96,勤務シフト一覧!$B$4:$C$106,2,FALSE))","v":""},{"$f":"IF(ISERROR(VLOOKUP(P96,勤務シフト一覧!$B$4:$C$106,2,FALSE)),\"\",VLOOKUP(P96,勤務シフト一覧!$B$4:$C$106,2,FALSE))","v":""},{"$f":"IF(ISERROR(VLOOKUP(Q96,勤務シフト一覧!$B$4:$C$106,2,FALSE)),\"\",VLOOKUP(Q96,勤務シフト一覧!$B$4:$C$106,2,FALSE))","v":""},{"$f":"IF(ISERROR(VLOOKUP(R96,勤務シフト一覧!$B$4:$C$106,2,FALSE)),\"\",VLOOKUP(R96,勤務シフト一覧!$B$4:$C$106,2,FALSE))","v":""},{"$f":"IF(ISERROR(VLOOKUP(S96,勤務シフト一覧!$B$4:$C$106,2,FALSE)),\"\",VLOOKUP(S96,勤務シフト一覧!$B$4:$C$106,2,FALSE))","v":""},{"$f":"IF(ISERROR(VLOOKUP(T96,勤務シフト一覧!$B$4:$C$106,2,FALSE)),\"\",VLOOKUP(T96,勤務シフト一覧!$B$4:$C$106,2,FALSE))","v":""},{"$f":"IF(ISERROR(VLOOKUP(U96,勤務シフト一覧!$B$4:$C$106,2,FALSE)),\"\",VLOOKUP(U96,勤務シフト一覧!$B$4:$C$106,2,FALSE))","v":""},{"$f":"IF(ISERROR(VLOOKUP(V96,勤務シフト一覧!$B$4:$C$106,2,FALSE)),\"\",VLOOKUP(V96,勤務シフト一覧!$B$4:$C$106,2,FALSE))","v":""},{"$f":"IF(ISERROR(VLOOKUP(W96,勤務シフト一覧!$B$4:$C$106,2,FALSE)),\"\",VLOOKUP(W96,勤務シフト一覧!$B$4:$C$106,2,FALSE))","v":""},{"$f":"IF(ISERROR(VLOOKUP(X96,勤務シフト一覧!$B$4:$C$106,2,FALSE)),\"\",VLOOKUP(X96,勤務シフト一覧!$B$4:$C$106,2,FALSE))","v":""},{"$f":"IF(ISERROR(VLOOKUP(Y96,勤務シフト一覧!$B$4:$C$106,2,FALSE)),\"\",VLOOKUP(Y96,勤務シフト一覧!$B$4:$C$106,2,FALSE))","v":""},{"$f":"IF(ISERROR(VLOOKUP(Z96,勤務シフト一覧!$B$4:$C$106,2,FALSE)),\"\",VLOOKUP(Z96,勤務シフト一覧!$B$4:$C$106,2,FALSE))","v":""},{"$f":"IF(ISERROR(VLOOKUP(AA96,勤務シフト一覧!$B$4:$C$106,2,FALSE)),\"\",VLOOKUP(AA96,勤務シフト一覧!$B$4:$C$106,2,FALSE))","v":""},{"$f":"IF(ISERROR(VLOOKUP(AB96,勤務シフト一覧!$B$4:$C$106,2,FALSE)),\"\",VLOOKUP(AB96,勤務シフト一覧!$B$4:$C$106,2,FALSE))","v":""},{"$f":"IF(ISERROR(VLOOKUP(AC96,勤務シフト一覧!$B$4:$C$106,2,FALSE)),\"\",VLOOKUP(AC96,勤務シフト一覧!$B$4:$C$106,2,FALSE))","v":""},{"$f":"IF(ISERROR(VLOOKUP(AD96,勤務シフト一覧!$B$4:$C$106,2,FALSE)),\"\",VLOOKUP(AD96,勤務シフト一覧!$B$4:$C$106,2,FALSE))","v":""},{"$f":"IF(ISERROR(VLOOKUP(AE96,勤務シフト一覧!$B$4:$C$106,2,FALSE)),\"\",VLOOKUP(AE96,勤務シフト一覧!$B$4:$C$106,2,FALSE))","v":""},{"$f":"IF(ISERROR(VLOOKUP(AF96,勤務シフト一覧!$B$4:$C$106,2,FALSE)),\"\",VLOOKUP(AF96,勤務シフト一覧!$B$4:$C$106,2,FALSE))","v":""},{"$f":"IF(ISERROR(VLOOKUP(AG96,勤務シフト一覧!$B$4:$C$106,2,FALSE)),\"\",VLOOKUP(AG96,勤務シフト一覧!$B$4:$C$106,2,FALSE))","v":""},{"$f":"IF(ISERROR(VLOOKUP(AH96,勤務シフト一覧!$B$4:$C$106,2,FALSE)),\"\",VLOOKUP(AH96,勤務シフト一覧!$B$4:$C$106,2,FALSE))","v":""},null,{"$f":"IF(ISERROR(VLOOKUP(D96,勤務シフト一覧!$B$4:$D$106,3,FALSE)),\"\",VLOOKUP(D96,勤務シフト一覧!$B$4:$D$106,3,FALSE))","v":""},{"$f":"IF(ISERROR(VLOOKUP(E96,勤務シフト一覧!$B$4:$D$106,3,FALSE)),\"\",VLOOKUP(E96,勤務シフト一覧!$B$4:$D$106,3,FALSE))","v":""},{"$f":"IF(ISERROR(VLOOKUP(F96,勤務シフト一覧!$B$4:$D$106,3,FALSE)),\"\",VLOOKUP(F96,勤務シフト一覧!$B$4:$D$106,3,FALSE))","v":""},{"$f":"IF(ISERROR(VLOOKUP(G96,勤務シフト一覧!$B$4:$D$106,3,FALSE)),\"\",VLOOKUP(G96,勤務シフト一覧!$B$4:$D$106,3,FALSE))","v":""},{"$f":"IF(ISERROR(VLOOKUP(H96,勤務シフト一覧!$B$4:$D$106,3,FALSE)),\"\",VLOOKUP(H96,勤務シフト一覧!$B$4:$D$106,3,FALSE))","v":""},{"$f":"IF(ISERROR(VLOOKUP(I96,勤務シフト一覧!$B$4:$D$106,3,FALSE)),\"\",VLOOKUP(I96,勤務シフト一覧!$B$4:$D$106,3,FALSE))","v":""},{"$f":"IF(ISERROR(VLOOKUP(J96,勤務シフト一覧!$B$4:$D$106,3,FALSE)),\"\",VLOOKUP(J96,勤務シフト一覧!$B$4:$D$106,3,FALSE))","v":""},{"$f":"IF(ISERROR(VLOOKUP(K96,勤務シフト一覧!$B$4:$D$106,3,FALSE)),\"\",VLOOKUP(K96,勤務シフト一覧!$B$4:$D$106,3,FALSE))","v":""},{"$f":"IF(ISERROR(VLOOKUP(L96,勤務シフト一覧!$B$4:$D$106,3,FALSE)),\"\",VLOOKUP(L96,勤務シフト一覧!$B$4:$D$106,3,FALSE))","v":""},{"$f":"IF(ISERROR(VLOOKUP(M96,勤務シフト一覧!$B$4:$D$106,3,FALSE)),\"\",VLOOKUP(M96,勤務シフト一覧!$B$4:$D$106,3,FALSE))","v":""},{"$f":"IF(ISERROR(VLOOKUP(N96,勤務シフト一覧!$B$4:$D$106,3,FALSE)),\"\",VLOOKUP(N96,勤務シフト一覧!$B$4:$D$106,3,FALSE))","v":""},{"$f":"IF(ISERROR(VLOOKUP(O96,勤務シフト一覧!$B$4:$D$106,3,FALSE)),\"\",VLOOKUP(O96,勤務シフト一覧!$B$4:$D$106,3,FALSE))","v":""},{"$f":"IF(ISERROR(VLOOKUP(P96,勤務シフト一覧!$B$4:$D$106,3,FALSE)),\"\",VLOOKUP(P96,勤務シフト一覧!$B$4:$D$106,3,FALSE))","v":""},{"$f":"IF(ISERROR(VLOOKUP(Q96,勤務シフト一覧!$B$4:$D$106,3,FALSE)),\"\",VLOOKUP(Q96,勤務シフト一覧!$B$4:$D$106,3,FALSE))","v":""},{"$f":"IF(ISERROR(VLOOKUP(R96,勤務シフト一覧!$B$4:$D$106,3,FALSE)),\"\",VLOOKUP(R96,勤務シフト一覧!$B$4:$D$106,3,FALSE))","v":""},{"$f":"IF(ISERROR(VLOOKUP(S96,勤務シフト一覧!$B$4:$D$106,3,FALSE)),\"\",VLOOKUP(S96,勤務シフト一覧!$B$4:$D$106,3,FALSE))","v":""},{"$f":"IF(ISERROR(VLOOKUP(T96,勤務シフト一覧!$B$4:$D$106,3,FALSE)),\"\",VLOOKUP(T96,勤務シフト一覧!$B$4:$D$106,3,FALSE))","v":""},{"$f":"IF(ISERROR(VLOOKUP(U96,勤務シフト一覧!$B$4:$D$106,3,FALSE)),\"\",VLOOKUP(U96,勤務シフト一覧!$B$4:$D$106,3,FALSE))","v":""},{"$f":"IF(ISERROR(VLOOKUP(V96,勤務シフト一覧!$B$4:$D$106,3,FALSE)),\"\",VLOOKUP(V96,勤務シフト一覧!$B$4:$D$106,3,FALSE))","v":""},{"$f":"IF(ISERROR(VLOOKUP(W96,勤務シフト一覧!$B$4:$D$106,3,FALSE)),\"\",VLOOKUP(W96,勤務シフト一覧!$B$4:$D$106,3,FALSE))","v":""},{"$f":"IF(ISERROR(VLOOKUP(X96,勤務シフト一覧!$B$4:$D$106,3,FALSE)),\"\",VLOOKUP(X96,勤務シフト一覧!$B$4:$D$106,3,FALSE))","v":""},{"$f":"IF(ISERROR(VLOOKUP(Y96,勤務シフト一覧!$B$4:$D$106,3,FALSE)),\"\",VLOOKUP(Y96,勤務シフト一覧!$B$4:$D$106,3,FALSE))","v":""},{"$f":"IF(ISERROR(VLOOKUP(Z96,勤務シフト一覧!$B$4:$D$106,3,FALSE)),\"\",VLOOKUP(Z96,勤務シフト一覧!$B$4:$D$106,3,FALSE))","v":""},{"$f":"IF(ISERROR(VLOOKUP(AA96,勤務シフト一覧!$B$4:$D$106,3,FALSE)),\"\",VLOOKUP(AA96,勤務シフト一覧!$B$4:$D$106,3,FALSE))","v":""},{"$f":"IF(ISERROR(VLOOKUP(AB96,勤務シフト一覧!$B$4:$D$106,3,FALSE)),\"\",VLOOKUP(AB96,勤務シフト一覧!$B$4:$D$106,3,FALSE))","v":""},{"$f":"IF(ISERROR(VLOOKUP(AC96,勤務シフト一覧!$B$4:$D$106,3,FALSE)),\"\",VLOOKUP(AC96,勤務シフト一覧!$B$4:$D$106,3,FALSE))","v":""},{"$f":"IF(ISERROR(VLOOKUP(AD96,勤務シフト一覧!$B$4:$D$106,3,FALSE)),\"\",VLOOKUP(AD96,勤務シフト一覧!$B$4:$D$106,3,FALSE))","v":""},{"$f":"IF(ISERROR(VLOOKUP(AE96,勤務シフト一覧!$B$4:$D$106,3,FALSE)),\"\",VLOOKUP(AE96,勤務シフト一覧!$B$4:$D$106,3,FALSE))","v":""},{"$f":"IF(ISERROR(VLOOKUP(AF96,勤務シフト一覧!$B$4:$D$106,3,FALSE)),\"\",VLOOKUP(AF96,勤務シフト一覧!$B$4:$D$106,3,FALSE))","v":""},{"$f":"IF(ISERROR(VLOOKUP(AG96,勤務シフト一覧!$B$4:$D$106,3,FALSE)),\"\",VLOOKUP(AG96,勤務シフト一覧!$B$4:$D$106,3,FALSE))","v":""},{"$f":"IF(ISERROR(VLOOKUP(AH96,勤務シフト一覧!$B$4:$D$106,3,FALSE)),\"\",VLOOKUP(AH96,勤務シフト一覧!$B$4:$D$106,3,FALSE))","v":""},0,0,0,0,0,0,0,0,0,0,{"$f":"IF(LEN(職員一覧!D47)<>0,職員一覧!D47,\"\")","v":""},null,{"$f":"IF(勤務シフト一覧!$D97<>0,IF(勤務シフト一覧!$B97<> 0,勤務シフト一覧!$B97,\"\"),\"\")","v":""}]
[null,null,"実施",null,null,null,null,null,null,null,null,null,null,null,null,null,null,null,null,null,null,null,null,null,null,null,null,null,null,null,null,null,null,null,{"$f":"IF(ISERROR(VLOOKUP(D97,勤務シフト一覧!$B$4:$C$106,2,FALSE)),\"\",VLOOKUP(D97,勤務シフト一覧!$B$4:$C$106,2,FALSE))","v":""},{"$f":"IF(ISERROR(VLOOKUP(E97,勤務シフト一覧!$B$4:$C$106,2,FALSE)),\"\",VLOOKUP(E97,勤務シフト一覧!$B$4:$C$106,2,FALSE))","v":""},{"$f":"IF(ISERROR(VLOOKUP(F97,勤務シフト一覧!$B$4:$C$106,2,FALSE)),\"\",VLOOKUP(F97,勤務シフト一覧!$B$4:$C$106,2,FALSE))","v":""},{"$f":"IF(ISERROR(VLOOKUP(G97,勤務シフト一覧!$B$4:$C$106,2,FALSE)),\"\",VLOOKUP(G97,勤務シフト一覧!$B$4:$C$106,2,FALSE))","v":""},{"$f":"IF(ISERROR(VLOOKUP(H97,勤務シフト一覧!$B$4:$C$106,2,FALSE)),\"\",VLOOKUP(H97,勤務シフト一覧!$B$4:$C$106,2,FALSE))","v":""},{"$f":"IF(ISERROR(VLOOKUP(I97,勤務シフト一覧!$B$4:$C$106,2,FALSE)),\"\",VLOOKUP(I97,勤務シフト一覧!$B$4:$C$106,2,FALSE))","v":""},{"$f":"IF(ISERROR(VLOOKUP(J97,勤務シフト一覧!$B$4:$C$106,2,FALSE)),\"\",VLOOKUP(J97,勤務シフト一覧!$B$4:$C$106,2,FALSE))","v":""},{"$f":"IF(ISERROR(VLOOKUP(K97,勤務シフト一覧!$B$4:$C$106,2,FALSE)),\"\",VLOOKUP(K97,勤務シフト一覧!$B$4:$C$106,2,FALSE))","v":""},{"$f":"IF(ISERROR(VLOOKUP(L97,勤務シフト一覧!$B$4:$C$106,2,FALSE)),\"\",VLOOKUP(L97,勤務シフト一覧!$B$4:$C$106,2,FALSE))","v":""},{"$f":"IF(ISERROR(VLOOKUP(M97,勤務シフト一覧!$B$4:$C$106,2,FALSE)),\"\",VLOOKUP(M97,勤務シフト一覧!$B$4:$C$106,2,FALSE))","v":""},{"$f":"IF(ISERROR(VLOOKUP(N97,勤務シフト一覧!$B$4:$C$106,2,FALSE)),\"\",VLOOKUP(N97,勤務シフト一覧!$B$4:$C$106,2,FALSE))","v":""},{"$f":"IF(ISERROR(VLOOKUP(O97,勤務シフト一覧!$B$4:$C$106,2,FALSE)),\"\",VLOOKUP(O97,勤務シフト一覧!$B$4:$C$106,2,FALSE))","v":""},{"$f":"IF(ISERROR(VLOOKUP(P97,勤務シフト一覧!$B$4:$C$106,2,FALSE)),\"\",VLOOKUP(P97,勤務シフト一覧!$B$4:$C$106,2,FALSE))","v":""},{"$f":"IF(ISERROR(VLOOKUP(Q97,勤務シフト一覧!$B$4:$C$106,2,FALSE)),\"\",VLOOKUP(Q97,勤務シフト一覧!$B$4:$C$106,2,FALSE))","v":""},{"$f":"IF(ISERROR(VLOOKUP(R97,勤務シフト一覧!$B$4:$C$106,2,FALSE)),\"\",VLOOKUP(R97,勤務シフト一覧!$B$4:$C$106,2,FALSE))","v":""},{"$f":"IF(ISERROR(VLOOKUP(S97,勤務シフト一覧!$B$4:$C$106,2,FALSE)),\"\",VLOOKUP(S97,勤務シフト一覧!$B$4:$C$106,2,FALSE))","v":""},{"$f":"IF(ISERROR(VLOOKUP(T97,勤務シフト一覧!$B$4:$C$106,2,FALSE)),\"\",VLOOKUP(T97,勤務シフト一覧!$B$4:$C$106,2,FALSE))","v":""},{"$f":"IF(ISERROR(VLOOKUP(U97,勤務シフト一覧!$B$4:$C$106,2,FALSE)),\"\",VLOOKUP(U97,勤務シフト一覧!$B$4:$C$106,2,FALSE))","v":""},{"$f":"IF(ISERROR(VLOOKUP(V97,勤務シフト一覧!$B$4:$C$106,2,FALSE)),\"\",VLOOKUP(V97,勤務シフト一覧!$B$4:$C$106,2,FALSE))","v":""},{"$f":"IF(ISERROR(VLOOKUP(W97,勤務シフト一覧!$B$4:$C$106,2,FALSE)),\"\",VLOOKUP(W97,勤務シフト一覧!$B$4:$C$106,2,FALSE))","v":""},{"$f":"IF(ISERROR(VLOOKUP(X97,勤務シフト一覧!$B$4:$C$106,2,FALSE)),\"\",VLOOKUP(X97,勤務シフト一覧!$B$4:$C$106,2,FALSE))","v":""},{"$f":"IF(ISERROR(VLOOKUP(Y97,勤務シフト一覧!$B$4:$C$106,2,FALSE)),\"\",VLOOKUP(Y97,勤務シフト一覧!$B$4:$C$106,2,FALSE))","v":""},{"$f":"IF(ISERROR(VLOOKUP(Z97,勤務シフト一覧!$B$4:$C$106,2,FALSE)),\"\",VLOOKUP(Z97,勤務シフト一覧!$B$4:$C$106,2,FALSE))","v":""},{"$f":"IF(ISERROR(VLOOKUP(AA97,勤務シフト一覧!$B$4:$C$106,2,FALSE)),\"\",VLOOKUP(AA97,勤務シフト一覧!$B$4:$C$106,2,FALSE))","v":""},{"$f":"IF(ISERROR(VLOOKUP(AB97,勤務シフト一覧!$B$4:$C$106,2,FALSE)),\"\",VLOOKUP(AB97,勤務シフト一覧!$B$4:$C$106,2,FALSE))","v":""},{"$f":"IF(ISERROR(VLOOKUP(AC97,勤務シフト一覧!$B$4:$C$106,2,FALSE)),\"\",VLOOKUP(AC97,勤務シフト一覧!$B$4:$C$106,2,FALSE))","v":""},{"$f":"IF(ISERROR(VLOOKUP(AD97,勤務シフト一覧!$B$4:$C$106,2,FALSE)),\"\",VLOOKUP(AD97,勤務シフト一覧!$B$4:$C$106,2,FALSE))","v":""},{"$f":"IF(ISERROR(VLOOKUP(AE97,勤務シフト一覧!$B$4:$C$106,2,FALSE)),\"\",VLOOKUP(AE97,勤務シフト一覧!$B$4:$C$106,2,FALSE))","v":""},{"$f":"IF(ISERROR(VLOOKUP(AF97,勤務シフト一覧!$B$4:$C$106,2,FALSE)),\"\",VLOOKUP(AF97,勤務シフト一覧!$B$4:$C$106,2,FALSE))","v":""},{"$f":"IF(ISERROR(VLOOKUP(AG97,勤務シフト一覧!$B$4:$C$106,2,FALSE)),\"\",VLOOKUP(AG97,勤務シフト一覧!$B$4:$C$106,2,FALSE))","v":""},{"$f":"IF(ISERROR(VLOOKUP(AH97,勤務シフト一覧!$B$4:$C$106,2,FALSE)),\"\",VLOOKUP(AH97,勤務シフト一覧!$B$4:$C$106,2,FALSE))","v":""},null,{"$f":"IF(ISERROR(VLOOKUP(D97,勤務シフト一覧!$B$4:$D$106,3,FALSE)),\"\",VLOOKUP(D97,勤務シフト一覧!$B$4:$D$106,3,FALSE))","v":""},{"$f":"IF(ISERROR(VLOOKUP(E97,勤務シフト一覧!$B$4:$D$106,3,FALSE)),\"\",VLOOKUP(E97,勤務シフト一覧!$B$4:$D$106,3,FALSE))","v":""},{"$f":"IF(ISERROR(VLOOKUP(F97,勤務シフト一覧!$B$4:$D$106,3,FALSE)),\"\",VLOOKUP(F97,勤務シフト一覧!$B$4:$D$106,3,FALSE))","v":""},{"$f":"IF(ISERROR(VLOOKUP(G97,勤務シフト一覧!$B$4:$D$106,3,FALSE)),\"\",VLOOKUP(G97,勤務シフト一覧!$B$4:$D$106,3,FALSE))","v":""},{"$f":"IF(ISERROR(VLOOKUP(H97,勤務シフト一覧!$B$4:$D$106,3,FALSE)),\"\",VLOOKUP(H97,勤務シフト一覧!$B$4:$D$106,3,FALSE))","v":""},{"$f":"IF(ISERROR(VLOOKUP(I97,勤務シフト一覧!$B$4:$D$106,3,FALSE)),\"\",VLOOKUP(I97,勤務シフト一覧!$B$4:$D$106,3,FALSE))","v":""},{"$f":"IF(ISERROR(VLOOKUP(J97,勤務シフト一覧!$B$4:$D$106,3,FALSE)),\"\",VLOOKUP(J97,勤務シフト一覧!$B$4:$D$106,3,FALSE))","v":""},{"$f":"IF(ISERROR(VLOOKUP(K97,勤務シフト一覧!$B$4:$D$106,3,FALSE)),\"\",VLOOKUP(K97,勤務シフト一覧!$B$4:$D$106,3,FALSE))","v":""},{"$f":"IF(ISERROR(VLOOKUP(L97,勤務シフト一覧!$B$4:$D$106,3,FALSE)),\"\",VLOOKUP(L97,勤務シフト一覧!$B$4:$D$106,3,FALSE))","v":""},{"$f":"IF(ISERROR(VLOOKUP(M97,勤務シフト一覧!$B$4:$D$106,3,FALSE)),\"\",VLOOKUP(M97,勤務シフト一覧!$B$4:$D$106,3,FALSE))","v":""},{"$f":"IF(ISERROR(VLOOKUP(N97,勤務シフト一覧!$B$4:$D$106,3,FALSE)),\"\",VLOOKUP(N97,勤務シフト一覧!$B$4:$D$106,3,FALSE))","v":""},{"$f":"IF(ISERROR(VLOOKUP(O97,勤務シフト一覧!$B$4:$D$106,3,FALSE)),\"\",VLOOKUP(O97,勤務シフト一覧!$B$4:$D$106,3,FALSE))","v":""},{"$f":"IF(ISERROR(VLOOKUP(P97,勤務シフト一覧!$B$4:$D$106,3,FALSE)),\"\",VLOOKUP(P97,勤務シフト一覧!$B$4:$D$106,3,FALSE))","v":""},{"$f":"IF(ISERROR(VLOOKUP(Q97,勤務シフト一覧!$B$4:$D$106,3,FALSE)),\"\",VLOOKUP(Q97,勤務シフト一覧!$B$4:$D$106,3,FALSE))","v":""},{"$f":"IF(ISERROR(VLOOKUP(R97,勤務シフト一覧!$B$4:$D$106,3,FALSE)),\"\",VLOOKUP(R97,勤務シフト一覧!$B$4:$D$106,3,FALSE))","v":""},{"$f":"IF(ISERROR(VLOOKUP(S97,勤務シフト一覧!$B$4:$D$106,3,FALSE)),\"\",VLOOKUP(S97,勤務シフト一覧!$B$4:$D$106,3,FALSE))","v":""},{"$f":"IF(ISERROR(VLOOKUP(T97,勤務シフト一覧!$B$4:$D$106,3,FALSE)),\"\",VLOOKUP(T97,勤務シフト一覧!$B$4:$D$106,3,FALSE))","v":""},{"$f":"IF(ISERROR(VLOOKUP(U97,勤務シフト一覧!$B$4:$D$106,3,FALSE)),\"\",VLOOKUP(U97,勤務シフト一覧!$B$4:$D$106,3,FALSE))","v":""},{"$f":"IF(ISERROR(VLOOKUP(V97,勤務シフト一覧!$B$4:$D$106,3,FALSE)),\"\",VLOOKUP(V97,勤務シフト一覧!$B$4:$D$106,3,FALSE))","v":""},{"$f":"IF(ISERROR(VLOOKUP(W97,勤務シフト一覧!$B$4:$D$106,3,FALSE)),\"\",VLOOKUP(W97,勤務シフト一覧!$B$4:$D$106,3,FALSE))","v":""},{"$f":"IF(ISERROR(VLOOKUP(X97,勤務シフト一覧!$B$4:$D$106,3,FALSE)),\"\",VLOOKUP(X97,勤務シフト一覧!$B$4:$D$106,3,FALSE))","v":""},{"$f":"IF(ISERROR(VLOOKUP(Y97,勤務シフト一覧!$B$4:$D$106,3,FALSE)),\"\",VLOOKUP(Y97,勤務シフト一覧!$B$4:$D$106,3,FALSE))","v":""},{"$f":"IF(ISERROR(VLOOKUP(Z97,勤務シフト一覧!$B$4:$D$106,3,FALSE)),\"\",VLOOKUP(Z97,勤務シフト一覧!$B$4:$D$106,3,FALSE))","v":""},{"$f":"IF(ISERROR(VLOOKUP(AA97,勤務シフト一覧!$B$4:$D$106,3,FALSE)),\"\",VLOOKUP(AA97,勤務シフト一覧!$B$4:$D$106,3,FALSE))","v":""},{"$f":"IF(ISERROR(VLOOKUP(AB97,勤務シフト一覧!$B$4:$D$106,3,FALSE)),\"\",VLOOKUP(AB97,勤務シフト一覧!$B$4:$D$106,3,FALSE))","v":""},{"$f":"IF(ISERROR(VLOOKUP(AC97,勤務シフト一覧!$B$4:$D$106,3,FALSE)),\"\",VLOOKUP(AC97,勤務シフト一覧!$B$4:$D$106,3,FALSE))","v":""},{"$f":"IF(ISERROR(VLOOKUP(AD97,勤務シフト一覧!$B$4:$D$106,3,FALSE)),\"\",VLOOKUP(AD97,勤務シフト一覧!$B$4:$D$106,3,FALSE))","v":""},{"$f":"IF(ISERROR(VLOOKUP(AE97,勤務シフト一覧!$B$4:$D$106,3,FALSE)),\"\",VLOOKUP(AE97,勤務シフト一覧!$B$4:$D$106,3,FALSE))","v":""},{"$f":"IF(ISERROR(VLOOKUP(AF97,勤務シフト一覧!$B$4:$D$106,3,FALSE)),\"\",VLOOKUP(AF97,勤務シフト一覧!$B$4:$D$106,3,FALSE))","v":""},{"$f":"IF(ISERROR(VLOOKUP(AG97,勤務シフト一覧!$B$4:$D$106,3,FALSE)),\"\",VLOOKUP(AG97,勤務シフト一覧!$B$4:$D$106,3,FALSE))","v":""},{"$f":"IF(ISERROR(VLOOKUP(AH97,勤務シフト一覧!$B$4:$D$106,3,FALSE)),\"\",VLOOKUP(AH97,勤務シフト一覧!$B$4:$D$106,3,FALSE))","v":""},0,0,0,0,0,0,0,0,0,0,null,null,{"$f":"IF(勤務シフト一覧!$D98<>0,IF(勤務シフト一覧!$B98<> 0,勤務シフト一覧!$B98,\"\"),\"\")","v":""}]
[{"$f":"IF(LEN(職員一覧!B48)<>0,職員一覧!B48,\"\")","v":""},{"$f":"IF(LEN(職員一覧!C48)<>0,職員一覧!C48,\"\")","v":""},"予定",null,null,null,null,null,null,null,null,null,null,null,null,null,null,null,null,null,null,null,null,null,null,null,null,null,null,null,null,null,null,null,{"$f":"IF(ISERROR(VLOOKUP(D98,勤務シフト一覧!$B$4:$C$106,2,FALSE)),\"\",VLOOKUP(D98,勤務シフト一覧!$B$4:$C$106,2,FALSE))","v":""},{"$f":"IF(ISERROR(VLOOKUP(E98,勤務シフト一覧!$B$4:$C$106,2,FALSE)),\"\",VLOOKUP(E98,勤務シフト一覧!$B$4:$C$106,2,FALSE))","v":""},{"$f":"IF(ISERROR(VLOOKUP(F98,勤務シフト一覧!$B$4:$C$106,2,FALSE)),\"\",VLOOKUP(F98,勤務シフト一覧!$B$4:$C$106,2,FALSE))","v":""},{"$f":"IF(ISERROR(VLOOKUP(G98,勤務シフト一覧!$B$4:$C$106,2,FALSE)),\"\",VLOOKUP(G98,勤務シフト一覧!$B$4:$C$106,2,FALSE))","v":""},{"$f":"IF(ISERROR(VLOOKUP(H98,勤務シフト一覧!$B$4:$C$106,2,FALSE)),\"\",VLOOKUP(H98,勤務シフト一覧!$B$4:$C$106,2,FALSE))","v":""},{"$f":"IF(ISERROR(VLOOKUP(I98,勤務シフト一覧!$B$4:$C$106,2,FALSE)),\"\",VLOOKUP(I98,勤務シフト一覧!$B$4:$C$106,2,FALSE))","v":""},{"$f":"IF(ISERROR(VLOOKUP(J98,勤務シフト一覧!$B$4:$C$106,2,FALSE)),\"\",VLOOKUP(J98,勤務シフト一覧!$B$4:$C$106,2,FALSE))","v":""},{"$f":"IF(ISERROR(VLOOKUP(K98,勤務シフト一覧!$B$4:$C$106,2,FALSE)),\"\",VLOOKUP(K98,勤務シフト一覧!$B$4:$C$106,2,FALSE))","v":""},{"$f":"IF(ISERROR(VLOOKUP(L98,勤務シフト一覧!$B$4:$C$106,2,FALSE)),\"\",VLOOKUP(L98,勤務シフト一覧!$B$4:$C$106,2,FALSE))","v":""},{"$f":"IF(ISERROR(VLOOKUP(M98,勤務シフト一覧!$B$4:$C$106,2,FALSE)),\"\",VLOOKUP(M98,勤務シフト一覧!$B$4:$C$106,2,FALSE))","v":""},{"$f":"IF(ISERROR(VLOOKUP(N98,勤務シフト一覧!$B$4:$C$106,2,FALSE)),\"\",VLOOKUP(N98,勤務シフト一覧!$B$4:$C$106,2,FALSE))","v":""},{"$f":"IF(ISERROR(VLOOKUP(O98,勤務シフト一覧!$B$4:$C$106,2,FALSE)),\"\",VLOOKUP(O98,勤務シフト一覧!$B$4:$C$106,2,FALSE))","v":""},{"$f":"IF(ISERROR(VLOOKUP(P98,勤務シフト一覧!$B$4:$C$106,2,FALSE)),\"\",VLOOKUP(P98,勤務シフト一覧!$B$4:$C$106,2,FALSE))","v":""},{"$f":"IF(ISERROR(VLOOKUP(Q98,勤務シフト一覧!$B$4:$C$106,2,FALSE)),\"\",VLOOKUP(Q98,勤務シフト一覧!$B$4:$C$106,2,FALSE))","v":""},{"$f":"IF(ISERROR(VLOOKUP(R98,勤務シフト一覧!$B$4:$C$106,2,FALSE)),\"\",VLOOKUP(R98,勤務シフト一覧!$B$4:$C$106,2,FALSE))","v":""},{"$f":"IF(ISERROR(VLOOKUP(S98,勤務シフト一覧!$B$4:$C$106,2,FALSE)),\"\",VLOOKUP(S98,勤務シフト一覧!$B$4:$C$106,2,FALSE))","v":""},{"$f":"IF(ISERROR(VLOOKUP(T98,勤務シフト一覧!$B$4:$C$106,2,FALSE)),\"\",VLOOKUP(T98,勤務シフト一覧!$B$4:$C$106,2,FALSE))","v":""},{"$f":"IF(ISERROR(VLOOKUP(U98,勤務シフト一覧!$B$4:$C$106,2,FALSE)),\"\",VLOOKUP(U98,勤務シフト一覧!$B$4:$C$106,2,FALSE))","v":""},{"$f":"IF(ISERROR(VLOOKUP(V98,勤務シフト一覧!$B$4:$C$106,2,FALSE)),\"\",VLOOKUP(V98,勤務シフト一覧!$B$4:$C$106,2,FALSE))","v":""},{"$f":"IF(ISERROR(VLOOKUP(W98,勤務シフト一覧!$B$4:$C$106,2,FALSE)),\"\",VLOOKUP(W98,勤務シフト一覧!$B$4:$C$106,2,FALSE))","v":""},{"$f":"IF(ISERROR(VLOOKUP(X98,勤務シフト一覧!$B$4:$C$106,2,FALSE)),\"\",VLOOKUP(X98,勤務シフト一覧!$B$4:$C$106,2,FALSE))","v":""},{"$f":"IF(ISERROR(VLOOKUP(Y98,勤務シフト一覧!$B$4:$C$106,2,FALSE)),\"\",VLOOKUP(Y98,勤務シフト一覧!$B$4:$C$106,2,FALSE))","v":""},{"$f":"IF(ISERROR(VLOOKUP(Z98,勤務シフト一覧!$B$4:$C$106,2,FALSE)),\"\",VLOOKUP(Z98,勤務シフト一覧!$B$4:$C$106,2,FALSE))","v":""},{"$f":"IF(ISERROR(VLOOKUP(AA98,勤務シフト一覧!$B$4:$C$106,2,FALSE)),\"\",VLOOKUP(AA98,勤務シフト一覧!$B$4:$C$106,2,FALSE))","v":""},{"$f":"IF(ISERROR(VLOOKUP(AB98,勤務シフト一覧!$B$4:$C$106,2,FALSE)),\"\",VLOOKUP(AB98,勤務シフト一覧!$B$4:$C$106,2,FALSE))","v":""},{"$f":"IF(ISERROR(VLOOKUP(AC98,勤務シフト一覧!$B$4:$C$106,2,FALSE)),\"\",VLOOKUP(AC98,勤務シフト一覧!$B$4:$C$106,2,FALSE))","v":""},{"$f":"IF(ISERROR(VLOOKUP(AD98,勤務シフト一覧!$B$4:$C$106,2,FALSE)),\"\",VLOOKUP(AD98,勤務シフト一覧!$B$4:$C$106,2,FALSE))","v":""},{"$f":"IF(ISERROR(VLOOKUP(AE98,勤務シフト一覧!$B$4:$C$106,2,FALSE)),\"\",VLOOKUP(AE98,勤務シフト一覧!$B$4:$C$106,2,FALSE))","v":""},{"$f":"IF(ISERROR(VLOOKUP(AF98,勤務シフト一覧!$B$4:$C$106,2,FALSE)),\"\",VLOOKUP(AF98,勤務シフト一覧!$B$4:$C$106,2,FALSE))","v":""},{"$f":"IF(ISERROR(VLOOKUP(AG98,勤務シフト一覧!$B$4:$C$106,2,FALSE)),\"\",VLOOKUP(AG98,勤務シフト一覧!$B$4:$C$106,2,FALSE))","v":""},{"$f":"IF(ISERROR(VLOOKUP(AH98,勤務シフト一覧!$B$4:$C$106,2,FALSE)),\"\",VLOOKUP(AH98,勤務シフト一覧!$B$4:$C$106,2,FALSE))","v":""},null,{"$f":"IF(ISERROR(VLOOKUP(D98,勤務シフト一覧!$B$4:$D$106,3,FALSE)),\"\",VLOOKUP(D98,勤務シフト一覧!$B$4:$D$106,3,FALSE))","v":""},{"$f":"IF(ISERROR(VLOOKUP(E98,勤務シフト一覧!$B$4:$D$106,3,FALSE)),\"\",VLOOKUP(E98,勤務シフト一覧!$B$4:$D$106,3,FALSE))","v":""},{"$f":"IF(ISERROR(VLOOKUP(F98,勤務シフト一覧!$B$4:$D$106,3,FALSE)),\"\",VLOOKUP(F98,勤務シフト一覧!$B$4:$D$106,3,FALSE))","v":""},{"$f":"IF(ISERROR(VLOOKUP(G98,勤務シフト一覧!$B$4:$D$106,3,FALSE)),\"\",VLOOKUP(G98,勤務シフト一覧!$B$4:$D$106,3,FALSE))","v":""},{"$f":"IF(ISERROR(VLOOKUP(H98,勤務シフト一覧!$B$4:$D$106,3,FALSE)),\"\",VLOOKUP(H98,勤務シフト一覧!$B$4:$D$106,3,FALSE))","v":""},{"$f":"IF(ISERROR(VLOOKUP(I98,勤務シフト一覧!$B$4:$D$106,3,FALSE)),\"\",VLOOKUP(I98,勤務シフト一覧!$B$4:$D$106,3,FALSE))","v":""},{"$f":"IF(ISERROR(VLOOKUP(J98,勤務シフト一覧!$B$4:$D$106,3,FALSE)),\"\",VLOOKUP(J98,勤務シフト一覧!$B$4:$D$106,3,FALSE))","v":""},{"$f":"IF(ISERROR(VLOOKUP(K98,勤務シフト一覧!$B$4:$D$106,3,FALSE)),\"\",VLOOKUP(K98,勤務シフト一覧!$B$4:$D$106,3,FALSE))","v":""},{"$f":"IF(ISERROR(VLOOKUP(L98,勤務シフト一覧!$B$4:$D$106,3,FALSE)),\"\",VLOOKUP(L98,勤務シフト一覧!$B$4:$D$106,3,FALSE))","v":""},{"$f":"IF(ISERROR(VLOOKUP(M98,勤務シフト一覧!$B$4:$D$106,3,FALSE)),\"\",VLOOKUP(M98,勤務シフト一覧!$B$4:$D$106,3,FALSE))","v":""},{"$f":"IF(ISERROR(VLOOKUP(N98,勤務シフト一覧!$B$4:$D$106,3,FALSE)),\"\",VLOOKUP(N98,勤務シフト一覧!$B$4:$D$106,3,FALSE))","v":""},{"$f":"IF(ISERROR(VLOOKUP(O98,勤務シフト一覧!$B$4:$D$106,3,FALSE)),\"\",VLOOKUP(O98,勤務シフト一覧!$B$4:$D$106,3,FALSE))","v":""},{"$f":"IF(ISERROR(VLOOKUP(P98,勤務シフト一覧!$B$4:$D$106,3,FALSE)),\"\",VLOOKUP(P98,勤務シフト一覧!$B$4:$D$106,3,FALSE))","v":""},{"$f":"IF(ISERROR(VLOOKUP(Q98,勤務シフト一覧!$B$4:$D$106,3,FALSE)),\"\",VLOOKUP(Q98,勤務シフト一覧!$B$4:$D$106,3,FALSE))","v":""},{"$f":"IF(ISERROR(VLOOKUP(R98,勤務シフト一覧!$B$4:$D$106,3,FALSE)),\"\",VLOOKUP(R98,勤務シフト一覧!$B$4:$D$106,3,FALSE))","v":""},{"$f":"IF(ISERROR(VLOOKUP(S98,勤務シフト一覧!$B$4:$D$106,3,FALSE)),\"\",VLOOKUP(S98,勤務シフト一覧!$B$4:$D$106,3,FALSE))","v":""},{"$f":"IF(ISERROR(VLOOKUP(T98,勤務シフト一覧!$B$4:$D$106,3,FALSE)),\"\",VLOOKUP(T98,勤務シフト一覧!$B$4:$D$106,3,FALSE))","v":""},{"$f":"IF(ISERROR(VLOOKUP(U98,勤務シフト一覧!$B$4:$D$106,3,FALSE)),\"\",VLOOKUP(U98,勤務シフト一覧!$B$4:$D$106,3,FALSE))","v":""},{"$f":"IF(ISERROR(VLOOKUP(V98,勤務シフト一覧!$B$4:$D$106,3,FALSE)),\"\",VLOOKUP(V98,勤務シフト一覧!$B$4:$D$106,3,FALSE))","v":""},{"$f":"IF(ISERROR(VLOOKUP(W98,勤務シフト一覧!$B$4:$D$106,3,FALSE)),\"\",VLOOKUP(W98,勤務シフト一覧!$B$4:$D$106,3,FALSE))","v":""},{"$f":"IF(ISERROR(VLOOKUP(X98,勤務シフト一覧!$B$4:$D$106,3,FALSE)),\"\",VLOOKUP(X98,勤務シフト一覧!$B$4:$D$106,3,FALSE))","v":""},{"$f":"IF(ISERROR(VLOOKUP(Y98,勤務シフト一覧!$B$4:$D$106,3,FALSE)),\"\",VLOOKUP(Y98,勤務シフト一覧!$B$4:$D$106,3,FALSE))","v":""},{"$f":"IF(ISERROR(VLOOKUP(Z98,勤務シフト一覧!$B$4:$D$106,3,FALSE)),\"\",VLOOKUP(Z98,勤務シフト一覧!$B$4:$D$106,3,FALSE))","v":""},{"$f":"IF(ISERROR(VLOOKUP(AA98,勤務シフト一覧!$B$4:$D$106,3,FALSE)),\"\",VLOOKUP(AA98,勤務シフト一覧!$B$4:$D$106,3,FALSE))","v":""},{"$f":"IF(ISERROR(VLOOKUP(AB98,勤務シフト一覧!$B$4:$D$106,3,FALSE)),\"\",VLOOKUP(AB98,勤務シフト一覧!$B$4:$D$106,3,FALSE))","v":""},{"$f":"IF(ISERROR(VLOOKUP(AC98,勤務シフト一覧!$B$4:$D$106,3,FALSE)),\"\",VLOOKUP(AC98,勤務シフト一覧!$B$4:$D$106,3,FALSE))","v":""},{"$f":"IF(ISERROR(VLOOKUP(AD98,勤務シフト一覧!$B$4:$D$106,3,FALSE)),\"\",VLOOKUP(AD98,勤務シフト一覧!$B$4:$D$106,3,FALSE))","v":""},{"$f":"IF(ISERROR(VLOOKUP(AE98,勤務シフト一覧!$B$4:$D$106,3,FALSE)),\"\",VLOOKUP(AE98,勤務シフト一覧!$B$4:$D$106,3,FALSE))","v":""},{"$f":"IF(ISERROR(VLOOKUP(AF98,勤務シフト一覧!$B$4:$D$106,3,FALSE)),\"\",VLOOKUP(AF98,勤務シフト一覧!$B$4:$D$106,3,FALSE))","v":""},{"$f":"IF(ISERROR(VLOOKUP(AG98,勤務シフト一覧!$B$4:$D$106,3,FALSE)),\"\",VLOOKUP(AG98,勤務シフト一覧!$B$4:$D$106,3,FALSE))","v":""},{"$f":"IF(ISERROR(VLOOKUP(AH98,勤務シフト一覧!$B$4:$D$106,3,FALSE)),\"\",VLOOKUP(AH98,勤務シフト一覧!$B$4:$D$106,3,FALSE))","v":""},0,0,0,0,0,0,0,0,0,0,{"$f":"IF(LEN(職員一覧!D48)<>0,職員一覧!D48,\"\")","v":""},null,{"$f":"IF(勤務シフト一覧!$D99<>0,IF(勤務シフト一覧!$B99<> 0,勤務シフト一覧!$B99,\"\"),\"\")","v":""}]
[null,null,"実施",null,null,null,null,null,null,null,null,null,null,null,null,null,null,null,null,null,null,null,null,null,null,null,null,null,null,null,null,null,null,null,{"$f":"IF(ISERROR(VLOOKUP(D99,勤務シフト一覧!$B$4:$C$106,2,FALSE)),\"\",VLOOKUP(D99,勤務シフト一覧!$B$4:$C$106,2,FALSE))","v":""},{"$f":"IF(ISERROR(VLOOKUP(E99,勤務シフト一覧!$B$4:$C$106,2,FALSE)),\"\",VLOOKUP(E99,勤務シフト一覧!$B$4:$C$106,2,FALSE))","v":""},{"$f":"IF(ISERROR(VLOOKUP(F99,勤務シフト一覧!$B$4:$C$106,2,FALSE)),\"\",VLOOKUP(F99,勤務シフト一覧!$B$4:$C$106,2,FALSE))","v":""},{"$f":"IF(ISERROR(VLOOKUP(G99,勤務シフト一覧!$B$4:$C$106,2,FALSE)),\"\",VLOOKUP(G99,勤務シフト一覧!$B$4:$C$106,2,FALSE))","v":""},{"$f":"IF(ISERROR(VLOOKUP(H99,勤務シフト一覧!$B$4:$C$106,2,FALSE)),\"\",VLOOKUP(H99,勤務シフト一覧!$B$4:$C$106,2,FALSE))","v":""},{"$f":"IF(ISERROR(VLOOKUP(I99,勤務シフト一覧!$B$4:$C$106,2,FALSE)),\"\",VLOOKUP(I99,勤務シフト一覧!$B$4:$C$106,2,FALSE))","v":""},{"$f":"IF(ISERROR(VLOOKUP(J99,勤務シフト一覧!$B$4:$C$106,2,FALSE)),\"\",VLOOKUP(J99,勤務シフト一覧!$B$4:$C$106,2,FALSE))","v":""},{"$f":"IF(ISERROR(VLOOKUP(K99,勤務シフト一覧!$B$4:$C$106,2,FALSE)),\"\",VLOOKUP(K99,勤務シフト一覧!$B$4:$C$106,2,FALSE))","v":""},{"$f":"IF(ISERROR(VLOOKUP(L99,勤務シフト一覧!$B$4:$C$106,2,FALSE)),\"\",VLOOKUP(L99,勤務シフト一覧!$B$4:$C$106,2,FALSE))","v":""},{"$f":"IF(ISERROR(VLOOKUP(M99,勤務シフト一覧!$B$4:$C$106,2,FALSE)),\"\",VLOOKUP(M99,勤務シフト一覧!$B$4:$C$106,2,FALSE))","v":""},{"$f":"IF(ISERROR(VLOOKUP(N99,勤務シフト一覧!$B$4:$C$106,2,FALSE)),\"\",VLOOKUP(N99,勤務シフト一覧!$B$4:$C$106,2,FALSE))","v":""},{"$f":"IF(ISERROR(VLOOKUP(O99,勤務シフト一覧!$B$4:$C$106,2,FALSE)),\"\",VLOOKUP(O99,勤務シフト一覧!$B$4:$C$106,2,FALSE))","v":""},{"$f":"IF(ISERROR(VLOOKUP(P99,勤務シフト一覧!$B$4:$C$106,2,FALSE)),\"\",VLOOKUP(P99,勤務シフト一覧!$B$4:$C$106,2,FALSE))","v":""},{"$f":"IF(ISERROR(VLOOKUP(Q99,勤務シフト一覧!$B$4:$C$106,2,FALSE)),\"\",VLOOKUP(Q99,勤務シフト一覧!$B$4:$C$106,2,FALSE))","v":""},{"$f":"IF(ISERROR(VLOOKUP(R99,勤務シフト一覧!$B$4:$C$106,2,FALSE)),\"\",VLOOKUP(R99,勤務シフト一覧!$B$4:$C$106,2,FALSE))","v":""},{"$f":"IF(ISERROR(VLOOKUP(S99,勤務シフト一覧!$B$4:$C$106,2,FALSE)),\"\",VLOOKUP(S99,勤務シフト一覧!$B$4:$C$106,2,FALSE))","v":""},{"$f":"IF(ISERROR(VLOOKUP(T99,勤務シフト一覧!$B$4:$C$106,2,FALSE)),\"\",VLOOKUP(T99,勤務シフト一覧!$B$4:$C$106,2,FALSE))","v":""},{"$f":"IF(ISERROR(VLOOKUP(U99,勤務シフト一覧!$B$4:$C$106,2,FALSE)),\"\",VLOOKUP(U99,勤務シフト一覧!$B$4:$C$106,2,FALSE))","v":""},{"$f":"IF(ISERROR(VLOOKUP(V99,勤務シフト一覧!$B$4:$C$106,2,FALSE)),\"\",VLOOKUP(V99,勤務シフト一覧!$B$4:$C$106,2,FALSE))","v":""},{"$f":"IF(ISERROR(VLOOKUP(W99,勤務シフト一覧!$B$4:$C$106,2,FALSE)),\"\",VLOOKUP(W99,勤務シフト一覧!$B$4:$C$106,2,FALSE))","v":""},{"$f":"IF(ISERROR(VLOOKUP(X99,勤務シフト一覧!$B$4:$C$106,2,FALSE)),\"\",VLOOKUP(X99,勤務シフト一覧!$B$4:$C$106,2,FALSE))","v":""},{"$f":"IF(ISERROR(VLOOKUP(Y99,勤務シフト一覧!$B$4:$C$106,2,FALSE)),\"\",VLOOKUP(Y99,勤務シフト一覧!$B$4:$C$106,2,FALSE))","v":""},{"$f":"IF(ISERROR(VLOOKUP(Z99,勤務シフト一覧!$B$4:$C$106,2,FALSE)),\"\",VLOOKUP(Z99,勤務シフト一覧!$B$4:$C$106,2,FALSE))","v":""},{"$f":"IF(ISERROR(VLOOKUP(AA99,勤務シフト一覧!$B$4:$C$106,2,FALSE)),\"\",VLOOKUP(AA99,勤務シフト一覧!$B$4:$C$106,2,FALSE))","v":""},{"$f":"IF(ISERROR(VLOOKUP(AB99,勤務シフト一覧!$B$4:$C$106,2,FALSE)),\"\",VLOOKUP(AB99,勤務シフト一覧!$B$4:$C$106,2,FALSE))","v":""},{"$f":"IF(ISERROR(VLOOKUP(AC99,勤務シフト一覧!$B$4:$C$106,2,FALSE)),\"\",VLOOKUP(AC99,勤務シフト一覧!$B$4:$C$106,2,FALSE))","v":""},{"$f":"IF(ISERROR(VLOOKUP(AD99,勤務シフト一覧!$B$4:$C$106,2,FALSE)),\"\",VLOOKUP(AD99,勤務シフト一覧!$B$4:$C$106,2,FALSE))","v":""},{"$f":"IF(ISERROR(VLOOKUP(AE99,勤務シフト一覧!$B$4:$C$106,2,FALSE)),\"\",VLOOKUP(AE99,勤務シフト一覧!$B$4:$C$106,2,FALSE))","v":""},{"$f":"IF(ISERROR(VLOOKUP(AF99,勤務シフト一覧!$B$4:$C$106,2,FALSE)),\"\",VLOOKUP(AF99,勤務シフト一覧!$B$4:$C$106,2,FALSE))","v":""},{"$f":"IF(ISERROR(VLOOKUP(AG99,勤務シフト一覧!$B$4:$C$106,2,FALSE)),\"\",VLOOKUP(AG99,勤務シフト一覧!$B$4:$C$106,2,FALSE))","v":""},{"$f":"IF(ISERROR(VLOOKUP(AH99,勤務シフト一覧!$B$4:$C$106,2,FALSE)),\"\",VLOOKUP(AH99,勤務シフト一覧!$B$4:$C$106,2,FALSE))","v":""},null,{"$f":"IF(ISERROR(VLOOKUP(D99,勤務シフト一覧!$B$4:$D$106,3,FALSE)),\"\",VLOOKUP(D99,勤務シフト一覧!$B$4:$D$106,3,FALSE))","v":""},{"$f":"IF(ISERROR(VLOOKUP(E99,勤務シフト一覧!$B$4:$D$106,3,FALSE)),\"\",VLOOKUP(E99,勤務シフト一覧!$B$4:$D$106,3,FALSE))","v":""},{"$f":"IF(ISERROR(VLOOKUP(F99,勤務シフト一覧!$B$4:$D$106,3,FALSE)),\"\",VLOOKUP(F99,勤務シフト一覧!$B$4:$D$106,3,FALSE))","v":""},{"$f":"IF(ISERROR(VLOOKUP(G99,勤務シフト一覧!$B$4:$D$106,3,FALSE)),\"\",VLOOKUP(G99,勤務シフト一覧!$B$4:$D$106,3,FALSE))","v":""},{"$f":"IF(ISERROR(VLOOKUP(H99,勤務シフト一覧!$B$4:$D$106,3,FALSE)),\"\",VLOOKUP(H99,勤務シフト一覧!$B$4:$D$106,3,FALSE))","v":""},{"$f":"IF(ISERROR(VLOOKUP(I99,勤務シフト一覧!$B$4:$D$106,3,FALSE)),\"\",VLOOKUP(I99,勤務シフト一覧!$B$4:$D$106,3,FALSE))","v":""},{"$f":"IF(ISERROR(VLOOKUP(J99,勤務シフト一覧!$B$4:$D$106,3,FALSE)),\"\",VLOOKUP(J99,勤務シフト一覧!$B$4:$D$106,3,FALSE))","v":""},{"$f":"IF(ISERROR(VLOOKUP(K99,勤務シフト一覧!$B$4:$D$106,3,FALSE)),\"\",VLOOKUP(K99,勤務シフト一覧!$B$4:$D$106,3,FALSE))","v":""},{"$f":"IF(ISERROR(VLOOKUP(L99,勤務シフト一覧!$B$4:$D$106,3,FALSE)),\"\",VLOOKUP(L99,勤務シフト一覧!$B$4:$D$106,3,FALSE))","v":""},{"$f":"IF(ISERROR(VLOOKUP(M99,勤務シフト一覧!$B$4:$D$106,3,FALSE)),\"\",VLOOKUP(M99,勤務シフト一覧!$B$4:$D$106,3,FALSE))","v":""},{"$f":"IF(ISERROR(VLOOKUP(N99,勤務シフト一覧!$B$4:$D$106,3,FALSE)),\"\",VLOOKUP(N99,勤務シフト一覧!$B$4:$D$106,3,FALSE))","v":""},{"$f":"IF(ISERROR(VLOOKUP(O99,勤務シフト一覧!$B$4:$D$106,3,FALSE)),\"\",VLOOKUP(O99,勤務シフト一覧!$B$4:$D$106,3,FALSE))","v":""},{"$f":"IF(ISERROR(VLOOKUP(P99,勤務シフト一覧!$B$4:$D$106,3,FALSE)),\"\",VLOOKUP(P99,勤務シフト一覧!$B$4:$D$106,3,FALSE))","v":""},{"$f":"IF(ISERROR(VLOOKUP(Q99,勤務シフト一覧!$B$4:$D$106,3,FALSE)),\"\",VLOOKUP(Q99,勤務シフト一覧!$B$4:$D$106,3,FALSE))","v":""},{"$f":"IF(ISERROR(VLOOKUP(R99,勤務シフト一覧!$B$4:$D$106,3,FALSE)),\"\",VLOOKUP(R99,勤務シフト一覧!$B$4:$D$106,3,FALSE))","v":""},{"$f":"IF(ISERROR(VLOOKUP(S99,勤務シフト一覧!$B$4:$D$106,3,FALSE)),\"\",VLOOKUP(S99,勤務シフト一覧!$B$4:$D$106,3,FALSE))","v":""},{"$f":"IF(ISERROR(VLOOKUP(T99,勤務シフト一覧!$B$4:$D$106,3,FALSE)),\"\",VLOOKUP(T99,勤務シフト一覧!$B$4:$D$106,3,FALSE))","v":""},{"$f":"IF(ISERROR(VLOOKUP(U99,勤務シフト一覧!$B$4:$D$106,3,FALSE)),\"\",VLOOKUP(U99,勤務シフト一覧!$B$4:$D$106,3,FALSE))","v":""},{"$f":"IF(ISERROR(VLOOKUP(V99,勤務シフト一覧!$B$4:$D$106,3,FALSE)),\"\",VLOOKUP(V99,勤務シフト一覧!$B$4:$D$106,3,FALSE))","v":""},{"$f":"IF(ISERROR(VLOOKUP(W99,勤務シフト一覧!$B$4:$D$106,3,FALSE)),\"\",VLOOKUP(W99,勤務シフト一覧!$B$4:$D$106,3,FALSE))","v":""},{"$f":"IF(ISERROR(VLOOKUP(X99,勤務シフト一覧!$B$4:$D$106,3,FALSE)),\"\",VLOOKUP(X99,勤務シフト一覧!$B$4:$D$106,3,FALSE))","v":""},{"$f":"IF(ISERROR(VLOOKUP(Y99,勤務シフト一覧!$B$4:$D$106,3,FALSE)),\"\",VLOOKUP(Y99,勤務シフト一覧!$B$4:$D$106,3,FALSE))","v":""},{"$f":"IF(ISERROR(VLOOKUP(Z99,勤務シフト一覧!$B$4:$D$106,3,FALSE)),\"\",VLOOKUP(Z99,勤務シフト一覧!$B$4:$D$106,3,FALSE))","v":""},{"$f":"IF(ISERROR(VLOOKUP(AA99,勤務シフト一覧!$B$4:$D$106,3,FALSE)),\"\",VLOOKUP(AA99,勤務シフト一覧!$B$4:$D$106,3,FALSE))","v":""},{"$f":"IF(ISERROR(VLOOKUP(AB99,勤務シフト一覧!$B$4:$D$106,3,FALSE)),\"\",VLOOKUP(AB99,勤務シフト一覧!$B$4:$D$106,3,FALSE))","v":""},{"$f":"IF(ISERROR(VLOOKUP(AC99,勤務シフト一覧!$B$4:$D$106,3,FALSE)),\"\",VLOOKUP(AC99,勤務シフト一覧!$B$4:$D$106,3,FALSE))","v":""},{"$f":"IF(ISERROR(VLOOKUP(AD99,勤務シフト一覧!$B$4:$D$106,3,FALSE)),\"\",VLOOKUP(AD99,勤務シフト一覧!$B$4:$D$106,3,FALSE))","v":""},{"$f":"IF(ISERROR(VLOOKUP(AE99,勤務シフト一覧!$B$4:$D$106,3,FALSE)),\"\",VLOOKUP(AE99,勤務シフト一覧!$B$4:$D$106,3,FALSE))","v":""},{"$f":"IF(ISERROR(VLOOKUP(AF99,勤務シフト一覧!$B$4:$D$106,3,FALSE)),\"\",VLOOKUP(AF99,勤務シフト一覧!$B$4:$D$106,3,FALSE))","v":""},{"$f":"IF(ISERROR(VLOOKUP(AG99,勤務シフト一覧!$B$4:$D$106,3,FALSE)),\"\",VLOOKUP(AG99,勤務シフト一覧!$B$4:$D$106,3,FALSE))","v":""},{"$f":"IF(ISERROR(VLOOKUP(AH99,勤務シフト一覧!$B$4:$D$106,3,FALSE)),\"\",VLOOKUP(AH99,勤務シフト一覧!$B$4:$D$106,3,FALSE))","v":""},0,0,0,0,0,0,0,0,0,0,null,null,{"$f":"IF(勤務シフト一覧!$D100<>0,IF(勤務シフト一覧!$B100<> 0,勤務シフト一覧!$B100,\"\"),\"\")","v":""}]
[{"$f":"IF(LEN(職員一覧!B49)<>0,職員一覧!B49,\"\")","v":""},{"$f":"IF(LEN(職員一覧!C49)<>0,職員一覧!C49,\"\")","v":""},"予定",null,null,null,null,null,null,null,null,null,null,null,null,null,null,null,null,null,null,null,null,null,null,null,null,null,null,null,null,null,null,null,{"$f":"IF(ISERROR(VLOOKUP(D100,勤務シフト一覧!$B$4:$C$106,2,FALSE)),\"\",VLOOKUP(D100,勤務シフト一覧!$B$4:$C$106,2,FALSE))","v":""},{"$f":"IF(ISERROR(VLOOKUP(E100,勤務シフト一覧!$B$4:$C$106,2,FALSE)),\"\",VLOOKUP(E100,勤務シフト一覧!$B$4:$C$106,2,FALSE))","v":""},{"$f":"IF(ISERROR(VLOOKUP(F100,勤務シフト一覧!$B$4:$C$106,2,FALSE)),\"\",VLOOKUP(F100,勤務シフト一覧!$B$4:$C$106,2,FALSE))","v":""},{"$f":"IF(ISERROR(VLOOKUP(G100,勤務シフト一覧!$B$4:$C$106,2,FALSE)),\"\",VLOOKUP(G100,勤務シフト一覧!$B$4:$C$106,2,FALSE))","v":""},{"$f":"IF(ISERROR(VLOOKUP(H100,勤務シフト一覧!$B$4:$C$106,2,FALSE)),\"\",VLOOKUP(H100,勤務シフト一覧!$B$4:$C$106,2,FALSE))","v":""},{"$f":"IF(ISERROR(VLOOKUP(I100,勤務シフト一覧!$B$4:$C$106,2,FALSE)),\"\",VLOOKUP(I100,勤務シフト一覧!$B$4:$C$106,2,FALSE))","v":""},{"$f":"IF(ISERROR(VLOOKUP(J100,勤務シフト一覧!$B$4:$C$106,2,FALSE)),\"\",VLOOKUP(J100,勤務シフト一覧!$B$4:$C$106,2,FALSE))","v":""},{"$f":"IF(ISERROR(VLOOKUP(K100,勤務シフト一覧!$B$4:$C$106,2,FALSE)),\"\",VLOOKUP(K100,勤務シフト一覧!$B$4:$C$106,2,FALSE))","v":""},{"$f":"IF(ISERROR(VLOOKUP(L100,勤務シフト一覧!$B$4:$C$106,2,FALSE)),\"\",VLOOKUP(L100,勤務シフト一覧!$B$4:$C$106,2,FALSE))","v":""},{"$f":"IF(ISERROR(VLOOKUP(M100,勤務シフト一覧!$B$4:$C$106,2,FALSE)),\"\",VLOOKUP(M100,勤務シフト一覧!$B$4:$C$106,2,FALSE))","v":""},{"$f":"IF(ISERROR(VLOOKUP(N100,勤務シフト一覧!$B$4:$C$106,2,FALSE)),\"\",VLOOKUP(N100,勤務シフト一覧!$B$4:$C$106,2,FALSE))","v":""},{"$f":"IF(ISERROR(VLOOKUP(O100,勤務シフト一覧!$B$4:$C$106,2,FALSE)),\"\",VLOOKUP(O100,勤務シフト一覧!$B$4:$C$106,2,FALSE))","v":""},{"$f":"IF(ISERROR(VLOOKUP(P100,勤務シフト一覧!$B$4:$C$106,2,FALSE)),\"\",VLOOKUP(P100,勤務シフト一覧!$B$4:$C$106,2,FALSE))","v":""},{"$f":"IF(ISERROR(VLOOKUP(Q100,勤務シフト一覧!$B$4:$C$106,2,FALSE)),\"\",VLOOKUP(Q100,勤務シフト一覧!$B$4:$C$106,2,FALSE))","v":""},{"$f":"IF(ISERROR(VLOOKUP(R100,勤務シフト一覧!$B$4:$C$106,2,FALSE)),\"\",VLOOKUP(R100,勤務シフト一覧!$B$4:$C$106,2,FALSE))","v":""},{"$f":"IF(ISERROR(VLOOKUP(S100,勤務シフト一覧!$B$4:$C$106,2,FALSE)),\"\",VLOOKUP(S100,勤務シフト一覧!$B$4:$C$106,2,FALSE))","v":""},{"$f":"IF(ISERROR(VLOOKUP(T100,勤務シフト一覧!$B$4:$C$106,2,FALSE)),\"\",VLOOKUP(T100,勤務シフト一覧!$B$4:$C$106,2,FALSE))","v":""},{"$f":"IF(ISERROR(VLOOKUP(U100,勤務シフト一覧!$B$4:$C$106,2,FALSE)),\"\",VLOOKUP(U100,勤務シフト一覧!$B$4:$C$106,2,FALSE))","v":""},{"$f":"IF(ISERROR(VLOOKUP(V100,勤務シフト一覧!$B$4:$C$106,2,FALSE)),\"\",VLOOKUP(V100,勤務シフト一覧!$B$4:$C$106,2,FALSE))","v":""},{"$f":"IF(ISERROR(VLOOKUP(W100,勤務シフト一覧!$B$4:$C$106,2,FALSE)),\"\",VLOOKUP(W100,勤務シフト一覧!$B$4:$C$106,2,FALSE))","v":""},{"$f":"IF(ISERROR(VLOOKUP(X100,勤務シフト一覧!$B$4:$C$106,2,FALSE)),\"\",VLOOKUP(X100,勤務シフト一覧!$B$4:$C$106,2,FALSE))","v":""},{"$f":"IF(ISERROR(VLOOKUP(Y100,勤務シフト一覧!$B$4:$C$106,2,FALSE)),\"\",VLOOKUP(Y100,勤務シフト一覧!$B$4:$C$106,2,FALSE))","v":""},{"$f":"IF(ISERROR(VLOOKUP(Z100,勤務シフト一覧!$B$4:$C$106,2,FALSE)),\"\",VLOOKUP(Z100,勤務シフト一覧!$B$4:$C$106,2,FALSE))","v":""},{"$f":"IF(ISERROR(VLOOKUP(AA100,勤務シフト一覧!$B$4:$C$106,2,FALSE)),\"\",VLOOKUP(AA100,勤務シフト一覧!$B$4:$C$106,2,FALSE))","v":""},{"$f":"IF(ISERROR(VLOOKUP(AB100,勤務シフト一覧!$B$4:$C$106,2,FALSE)),\"\",VLOOKUP(AB100,勤務シフト一覧!$B$4:$C$106,2,FALSE))","v":""},{"$f":"IF(ISERROR(VLOOKUP(AC100,勤務シフト一覧!$B$4:$C$106,2,FALSE)),\"\",VLOOKUP(AC100,勤務シフト一覧!$B$4:$C$106,2,FALSE))","v":""},{"$f":"IF(ISERROR(VLOOKUP(AD100,勤務シフト一覧!$B$4:$C$106,2,FALSE)),\"\",VLOOKUP(AD100,勤務シフト一覧!$B$4:$C$106,2,FALSE))","v":""},{"$f":"IF(ISERROR(VLOOKUP(AE100,勤務シフト一覧!$B$4:$C$106,2,FALSE)),\"\",VLOOKUP(AE100,勤務シフト一覧!$B$4:$C$106,2,FALSE))","v":""},{"$f":"IF(ISERROR(VLOOKUP(AF100,勤務シフト一覧!$B$4:$C$106,2,FALSE)),\"\",VLOOKUP(AF100,勤務シフト一覧!$B$4:$C$106,2,FALSE))","v":""},{"$f":"IF(ISERROR(VLOOKUP(AG100,勤務シフト一覧!$B$4:$C$106,2,FALSE)),\"\",VLOOKUP(AG100,勤務シフト一覧!$B$4:$C$106,2,FALSE))","v":""},{"$f":"IF(ISERROR(VLOOKUP(AH100,勤務シフト一覧!$B$4:$C$106,2,FALSE)),\"\",VLOOKUP(AH100,勤務シフト一覧!$B$4:$C$106,2,FALSE))","v":""},null,{"$f":"IF(ISERROR(VLOOKUP(D100,勤務シフト一覧!$B$4:$D$106,3,FALSE)),\"\",VLOOKUP(D100,勤務シフト一覧!$B$4:$D$106,3,FALSE))","v":""},{"$f":"IF(ISERROR(VLOOKUP(E100,勤務シフト一覧!$B$4:$D$106,3,FALSE)),\"\",VLOOKUP(E100,勤務シフト一覧!$B$4:$D$106,3,FALSE))","v":""},{"$f":"IF(ISERROR(VLOOKUP(F100,勤務シフト一覧!$B$4:$D$106,3,FALSE)),\"\",VLOOKUP(F100,勤務シフト一覧!$B$4:$D$106,3,FALSE))","v":""},{"$f":"IF(ISERROR(VLOOKUP(G100,勤務シフト一覧!$B$4:$D$106,3,FALSE)),\"\",VLOOKUP(G100,勤務シフト一覧!$B$4:$D$106,3,FALSE))","v":""},{"$f":"IF(ISERROR(VLOOKUP(H100,勤務シフト一覧!$B$4:$D$106,3,FALSE)),\"\",VLOOKUP(H100,勤務シフト一覧!$B$4:$D$106,3,FALSE))","v":""},{"$f":"IF(ISERROR(VLOOKUP(I100,勤務シフト一覧!$B$4:$D$106,3,FALSE)),\"\",VLOOKUP(I100,勤務シフト一覧!$B$4:$D$106,3,FALSE))","v":""},{"$f":"IF(ISERROR(VLOOKUP(J100,勤務シフト一覧!$B$4:$D$106,3,FALSE)),\"\",VLOOKUP(J100,勤務シフト一覧!$B$4:$D$106,3,FALSE))","v":""},{"$f":"IF(ISERROR(VLOOKUP(K100,勤務シフト一覧!$B$4:$D$106,3,FALSE)),\"\",VLOOKUP(K100,勤務シフト一覧!$B$4:$D$106,3,FALSE))","v":""},{"$f":"IF(ISERROR(VLOOKUP(L100,勤務シフト一覧!$B$4:$D$106,3,FALSE)),\"\",VLOOKUP(L100,勤務シフト一覧!$B$4:$D$106,3,FALSE))","v":""},{"$f":"IF(ISERROR(VLOOKUP(M100,勤務シフト一覧!$B$4:$D$106,3,FALSE)),\"\",VLOOKUP(M100,勤務シフト一覧!$B$4:$D$106,3,FALSE))","v":""},{"$f":"IF(ISERROR(VLOOKUP(N100,勤務シフト一覧!$B$4:$D$106,3,FALSE)),\"\",VLOOKUP(N100,勤務シフト一覧!$B$4:$D$106,3,FALSE))","v":""},{"$f":"IF(ISERROR(VLOOKUP(O100,勤務シフト一覧!$B$4:$D$106,3,FALSE)),\"\",VLOOKUP(O100,勤務シフト一覧!$B$4:$D$106,3,FALSE))","v":""},{"$f":"IF(ISERROR(VLOOKUP(P100,勤務シフト一覧!$B$4:$D$106,3,FALSE)),\"\",VLOOKUP(P100,勤務シフト一覧!$B$4:$D$106,3,FALSE))","v":""},{"$f":"IF(ISERROR(VLOOKUP(Q100,勤務シフト一覧!$B$4:$D$106,3,FALSE)),\"\",VLOOKUP(Q100,勤務シフト一覧!$B$4:$D$106,3,FALSE))","v":""},{"$f":"IF(ISERROR(VLOOKUP(R100,勤務シフト一覧!$B$4:$D$106,3,FALSE)),\"\",VLOOKUP(R100,勤務シフト一覧!$B$4:$D$106,3,FALSE))","v":""},{"$f":"IF(ISERROR(VLOOKUP(S100,勤務シフト一覧!$B$4:$D$106,3,FALSE)),\"\",VLOOKUP(S100,勤務シフト一覧!$B$4:$D$106,3,FALSE))","v":""},{"$f":"IF(ISERROR(VLOOKUP(T100,勤務シフト一覧!$B$4:$D$106,3,FALSE)),\"\",VLOOKUP(T100,勤務シフト一覧!$B$4:$D$106,3,FALSE))","v":""},{"$f":"IF(ISERROR(VLOOKUP(U100,勤務シフト一覧!$B$4:$D$106,3,FALSE)),\"\",VLOOKUP(U100,勤務シフト一覧!$B$4:$D$106,3,FALSE))","v":""},{"$f":"IF(ISERROR(VLOOKUP(V100,勤務シフト一覧!$B$4:$D$106,3,FALSE)),\"\",VLOOKUP(V100,勤務シフト一覧!$B$4:$D$106,3,FALSE))","v":""},{"$f":"IF(ISERROR(VLOOKUP(W100,勤務シフト一覧!$B$4:$D$106,3,FALSE)),\"\",VLOOKUP(W100,勤務シフト一覧!$B$4:$D$106,3,FALSE))","v":""},{"$f":"IF(ISERROR(VLOOKUP(X100,勤務シフト一覧!$B$4:$D$106,3,FALSE)),\"\",VLOOKUP(X100,勤務シフト一覧!$B$4:$D$106,3,FALSE))","v":""},{"$f":"IF(ISERROR(VLOOKUP(Y100,勤務シフト一覧!$B$4:$D$106,3,FALSE)),\"\",VLOOKUP(Y100,勤務シフト一覧!$B$4:$D$106,3,FALSE))","v":""},{"$f":"IF(ISERROR(VLOOKUP(Z100,勤務シフト一覧!$B$4:$D$106,3,FALSE)),\"\",VLOOKUP(Z100,勤務シフト一覧!$B$4:$D$106,3,FALSE))","v":""},{"$f":"IF(ISERROR(VLOOKUP(AA100,勤務シフト一覧!$B$4:$D$106,3,FALSE)),\"\",VLOOKUP(AA100,勤務シフト一覧!$B$4:$D$106,3,FALSE))","v":""},{"$f":"IF(ISERROR(VLOOKUP(AB100,勤務シフト一覧!$B$4:$D$106,3,FALSE)),\"\",VLOOKUP(AB100,勤務シフト一覧!$B$4:$D$106,3,FALSE))","v":""},{"$f":"IF(ISERROR(VLOOKUP(AC100,勤務シフト一覧!$B$4:$D$106,3,FALSE)),\"\",VLOOKUP(AC100,勤務シフト一覧!$B$4:$D$106,3,FALSE))","v":""},{"$f":"IF(ISERROR(VLOOKUP(AD100,勤務シフト一覧!$B$4:$D$106,3,FALSE)),\"\",VLOOKUP(AD100,勤務シフト一覧!$B$4:$D$106,3,FALSE))","v":""},{"$f":"IF(ISERROR(VLOOKUP(AE100,勤務シフト一覧!$B$4:$D$106,3,FALSE)),\"\",VLOOKUP(AE100,勤務シフト一覧!$B$4:$D$106,3,FALSE))","v":""},{"$f":"IF(ISERROR(VLOOKUP(AF100,勤務シフト一覧!$B$4:$D$106,3,FALSE)),\"\",VLOOKUP(AF100,勤務シフト一覧!$B$4:$D$106,3,FALSE))","v":""},{"$f":"IF(ISERROR(VLOOKUP(AG100,勤務シフト一覧!$B$4:$D$106,3,FALSE)),\"\",VLOOKUP(AG100,勤務シフト一覧!$B$4:$D$106,3,FALSE))","v":""},{"$f":"IF(ISERROR(VLOOKUP(AH100,勤務シフト一覧!$B$4:$D$106,3,FALSE)),\"\",VLOOKUP(AH100,勤務シフト一覧!$B$4:$D$106,3,FALSE))","v":""},0,0,0,0,0,0,0,0,0,0,{"$f":"IF(LEN(職員一覧!D49)<>0,職員一覧!DD9,\"\")","v":""},null,{"$f":"IF(勤務シフト一覧!$D101<>0,IF(勤務シフト一覧!$B101<> 0,勤務シフト一覧!$B101,\"\"),\"\")","v":""}]
[null,null,"実施",null,null,null,null,null,null,null,null,null,null,null,null,null,null,null,null,null,null,null,null,null,null,null,null,null,null,null,null,null,null,null,{"$f":"IF(ISERROR(VLOOKUP(D101,勤務シフト一覧!$B$4:$C$106,2,FALSE)),\"\",VLOOKUP(D101,勤務シフト一覧!$B$4:$C$106,2,FALSE))","v":""},{"$f":"IF(ISERROR(VLOOKUP(E101,勤務シフト一覧!$B$4:$C$106,2,FALSE)),\"\",VLOOKUP(E101,勤務シフト一覧!$B$4:$C$106,2,FALSE))","v":""},{"$f":"IF(ISERROR(VLOOKUP(F101,勤務シフト一覧!$B$4:$C$106,2,FALSE)),\"\",VLOOKUP(F101,勤務シフト一覧!$B$4:$C$106,2,FALSE))","v":""},{"$f":"IF(ISERROR(VLOOKUP(G101,勤務シフト一覧!$B$4:$C$106,2,FALSE)),\"\",VLOOKUP(G101,勤務シフト一覧!$B$4:$C$106,2,FALSE))","v":""},{"$f":"IF(ISERROR(VLOOKUP(H101,勤務シフト一覧!$B$4:$C$106,2,FALSE)),\"\",VLOOKUP(H101,勤務シフト一覧!$B$4:$C$106,2,FALSE))","v":""},{"$f":"IF(ISERROR(VLOOKUP(I101,勤務シフト一覧!$B$4:$C$106,2,FALSE)),\"\",VLOOKUP(I101,勤務シフト一覧!$B$4:$C$106,2,FALSE))","v":""},{"$f":"IF(ISERROR(VLOOKUP(J101,勤務シフト一覧!$B$4:$C$106,2,FALSE)),\"\",VLOOKUP(J101,勤務シフト一覧!$B$4:$C$106,2,FALSE))","v":""},{"$f":"IF(ISERROR(VLOOKUP(K101,勤務シフト一覧!$B$4:$C$106,2,FALSE)),\"\",VLOOKUP(K101,勤務シフト一覧!$B$4:$C$106,2,FALSE))","v":""},{"$f":"IF(ISERROR(VLOOKUP(L101,勤務シフト一覧!$B$4:$C$106,2,FALSE)),\"\",VLOOKUP(L101,勤務シフト一覧!$B$4:$C$106,2,FALSE))","v":""},{"$f":"IF(ISERROR(VLOOKUP(M101,勤務シフト一覧!$B$4:$C$106,2,FALSE)),\"\",VLOOKUP(M101,勤務シフト一覧!$B$4:$C$106,2,FALSE))","v":""},{"$f":"IF(ISERROR(VLOOKUP(N101,勤務シフト一覧!$B$4:$C$106,2,FALSE)),\"\",VLOOKUP(N101,勤務シフト一覧!$B$4:$C$106,2,FALSE))","v":""},{"$f":"IF(ISERROR(VLOOKUP(O101,勤務シフト一覧!$B$4:$C$106,2,FALSE)),\"\",VLOOKUP(O101,勤務シフト一覧!$B$4:$C$106,2,FALSE))","v":""},{"$f":"IF(ISERROR(VLOOKUP(P101,勤務シフト一覧!$B$4:$C$106,2,FALSE)),\"\",VLOOKUP(P101,勤務シフト一覧!$B$4:$C$106,2,FALSE))","v":""},{"$f":"IF(ISERROR(VLOOKUP(Q101,勤務シフト一覧!$B$4:$C$106,2,FALSE)),\"\",VLOOKUP(Q101,勤務シフト一覧!$B$4:$C$106,2,FALSE))","v":""},{"$f":"IF(ISERROR(VLOOKUP(R101,勤務シフト一覧!$B$4:$C$106,2,FALSE)),\"\",VLOOKUP(R101,勤務シフト一覧!$B$4:$C$106,2,FALSE))","v":""},{"$f":"IF(ISERROR(VLOOKUP(S101,勤務シフト一覧!$B$4:$C$106,2,FALSE)),\"\",VLOOKUP(S101,勤務シフト一覧!$B$4:$C$106,2,FALSE))","v":""},{"$f":"IF(ISERROR(VLOOKUP(T101,勤務シフト一覧!$B$4:$C$106,2,FALSE)),\"\",VLOOKUP(T101,勤務シフト一覧!$B$4:$C$106,2,FALSE))","v":""},{"$f":"IF(ISERROR(VLOOKUP(U101,勤務シフト一覧!$B$4:$C$106,2,FALSE)),\"\",VLOOKUP(U101,勤務シフト一覧!$B$4:$C$106,2,FALSE))","v":""},{"$f":"IF(ISERROR(VLOOKUP(V101,勤務シフト一覧!$B$4:$C$106,2,FALSE)),\"\",VLOOKUP(V101,勤務シフト一覧!$B$4:$C$106,2,FALSE))","v":""},{"$f":"IF(ISERROR(VLOOKUP(W101,勤務シフト一覧!$B$4:$C$106,2,FALSE)),\"\",VLOOKUP(W101,勤務シフト一覧!$B$4:$C$106,2,FALSE))","v":""},{"$f":"IF(ISERROR(VLOOKUP(X101,勤務シフト一覧!$B$4:$C$106,2,FALSE)),\"\",VLOOKUP(X101,勤務シフト一覧!$B$4:$C$106,2,FALSE))","v":""},{"$f":"IF(ISERROR(VLOOKUP(Y101,勤務シフト一覧!$B$4:$C$106,2,FALSE)),\"\",VLOOKUP(Y101,勤務シフト一覧!$B$4:$C$106,2,FALSE))","v":""},{"$f":"IF(ISERROR(VLOOKUP(Z101,勤務シフト一覧!$B$4:$C$106,2,FALSE)),\"\",VLOOKUP(Z101,勤務シフト一覧!$B$4:$C$106,2,FALSE))","v":""},{"$f":"IF(ISERROR(VLOOKUP(AA101,勤務シフト一覧!$B$4:$C$106,2,FALSE)),\"\",VLOOKUP(AA101,勤務シフト一覧!$B$4:$C$106,2,FALSE))","v":""},{"$f":"IF(ISERROR(VLOOKUP(AB101,勤務シフト一覧!$B$4:$C$106,2,FALSE)),\"\",VLOOKUP(AB101,勤務シフト一覧!$B$4:$C$106,2,FALSE))","v":""},{"$f":"IF(ISERROR(VLOOKUP(AC101,勤務シフト一覧!$B$4:$C$106,2,FALSE)),\"\",VLOOKUP(AC101,勤務シフト一覧!$B$4:$C$106,2,FALSE))","v":""},{"$f":"IF(ISERROR(VLOOKUP(AD101,勤務シフト一覧!$B$4:$C$106,2,FALSE)),\"\",VLOOKUP(AD101,勤務シフト一覧!$B$4:$C$106,2,FALSE))","v":""},{"$f":"IF(ISERROR(VLOOKUP(AE101,勤務シフト一覧!$B$4:$C$106,2,FALSE)),\"\",VLOOKUP(AE101,勤務シフト一覧!$B$4:$C$106,2,FALSE))","v":""},{"$f":"IF(ISERROR(VLOOKUP(AF101,勤務シフト一覧!$B$4:$C$106,2,FALSE)),\"\",VLOOKUP(AF101,勤務シフト一覧!$B$4:$C$106,2,FALSE))","v":""},{"$f":"IF(ISERROR(VLOOKUP(AG101,勤務シフト一覧!$B$4:$C$106,2,FALSE)),\"\",VLOOKUP(AG101,勤務シフト一覧!$B$4:$C$106,2,FALSE))","v":""},{"$f":"IF(ISERROR(VLOOKUP(AH101,勤務シフト一覧!$B$4:$C$106,2,FALSE)),\"\",VLOOKUP(AH101,勤務シフト一覧!$B$4:$C$106,2,FALSE))","v":""},null,{"$f":"IF(ISERROR(VLOOKUP(D101,勤務シフト一覧!$B$4:$D$106,3,FALSE)),\"\",VLOOKUP(D101,勤務シフト一覧!$B$4:$D$106,3,FALSE))","v":""},{"$f":"IF(ISERROR(VLOOKUP(E101,勤務シフト一覧!$B$4:$D$106,3,FALSE)),\"\",VLOOKUP(E101,勤務シフト一覧!$B$4:$D$106,3,FALSE))","v":""},{"$f":"IF(ISERROR(VLOOKUP(F101,勤務シフト一覧!$B$4:$D$106,3,FALSE)),\"\",VLOOKUP(F101,勤務シフト一覧!$B$4:$D$106,3,FALSE))","v":""},{"$f":"IF(ISERROR(VLOOKUP(G101,勤務シフト一覧!$B$4:$D$106,3,FALSE)),\"\",VLOOKUP(G101,勤務シフト一覧!$B$4:$D$106,3,FALSE))","v":""},{"$f":"IF(ISERROR(VLOOKUP(H101,勤務シフト一覧!$B$4:$D$106,3,FALSE)),\"\",VLOOKUP(H101,勤務シフト一覧!$B$4:$D$106,3,FALSE))","v":""},{"$f":"IF(ISERROR(VLOOKUP(I101,勤務シフト一覧!$B$4:$D$106,3,FALSE)),\"\",VLOOKUP(I101,勤務シフト一覧!$B$4:$D$106,3,FALSE))","v":""},{"$f":"IF(ISERROR(VLOOKUP(J101,勤務シフト一覧!$B$4:$D$106,3,FALSE)),\"\",VLOOKUP(J101,勤務シフト一覧!$B$4:$D$106,3,FALSE))","v":""},{"$f":"IF(ISERROR(VLOOKUP(K101,勤務シフト一覧!$B$4:$D$106,3,FALSE)),\"\",VLOOKUP(K101,勤務シフト一覧!$B$4:$D$106,3,FALSE))","v":""},{"$f":"IF(ISERROR(VLOOKUP(L101,勤務シフト一覧!$B$4:$D$106,3,FALSE)),\"\",VLOOKUP(L101,勤務シフト一覧!$B$4:$D$106,3,FALSE))","v":""},{"$f":"IF(ISERROR(VLOOKUP(M101,勤務シフト一覧!$B$4:$D$106,3,FALSE)),\"\",VLOOKUP(M101,勤務シフト一覧!$B$4:$D$106,3,FALSE))","v":""},{"$f":"IF(ISERROR(VLOOKUP(N101,勤務シフト一覧!$B$4:$D$106,3,FALSE)),\"\",VLOOKUP(N101,勤務シフト一覧!$B$4:$D$106,3,FALSE))","v":""},{"$f":"IF(ISERROR(VLOOKUP(O101,勤務シフト一覧!$B$4:$D$106,3,FALSE)),\"\",VLOOKUP(O101,勤務シフト一覧!$B$4:$D$106,3,FALSE))","v":""},{"$f":"IF(ISERROR(VLOOKUP(P101,勤務シフト一覧!$B$4:$D$106,3,FALSE)),\"\",VLOOKUP(P101,勤務シフト一覧!$B$4:$D$106,3,FALSE))","v":""},{"$f":"IF(ISERROR(VLOOKUP(Q101,勤務シフト一覧!$B$4:$D$106,3,FALSE)),\"\",VLOOKUP(Q101,勤務シフト一覧!$B$4:$D$106,3,FALSE))","v":""},{"$f":"IF(ISERROR(VLOOKUP(R101,勤務シフト一覧!$B$4:$D$106,3,FALSE)),\"\",VLOOKUP(R101,勤務シフト一覧!$B$4:$D$106,3,FALSE))","v":""},{"$f":"IF(ISERROR(VLOOKUP(S101,勤務シフト一覧!$B$4:$D$106,3,FALSE)),\"\",VLOOKUP(S101,勤務シフト一覧!$B$4:$D$106,3,FALSE))","v":""},{"$f":"IF(ISERROR(VLOOKUP(T101,勤務シフト一覧!$B$4:$D$106,3,FALSE)),\"\",VLOOKUP(T101,勤務シフト一覧!$B$4:$D$106,3,FALSE))","v":""},{"$f":"IF(ISERROR(VLOOKUP(U101,勤務シフト一覧!$B$4:$D$106,3,FALSE)),\"\",VLOOKUP(U101,勤務シフト一覧!$B$4:$D$106,3,FALSE))","v":""},{"$f":"IF(ISERROR(VLOOKUP(V101,勤務シフト一覧!$B$4:$D$106,3,FALSE)),\"\",VLOOKUP(V101,勤務シフト一覧!$B$4:$D$106,3,FALSE))","v":""},{"$f":"IF(ISERROR(VLOOKUP(W101,勤務シフト一覧!$B$4:$D$106,3,FALSE)),\"\",VLOOKUP(W101,勤務シフト一覧!$B$4:$D$106,3,FALSE))","v":""},{"$f":"IF(ISERROR(VLOOKUP(X101,勤務シフト一覧!$B$4:$D$106,3,FALSE)),\"\",VLOOKUP(X101,勤務シフト一覧!$B$4:$D$106,3,FALSE))","v":""},{"$f":"IF(ISERROR(VLOOKUP(Y101,勤務シフト一覧!$B$4:$D$106,3,FALSE)),\"\",VLOOKUP(Y101,勤務シフト一覧!$B$4:$D$106,3,FALSE))","v":""},{"$f":"IF(ISERROR(VLOOKUP(Z101,勤務シフト一覧!$B$4:$D$106,3,FALSE)),\"\",VLOOKUP(Z101,勤務シフト一覧!$B$4:$D$106,3,FALSE))","v":""},{"$f":"IF(ISERROR(VLOOKUP(AA101,勤務シフト一覧!$B$4:$D$106,3,FALSE)),\"\",VLOOKUP(AA101,勤務シフト一覧!$B$4:$D$106,3,FALSE))","v":""},{"$f":"IF(ISERROR(VLOOKUP(AB101,勤務シフト一覧!$B$4:$D$106,3,FALSE)),\"\",VLOOKUP(AB101,勤務シフト一覧!$B$4:$D$106,3,FALSE))","v":""},{"$f":"IF(ISERROR(VLOOKUP(AC101,勤務シフト一覧!$B$4:$D$106,3,FALSE)),\"\",VLOOKUP(AC101,勤務シフト一覧!$B$4:$D$106,3,FALSE))","v":""},{"$f":"IF(ISERROR(VLOOKUP(AD101,勤務シフト一覧!$B$4:$D$106,3,FALSE)),\"\",VLOOKUP(AD101,勤務シフト一覧!$B$4:$D$106,3,FALSE))","v":""},{"$f":"IF(ISERROR(VLOOKUP(AE101,勤務シフト一覧!$B$4:$D$106,3,FALSE)),\"\",VLOOKUP(AE101,勤務シフト一覧!$B$4:$D$106,3,FALSE))","v":""},{"$f":"IF(ISERROR(VLOOKUP(AF101,勤務シフト一覧!$B$4:$D$106,3,FALSE)),\"\",VLOOKUP(AF101,勤務シフト一覧!$B$4:$D$106,3,FALSE))","v":""},{"$f":"IF(ISERROR(VLOOKUP(AG101,勤務シフト一覧!$B$4:$D$106,3,FALSE)),\"\",VLOOKUP(AG101,勤務シフト一覧!$B$4:$D$106,3,FALSE))","v":""},{"$f":"IF(ISERROR(VLOOKUP(AH101,勤務シフト一覧!$B$4:$D$106,3,FALSE)),\"\",VLOOKUP(AH101,勤務シフト一覧!$B$4:$D$106,3,FALSE))","v":""},0,0,0,0,0,0,0,0,0,0,null,null,{"$f":"IF(勤務シフト一覧!$D102<>0,IF(勤務シフト一覧!$B102<> 0,勤務シフト一覧!$B102,\"\"),\"\")","v":""}]
[{"$f":"IF(LEN(職員一覧!B50)<>0,職員一覧!B50,\"\")","v":""},{"$f":"IF(LEN(職員一覧!C50)<>0,職員一覧!C50,\"\")","v":""},"予定",null,null,null,null,null,null,null,null,null,null,null,null,null,null,null,null,null,null,null,null,null,null,null,null,null,null,null,null,null,null,null,{"$f":"IF(ISERROR(VLOOKUP(D102,勤務シフト一覧!$B$4:$C$106,2,FALSE)),\"\",VLOOKUP(D102,勤務シフト一覧!$B$4:$C$106,2,FALSE))","v":""},{"$f":"IF(ISERROR(VLOOKUP(E102,勤務シフト一覧!$B$4:$C$106,2,FALSE)),\"\",VLOOKUP(E102,勤務シフト一覧!$B$4:$C$106,2,FALSE))","v":""},{"$f":"IF(ISERROR(VLOOKUP(F102,勤務シフト一覧!$B$4:$C$106,2,FALSE)),\"\",VLOOKUP(F102,勤務シフト一覧!$B$4:$C$106,2,FALSE))","v":""},{"$f":"IF(ISERROR(VLOOKUP(G102,勤務シフト一覧!$B$4:$C$106,2,FALSE)),\"\",VLOOKUP(G102,勤務シフト一覧!$B$4:$C$106,2,FALSE))","v":""},{"$f":"IF(ISERROR(VLOOKUP(H102,勤務シフト一覧!$B$4:$C$106,2,FALSE)),\"\",VLOOKUP(H102,勤務シフト一覧!$B$4:$C$106,2,FALSE))","v":""},{"$f":"IF(ISERROR(VLOOKUP(I102,勤務シフト一覧!$B$4:$C$106,2,FALSE)),\"\",VLOOKUP(I102,勤務シフト一覧!$B$4:$C$106,2,FALSE))","v":""},{"$f":"IF(ISERROR(VLOOKUP(J102,勤務シフト一覧!$B$4:$C$106,2,FALSE)),\"\",VLOOKUP(J102,勤務シフト一覧!$B$4:$C$106,2,FALSE))","v":""},{"$f":"IF(ISERROR(VLOOKUP(K102,勤務シフト一覧!$B$4:$C$106,2,FALSE)),\"\",VLOOKUP(K102,勤務シフト一覧!$B$4:$C$106,2,FALSE))","v":""},{"$f":"IF(ISERROR(VLOOKUP(L102,勤務シフト一覧!$B$4:$C$106,2,FALSE)),\"\",VLOOKUP(L102,勤務シフト一覧!$B$4:$C$106,2,FALSE))","v":""},{"$f":"IF(ISERROR(VLOOKUP(M102,勤務シフト一覧!$B$4:$C$106,2,FALSE)),\"\",VLOOKUP(M102,勤務シフト一覧!$B$4:$C$106,2,FALSE))","v":""},{"$f":"IF(ISERROR(VLOOKUP(N102,勤務シフト一覧!$B$4:$C$106,2,FALSE)),\"\",VLOOKUP(N102,勤務シフト一覧!$B$4:$C$106,2,FALSE))","v":""},{"$f":"IF(ISERROR(VLOOKUP(O102,勤務シフト一覧!$B$4:$C$106,2,FALSE)),\"\",VLOOKUP(O102,勤務シフト一覧!$B$4:$C$106,2,FALSE))","v":""},{"$f":"IF(ISERROR(VLOOKUP(P102,勤務シフト一覧!$B$4:$C$106,2,FALSE)),\"\",VLOOKUP(P102,勤務シフト一覧!$B$4:$C$106,2,FALSE))","v":""},{"$f":"IF(ISERROR(VLOOKUP(Q102,勤務シフト一覧!$B$4:$C$106,2,FALSE)),\"\",VLOOKUP(Q102,勤務シフト一覧!$B$4:$C$106,2,FALSE))","v":""},{"$f":"IF(ISERROR(VLOOKUP(R102,勤務シフト一覧!$B$4:$C$106,2,FALSE)),\"\",VLOOKUP(R102,勤務シフト一覧!$B$4:$C$106,2,FALSE))","v":""},{"$f":"IF(ISERROR(VLOOKUP(S102,勤務シフト一覧!$B$4:$C$106,2,FALSE)),\"\",VLOOKUP(S102,勤務シフト一覧!$B$4:$C$106,2,FALSE))","v":""},{"$f":"IF(ISERROR(VLOOKUP(T102,勤務シフト一覧!$B$4:$C$106,2,FALSE)),\"\",VLOOKUP(T102,勤務シフト一覧!$B$4:$C$106,2,FALSE))","v":""},{"$f":"IF(ISERROR(VLOOKUP(U102,勤務シフト一覧!$B$4:$C$106,2,FALSE)),\"\",VLOOKUP(U102,勤務シフト一覧!$B$4:$C$106,2,FALSE))","v":""},{"$f":"IF(ISERROR(VLOOKUP(V102,勤務シフト一覧!$B$4:$C$106,2,FALSE)),\"\",VLOOKUP(V102,勤務シフト一覧!$B$4:$C$106,2,FALSE))","v":""},{"$f":"IF(ISERROR(VLOOKUP(W102,勤務シフト一覧!$B$4:$C$106,2,FALSE)),\"\",VLOOKUP(W102,勤務シフト一覧!$B$4:$C$106,2,FALSE))","v":""},{"$f":"IF(ISERROR(VLOOKUP(X102,勤務シフト一覧!$B$4:$C$106,2,FALSE)),\"\",VLOOKUP(X102,勤務シフト一覧!$B$4:$C$106,2,FALSE))","v":""},{"$f":"IF(ISERROR(VLOOKUP(Y102,勤務シフト一覧!$B$4:$C$106,2,FALSE)),\"\",VLOOKUP(Y102,勤務シフト一覧!$B$4:$C$106,2,FALSE))","v":""},{"$f":"IF(ISERROR(VLOOKUP(Z102,勤務シフト一覧!$B$4:$C$106,2,FALSE)),\"\",VLOOKUP(Z102,勤務シフト一覧!$B$4:$C$106,2,FALSE))","v":""},{"$f":"IF(ISERROR(VLOOKUP(AA102,勤務シフト一覧!$B$4:$C$106,2,FALSE)),\"\",VLOOKUP(AA102,勤務シフト一覧!$B$4:$C$106,2,FALSE))","v":""},{"$f":"IF(ISERROR(VLOOKUP(AB102,勤務シフト一覧!$B$4:$C$106,2,FALSE)),\"\",VLOOKUP(AB102,勤務シフト一覧!$B$4:$C$106,2,FALSE))","v":""},{"$f":"IF(ISERROR(VLOOKUP(AC102,勤務シフト一覧!$B$4:$C$106,2,FALSE)),\"\",VLOOKUP(AC102,勤務シフト一覧!$B$4:$C$106,2,FALSE))","v":""},{"$f":"IF(ISERROR(VLOOKUP(AD102,勤務シフト一覧!$B$4:$C$106,2,FALSE)),\"\",VLOOKUP(AD102,勤務シフト一覧!$B$4:$C$106,2,FALSE))","v":""},{"$f":"IF(ISERROR(VLOOKUP(AE102,勤務シフト一覧!$B$4:$C$106,2,FALSE)),\"\",VLOOKUP(AE102,勤務シフト一覧!$B$4:$C$106,2,FALSE))","v":""},{"$f":"IF(ISERROR(VLOOKUP(AF102,勤務シフト一覧!$B$4:$C$106,2,FALSE)),\"\",VLOOKUP(AF102,勤務シフト一覧!$B$4:$C$106,2,FALSE))","v":""},{"$f":"IF(ISERROR(VLOOKUP(AG102,勤務シフト一覧!$B$4:$C$106,2,FALSE)),\"\",VLOOKUP(AG102,勤務シフト一覧!$B$4:$C$106,2,FALSE))","v":""},{"$f":"IF(ISERROR(VLOOKUP(AH102,勤務シフト一覧!$B$4:$C$106,2,FALSE)),\"\",VLOOKUP(AH102,勤務シフト一覧!$B$4:$C$106,2,FALSE))","v":""},null,{"$f":"IF(ISERROR(VLOOKUP(D102,勤務シフト一覧!$B$4:$D$106,3,FALSE)),\"\",VLOOKUP(D102,勤務シフト一覧!$B$4:$D$106,3,FALSE))","v":""},{"$f":"IF(ISERROR(VLOOKUP(E102,勤務シフト一覧!$B$4:$D$106,3,FALSE)),\"\",VLOOKUP(E102,勤務シフト一覧!$B$4:$D$106,3,FALSE))","v":""},{"$f":"IF(ISERROR(VLOOKUP(F102,勤務シフト一覧!$B$4:$D$106,3,FALSE)),\"\",VLOOKUP(F102,勤務シフト一覧!$B$4:$D$106,3,FALSE))","v":""},{"$f":"IF(ISERROR(VLOOKUP(G102,勤務シフト一覧!$B$4:$D$106,3,FALSE)),\"\",VLOOKUP(G102,勤務シフト一覧!$B$4:$D$106,3,FALSE))","v":""},{"$f":"IF(ISERROR(VLOOKUP(H102,勤務シフト一覧!$B$4:$D$106,3,FALSE)),\"\",VLOOKUP(H102,勤務シフト一覧!$B$4:$D$106,3,FALSE))","v":""},{"$f":"IF(ISERROR(VLOOKUP(I102,勤務シフト一覧!$B$4:$D$106,3,FALSE)),\"\",VLOOKUP(I102,勤務シフト一覧!$B$4:$D$106,3,FALSE))","v":""},{"$f":"IF(ISERROR(VLOOKUP(J102,勤務シフト一覧!$B$4:$D$106,3,FALSE)),\"\",VLOOKUP(J102,勤務シフト一覧!$B$4:$D$106,3,FALSE))","v":""},{"$f":"IF(ISERROR(VLOOKUP(K102,勤務シフト一覧!$B$4:$D$106,3,FALSE)),\"\",VLOOKUP(K102,勤務シフト一覧!$B$4:$D$106,3,FALSE))","v":""},{"$f":"IF(ISERROR(VLOOKUP(L102,勤務シフト一覧!$B$4:$D$106,3,FALSE)),\"\",VLOOKUP(L102,勤務シフト一覧!$B$4:$D$106,3,FALSE))","v":""},{"$f":"IF(ISERROR(VLOOKUP(M102,勤務シフト一覧!$B$4:$D$106,3,FALSE)),\"\",VLOOKUP(M102,勤務シフト一覧!$B$4:$D$106,3,FALSE))","v":""},{"$f":"IF(ISERROR(VLOOKUP(N102,勤務シフト一覧!$B$4:$D$106,3,FALSE)),\"\",VLOOKUP(N102,勤務シフト一覧!$B$4:$D$106,3,FALSE))","v":""},{"$f":"IF(ISERROR(VLOOKUP(O102,勤務シフト一覧!$B$4:$D$106,3,FALSE)),\"\",VLOOKUP(O102,勤務シフト一覧!$B$4:$D$106,3,FALSE))","v":""},{"$f":"IF(ISERROR(VLOOKUP(P102,勤務シフト一覧!$B$4:$D$106,3,FALSE)),\"\",VLOOKUP(P102,勤務シフト一覧!$B$4:$D$106,3,FALSE))","v":""},{"$f":"IF(ISERROR(VLOOKUP(Q102,勤務シフト一覧!$B$4:$D$106,3,FALSE)),\"\",VLOOKUP(Q102,勤務シフト一覧!$B$4:$D$106,3,FALSE))","v":""},{"$f":"IF(ISERROR(VLOOKUP(R102,勤務シフト一覧!$B$4:$D$106,3,FALSE)),\"\",VLOOKUP(R102,勤務シフト一覧!$B$4:$D$106,3,FALSE))","v":""},{"$f":"IF(ISERROR(VLOOKUP(S102,勤務シフト一覧!$B$4:$D$106,3,FALSE)),\"\",VLOOKUP(S102,勤務シフト一覧!$B$4:$D$106,3,FALSE))","v":""},{"$f":"IF(ISERROR(VLOOKUP(T102,勤務シフト一覧!$B$4:$D$106,3,FALSE)),\"\",VLOOKUP(T102,勤務シフト一覧!$B$4:$D$106,3,FALSE))","v":""},{"$f":"IF(ISERROR(VLOOKUP(U102,勤務シフト一覧!$B$4:$D$106,3,FALSE)),\"\",VLOOKUP(U102,勤務シフト一覧!$B$4:$D$106,3,FALSE))","v":""},{"$f":"IF(ISERROR(VLOOKUP(V102,勤務シフト一覧!$B$4:$D$106,3,FALSE)),\"\",VLOOKUP(V102,勤務シフト一覧!$B$4:$D$106,3,FALSE))","v":""},{"$f":"IF(ISERROR(VLOOKUP(W102,勤務シフト一覧!$B$4:$D$106,3,FALSE)),\"\",VLOOKUP(W102,勤務シフト一覧!$B$4:$D$106,3,FALSE))","v":""},{"$f":"IF(ISERROR(VLOOKUP(X102,勤務シフト一覧!$B$4:$D$106,3,FALSE)),\"\",VLOOKUP(X102,勤務シフト一覧!$B$4:$D$106,3,FALSE))","v":""},{"$f":"IF(ISERROR(VLOOKUP(Y102,勤務シフト一覧!$B$4:$D$106,3,FALSE)),\"\",VLOOKUP(Y102,勤務シフト一覧!$B$4:$D$106,3,FALSE))","v":""},{"$f":"IF(ISERROR(VLOOKUP(Z102,勤務シフト一覧!$B$4:$D$106,3,FALSE)),\"\",VLOOKUP(Z102,勤務シフト一覧!$B$4:$D$106,3,FALSE))","v":""},{"$f":"IF(ISERROR(VLOOKUP(AA102,勤務シフト一覧!$B$4:$D$106,3,FALSE)),\"\",VLOOKUP(AA102,勤務シフト一覧!$B$4:$D$106,3,FALSE))","v":""},{"$f":"IF(ISERROR(VLOOKUP(AB102,勤務シフト一覧!$B$4:$D$106,3,FALSE)),\"\",VLOOKUP(AB102,勤務シフト一覧!$B$4:$D$106,3,FALSE))","v":""},{"$f":"IF(ISERROR(VLOOKUP(AC102,勤務シフト一覧!$B$4:$D$106,3,FALSE)),\"\",VLOOKUP(AC102,勤務シフト一覧!$B$4:$D$106,3,FALSE))","v":""},{"$f":"IF(ISERROR(VLOOKUP(AD102,勤務シフト一覧!$B$4:$D$106,3,FALSE)),\"\",VLOOKUP(AD102,勤務シフト一覧!$B$4:$D$106,3,FALSE))","v":""},{"$f":"IF(ISERROR(VLOOKUP(AE102,勤務シフト一覧!$B$4:$D$106,3,FALSE)),\"\",VLOOKUP(AE102,勤務シフト一覧!$B$4:$D$106,3,FALSE))","v":""},{"$f":"IF(ISERROR(VLOOKUP(AF102,勤務シフト一覧!$B$4:$D$106,3,FALSE)),\"\",VLOOKUP(AF102,勤務シフト一覧!$B$4:$D$106,3,FALSE))","v":""},{"$f":"IF(ISERROR(VLOOKUP(AG102,勤務シフト一覧!$B$4:$D$106,3,FALSE)),\"\",VLOOKUP(AG102,勤務シフト一覧!$B$4:$D$106,3,FALSE))","v":""},{"$f":"IF(ISERROR(VLOOKUP(AH102,勤務シフト一覧!$B$4:$D$106,3,FALSE)),\"\",VLOOKUP(AH102,勤務シフト一覧!$B$4:$D$106,3,FALSE))","v":""},0,0,0,0,0,0,0,0,0,0,{"$f":"IF(LEN(職員一覧!D50)<>0,職員一覧!D50,\"\")","v":""},null,{"$f":"IF(勤務シフト一覧!$D103<>0,IF(勤務シフト一覧!$B103<> 0,勤務シフト一覧!$B103,\"\"),\"\")","v":""}]
[null,null,"実施",null,null,null,null,null,null,null,null,null,null,null,null,null,null,null,null,null,null,null,null,null,null,null,null,null,null,null,null,null,null,null,{"$f":"IF(ISERROR(VLOOKUP(D103,勤務シフト一覧!$B$4:$C$106,2,FALSE)),\"\",VLOOKUP(D103,勤務シフト一覧!$B$4:$C$106,2,FALSE))","v":""},{"$f":"IF(ISERROR(VLOOKUP(E103,勤務シフト一覧!$B$4:$C$106,2,FALSE)),\"\",VLOOKUP(E103,勤務シフト一覧!$B$4:$C$106,2,FALSE))","v":""},{"$f":"IF(ISERROR(VLOOKUP(F103,勤務シフト一覧!$B$4:$C$106,2,FALSE)),\"\",VLOOKUP(F103,勤務シフト一覧!$B$4:$C$106,2,FALSE))","v":""},{"$f":"IF(ISERROR(VLOOKUP(G103,勤務シフト一覧!$B$4:$C$106,2,FALSE)),\"\",VLOOKUP(G103,勤務シフト一覧!$B$4:$C$106,2,FALSE))","v":""},{"$f":"IF(ISERROR(VLOOKUP(H103,勤務シフト一覧!$B$4:$C$106,2,FALSE)),\"\",VLOOKUP(H103,勤務シフト一覧!$B$4:$C$106,2,FALSE))","v":""},{"$f":"IF(ISERROR(VLOOKUP(I103,勤務シフト一覧!$B$4:$C$106,2,FALSE)),\"\",VLOOKUP(I103,勤務シフト一覧!$B$4:$C$106,2,FALSE))","v":""},{"$f":"IF(ISERROR(VLOOKUP(J103,勤務シフト一覧!$B$4:$C$106,2,FALSE)),\"\",VLOOKUP(J103,勤務シフト一覧!$B$4:$C$106,2,FALSE))","v":""},{"$f":"IF(ISERROR(VLOOKUP(K103,勤務シフト一覧!$B$4:$C$106,2,FALSE)),\"\",VLOOKUP(K103,勤務シフト一覧!$B$4:$C$106,2,FALSE))","v":""},{"$f":"IF(ISERROR(VLOOKUP(L103,勤務シフト一覧!$B$4:$C$106,2,FALSE)),\"\",VLOOKUP(L103,勤務シフト一覧!$B$4:$C$106,2,FALSE))","v":""},{"$f":"IF(ISERROR(VLOOKUP(M103,勤務シフト一覧!$B$4:$C$106,2,FALSE)),\"\",VLOOKUP(M103,勤務シフト一覧!$B$4:$C$106,2,FALSE))","v":""},{"$f":"IF(ISERROR(VLOOKUP(N103,勤務シフト一覧!$B$4:$C$106,2,FALSE)),\"\",VLOOKUP(N103,勤務シフト一覧!$B$4:$C$106,2,FALSE))","v":""},{"$f":"IF(ISERROR(VLOOKUP(O103,勤務シフト一覧!$B$4:$C$106,2,FALSE)),\"\",VLOOKUP(O103,勤務シフト一覧!$B$4:$C$106,2,FALSE))","v":""},{"$f":"IF(ISERROR(VLOOKUP(P103,勤務シフト一覧!$B$4:$C$106,2,FALSE)),\"\",VLOOKUP(P103,勤務シフト一覧!$B$4:$C$106,2,FALSE))","v":""},{"$f":"IF(ISERROR(VLOOKUP(Q103,勤務シフト一覧!$B$4:$C$106,2,FALSE)),\"\",VLOOKUP(Q103,勤務シフト一覧!$B$4:$C$106,2,FALSE))","v":""},{"$f":"IF(ISERROR(VLOOKUP(R103,勤務シフト一覧!$B$4:$C$106,2,FALSE)),\"\",VLOOKUP(R103,勤務シフト一覧!$B$4:$C$106,2,FALSE))","v":""},{"$f":"IF(ISERROR(VLOOKUP(S103,勤務シフト一覧!$B$4:$C$106,2,FALSE)),\"\",VLOOKUP(S103,勤務シフト一覧!$B$4:$C$106,2,FALSE))","v":""},{"$f":"IF(ISERROR(VLOOKUP(T103,勤務シフト一覧!$B$4:$C$106,2,FALSE)),\"\",VLOOKUP(T103,勤務シフト一覧!$B$4:$C$106,2,FALSE))","v":""},{"$f":"IF(ISERROR(VLOOKUP(U103,勤務シフト一覧!$B$4:$C$106,2,FALSE)),\"\",VLOOKUP(U103,勤務シフト一覧!$B$4:$C$106,2,FALSE))","v":""},{"$f":"IF(ISERROR(VLOOKUP(V103,勤務シフト一覧!$B$4:$C$106,2,FALSE)),\"\",VLOOKUP(V103,勤務シフト一覧!$B$4:$C$106,2,FALSE))","v":""},{"$f":"IF(ISERROR(VLOOKUP(W103,勤務シフト一覧!$B$4:$C$106,2,FALSE)),\"\",VLOOKUP(W103,勤務シフト一覧!$B$4:$C$106,2,FALSE))","v":""},{"$f":"IF(ISERROR(VLOOKUP(X103,勤務シフト一覧!$B$4:$C$106,2,FALSE)),\"\",VLOOKUP(X103,勤務シフト一覧!$B$4:$C$106,2,FALSE))","v":""},{"$f":"IF(ISERROR(VLOOKUP(Y103,勤務シフト一覧!$B$4:$C$106,2,FALSE)),\"\",VLOOKUP(Y103,勤務シフト一覧!$B$4:$C$106,2,FALSE))","v":""},{"$f":"IF(ISERROR(VLOOKUP(Z103,勤務シフト一覧!$B$4:$C$106,2,FALSE)),\"\",VLOOKUP(Z103,勤務シフト一覧!$B$4:$C$106,2,FALSE))","v":""},{"$f":"IF(ISERROR(VLOOKUP(AA103,勤務シフト一覧!$B$4:$C$106,2,FALSE)),\"\",VLOOKUP(AA103,勤務シフト一覧!$B$4:$C$106,2,FALSE))","v":""},{"$f":"IF(ISERROR(VLOOKUP(AB103,勤務シフト一覧!$B$4:$C$106,2,FALSE)),\"\",VLOOKUP(AB103,勤務シフト一覧!$B$4:$C$106,2,FALSE))","v":""},{"$f":"IF(ISERROR(VLOOKUP(AC103,勤務シフト一覧!$B$4:$C$106,2,FALSE)),\"\",VLOOKUP(AC103,勤務シフト一覧!$B$4:$C$106,2,FALSE))","v":""},{"$f":"IF(ISERROR(VLOOKUP(AD103,勤務シフト一覧!$B$4:$C$106,2,FALSE)),\"\",VLOOKUP(AD103,勤務シフト一覧!$B$4:$C$106,2,FALSE))","v":""},{"$f":"IF(ISERROR(VLOOKUP(AE103,勤務シフト一覧!$B$4:$C$106,2,FALSE)),\"\",VLOOKUP(AE103,勤務シフト一覧!$B$4:$C$106,2,FALSE))","v":""},{"$f":"IF(ISERROR(VLOOKUP(AF103,勤務シフト一覧!$B$4:$C$106,2,FALSE)),\"\",VLOOKUP(AF103,勤務シフト一覧!$B$4:$C$106,2,FALSE))","v":""},{"$f":"IF(ISERROR(VLOOKUP(AG103,勤務シフト一覧!$B$4:$C$106,2,FALSE)),\"\",VLOOKUP(AG103,勤務シフト一覧!$B$4:$C$106,2,FALSE))","v":""},{"$f":"IF(ISERROR(VLOOKUP(AH103,勤務シフト一覧!$B$4:$C$106,2,FALSE)),\"\",VLOOKUP(AH103,勤務シフト一覧!$B$4:$C$106,2,FALSE))","v":""},null,{"$f":"IF(ISERROR(VLOOKUP(D103,勤務シフト一覧!$B$4:$D$106,3,FALSE)),\"\",VLOOKUP(D103,勤務シフト一覧!$B$4:$D$106,3,FALSE))","v":""},{"$f":"IF(ISERROR(VLOOKUP(E103,勤務シフト一覧!$B$4:$D$106,3,FALSE)),\"\",VLOOKUP(E103,勤務シフト一覧!$B$4:$D$106,3,FALSE))","v":""},{"$f":"IF(ISERROR(VLOOKUP(F103,勤務シフト一覧!$B$4:$D$106,3,FALSE)),\"\",VLOOKUP(F103,勤務シフト一覧!$B$4:$D$106,3,FALSE))","v":""},{"$f":"IF(ISERROR(VLOOKUP(G103,勤務シフト一覧!$B$4:$D$106,3,FALSE)),\"\",VLOOKUP(G103,勤務シフト一覧!$B$4:$D$106,3,FALSE))","v":""},{"$f":"IF(ISERROR(VLOOKUP(H103,勤務シフト一覧!$B$4:$D$106,3,FALSE)),\"\",VLOOKUP(H103,勤務シフト一覧!$B$4:$D$106,3,FALSE))","v":""},{"$f":"IF(ISERROR(VLOOKUP(I103,勤務シフト一覧!$B$4:$D$106,3,FALSE)),\"\",VLOOKUP(I103,勤務シフト一覧!$B$4:$D$106,3,FALSE))","v":""},{"$f":"IF(ISERROR(VLOOKUP(J103,勤務シフト一覧!$B$4:$D$106,3,FALSE)),\"\",VLOOKUP(J103,勤務シフト一覧!$B$4:$D$106,3,FALSE))","v":""},{"$f":"IF(ISERROR(VLOOKUP(K103,勤務シフト一覧!$B$4:$D$106,3,FALSE)),\"\",VLOOKUP(K103,勤務シフト一覧!$B$4:$D$106,3,FALSE))","v":""},{"$f":"IF(ISERROR(VLOOKUP(L103,勤務シフト一覧!$B$4:$D$106,3,FALSE)),\"\",VLOOKUP(L103,勤務シフト一覧!$B$4:$D$106,3,FALSE))","v":""},{"$f":"IF(ISERROR(VLOOKUP(M103,勤務シフト一覧!$B$4:$D$106,3,FALSE)),\"\",VLOOKUP(M103,勤務シフト一覧!$B$4:$D$106,3,FALSE))","v":""},{"$f":"IF(ISERROR(VLOOKUP(N103,勤務シフト一覧!$B$4:$D$106,3,FALSE)),\"\",VLOOKUP(N103,勤務シフト一覧!$B$4:$D$106,3,FALSE))","v":""},{"$f":"IF(ISERROR(VLOOKUP(O103,勤務シフト一覧!$B$4:$D$106,3,FALSE)),\"\",VLOOKUP(O103,勤務シフト一覧!$B$4:$D$106,3,FALSE))","v":""},{"$f":"IF(ISERROR(VLOOKUP(P103,勤務シフト一覧!$B$4:$D$106,3,FALSE)),\"\",VLOOKUP(P103,勤務シフト一覧!$B$4:$D$106,3,FALSE))","v":""},{"$f":"IF(ISERROR(VLOOKUP(Q103,勤務シフト一覧!$B$4:$D$106,3,FALSE)),\"\",VLOOKUP(Q103,勤務シフト一覧!$B$4:$D$106,3,FALSE))","v":""},{"$f":"IF(ISERROR(VLOOKUP(R103,勤務シフト一覧!$B$4:$D$106,3,FALSE)),\"\",VLOOKUP(R103,勤務シフト一覧!$B$4:$D$106,3,FALSE))","v":""},{"$f":"IF(ISERROR(VLOOKUP(S103,勤務シフト一覧!$B$4:$D$106,3,FALSE)),\"\",VLOOKUP(S103,勤務シフト一覧!$B$4:$D$106,3,FALSE))","v":""},{"$f":"IF(ISERROR(VLOOKUP(T103,勤務シフト一覧!$B$4:$D$106,3,FALSE)),\"\",VLOOKUP(T103,勤務シフト一覧!$B$4:$D$106,3,FALSE))","v":""},{"$f":"IF(ISERROR(VLOOKUP(U103,勤務シフト一覧!$B$4:$D$106,3,FALSE)),\"\",VLOOKUP(U103,勤務シフト一覧!$B$4:$D$106,3,FALSE))","v":""},{"$f":"IF(ISERROR(VLOOKUP(V103,勤務シフト一覧!$B$4:$D$106,3,FALSE)),\"\",VLOOKUP(V103,勤務シフト一覧!$B$4:$D$106,3,FALSE))","v":""},{"$f":"IF(ISERROR(VLOOKUP(W103,勤務シフト一覧!$B$4:$D$106,3,FALSE)),\"\",VLOOKUP(W103,勤務シフト一覧!$B$4:$D$106,3,FALSE))","v":""},{"$f":"IF(ISERROR(VLOOKUP(X103,勤務シフト一覧!$B$4:$D$106,3,FALSE)),\"\",VLOOKUP(X103,勤務シフト一覧!$B$4:$D$106,3,FALSE))","v":""},{"$f":"IF(ISERROR(VLOOKUP(Y103,勤務シフト一覧!$B$4:$D$106,3,FALSE)),\"\",VLOOKUP(Y103,勤務シフト一覧!$B$4:$D$106,3,FALSE))","v":""},{"$f":"IF(ISERROR(VLOOKUP(Z103,勤務シフト一覧!$B$4:$D$106,3,FALSE)),\"\",VLOOKUP(Z103,勤務シフト一覧!$B$4:$D$106,3,FALSE))","v":""},{"$f":"IF(ISERROR(VLOOKUP(AA103,勤務シフト一覧!$B$4:$D$106,3,FALSE)),\"\",VLOOKUP(AA103,勤務シフト一覧!$B$4:$D$106,3,FALSE))","v":""},{"$f":"IF(ISERROR(VLOOKUP(AB103,勤務シフト一覧!$B$4:$D$106,3,FALSE)),\"\",VLOOKUP(AB103,勤務シフト一覧!$B$4:$D$106,3,FALSE))","v":""},{"$f":"IF(ISERROR(VLOOKUP(AC103,勤務シフト一覧!$B$4:$D$106,3,FALSE)),\"\",VLOOKUP(AC103,勤務シフト一覧!$B$4:$D$106,3,FALSE))","v":""},{"$f":"IF(ISERROR(VLOOKUP(AD103,勤務シフト一覧!$B$4:$D$106,3,FALSE)),\"\",VLOOKUP(AD103,勤務シフト一覧!$B$4:$D$106,3,FALSE))","v":""},{"$f":"IF(ISERROR(VLOOKUP(AE103,勤務シフト一覧!$B$4:$D$106,3,FALSE)),\"\",VLOOKUP(AE103,勤務シフト一覧!$B$4:$D$106,3,FALSE))","v":""},{"$f":"IF(ISERROR(VLOOKUP(AF103,勤務シフト一覧!$B$4:$D$106,3,FALSE)),\"\",VLOOKUP(AF103,勤務シフト一覧!$B$4:$D$106,3,FALSE))","v":""},{"$f":"IF(ISERROR(VLOOKUP(AG103,勤務シフト一覧!$B$4:$D$106,3,FALSE)),\"\",VLOOKUP(AG103,勤務シフト一覧!$B$4:$D$106,3,FALSE))","v":""},{"$f":"IF(ISERROR(VLOOKUP(AH103,勤務シフト一覧!$B$4:$D$106,3,FALSE)),\"\",VLOOKUP(AH103,勤務シフト一覧!$B$4:$D$106,3,FALSE))","v":""},0,0,0,0,0,0,0,0,0,0,null,null,{"$f":"IF(勤務シフト一覧!$D104<>0,IF(勤務シフト一覧!$B104<> 0,勤務シフト一覧!$B104,\"\"),\"\")","v":""}]
[{"$f":"IF(LEN(職員一覧!B51)<>0,職員一覧!B51,\"\")","v":""},{"$f":"IF(LEN(職員一覧!C51)<>0,職員一覧!C51,\"\")","v":""},"予定",null,null,null,null,null,null,null,null,null,null,null,null,null,null,null,null,null,null,null,null,null,null,null,null,null,null,null,null,null,null,null,{"$f":"IF(ISERROR(VLOOKUP(D104,勤務シフト一覧!$B$4:$C$106,2,FALSE)),\"\",VLOOKUP(D104,勤務シフト一覧!$B$4:$C$106,2,FALSE))","v":""},{"$f":"IF(ISERROR(VLOOKUP(E104,勤務シフト一覧!$B$4:$C$106,2,FALSE)),\"\",VLOOKUP(E104,勤務シフト一覧!$B$4:$C$106,2,FALSE))","v":""},{"$f":"IF(ISERROR(VLOOKUP(F104,勤務シフト一覧!$B$4:$C$106,2,FALSE)),\"\",VLOOKUP(F104,勤務シフト一覧!$B$4:$C$106,2,FALSE))","v":""},{"$f":"IF(ISERROR(VLOOKUP(G104,勤務シフト一覧!$B$4:$C$106,2,FALSE)),\"\",VLOOKUP(G104,勤務シフト一覧!$B$4:$C$106,2,FALSE))","v":""},{"$f":"IF(ISERROR(VLOOKUP(H104,勤務シフト一覧!$B$4:$C$106,2,FALSE)),\"\",VLOOKUP(H104,勤務シフト一覧!$B$4:$C$106,2,FALSE))","v":""},{"$f":"IF(ISERROR(VLOOKUP(I104,勤務シフト一覧!$B$4:$C$106,2,FALSE)),\"\",VLOOKUP(I104,勤務シフト一覧!$B$4:$C$106,2,FALSE))","v":""},{"$f":"IF(ISERROR(VLOOKUP(J104,勤務シフト一覧!$B$4:$C$106,2,FALSE)),\"\",VLOOKUP(J104,勤務シフト一覧!$B$4:$C$106,2,FALSE))","v":""},{"$f":"IF(ISERROR(VLOOKUP(K104,勤務シフト一覧!$B$4:$C$106,2,FALSE)),\"\",VLOOKUP(K104,勤務シフト一覧!$B$4:$C$106,2,FALSE))","v":""},{"$f":"IF(ISERROR(VLOOKUP(L104,勤務シフト一覧!$B$4:$C$106,2,FALSE)),\"\",VLOOKUP(L104,勤務シフト一覧!$B$4:$C$106,2,FALSE))","v":""},{"$f":"IF(ISERROR(VLOOKUP(M104,勤務シフト一覧!$B$4:$C$106,2,FALSE)),\"\",VLOOKUP(M104,勤務シフト一覧!$B$4:$C$106,2,FALSE))","v":""},{"$f":"IF(ISERROR(VLOOKUP(N104,勤務シフト一覧!$B$4:$C$106,2,FALSE)),\"\",VLOOKUP(N104,勤務シフト一覧!$B$4:$C$106,2,FALSE))","v":""},{"$f":"IF(ISERROR(VLOOKUP(O104,勤務シフト一覧!$B$4:$C$106,2,FALSE)),\"\",VLOOKUP(O104,勤務シフト一覧!$B$4:$C$106,2,FALSE))","v":""},{"$f":"IF(ISERROR(VLOOKUP(P104,勤務シフト一覧!$B$4:$C$106,2,FALSE)),\"\",VLOOKUP(P104,勤務シフト一覧!$B$4:$C$106,2,FALSE))","v":""},{"$f":"IF(ISERROR(VLOOKUP(Q104,勤務シフト一覧!$B$4:$C$106,2,FALSE)),\"\",VLOOKUP(Q104,勤務シフト一覧!$B$4:$C$106,2,FALSE))","v":""},{"$f":"IF(ISERROR(VLOOKUP(R104,勤務シフト一覧!$B$4:$C$106,2,FALSE)),\"\",VLOOKUP(R104,勤務シフト一覧!$B$4:$C$106,2,FALSE))","v":""},{"$f":"IF(ISERROR(VLOOKUP(S104,勤務シフト一覧!$B$4:$C$106,2,FALSE)),\"\",VLOOKUP(S104,勤務シフト一覧!$B$4:$C$106,2,FALSE))","v":""},{"$f":"IF(ISERROR(VLOOKUP(T104,勤務シフト一覧!$B$4:$C$106,2,FALSE)),\"\",VLOOKUP(T104,勤務シフト一覧!$B$4:$C$106,2,FALSE))","v":""},{"$f":"IF(ISERROR(VLOOKUP(U104,勤務シフト一覧!$B$4:$C$106,2,FALSE)),\"\",VLOOKUP(U104,勤務シフト一覧!$B$4:$C$106,2,FALSE))","v":""},{"$f":"IF(ISERROR(VLOOKUP(V104,勤務シフト一覧!$B$4:$C$106,2,FALSE)),\"\",VLOOKUP(V104,勤務シフト一覧!$B$4:$C$106,2,FALSE))","v":""},{"$f":"IF(ISERROR(VLOOKUP(W104,勤務シフト一覧!$B$4:$C$106,2,FALSE)),\"\",VLOOKUP(W104,勤務シフト一覧!$B$4:$C$106,2,FALSE))","v":""},{"$f":"IF(ISERROR(VLOOKUP(X104,勤務シフト一覧!$B$4:$C$106,2,FALSE)),\"\",VLOOKUP(X104,勤務シフト一覧!$B$4:$C$106,2,FALSE))","v":""},{"$f":"IF(ISERROR(VLOOKUP(Y104,勤務シフト一覧!$B$4:$C$106,2,FALSE)),\"\",VLOOKUP(Y104,勤務シフト一覧!$B$4:$C$106,2,FALSE))","v":""},{"$f":"IF(ISERROR(VLOOKUP(Z104,勤務シフト一覧!$B$4:$C$106,2,FALSE)),\"\",VLOOKUP(Z104,勤務シフト一覧!$B$4:$C$106,2,FALSE))","v":""},{"$f":"IF(ISERROR(VLOOKUP(AA104,勤務シフト一覧!$B$4:$C$106,2,FALSE)),\"\",VLOOKUP(AA104,勤務シフト一覧!$B$4:$C$106,2,FALSE))","v":""},{"$f":"IF(ISERROR(VLOOKUP(AB104,勤務シフト一覧!$B$4:$C$106,2,FALSE)),\"\",VLOOKUP(AB104,勤務シフト一覧!$B$4:$C$106,2,FALSE))","v":""},{"$f":"IF(ISERROR(VLOOKUP(AC104,勤務シフト一覧!$B$4:$C$106,2,FALSE)),\"\",VLOOKUP(AC104,勤務シフト一覧!$B$4:$C$106,2,FALSE))","v":""},{"$f":"IF(ISERROR(VLOOKUP(AD104,勤務シフト一覧!$B$4:$C$106,2,FALSE)),\"\",VLOOKUP(AD104,勤務シフト一覧!$B$4:$C$106,2,FALSE))","v":""},{"$f":"IF(ISERROR(VLOOKUP(AE104,勤務シフト一覧!$B$4:$C$106,2,FALSE)),\"\",VLOOKUP(AE104,勤務シフト一覧!$B$4:$C$106,2,FALSE))","v":""},{"$f":"IF(ISERROR(VLOOKUP(AF104,勤務シフト一覧!$B$4:$C$106,2,FALSE)),\"\",VLOOKUP(AF104,勤務シフト一覧!$B$4:$C$106,2,FALSE))","v":""},{"$f":"IF(ISERROR(VLOOKUP(AG104,勤務シフト一覧!$B$4:$C$106,2,FALSE)),\"\",VLOOKUP(AG104,勤務シフト一覧!$B$4:$C$106,2,FALSE))","v":""},{"$f":"IF(ISERROR(VLOOKUP(AH104,勤務シフト一覧!$B$4:$C$106,2,FALSE)),\"\",VLOOKUP(AH104,勤務シフト一覧!$B$4:$C$106,2,FALSE))","v":""},null,{"$f":"IF(ISERROR(VLOOKUP(D104,勤務シフト一覧!$B$4:$D$106,3,FALSE)),\"\",VLOOKUP(D104,勤務シフト一覧!$B$4:$D$106,3,FALSE))","v":""},{"$f":"IF(ISERROR(VLOOKUP(E104,勤務シフト一覧!$B$4:$D$106,3,FALSE)),\"\",VLOOKUP(E104,勤務シフト一覧!$B$4:$D$106,3,FALSE))","v":""},{"$f":"IF(ISERROR(VLOOKUP(F104,勤務シフト一覧!$B$4:$D$106,3,FALSE)),\"\",VLOOKUP(F104,勤務シフト一覧!$B$4:$D$106,3,FALSE))","v":""},{"$f":"IF(ISERROR(VLOOKUP(G104,勤務シフト一覧!$B$4:$D$106,3,FALSE)),\"\",VLOOKUP(G104,勤務シフト一覧!$B$4:$D$106,3,FALSE))","v":""},{"$f":"IF(ISERROR(VLOOKUP(H104,勤務シフト一覧!$B$4:$D$106,3,FALSE)),\"\",VLOOKUP(H104,勤務シフト一覧!$B$4:$D$106,3,FALSE))","v":""},{"$f":"IF(ISERROR(VLOOKUP(I104,勤務シフト一覧!$B$4:$D$106,3,FALSE)),\"\",VLOOKUP(I104,勤務シフト一覧!$B$4:$D$106,3,FALSE))","v":""},{"$f":"IF(ISERROR(VLOOKUP(J104,勤務シフト一覧!$B$4:$D$106,3,FALSE)),\"\",VLOOKUP(J104,勤務シフト一覧!$B$4:$D$106,3,FALSE))","v":""},{"$f":"IF(ISERROR(VLOOKUP(K104,勤務シフト一覧!$B$4:$D$106,3,FALSE)),\"\",VLOOKUP(K104,勤務シフト一覧!$B$4:$D$106,3,FALSE))","v":""},{"$f":"IF(ISERROR(VLOOKUP(L104,勤務シフト一覧!$B$4:$D$106,3,FALSE)),\"\",VLOOKUP(L104,勤務シフト一覧!$B$4:$D$106,3,FALSE))","v":""},{"$f":"IF(ISERROR(VLOOKUP(M104,勤務シフト一覧!$B$4:$D$106,3,FALSE)),\"\",VLOOKUP(M104,勤務シフト一覧!$B$4:$D$106,3,FALSE))","v":""},{"$f":"IF(ISERROR(VLOOKUP(N104,勤務シフト一覧!$B$4:$D$106,3,FALSE)),\"\",VLOOKUP(N104,勤務シフト一覧!$B$4:$D$106,3,FALSE))","v":""},{"$f":"IF(ISERROR(VLOOKUP(O104,勤務シフト一覧!$B$4:$D$106,3,FALSE)),\"\",VLOOKUP(O104,勤務シフト一覧!$B$4:$D$106,3,FALSE))","v":""},{"$f":"IF(ISERROR(VLOOKUP(P104,勤務シフト一覧!$B$4:$D$106,3,FALSE)),\"\",VLOOKUP(P104,勤務シフト一覧!$B$4:$D$106,3,FALSE))","v":""},{"$f":"IF(ISERROR(VLOOKUP(Q104,勤務シフト一覧!$B$4:$D$106,3,FALSE)),\"\",VLOOKUP(Q104,勤務シフト一覧!$B$4:$D$106,3,FALSE))","v":""},{"$f":"IF(ISERROR(VLOOKUP(R104,勤務シフト一覧!$B$4:$D$106,3,FALSE)),\"\",VLOOKUP(R104,勤務シフト一覧!$B$4:$D$106,3,FALSE))","v":""},{"$f":"IF(ISERROR(VLOOKUP(S104,勤務シフト一覧!$B$4:$D$106,3,FALSE)),\"\",VLOOKUP(S104,勤務シフト一覧!$B$4:$D$106,3,FALSE))","v":""},{"$f":"IF(ISERROR(VLOOKUP(T104,勤務シフト一覧!$B$4:$D$106,3,FALSE)),\"\",VLOOKUP(T104,勤務シフト一覧!$B$4:$D$106,3,FALSE))","v":""},{"$f":"IF(ISERROR(VLOOKUP(U104,勤務シフト一覧!$B$4:$D$106,3,FALSE)),\"\",VLOOKUP(U104,勤務シフト一覧!$B$4:$D$106,3,FALSE))","v":""},{"$f":"IF(ISERROR(VLOOKUP(V104,勤務シフト一覧!$B$4:$D$106,3,FALSE)),\"\",VLOOKUP(V104,勤務シフト一覧!$B$4:$D$106,3,FALSE))","v":""},{"$f":"IF(ISERROR(VLOOKUP(W104,勤務シフト一覧!$B$4:$D$106,3,FALSE)),\"\",VLOOKUP(W104,勤務シフト一覧!$B$4:$D$106,3,FALSE))","v":""},{"$f":"IF(ISERROR(VLOOKUP(X104,勤務シフト一覧!$B$4:$D$106,3,FALSE)),\"\",VLOOKUP(X104,勤務シフト一覧!$B$4:$D$106,3,FALSE))","v":""},{"$f":"IF(ISERROR(VLOOKUP(Y104,勤務シフト一覧!$B$4:$D$106,3,FALSE)),\"\",VLOOKUP(Y104,勤務シフト一覧!$B$4:$D$106,3,FALSE))","v":""},{"$f":"IF(ISERROR(VLOOKUP(Z104,勤務シフト一覧!$B$4:$D$106,3,FALSE)),\"\",VLOOKUP(Z104,勤務シフト一覧!$B$4:$D$106,3,FALSE))","v":""},{"$f":"IF(ISERROR(VLOOKUP(AA104,勤務シフト一覧!$B$4:$D$106,3,FALSE)),\"\",VLOOKUP(AA104,勤務シフト一覧!$B$4:$D$106,3,FALSE))","v":""},{"$f":"IF(ISERROR(VLOOKUP(AB104,勤務シフト一覧!$B$4:$D$106,3,FALSE)),\"\",VLOOKUP(AB104,勤務シフト一覧!$B$4:$D$106,3,FALSE))","v":""},{"$f":"IF(ISERROR(VLOOKUP(AC104,勤務シフト一覧!$B$4:$D$106,3,FALSE)),\"\",VLOOKUP(AC104,勤務シフト一覧!$B$4:$D$106,3,FALSE))","v":""},{"$f":"IF(ISERROR(VLOOKUP(AD104,勤務シフト一覧!$B$4:$D$106,3,FALSE)),\"\",VLOOKUP(AD104,勤務シフト一覧!$B$4:$D$106,3,FALSE))","v":""},{"$f":"IF(ISERROR(VLOOKUP(AE104,勤務シフト一覧!$B$4:$D$106,3,FALSE)),\"\",VLOOKUP(AE104,勤務シフト一覧!$B$4:$D$106,3,FALSE))","v":""},{"$f":"IF(ISERROR(VLOOKUP(AF104,勤務シフト一覧!$B$4:$D$106,3,FALSE)),\"\",VLOOKUP(AF104,勤務シフト一覧!$B$4:$D$106,3,FALSE))","v":""},{"$f":"IF(ISERROR(VLOOKUP(AG104,勤務シフト一覧!$B$4:$D$106,3,FALSE)),\"\",VLOOKUP(AG104,勤務シフト一覧!$B$4:$D$106,3,FALSE))","v":""},{"$f":"IF(ISERROR(VLOOKUP(AH104,勤務シフト一覧!$B$4:$D$106,3,FALSE)),\"\",VLOOKUP(AH104,勤務シフト一覧!$B$4:$D$106,3,FALSE))","v":""},0,0,0,0,0,0,0,0,0,0,{"$f":"IF(LEN(職員一覧!D51)<>0,職員一覧!D51,\"\")","v":""},null,{"$f":"IF(勤務シフト一覧!$D105<>0,IF(勤務シフト一覧!$B105<> 0,勤務シフト一覧!$B105,\"\"),\"\")","v":""}]
[null,null,"実施",null,null,null,null,null,null,null,null,null,null,null,null,null,null,null,null,null,null,null,null,null,null,null,null,null,null,null,null,null,null,null,{"$f":"IF(ISERROR(VLOOKUP(D105,勤務シフト一覧!$B$4:$C$106,2,FALSE)),\"\",VLOOKUP(D105,勤務シフト一覧!$B$4:$C$106,2,FALSE))","v":""},{"$f":"IF(ISERROR(VLOOKUP(E105,勤務シフト一覧!$B$4:$C$106,2,FALSE)),\"\",VLOOKUP(E105,勤務シフト一覧!$B$4:$C$106,2,FALSE))","v":""},{"$f":"IF(ISERROR(VLOOKUP(F105,勤務シフト一覧!$B$4:$C$106,2,FALSE)),\"\",VLOOKUP(F105,勤務シフト一覧!$B$4:$C$106,2,FALSE))","v":""},{"$f":"IF(ISERROR(VLOOKUP(G105,勤務シフト一覧!$B$4:$C$106,2,FALSE)),\"\",VLOOKUP(G105,勤務シフト一覧!$B$4:$C$106,2,FALSE))","v":""},{"$f":"IF(ISERROR(VLOOKUP(H105,勤務シフト一覧!$B$4:$C$106,2,FALSE)),\"\",VLOOKUP(H105,勤務シフト一覧!$B$4:$C$106,2,FALSE))","v":""},{"$f":"IF(ISERROR(VLOOKUP(I105,勤務シフト一覧!$B$4:$C$106,2,FALSE)),\"\",VLOOKUP(I105,勤務シフト一覧!$B$4:$C$106,2,FALSE))","v":""},{"$f":"IF(ISERROR(VLOOKUP(J105,勤務シフト一覧!$B$4:$C$106,2,FALSE)),\"\",VLOOKUP(J105,勤務シフト一覧!$B$4:$C$106,2,FALSE))","v":""},{"$f":"IF(ISERROR(VLOOKUP(K105,勤務シフト一覧!$B$4:$C$106,2,FALSE)),\"\",VLOOKUP(K105,勤務シフト一覧!$B$4:$C$106,2,FALSE))","v":""},{"$f":"IF(ISERROR(VLOOKUP(L105,勤務シフト一覧!$B$4:$C$106,2,FALSE)),\"\",VLOOKUP(L105,勤務シフト一覧!$B$4:$C$106,2,FALSE))","v":""},{"$f":"IF(ISERROR(VLOOKUP(M105,勤務シフト一覧!$B$4:$C$106,2,FALSE)),\"\",VLOOKUP(M105,勤務シフト一覧!$B$4:$C$106,2,FALSE))","v":""},{"$f":"IF(ISERROR(VLOOKUP(N105,勤務シフト一覧!$B$4:$C$106,2,FALSE)),\"\",VLOOKUP(N105,勤務シフト一覧!$B$4:$C$106,2,FALSE))","v":""},{"$f":"IF(ISERROR(VLOOKUP(O105,勤務シフト一覧!$B$4:$C$106,2,FALSE)),\"\",VLOOKUP(O105,勤務シフト一覧!$B$4:$C$106,2,FALSE))","v":""},{"$f":"IF(ISERROR(VLOOKUP(P105,勤務シフト一覧!$B$4:$C$106,2,FALSE)),\"\",VLOOKUP(P105,勤務シフト一覧!$B$4:$C$106,2,FALSE))","v":""},{"$f":"IF(ISERROR(VLOOKUP(Q105,勤務シフト一覧!$B$4:$C$106,2,FALSE)),\"\",VLOOKUP(Q105,勤務シフト一覧!$B$4:$C$106,2,FALSE))","v":""},{"$f":"IF(ISERROR(VLOOKUP(R105,勤務シフト一覧!$B$4:$C$106,2,FALSE)),\"\",VLOOKUP(R105,勤務シフト一覧!$B$4:$C$106,2,FALSE))","v":""},{"$f":"IF(ISERROR(VLOOKUP(S105,勤務シフト一覧!$B$4:$C$106,2,FALSE)),\"\",VLOOKUP(S105,勤務シフト一覧!$B$4:$C$106,2,FALSE))","v":""},{"$f":"IF(ISERROR(VLOOKUP(T105,勤務シフト一覧!$B$4:$C$106,2,FALSE)),\"\",VLOOKUP(T105,勤務シフト一覧!$B$4:$C$106,2,FALSE))","v":""},{"$f":"IF(ISERROR(VLOOKUP(U105,勤務シフト一覧!$B$4:$C$106,2,FALSE)),\"\",VLOOKUP(U105,勤務シフト一覧!$B$4:$C$106,2,FALSE))","v":""},{"$f":"IF(ISERROR(VLOOKUP(V105,勤務シフト一覧!$B$4:$C$106,2,FALSE)),\"\",VLOOKUP(V105,勤務シフト一覧!$B$4:$C$106,2,FALSE))","v":""},{"$f":"IF(ISERROR(VLOOKUP(W105,勤務シフト一覧!$B$4:$C$106,2,FALSE)),\"\",VLOOKUP(W105,勤務シフト一覧!$B$4:$C$106,2,FALSE))","v":""},{"$f":"IF(ISERROR(VLOOKUP(X105,勤務シフト一覧!$B$4:$C$106,2,FALSE)),\"\",VLOOKUP(X105,勤務シフト一覧!$B$4:$C$106,2,FALSE))","v":""},{"$f":"IF(ISERROR(VLOOKUP(Y105,勤務シフト一覧!$B$4:$C$106,2,FALSE)),\"\",VLOOKUP(Y105,勤務シフト一覧!$B$4:$C$106,2,FALSE))","v":""},{"$f":"IF(ISERROR(VLOOKUP(Z105,勤務シフト一覧!$B$4:$C$106,2,FALSE)),\"\",VLOOKUP(Z105,勤務シフト一覧!$B$4:$C$106,2,FALSE))","v":""},{"$f":"IF(ISERROR(VLOOKUP(AA105,勤務シフト一覧!$B$4:$C$106,2,FALSE)),\"\",VLOOKUP(AA105,勤務シフト一覧!$B$4:$C$106,2,FALSE))","v":""},{"$f":"IF(ISERROR(VLOOKUP(AB105,勤務シフト一覧!$B$4:$C$106,2,FALSE)),\"\",VLOOKUP(AB105,勤務シフト一覧!$B$4:$C$106,2,FALSE))","v":""},{"$f":"IF(ISERROR(VLOOKUP(AC105,勤務シフト一覧!$B$4:$C$106,2,FALSE)),\"\",VLOOKUP(AC105,勤務シフト一覧!$B$4:$C$106,2,FALSE))","v":""},{"$f":"IF(ISERROR(VLOOKUP(AD105,勤務シフト一覧!$B$4:$C$106,2,FALSE)),\"\",VLOOKUP(AD105,勤務シフト一覧!$B$4:$C$106,2,FALSE))","v":""},{"$f":"IF(ISERROR(VLOOKUP(AE105,勤務シフト一覧!$B$4:$C$106,2,FALSE)),\"\",VLOOKUP(AE105,勤務シフト一覧!$B$4:$C$106,2,FALSE))","v":""},{"$f":"IF(ISERROR(VLOOKUP(AF105,勤務シフト一覧!$B$4:$C$106,2,FALSE)),\"\",VLOOKUP(AF105,勤務シフト一覧!$B$4:$C$106,2,FALSE))","v":""},{"$f":"IF(ISERROR(VLOOKUP(AG105,勤務シフト一覧!$B$4:$C$106,2,FALSE)),\"\",VLOOKUP(AG105,勤務シフト一覧!$B$4:$C$106,2,FALSE))","v":""},{"$f":"IF(ISERROR(VLOOKUP(AH105,勤務シフト一覧!$B$4:$C$106,2,FALSE)),\"\",VLOOKUP(AH105,勤務シフト一覧!$B$4:$C$106,2,FALSE))","v":""},null,{"$f":"IF(ISERROR(VLOOKUP(D105,勤務シフト一覧!$B$4:$D$106,3,FALSE)),\"\",VLOOKUP(D105,勤務シフト一覧!$B$4:$D$106,3,FALSE))","v":""},{"$f":"IF(ISERROR(VLOOKUP(E105,勤務シフト一覧!$B$4:$D$106,3,FALSE)),\"\",VLOOKUP(E105,勤務シフト一覧!$B$4:$D$106,3,FALSE))","v":""},{"$f":"IF(ISERROR(VLOOKUP(F105,勤務シフト一覧!$B$4:$D$106,3,FALSE)),\"\",VLOOKUP(F105,勤務シフト一覧!$B$4:$D$106,3,FALSE))","v":""},{"$f":"IF(ISERROR(VLOOKUP(G105,勤務シフト一覧!$B$4:$D$106,3,FALSE)),\"\",VLOOKUP(G105,勤務シフト一覧!$B$4:$D$106,3,FALSE))","v":""},{"$f":"IF(ISERROR(VLOOKUP(H105,勤務シフト一覧!$B$4:$D$106,3,FALSE)),\"\",VLOOKUP(H105,勤務シフト一覧!$B$4:$D$106,3,FALSE))","v":""},{"$f":"IF(ISERROR(VLOOKUP(I105,勤務シフト一覧!$B$4:$D$106,3,FALSE)),\"\",VLOOKUP(I105,勤務シフト一覧!$B$4:$D$106,3,FALSE))","v":""},{"$f":"IF(ISERROR(VLOOKUP(J105,勤務シフト一覧!$B$4:$D$106,3,FALSE)),\"\",VLOOKUP(J105,勤務シフト一覧!$B$4:$D$106,3,FALSE))","v":""},{"$f":"IF(ISERROR(VLOOKUP(K105,勤務シフト一覧!$B$4:$D$106,3,FALSE)),\"\",VLOOKUP(K105,勤務シフト一覧!$B$4:$D$106,3,FALSE))","v":""},{"$f":"IF(ISERROR(VLOOKUP(L105,勤務シフト一覧!$B$4:$D$106,3,FALSE)),\"\",VLOOKUP(L105,勤務シフト一覧!$B$4:$D$106,3,FALSE))","v":""},{"$f":"IF(ISERROR(VLOOKUP(M105,勤務シフト一覧!$B$4:$D$106,3,FALSE)),\"\",VLOOKUP(M105,勤務シフト一覧!$B$4:$D$106,3,FALSE))","v":""},{"$f":"IF(ISERROR(VLOOKUP(N105,勤務シフト一覧!$B$4:$D$106,3,FALSE)),\"\",VLOOKUP(N105,勤務シフト一覧!$B$4:$D$106,3,FALSE))","v":""},{"$f":"IF(ISERROR(VLOOKUP(O105,勤務シフト一覧!$B$4:$D$106,3,FALSE)),\"\",VLOOKUP(O105,勤務シフト一覧!$B$4:$D$106,3,FALSE))","v":""},{"$f":"IF(ISERROR(VLOOKUP(P105,勤務シフト一覧!$B$4:$D$106,3,FALSE)),\"\",VLOOKUP(P105,勤務シフト一覧!$B$4:$D$106,3,FALSE))","v":""},{"$f":"IF(ISERROR(VLOOKUP(Q105,勤務シフト一覧!$B$4:$D$106,3,FALSE)),\"\",VLOOKUP(Q105,勤務シフト一覧!$B$4:$D$106,3,FALSE))","v":""},{"$f":"IF(ISERROR(VLOOKUP(R105,勤務シフト一覧!$B$4:$D$106,3,FALSE)),\"\",VLOOKUP(R105,勤務シフト一覧!$B$4:$D$106,3,FALSE))","v":""},{"$f":"IF(ISERROR(VLOOKUP(S105,勤務シフト一覧!$B$4:$D$106,3,FALSE)),\"\",VLOOKUP(S105,勤務シフト一覧!$B$4:$D$106,3,FALSE))","v":""},{"$f":"IF(ISERROR(VLOOKUP(T105,勤務シフト一覧!$B$4:$D$106,3,FALSE)),\"\",VLOOKUP(T105,勤務シフト一覧!$B$4:$D$106,3,FALSE))","v":""},{"$f":"IF(ISERROR(VLOOKUP(U105,勤務シフト一覧!$B$4:$D$106,3,FALSE)),\"\",VLOOKUP(U105,勤務シフト一覧!$B$4:$D$106,3,FALSE))","v":""},{"$f":"IF(ISERROR(VLOOKUP(V105,勤務シフト一覧!$B$4:$D$106,3,FALSE)),\"\",VLOOKUP(V105,勤務シフト一覧!$B$4:$D$106,3,FALSE))","v":""},{"$f":"IF(ISERROR(VLOOKUP(W105,勤務シフト一覧!$B$4:$D$106,3,FALSE)),\"\",VLOOKUP(W105,勤務シフト一覧!$B$4:$D$106,3,FALSE))","v":""},{"$f":"IF(ISERROR(VLOOKUP(X105,勤務シフト一覧!$B$4:$D$106,3,FALSE)),\"\",VLOOKUP(X105,勤務シフト一覧!$B$4:$D$106,3,FALSE))","v":""},{"$f":"IF(ISERROR(VLOOKUP(Y105,勤務シフト一覧!$B$4:$D$106,3,FALSE)),\"\",VLOOKUP(Y105,勤務シフト一覧!$B$4:$D$106,3,FALSE))","v":""},{"$f":"IF(ISERROR(VLOOKUP(Z105,勤務シフト一覧!$B$4:$D$106,3,FALSE)),\"\",VLOOKUP(Z105,勤務シフト一覧!$B$4:$D$106,3,FALSE))","v":""},{"$f":"IF(ISERROR(VLOOKUP(AA105,勤務シフト一覧!$B$4:$D$106,3,FALSE)),\"\",VLOOKUP(AA105,勤務シフト一覧!$B$4:$D$106,3,FALSE))","v":""},{"$f":"IF(ISERROR(VLOOKUP(AB105,勤務シフト一覧!$B$4:$D$106,3,FALSE)),\"\",VLOOKUP(AB105,勤務シフト一覧!$B$4:$D$106,3,FALSE))","v":""},{"$f":"IF(ISERROR(VLOOKUP(AC105,勤務シフト一覧!$B$4:$D$106,3,FALSE)),\"\",VLOOKUP(AC105,勤務シフト一覧!$B$4:$D$106,3,FALSE))","v":""},{"$f":"IF(ISERROR(VLOOKUP(AD105,勤務シフト一覧!$B$4:$D$106,3,FALSE)),\"\",VLOOKUP(AD105,勤務シフト一覧!$B$4:$D$106,3,FALSE))","v":""},{"$f":"IF(ISERROR(VLOOKUP(AE105,勤務シフト一覧!$B$4:$D$106,3,FALSE)),\"\",VLOOKUP(AE105,勤務シフト一覧!$B$4:$D$106,3,FALSE))","v":""},{"$f":"IF(ISERROR(VLOOKUP(AF105,勤務シフト一覧!$B$4:$D$106,3,FALSE)),\"\",VLOOKUP(AF105,勤務シフト一覧!$B$4:$D$106,3,FALSE))","v":""},{"$f":"IF(ISERROR(VLOOKUP(AG105,勤務シフト一覧!$B$4:$D$106,3,FALSE)),\"\",VLOOKUP(AG105,勤務シフト一覧!$B$4:$D$106,3,FALSE))","v":""},{"$f":"IF(ISERROR(VLOOKUP(AH105,勤務シフト一覧!$B$4:$D$106,3,FALSE)),\"\",VLOOKUP(AH105,勤務シフト一覧!$B$4:$D$106,3,FALSE))","v":""},0,0,0,0,0,0,0,0,0,0,null,null,{"$f":"IF(勤務シフト一覧!$D106<>0,IF(勤務シフト一覧!$B106<> 0,勤務シフト一覧!$B106,\"\"),\"\")","v":""}]
[]
["早出","早","予定",{"$f":"SUMPRODUCT(($C$6:$C$105=\"予定\")*(AI6:AI105=$B$107))","v":0},0,0,0,0,0,0,0,0,0,0,0,0,0,0,0,0,0,0,0,0,0,0,0,0,0,0,0,0,0,0,null,null,null,null,null,null,null,null,null,null,null,null,null,null,null,null,null,null,null,null,null,null,null,null,null,null,null,null,null,null,null,null,null,null,null,null,null,null,null,null,null,null,null,null,null,null,null,null,null,null,null,null,null,null,null,null,null,null,null,null,null,null,null,null,null,null,null,null,null,null,null,null,null,"早"]
[null,"早","実施",{"$f":"SUMPRODUCT(($C$6:$C$105=\"実施\")*(AI6:AI105=$B$108))","v":0},0,0,0,0,0,0,0,0,0,0,0,0,0,0,0,0,0,0,0,0,0,0,0,0,0,0,0,0,0,0,null,null,null,null,null,null,null,null,null,null,null,null,null,null,null,null,null,null,null,null,null,null,null,null,null,null,null,null,null,null,null,null,null,null,null,null,null,null,null,null,null,null,null,null,null,null,null,null,null,null,null,null,null,null,null,null,null,null,null,null,null,null,null,null,null,null,null,null,null,null,null,null,null,"早"]
["日勤","日","予定",{"$f":"SUMPRODUCT(($C$6:$C$105=\"予定\")*(AI6:AI105=$B$109))","v":1},0,2,1,1,1,1,2,1,0,0,2,2,3,1,0,0,2,2,1,0,1,1,1,0,0,3,1,1,0,1,null,null,null,null,null,null,null,null,null,null,null,null,null,null,null,null,null,null,null,null,null,null,null,null,null,null,null,null,null,null,null,null,null,null,null,null,null,null,null,null,null,null,null,null,null,null,null,null,null,null,null,null,null,null,null,null,null,null,null,null,null,null,null,null,null,null,null,null,null,null,null,null,null,"日"]
[null,"日","実施",{"$f":"SUMPRODUCT(($C$6:$C$105=\"実施\")*(AI6:AI105=$B$110))","v":0},0,0,0,0,0,0,0,0,0,0,0,0,0,0,0,0,0,0,0,0,0,0,0,0,0,0,0,0,0,0,null,null,null,null,null,null,null,null,null,null,null,null,null,null,null,null,null,null,null,null,null,null,null,null,null,null,null,null,null,null,null,null,null,null,null,null,null,null,null,null,null,null,null,null,null,null,null,null,null,null,null,null,null,null,null,null,null,null,null,null,null,null,null,null,null,null,null,null,null,null,null,null,null,"日"]
["準夜","準","予定",{"$f":"SUMPRODUCT(($C$6:$C$105=\"予定\")*(AI6:AI105=$B$111))","v":0},0,0,0,0,0,1,0,0,1,0,0,0,0,0,1,0,0,0,1,0,1,0,0,1,0,0,0,1,0,0,null,null,null,null,null,null,null,null,null,null,null,null,null,null,null,null,null,null,null,null,null,null,null,null,null,null,null,null,null,null,null,null,null,null,null,null,null,null,null,null,null,null,null,null,null,null,null,null,null,null,null,null,null,null,null,null,null,null,null,null,null,null,null,null,null,null,null,null,null,null,null,null,null,"準"]
[null,"準","実施",{"$f":"SUMPRODUCT(($C$6:$C$105=\"実施\")*(AI6:AI105=$B$112))","v":0},0,0,0,0,0,0,0,0,0,0,0,0,0,0,0,0,0,0,0,0,0,0,0,0,0,0,0,0,0,0,null,null,null,null,null,null,null,null,null,null,null,null,null,null,null,null,null,null,null,null,null,null,null,null,null,null,null,null,null,null,null,null,null,null,null,null,null,null,null,null,null,null,null,null,null,null,null,null,null,null,null,null,null,null,null,null,null,null,null,null,null,null,null,null,null,null,null,null,null,null,null,null,null,"準"]
["深夜","深","予定",{"$f":"SUMPRODUCT(($C$6:$C$105=\"予定\")*(AI6:AI105=$B$113))","v":0},0,0,2,0,0,0,0,0,1,0,0,0,0,2,0,0,0,1,0,1,0,0,1,1,0,0,0,0,0,0,null,null,null,null,null,null,null,null,null,null,null,null,null,null,null,null,null,null,null,null,null,null,null,null,null,null,null,null,null,null,null,null,null,null,null,null,null,null,null,null,null,null,null,null,null,null,null,null,null,null,null,null,null,null,null,null,null,null,null,null,null,null,null,null,null,null,null,null,null,null,null,null,null,"深"]
[null,"深","実施",{"$f":"SUMPRODUCT(($C$6:$C$105=\"実施\")*(AI6:AI105=$B$114))","v":0},0,0,0,0,0,0,0,0,0,0,0,0,0,0,0,0,0,0,0,0,0,0,0,0,0,0,0,0,0,0,null,null,null,null,null,null,null,null,null,null,null,null,null,null,null,null,null,null,null,null,null,null,null,null,null,null,null,null,null,null,null,null,null,null,null,null,null,null,null,null,null,null,null,null,null,null,null,null,null,null,null,null,null,null,null,null,null,null,null,null,null,null,null,null,null,null,null,null,null,null,null,null,null,"深"]
["遅出","遅","予定",{"$f":"SUMPRODUCT(($C$6:$C$105=\"予定\")*(AI6:AI105=$B$115))","v":0},0,0,0,0,0,0,0,0,0,0,0,0,0,0,0,0,0,0,0,0,0,0,0,0,0,0,0,0,0,0,null,null,null,null,null,null,null,null,null,null,null,null,null,null,null,null,null,null,null,null,null,null,null,null,null,null,null,null,null,null,null,null,null,null,null,null,null,null,null,null,null,null,null,null,null,null,null,null,null,null,null,null,null,null,null,null,null,null,null,null,null,null,null,null,null,null,null,null,null,null,null,null,null,"遅"]
[null,"遅","実施",{"$f":"SUMPRODUCT(($C$6:$C$105=\"実施\")*(AI6:AI105=$B$116))","v":0},0,0,0,0,0,0,0,0,0,0,0,0,0,0,0,0,0,0,0,0,0,0,0,0,0,0,0,0,0,0,null,null,null,null,null,null,null,null,null,null,null,null,null,null,null,null,null,null,null,null,null,null,null,null,null,null,null,null,null,null,null,null,null,null,null,null,null,null,null,null,null,null,null,null,null,null,null,null,null,null,null,null,null,null,null,null,null,null,null,null,null,null,null,null,null,null,null,null,null,null,null,null,null,"遅"]

{"sheet":"総務用","index":6,"n_rows":99,"n_cols":45,"rows_kept":99,"cut":false,"hidden":true,"merged":[[21,0,22,0],[29,0,30,0],[27,0,28,0],[63,0,64,0],[37,0,38,0],[39,0,40,0],[41,0,42,0],[43,0,44,0],[45,0,46,0],[61,0,62,0],[49,0,50,0],[51,0,52,0],[53,0,54,0],[55,0,56,0],[57,0,58,0],[59,0,60,0],[65,0,66,0],[33,0,34,0],[35,0,36,0],[31,0,32,0],[23,0,24,0],[25,0,26,0],[47,0,48,0],[19,0,20,0],[15,0,16,0],[3,33,4,33],[13,0,14,0],[3,34,4,34],[7,0,8,0],[9,0,10,0],[11,0,12,0],[5,0,6,0],[3,35,4,35],[3,41,4,41],[3,40,4,40],[17,0,18,0],[3,43,4,43],[3,42,4,42],[3,36,4,36],[3,37,4,37],[3,39,4,39],[3,38,4,38]]}
[42917,"2017-07-01","月",null,"【　　　　　】勤務表予定表・実施表"]
[]
[]
[null,"日",{"$f":"$A$1","v":"2017-07-01"},{"$f":"$A$1+1","v":"2017-07-02"},{"$f":"$A$1+2","v":"2017-07-03"},{"$f":"$A$1+3","v":"2017-07-04"},{"$f":"$A$1+4","v":"2017-07-05"},{"$f":"$A$1+5","v":"2017-07-06"},{"$f":"$A$1+6","v":"2017-07-07"},{"$f":"$A$1+7","v":"2017-07-08"},{"$f":"$A$1+8","v":"2017-07-09"},{"$f":"$A$1+9","v":"2017-07-10"},{"$f":"$A$1+10","v":"2017-07-11"},{"$f":"$A$1+11","v":"2017-07-12"},{"$f":"$A$1+12","v":"2017-07-13"},{"$f":"$A$1+13","v":"2017-07-14"},{"$f":"$A$1+14","v":"2017-07-15"},{"$f":"$A$1+15","v":"2017-07-16"},{"$f":"$A$1+16","v":"2017-07-17"},{"$f":"$A$1+17","v":"2017-07-18"},{"$f":"$A$1+18","v":"2017-07-19"},{"$f":"$A$1+19","v":"2017-07-20"},{"$f":"$A$1+20","v":"2017-07-21"},{"$f":"$A$1+21","v":"2017-07-22"},{"$f":"$A$1+22","v":"2017-07-23"},{"$f":"$A$1+23","v":"2017-07-24"},{"$f":"$A$1+24","v":"2017-07-25"},{"$f":"$A$1+25","v":"2017-07-26"},{"$f":"$A$1+26","v":"2017-07-27"},{"$f":"$A$1+27","v":"2017-07-28"},{"$f":"IF(DAY($A$1+28)>10,A1+28,\"\")","v":"2017-07-29"},{"$f":"IF(DAY($A$1+29)>10,A1+29,\"\")","v":"2017-07-30"},{"$f":"IF(DAY($A$1+30)>10,A1+30,\"\")","v":"2017-07-31"},"早番","遅番","日勤","準夜","年休","特休","祭休","休日","職免"]
[null,"曜",{"$f":"C4","v":42917},42918,42919,42920,42921,42922,42923,42924,42925,42926,42927,42928,42929,42930,42931,42932,42933,42934,42935,42936,42937,42938,42939,42940,42941,42942,42943,42944,42945,42946,42947]
[{"$f":"職員一覧!B2","v":"病院　太郎"},"予定","／","／","日","日","日","出","日","／","／","日","日","日","日","日","／","／","／","日","日","日","日","／","／","日","日","日","日","日","／","／","日",{"$f":"COUNTIF(C6:AG6,\"早\")","v":0},{"$f":"COUNTIF(C6:AG6,\"☆\")","v":0},{"$f":"COUNTIF(C6:AG6,\"日\")","v":19},{"$f":"COUNTIF(C6:AG6,\"■\")","v":0},{"$f":"COUNTIF(C6:AG6,\"年休\")","v":0},{"$f":"COUNTIF(C6:AG6,\"特休\")","v":0},{"$f":"COUNTIF(C6:AG6,\"祭\")","v":0},{"$f":"COUNTIF(C6:AG6,\"／\")","v":11},{"$f":"COUNTIF(H6:AG6,\"職免\")","v":0}]
[null,"実施",null,null,null,null,null,null,null,null,null,null,null,null,null,null,null,null,null,null,null,null,null,null,null,null,null,null,null,null,null,null,null,null,null,null,null,null,null,null,null,null,null,null,"遅・準・休"]
[{"$f":"職員一覧!B3","v":"病院　次郎"},"予定",null,null,null,null,null,null,null,null,null,null,null,null,null,null,null,null,null,null,null,null,null,null,null,null,null,null,null,null,null,null,null,{"$f":"COUNTIF(C8:AG8,\"早\")","v":0},{"$f":"COUNTIF(C8:AG8,\"☆\")","v":0},{"$f":"COUNTIF(C8:AG8,\"日\")","v":0},{"$f":"COUNTIF(C8:AG8,\"■\")","v":0},{"$f":"COUNTIF(C8:AG8,\"年休\")","v":0},{"$f":"COUNTIF(C8:AG8,\"特休\")","v":0},{"$f":"COUNTIF(C8:AG8,\"祭\")","v":0},{"$f":"COUNTIF(C8:AG8,\"／\")","v":0},{"$f":"COUNTIF(H8:AG8,\"職免\")","v":0},null,null,"日・早・遅"]
[null,"実施",null,null,null,null,null,null,null,null,null,null,null,null,null,null,null,null,null,null,null,null,null,null,null,null,null,null,null,null,null,null,null,null,null,null,null,null,null,null,null,null,null,null,"日・早"]
[{"$f":"職員一覧!B4","v":"病院　三郎"},"予定","日","／","日","早","／","日","深","中","準","／","日","日","深","／","／","準","祭","準","／","早","準","／","中","準","／","早","日","深","遅","／","／",{"$f":"COUNTIF(C10:AG10,\"早\")","v":3},{"$f":"COUNTIF(C10:AG10,\"☆\")","v":0},{"$f":"COUNTIF(C10:AG10,\"日\")","v":6},{"$f":"COUNTIF(C10:AG10,\"■\")","v":0},{"$f":"COUNTIF(C10:AG10,\"年休\")","v":0},{"$f":"COUNTIF(C10:AG10,\"特休\")","v":0},{"$f":"COUNTIF(C10:AG10,\"祭\")","v":1},{"$f":"COUNTIF(C10:AG10,\"／\")","v":10},{"$f":"COUNTIF(H10:AG10,\"職免\")","v":0},null,null,"出張"]
[null,"実施",null,null,null,null,null,null,null,null,null,null,null,null,null,null,null,null,null,null,null,null,null,null,null,null,null,null,null,null,null,null,null,null,null,null,null,null,null,null,null,null,null,null,"年休"]
[{"$f":"職員一覧!B5","v":0},"予定","日","深","準","／","早","遅","／","遅","／","日","／","／","日","深","遅","／","早","祭/代","中","準","／","準","／","／","日","日","深","準","／","早","日",{"$f":"COUNTIF(C12:AG12,\"早\")","v":3},{"$f":"COUNTIF(C12:AG12,\"☆\")","v":0},{"$f":"COUNTIF(C12:AG12,\"日\")","v":6},{"$f":"COUNTIF(C12:AG12,\"■\")","v":0},{"$f":"COUNTIF(C12:AG12,\"年休\")","v":0},{"$f":"COUNTIF(C12:AG12,\"特休\")","v":0},{"$f":"COUNTIF(C12:AG12,\"祭\")","v":0},{"$f":"COUNTIF(C12:AG12,\"／\")","v":10},{"$f":"COUNTIF(H12:AG12,\"職免\")","v":0},null,null,"特休"]
[null,"実施",null,null,null,null,null,null,null,null,null,null,null,null,null,null,null,null,null,null,null,null,null,null,null,null,null,null,null,null,null,null,null,null,null,null,null,null,null,null,null,null,null,null,"夜×"]
[{"$f":"職員一覧!B6","v":0},"予定","／","日","深","準","／","日","日","日","準","／","／","中","／","日","深","／","準","祭/代","日","日","深","準","／","／","早","日","準","／","早","／","遅",{"$f":"COUNTIF(C14:AG14,\"早\")","v":2},{"$f":"COUNTIF(C14:AG14,\"☆\")","v":0},{"$f":"COUNTIF(C14:AG14,\"日\")","v":8},{"$f":"COUNTIF(C14:AG14,\"■\")","v":0},{"$f":"COUNTIF(C14:AG14,\"年休\")","v":0},{"$f":"COUNTIF(C14:AG14,\"特休\")","v":0},{"$f":"COUNTIF(C14:AG14,\"祭\")","v":0},{"$f":"COUNTIF(C14:AG14,\"／\")","v":10},{"$f":"COUNTIF(H14:AG14,\"職免\")","v":0},null,null,"準×"]
[null,"実施",null,null,null,null,null,null,null,null,null,null,null,null,null,null,null,null,null,null,null,null,null,null,null,null,null,null,null,null,null,null,null,null,null,null,null,null,null,null,null,null,null,null,"早×"]
[{"$f":"職員一覧!B7","v":0},"予定","／","遅","／","／","準","／","日","深","日","準","／","早","準","／","日","深","祭","早","準","／","日","早","日","深","／","／","中","日","準","／","早",{"$f":"COUNTIF(C16:AG16,\"早\")","v":4},{"$f":"COUNTIF(C16:AG16,\"☆\")","v":0},{"$f":"COUNTIF(C16:AG16,\"日\")","v":6},{"$f":"COUNTIF(C16:AG16,\"■\")","v":0},{"$f":"COUNTIF(C16:AG16,\"年休\")","v":0},{"$f":"COUNTIF(C16:AG16,\"特休\")","v":0},{"$f":"COUNTIF(C16:AG16,\"祭\")","v":1},{"$f":"COUNTIF(C16:AG16,\"／\")","v":10},{"$f":"COUNTIF(H16:AG16,\"職免\")","v":0},null,null,"祭"]
[null,"実施",null,null,null,null,null,null,null,null,null,null,null,null,null,null,null,null,null,null,null,null,null,null,null,null,null,null,null,null,null,null,null,null,null,null,null,null,null,null,null,null,null,null,"／"]
[{"$f":"職員一覧!B8","v":0},"予定","早","中","準","／","日","出","／","／","日","日","深","遅","／","準","／","日","深","祭/代","早","準","／","／","／","早","日","準","／","／","日","深","準",{"$f":"COUNTIF(C18:AG18,\"早\")","v":3},{"$f":"COUNTIF(C18:AG18,\"☆\")","v":0},{"$f":"COUNTIF(C18:AG18,\"日\")","v":6},{"$f":"COUNTIF(C18:AG18,\"■\")","v":0},{"$f":"COUNTIF(C18:AG18,\"年休\")","v":0},{"$f":"COUNTIF(C18:AG18,\"特休\")","v":0},{"$f":"COUNTIF(C18:AG18,\"祭\")","v":0},{"$f":"COUNTIF(C18:AG18,\"／\")","v":10},{"$f":"COUNTIF(H18:AG18,\"職免\")","v":0},null,null,"■"]
[null,"実施",null,null,null,null,null,null,null,null,null,null,null,null,null,null,null,null,null,null,null,null,null,null,null,null,null,null,null,null,null,null,null,null,null,null,null,null,null,null,null,null,null,null,"準"]
[{"$f":"職員一覧!B9","v":0},"予定","準","／","／","日","深","中","準","／","早","中","準","／","／","／","中","／","日","深","遅","日","祭/代","日","深","日","準","／","／","準","／","日","深",{"$f":"COUNTIF(C20:AG20,\"早\")","v":1},{"$f":"COUNTIF(C20:AG20,\"☆\")","v":0},{"$f":"COUNTIF(C20:AG20,\"日\")","v":6},{"$f":"COUNTIF(C20:AG20,\"■\")","v":0},{"$f":"COUNTIF(C20:AG20,\"年休\")","v":0},{"$f":"COUNTIF(C20:AG20,\"特休\")","v":0},{"$f":"COUNTIF(C20:AG20,\"祭\")","v":0},{"$f":"COUNTIF(C20:AG20,\"／\")","v":10},{"$f":"COUNTIF(H20:AG20,\"職免\")","v":0},null,null,"☆"]
[null,"実施",null,null,null,null,null,null,null,null,null,null,null,null,null,null,null,null,null,null,null,null,null,null,null,null,null,null,null,null,null,null,null,null,null,null,null,null,null,null,null,null,null,null,"遅"]
[{"$f":"職員一覧!B10","v":0},"予定",null,null,null,null,null,null,null,null,null,null,null,null,null,null,null,null,null,null,null,null,null,null,null,null,null,null,null,null,null,null,null,{"$f":"COUNTIF(C22:AG22,\"早\")","v":0},{"$f":"COUNTIF(C22:AG22,\"☆\")","v":0},{"$f":"COUNTIF(C22:AG22,\"日\")","v":0},{"$f":"COUNTIF(C22:AG22,\"■\")","v":0},{"$f":"COUNTIF(C22:AG22,\"年休\")","v":0},{"$f":"COUNTIF(C22:AG22,\"特休\")","v":0},{"$f":"COUNTIF(C22:AG22,\"祭\")","v":0},{"$f":"COUNTIF(C22:AG22,\"／\")","v":0},{"$f":"COUNTIF(H22:AG22,\"職免\")","v":0},null,null,"早"]
[null,"実施",null,null,null,null,null,null,null,null,null,null,null,null,null,null,null,null,null,null,null,null,null,null,null,null,null,null,null,null,null,null,null,null,null,null,null,null,null,null,null,null,null,null,"日"]
[{"$f":"職員一覧!B11","v":0},"予定","深","準","／","遅","／","早","準","／","中","遅","／","深","準","／","早","／","祭","準","／","日","早","日","準","／","／","深","日","／","日","中","日",{"$f":"COUNTIF(C24:AG24,\"早\")","v":3},{"$f":"COUNTIF(C24:AG24,\"☆\")","v":0},{"$f":"COUNTIF(C24:AG24,\"日\")","v":5},{"$f":"COUNTIF(C24:AG24,\"■\")","v":0},{"$f":"COUNTIF(C24:AG24,\"年休\")","v":0},{"$f":"COUNTIF(C24:AG24,\"特休\")","v":0},{"$f":"COUNTIF(C24:AG24,\"祭\")","v":1},{"$f":"COUNTIF(C24:AG24,\"／\")","v":10},{"$f":"COUNTIF(H24:AG24,\"職免\")","v":0}]
[null,"実施"]
[{"$f":"職員一覧!B12","v":0},"予定","／","早","日","深","／","準","／","準","／","早","日","準","／","早","準","／","遅","日","祭/代","／","日","深","遅","／","遅","／","早","日","深","準","／",{"$f":"COUNTIF(C26:AG26,\"早\")","v":4},{"$f":"COUNTIF(C26:AG26,\"☆\")","v":0},{"$f":"COUNTIF(C26:AG26,\"日\")","v":5},{"$f":"COUNTIF(C26:AG26,\"■\")","v":0},{"$f":"COUNTIF(C26:AG26,\"年休\")","v":0},{"$f":"COUNTIF(C26:AG26,\"特休\")","v":0},{"$f":"COUNTIF(C26:AG26,\"祭\")","v":0},{"$f":"COUNTIF(C26:AG26,\"／\")","v":10},{"$f":"COUNTIF(H26:AG26,\"職免\")","v":0}]
[null,"実施"]
[{"$f":"職員一覧!B13","v":0},"予定","準","／","早","中","準","／","早","日","深","／","早","日","日","準","／","早","日","日","深","祭/代","／","／","日","日","深","／","遅","／","／","準","／",{"$f":"COUNTIF(C28:AG28,\"早\")","v":4},{"$f":"COUNTIF(C28:AG28,\"☆\")","v":0},{"$f":"COUNTIF(C28:AG28,\"日\")","v":7},{"$f":"COUNTIF(C28:AG28,\"■\")","v":0},{"$f":"COUNTIF(C28:AG28,\"年休\")","v":0},{"$f":"COUNTIF(C28:AG28,\"特休\")","v":0},{"$f":"COUNTIF(C28:AG28,\"祭\")","v":0},{"$f":"COUNTIF(C28:AG28,\"／\")","v":10},{"$f":"COUNTIF(H28:AG28,\"職免\")","v":0}]
[null,"実施"]
[{"$f":"職員一覧!B14","v":0},"予定","／","日","／","日","日","深","／","早","日","深","準","／","早","日","／","準","祭","／","日","深","遅","／","早","準","／","準","／","早","／","日","中",{"$f":"COUNTIF(C30:AG30,\"早\")","v":4},{"$f":"COUNTIF(C30:AG30,\"☆\")","v":0},{"$f":"COUNTIF(C30:AG30,\"日\")","v":7},{"$f":"COUNTIF(C30:AG30,\"■\")","v":0},{"$f":"COUNTIF(C30:AG30,\"年休\")","v":0},{"$f":"COUNTIF(C30:AG30,\"特休\")","v":0},{"$f":"COUNTIF(C30:AG30,\"祭\")","v":1},{"$f":"COUNTIF(C30:AG30,\"／\")","v":10},{"$f":"COUNTIF(H30:AG30,\"職免\")","v":0}]
[null,"実施"]
[{"$f":"職員一覧!B15","v":0},"予定","／","／","日","日","日","日","／","／","／","日","日","中","日","／","日","／","中","／","早","日","深","準","／","早","中","／","日","深","中","／","準",{"$f":"COUNTIF(C32:AG32,\"早\")","v":2},{"$f":"COUNTIF(C32:AG32,\"☆\")","v":0},{"$f":"COUNTIF(C32:AG32,\"日\")","v":10},{"$f":"COUNTIF(C32:AG32,\"■\")","v":0},{"$f":"COUNTIF(C32:AG32,\"年休\")","v":0},{"$f":"COUNTIF(C32:AG32,\"特休\")","v":0},{"$f":"COUNTIF(C32:AG32,\"祭\")","v":0},{"$f":"COUNTIF(C32:AG32,\"／\")","v":11},{"$f":"COUNTIF(H32:AG32,\"職免\")","v":0}]
[null,"実施"]
[{"$f":"職員一覧!B16","v":0},"予定","中","準","／","／","早","日","日","深","／","／","日","準","／","日","早","準","祭","日","深","／","／","準","／","／","早","日","深","準","／","遅","日",{"$f":"COUNTIF(C34:AG34,\"早\")","v":3},{"$f":"COUNTIF(C34:AG34,\"☆\")","v":0},{"$f":"COUNTIF(C34:AG34,\"日\")","v":7},{"$f":"COUNTIF(C34:AG34,\"■\")","v":0},{"$f":"COUNTIF(C34:AG34,\"年休\")","v":0},{"$f":"COUNTIF(C34:AG34,\"特休\")","v":0},{"$f":"COUNTIF(C34:AG34,\"祭\")","v":1},{"$f":"COUNTIF(C34:AG34,\"／\")","v":10},{"$f":"COUNTIF(H34:AG34,\"職免\")","v":0}]
[null,"実施"]
[{"$f":"職員一覧!B17","v":0},"予定","早","／","早","日","中","準","／","／","深","日","／","深","中","準","／","日","準","祭/代","日","中","準","／","早","遅","／","深","／","日","／","／","準",{"$f":"COUNTIF(C36:AG36,\"早\")","v":3},{"$f":"COUNTIF(C36:AG36,\"☆\")","v":0},{"$f":"COUNTIF(C36:AG36,\"日\")","v":5},{"$f":"COUNTIF(C36:AG36,\"■\")","v":0},{"$f":"COUNTIF(C36:AG36,\"年休\")","v":0},{"$f":"COUNTIF(C36:AG36,\"特休\")","v":0},{"$f":"COUNTIF(C36:AG36,\"祭\")","v":0},{"$f":"COUNTIF(C36:AG36,\"／\")","v":10},{"$f":"COUNTIF(H36:AG36,\"職免\")","v":0}]
[null,"実施"]
[{"$f":"職員一覧!B18","v":0},"予定","／","早","準","／","遅","／","早","準","／","準","／","日","深","中","準","／","日","祭/代","日","深","早","日","／","日","深","中","準","／","／","日","／",{"$f":"COUNTIF(C38:AG38,\"早\")","v":3},{"$f":"COUNTIF(C38:AG38,\"☆\")","v":0},{"$f":"COUNTIF(C38:AG38,\"日\")","v":6},{"$f":"COUNTIF(C38:AG38,\"■\")","v":0},{"$f":"COUNTIF(C38:AG38,\"年休\")","v":0},{"$f":"COUNTIF(C38:AG38,\"特休\")","v":0},{"$f":"COUNTIF(C38:AG38,\"祭\")","v":0},{"$f":"COUNTIF(C38:AG38,\"／\")","v":10},{"$f":"COUNTIF(H38:AG38,\"職免\")","v":0}]
[null,"実施"]
[{"$f":"職員一覧!B19","v":0},"予定","／","日","日","深","／","早","準","／","早","日","深","／","遅","／","準","／","早","遅","祭/代","早","日","深","準","／","日","遅","日","／","準","／","／",{"$f":"COUNTIF(C40:AG40,\"早\")","v":4},{"$f":"COUNTIF(C40:AG40,\"☆\")","v":0},{"$f":"COUNTIF(C40:AG40,\"日\")","v":6},{"$f":"COUNTIF(C40:AG40,\"■\")","v":0},{"$f":"COUNTIF(C40:AG40,\"年休\")","v":0},{"$f":"COUNTIF(C40:AG40,\"特休\")","v":0},{"$f":"COUNTIF(C40:AG40,\"祭\")","v":0},{"$f":"COUNTIF(C40:AG40,\"／\")","v":10},{"$f":"COUNTIF(H40:AG40,\"職免\")","v":0}]
[null,"実施"]
[{"$f":"職員一覧!B20","v":0},"予定","日","深","中","準","／","日","遅","日","／","早","準","／","早","日","深","／","準","祭/代","／","日","深","遅","／","中","準","／","／","日","深","／","／",{"$f":"COUNTIF(C42:AG42,\"早\")","v":2},{"$f":"COUNTIF(C42:AG42,\"☆\")","v":0},{"$f":"COUNTIF(C42:AG42,\"日\")","v":6},{"$f":"COUNTIF(C42:AG42,\"■\")","v":0},{"$f":"COUNTIF(C42:AG42,\"年休\")","v":0},{"$f":"COUNTIF(C42:AG42,\"特休\")","v":0},{"$f":"COUNTIF(C42:AG42,\"祭\")","v":0},{"$f":"COUNTIF(C42:AG42,\"／\")","v":10},{"$f":"COUNTIF(H42:AG42,\"職免\")","v":0}]
[null,"実施"]
[{"$f":"職員一覧!B21","v":0},"予定","準","／","日","早","準","／","／","日","日","深","遅","／","日","深","／","日","祭","早","準","／","日","中","／","早","／","／","日","深","日","準","／",{"$f":"COUNTIF(C44:AG44,\"早\")","v":3},{"$f":"COUNTIF(C44:AG44,\"☆\")","v":0},{"$f":"COUNTIF(C44:AG44,\"日\")","v":8},{"$f":"COUNTIF(C44:AG44,\"■\")","v":0},{"$f":"COUNTIF(C44:AG44,\"年休\")","v":0},{"$f":"COUNTIF(C44:AG44,\"特休\")","v":0},{"$f":"COUNTIF(C44:AG44,\"祭\")","v":1},{"$f":"COUNTIF(C44:AG44,\"／\")","v":10},{"$f":"COUNTIF(H44:AG44,\"職免\")","v":0}]
[null,"実施"]
[{"$f":"職員一覧!B22","v":0},"予定","／","／","遅","／","日","深","中","準","／","準","／","早","準","／","日","深","祭","準","／","遅","中","／","日","準","／","日","／","早","日","深","早",{"$f":"COUNTIF(C46:AG46,\"早\")","v":3},{"$f":"COUNTIF(C46:AG46,\"☆\")","v":0},{"$f":"COUNTIF(C46:AG46,\"日\")","v":5},{"$f":"COUNTIF(C46:AG46,\"■\")","v":0},{"$f":"COUNTIF(C46:AG46,\"年休\")","v":0},{"$f":"COUNTIF(C46:AG46,\"特休\")","v":0},{"$f":"COUNTIF(C46:AG46,\"祭\")","v":1},{"$f":"COUNTIF(C46:AG46,\"／\")","v":10},{"$f":"COUNTIF(H46:AG46,\"職免\")","v":0}]
[null,"実施"]
[{"$f":"職員一覧!B23","v":0},"予定","深","準","／","／","日","日","深","／","準","／","中","準","／","早","／","遅","祭","日","早","準","／","早","日","深","／","準","／","遅","／","早","日",{"$f":"COUNTIF(C48:AG48,\"早\")","v":4},{"$f":"COUNTIF(C48:AG48,\"☆\")","v":0},{"$f":"COUNTIF(C48:AG48,\"日\")","v":5},{"$f":"COUNTIF(C48:AG48,\"■\")","v":0},{"$f":"COUNTIF(C48:AG48,\"年休\")","v":0},{"$f":"COUNTIF(C48:AG48,\"特休\")","v":0},{"$f":"COUNTIF(C48:AG48,\"祭\")","v":1},{"$f":"COUNTIF(C48:AG48,\"／\")","v":10},{"$f":"COUNTIF(H48:AG48,\"職免\")","v":0}]
[null,"実施"]
[{"$f":"職員一覧!B24","v":0},"予定","遅","／","／","日","深","／","日","早","／","／","日","／","日","遅","／","早","日","深","準","祭/代","／","日","深","日","準","／","早","中","準","／","準",{"$f":"COUNTIF(C50:AG50,\"早\")","v":3},{"$f":"COUNTIF(C50:AG50,\"☆\")","v":0},{"$f":"COUNTIF(C50:AG50,\"日\")","v":7},{"$f":"COUNTIF(C50:AG50,\"■\")","v":0},{"$f":"COUNTIF(C50:AG50,\"年休\")","v":0},{"$f":"COUNTIF(C50:AG50,\"特休\")","v":0},{"$f":"COUNTIF(C50:AG50,\"祭\")","v":0},{"$f":"COUNTIF(C50:AG50,\"／\")","v":10},{"$f":"COUNTIF(H50:AG50,\"職免\")","v":0}]
[null,"実施"]
[{"$f":"職員一覧!B25","v":0},"予定","日","日","深","準","／","準","／","／","遅","／","早","日","日","／","／","日","深","中","日","祭/代","準","／","準","／","／","早","準","／","早","日","深",{"$f":"COUNTIF(C52:AG52,\"早\")","v":3},{"$f":"COUNTIF(C52:AG52,\"☆\")","v":0},{"$f":"COUNTIF(C52:AG52,\"日\")","v":7},{"$f":"COUNTIF(C52:AG52,\"■\")","v":0},{"$f":"COUNTIF(C52:AG52,\"年休\")","v":0},{"$f":"COUNTIF(C52:AG52,\"特休\")","v":0},{"$f":"COUNTIF(C52:AG52,\"祭\")","v":0},{"$f":"COUNTIF(C52:AG52,\"／\")","v":10},{"$f":"COUNTIF(H52:AG52,\"職免\")","v":0}]
[null,"実施"]
[{"$f":"職員一覧!B26","v":0},"予定","／","／","日","日","日","日","日","／","／","日","日","／","日","中","日","中","／","日","深","／","早","準","／","早","日","／","日","深","／","準","／",{"$f":"COUNTIF(C54:AG54,\"早\")","v":2},{"$f":"COUNTIF(C54:AG54,\"☆\")","v":0},{"$f":"COUNTIF(C54:AG54,\"日\")","v":12},{"$f":"COUNTIF(C54:AG54,\"■\")","v":0},{"$f":"COUNTIF(C54:AG54,\"年休\")","v":0},{"$f":"COUNTIF(C54:AG54,\"特休\")","v":0},{"$f":"COUNTIF(C54:AG54,\"祭\")","v":0},{"$f":"COUNTIF(C54:AG54,\"／\")","v":11},{"$f":"COUNTIF(H54:AG54,\"職免\")","v":0}]
[null,"実施"]
["","予定",null,null,null,null,null,null,null,null,null,null,null,null,null,null,null,null,null,null,null,null,null,null,null,null,null,null,null,null,null,null,null,{"$f":"COUNTIF(C56:AG56,\"早\")","v":0},{"$f":"COUNTIF(C56:AG56,\"☆\")","v":0},{"$f":"COUNTIF(C56:AG56,\"日\")","v":0},{"$f":"COUNTIF(C56:AG56,\"■\")","v":0},{"$f":"COUNTIF(C56:AG56,\"年休\")","v":0},{"$f":"COUNTIF(C56:AG56,\"特休\")","v":0},{"$f":"COUNTIF(C56:AG56,\"祭\")","v":0},{"$f":"COUNTIF(C56:AG56,\"／\")","v":0},{"$f":"COUNTIF(H56:AG56,\"職免\")","v":0}]
[null,"実施"]
["","予定",null,null,null,null,null,null,null,null,null,null,null,null,null,null,null,null,null,null,null,null,null,null,null,null,null,null,null,null,null,null,null,{"$f":"COUNTIF(C58:AG58,\"早\")","v":0},{"$f":"COUNTIF(C58:AG58,\"☆\")","v":0},{"$f":"COUNTIF(C58:AG58,\"日\")","v":0},{"$f":"COUNTIF(C58:AG58,\"■\")","v":0},{"$f":"COUNTIF(C58:AG58,\"年休\")","v":0},{"$f":"COUNTIF(C58:AG58,\"特休\")","v":0},{"$f":"COUNTIF(C58:AG58,\"祭\")","v":0},{"$f":"COUNTIF(C58:AG58,\"／\")","v":0},{"$f":"COUNTIF(H58:AG58,\"職免\")","v":0}]
[null,"実施"]
["","予定",null,null,null,null,null,null,null,null,null,null,null,null,null,null,null,null,null,null,null,null,null,null,null,null,null,null,null,null,null,null,null,{"$f":"COUNTIF(C60:AG60,\"早\")","v":0},{"$f":"COUNTIF(C60:AG60,\"☆\")","v":0},{"$f":"COUNTIF(C60:AG60,\"日\")","v":0},{"$f":"COUNTIF(C60:AG60,\"■\")","v":0},{"$f":"COUNTIF(C60:AG60,\"年休\")","v":0},{"$f":"COUNTIF(C60:AG60,\"特休\")","v":0},{"$f":"COUNTIF(C60:AG60,\"祭\")","v":0},{"$f":"COUNTIF(C60:AG60,\"／\")","v":0},{"$f":"COUNTIF(H60:AG60,\"職免\")","v":0}]
[null,"実施"]
["","予定",null,null,null,null,null,null,null,null,null,null,null,null,null,null,null,null,null,null,null,null,null,null,null,null,null,null,null,null,null,null,null,{"$f":"COUNTIF(C62:AG62,\"早\")","v":0},{"$f":"COUNTIF(C62:AG62,\"☆\")","v":0},{"$f":"COUNTIF(C62:AG62,\"日\")","v":0},{"$f":"COUNTIF(C62:AG62,\"■\")","v":0},{"$f":"COUNTIF(C62:AG62,\"年休\")","v":0},{"$f":"COUNTIF(C62:AG62,\"特休\")","v":0},{"$f":"COUNTIF(C62:AG62,\"祭\")","v":0},{"$f":"COUNTIF(C62:AG62,\"／\")","v":0},{"$f":"COUNTIF(H62:AG62,\"職免\")","v":0}]
[null,"実施"]
["","予定",null,null,null,null,null,null,null,null,null,null,null,null,null,null,null,null,null,null,null,null,null,null,null,null,null,null,null,null,null,null,null,{"$f":"COUNTIF(C64:AG64,\"早\")","v":0},{"$f":"COUNTIF(C64:AG64,\"☆\")","v":0},{"$f":"COUNTIF(C64:AG64,\"日\")","v":0},{"$f":"COUNTIF(C64:AG64,\"■\")","v":0},{"$f":"COUNTIF(C64:AG64,\"年休\")","v":0},{"$f":"COUNTIF(C64:AG64,\"特休\")","v":0},{"$f":"COUNTIF(C64:AG64,\"祭\")","v":0},{"$f":"COUNTIF(C64:AG64,\"／\")","v":0},{"$f":"COUNTIF(H64:AG64,\"職免\")","v":0}]
[null,"実施"]
[null,"日",{"$f":"C4","v":"2017-07-01"},"2017-07-02","2017-07-03","2017-07-04","2017-07-05","2017-07-06","2017-07-07","2017-07-08","2017-07-09","2017-07-10","2017-07-11","2017-07-12","2017-07-13","2017-07-14","2017-07-15","2017-07-16","2017-07-17","2017-07-18","2017-07-19","2017-07-20","2017-07-21","2017-07-22","2017-07-23","2017-07-24","2017-07-25","2017-07-26","2017-07-27","2017-07-28","2017-07-29","2017-07-30","2017-07-31",{"$f":"SUM(AH6:AH65)","v":66},0,165,0,0,0,8,233,0]
[null,"曜",{"$f":"C5","v":42917},42918,42919,42920,42921,42922,42923,42924,42925,42926,42927,42928,42929,42930,42931,42932,42933,42934,42935,42936,42937,42938,42939,42940,42941,42942,42943,42944,42945,42946,42947]
[null,null,null,null,null,null,null,null,null,null,null,null,null,null,null,null,null,null,null,null,null,null,null,null,null,null,null,null,null,null,null,null,null,null,null,null,{"$f":"SUM(AK6:AK67)","v":0},0,0,16,466,0]
["日勤",null,{"$f":"COUNTIF(C6:C65,\"日\")","v":4},4,7,7,7,7,6,4,4,7,7,5,8,5,4,4,4,6,6,6,5,4,4,5,5,5,7,5,4,4,5]
["早番",null,{"$f":"COUNTIF(C6:C67,\"早\")","v":2},2,2,2,2,2,2,2,2,2,2,2,2,2,2,2,2,2,3,2,3,2,2,4,2,2,2,2,2,2,2]
["遅番",null,{"$f":"COUNTIF(C6:C67,\"☆\")","v":0},0,0,0,0,0,0,0,0,0,0,0,0,0,0,0,0,0,0,0,0,0,0,0,0,0,0,0,0,0,{"$f":"COUNTIF(AG6:AG36,\"☆\")","v":0}]
["準夜",null,{"$f":"COUNTIF(C6:C67,\"■\")","v":0},0,0,0,0,0,0,0,0,0,0,0,0,0,0,0,0,0,0,0,0,0,0,0,0,0,0,0,0,0,0]
["特休",null,{"$f":"COUNTIF(C6:C67,\"特休\")","v":0},0,0,0,0,0,0,0,0,0,0,0,0,0,0,0,0,0,0,0,0,0,0,0,0,0,0,0,0,0,0]
["休",null,{"$f":"COUNTIF(C6:C64,\"／\")","v":10},10,7,7,7,5,8,10,10,7,7,8,6,8,10,10,2,2,4,5,6,8,10,7,9,9,7,7,10,9,8]
["にこにこ",null,{"$f":"COUNTIF(C10,\"日\")+COUNTIF(C14,\"日\")+COUNTIF(C16,\"日\")+COUNTIF(C20,\"日\")+COUNTIF(C26,\"日\")+COUNTIF(C10,\"早\")+COUNTIF(C14,\"早\")+COUNTIF(C16,\"早\")+COUNTIF(C20,\"早\")+COUNTIF(C26,\"早\")+COUNTIF(C10,\"☆\")+COUNTIF(C14,\"☆\")+COUNTIF(C16,\"☆\")+COUNTIF(C20,\"☆\")+COUNTIF(C26,\"☆\")","v":1},2,2,2,0,2,2,1,2,1,2,2,0,2,1,0,1,2,1,3,2,2,1,1,1,2,2,2,1,1,1]
["夜勤男女比率",null,{"$f":"COUNTIF(C8,\"■\")+COUNTIF(C16,\"■\")+COUNTIF(C18,\"■\")+COUNTIF(C20,\"■\")+COUNTIF(C8,\"☆\")+COUNTIF(C16,\"☆\")+COUNTIF(C18,\"☆\")+COUNTIF(C20,\"☆\")","v":0},0,0,0,0,0,0,0,0,0,0,0,0,0,0,0,0,0,0,0,0,0,0,0,0,0,0,0,0,0,0]
[null,null,{"$f":"COUNTIF(C8,\"日\")+COUNTIF(C16,\"日\")+COUNTIF(C18,\"日\")+COUNTIF(C20,\"日\")+COUNTIF(C8,\"早\")+COUNTIF(C16,\"早\")+COUNTIF(C18,\"早\")+COUNTIF(C20,\"早\")","v":1},0,0,1,1,0,1,0,3,1,0,1,0,0,1,1,1,1,1,1,1,2,1,2,1,0,0,1,1,1,1]
[null,"あすなろ会議"]
[null,"入院調整会議"]
[null,"病棟会議"]
[null,"病棟療育会議"]
[null,"療育策定会議"]
[null,"おもしろ会議"]
[null,"治療教育合同会議"]
[null,"リスク会議"]
[null,"PDD会議"]
[null,"CM会議"]
[null,"研修策定会議"]
[null,"支援室責任者会議"]
[null,"西田CC"]
[null,"大槻CC①"]
[null,"大槻CC②"]
[null,"中島CC①"]
[null,"中島CC②"]
[null,"大橋CC"]
[null,"SST"]
[null,"太鼓"]
[null,"子ども会"]
[null,"合同療育"]

{"sheet":"システムデータ⇒","index":7,"n_rows":0,"n_cols":0,"rows_kept":0,"cut":false,"hidden":true,"merged":[]}

{"sheet":"職員一覧","index":8,"n_rows":51,"n_cols":4,"rows_kept":51,"cut":false,"hidden":false,"merged":[]}
[null,"職員氏名","職員番号","会計年度任用職員"]
[1,"病院　太郎","000001"]
[2,"病院　次郎","000002"]
[3,"病院　三郎","000003","○"]
[4]
[5]
[6]
[7]
[8]
[9]
[10]
[11]
[12]
[13]
[14]
[15]
[16]
[17]
[18]
[19]
[20]
[21]
[22]
[23]
[24]
[25]
[26]
[27]
[28]
[29]
[30]
[31]
[32]
[33]
[34]
[35]
[36]
[37]
[38]
[39]
[40]
[41]
[42]
[43]
[44]
[45]
[46]
[47]
[48]
[49]
[50]

{"sheet":"祝日","index":9,"n_rows":30,"n_cols":4,"rows_kept":30,"cut":false,"hidden":true,"merged":[]}
["●祝日",null,"（基準年）","（次年）"]
["名称","月日",2023,{"$f":"C2+1","v":2024}]
["元旦","2003-01-01",{"$f":"DATE(C$2,1,1)","v":"2023-01-01"},{"$f":"DATE(D$2,1,1)","v":"2024-01-01"}]
["成人の日","1月第2月曜",{"$f":"DATE(C$2,1,MOD(7-WEEKDAY(DATE(C$2,1,1),3), 7)+2*7-6)","v":"2023-01-09"},{"$f":"DATE(D$2,1,MOD(7-WEEKDAY(DATE(D$2,1,1),3), 7)+2*7-6)","v":"2024-01-08"}]
["建国記念の日","2003-02-11",{"$f":"DATE(C$2,2,11)","v":"2023-02-11"},{"$f":"DATE(D$2,2,11)","v":"2024-02-11"}]
["振替休日",null,null,"2018-02-12"]
["春分の日","3月20/21日",{"$f":"DATE(C2,3,INT(20.69115+(C$2-2000)*0.242194-INT((C$2-2000)/4)))","v":"2023-03-21"},{"$f":"DATE(D2,3,INT(20.69115+(D$2-2000)*0.242194-INT((D$2-2000)/4)))","v":"2024-03-20"}]
["振替休日"]
[{"$f":"IF(C2>2006,\"昭和の日\",\"みどりの日\")","v":"昭和の日"},"2003-04-29",{"$f":"DATE(C$2,4,29)","v":"2023-04-29"},{"$f":"DATE(D$2,4,29)","v":"2024-04-29"}]
["憲法記念日","2003-05-03",{"$f":"DATE(C$2,5,3)","v":"2023-05-03"},{"$f":"DATE(D$2,5,3)","v":"2024-05-03"}]
[{"$f":"IF(C$22>2006,\"みどりの日\",\"国民の祝日\")","v":"みどりの日"},"2003-05-04",{"$f":"DATE(C$2,5,4)","v":"2023-05-04"},{"$f":"DATE(D$2,5,4)","v":"2024-05-04"}]
["こどもの日","2003-05-05",{"$f":"DATE(C$2,5,5)","v":"2023-05-05"},{"$f":"DATE(D$2,5,5)","v":"2024-05-05"}]
["振替休日"]
["海の日","7月第3月曜",{"$f":"DATE(C$2,7,MOD(7-WEEKDAY(DATE(C$2,7,1),3), 7)+3*7-6)","v":"2023-07-17"},{"$f":"DATE(D$2,7,MOD(7-WEEKDAY(DATE(D$2,7,1),3), 7)+3*7-6)","v":"2024-07-15"}]
["山の日","7月第2金曜",{"$f":"DATE(C$2,8,MOD(7-WEEKDAY(DATE(C$2,8,1),3), 7)+1*7-2)","v":"2023-08-11"},{"$f":"DATE(D$2,8,MOD(7-WEEKDAY(DATE(D$2,8,1),3), 7)+1*7-2)","v":"2024-08-09"}]
["敬老の日","9月第3月曜",{"$f":"DATE(C$2,9,MOD(7-WEEKDAY(DATE(C$2,9,1),3), 7)+3*7-6)","v":"2023-09-18"},{"$f":"DATE(D$2,9,MOD(7-WEEKDAY(DATE(D$2,9,1),3), 7)+3*7-6)","v":"2024-09-16"}]
["国民の祝日","2003-09-22",{"$f":"IF(C18-C16=2,C16+1,\"\")","v":""},"2010-09-20"]
["秋分の日","9月22/23日",{"$f":"DATE(C$2,9,INT(23.09+(C$2-2000)*0.242194-INT((C$2-2000)/4)))","v":"2023-09-23"},{"$f":"DATE(D$2,9,INT(23.09+(D$2-2000)*0.242194-INT((D$2-2000)/4)))","v":"2024-09-22"}]
["体育の日","10月第2月曜",{"$f":"DATE(C$2,10,MOD(7-WEEKDAY(DATE(C$2,10,1),3), 7)+2*7-6)","v":"2023-10-09"},{"$f":"DATE(D$2,10,MOD(7-WEEKDAY(DATE(D$2,10,1),3), 7)+2*7-6)","v":"2024-10-14"}]
["文化の日","2003-11-03",{"$f":"DATE(C$2,11,3)","v":"2023-11-03"},{"$f":"DATE(D$2,11,3)","v":"2024-11-03"}]
["勤労感謝の日","2003-11-23",{"$f":"DATE(C$2,11,23)","v":"2023-11-23"},{"$f":"DATE(D$2,11,23)","v":"2024-11-23"}]
["天皇誕生日","2003-02-23",{"$f":"DATE(C$2,2,23)","v":"2023-02-23"},{"$f":"DATE(D$2,2,23)","v":"2024-02-23"}]
["年末年始","2009-01-02",{"$f":"DATE(C$2,1,2)","v":"2023-01-02"},{"$f":"DATE(D$2,1,2)","v":"2024-01-02"}]
["年末年始","2009-01-03",{"$f":"DATE(C$2,1,3)","v":"2023-01-03"},{"$f":"DATE(D$2,1,3)","v":"2024-01-03"}]
["年末年始","2009-12-29",{"$f":"DATE(C$2,12,29)","v":"2023-12-29"},{"$f":"DATE(D$2,12,29)","v":"2024-12-29"}]
["年末年始","2009-12-30",{"$f":"DATE(C$2,12,30)","v":"2023-12-30"},{"$f":"DATE(D$2,12,30)","v":"2024-12-30"}]
["年末年始","2009-12-31",{"$f":"DATE(C$2,12,31)","v":"2023-12-31"},{"$f":"DATE(D$2,12,31)","v":"2024-12-31"}]
["総祝日数"]
[null,null,"この行の日付全体が「祝日」と定義されています↑","↑この行の日付全体が「翌年祝日」と定義されています。"]
[null,null,"※新たに追加したい場合は、中途に行挿入して追記してください。"]

{"sheet":"勤務シフト一覧","index":10,"n_rows":82,"n_cols":11,"rows_kept":82,"cut":false,"hidden":false,"merged":[]}
["こころの医療センター勤務シフト一覧"]
["勤務区分名称","略称","集計区分","勤務区分コード","コード種別","勤務開始","勤務終了","休憩開始","休憩終了"]
["勤務区分名称","勤務表に表示する略称","勤務表の集計区分","※総務事務の区分コードと合わせる必要があります."]
["日勤","日","日","A",null,"08:30","17:15","12:00","13:00","A",{"$f":"IF(D4=J4,\"\",\"×\")","v":""}]
["準夜勤","準","準","AJ",null,"16:30","01:15","21:00","22:00","AJ",""]
["深夜勤","深","深","AS1",null,"00:30","09:15","05:00","06:00","AS","×"]
["週休日","／","／",2,null,"～","～","","",2,""]
["指定休（年次有給休暇）","指／","指／","A",null,"08:30","17:15","12:00","13:00","A",""]
["祭日休み","祭／","祭／",1,null,"08:30","17:15","","",1,""]
["祭日の代休","祭代","祭代","A",null,"08:30","17:15","12:00","13:00","A",""]
["6:00～14:45","0600","0600","A4",null,"06:00","14:45","12:00","13:00","A4",""]
["変則３","0700","0700","A5",null,"07:00","15:45","0","0"]
["変則５","1000","1000","A6",null,"10:00","18:45","0","0"]
["変則６","1230","1230","A7",null,"12:30","21:15","16:00","17:00"]
["師長日当","師日当","師日当","A15",null,"08:30","21:15:00","12:00","13:15:00"]
["土曜日の日直+当直","師直","師直",2,null,"～","～"]
["土日祝日の日直(師長)","日直","日直",2,null,"～","～","",""]
["土日祝日の当直(師長)","当直","当直",2,null,"～","～","",""]
["師長の当直あけ勤務(平日)","0730","0730","A16",null,"07:30","11:15:00","",""]
["師長の当直あけ(休日)","明け","明け",2,null,"～","～","",""]
["師長の当直あけ勤務(日曜あけ)","*730","*730","A11",null,"07:30","16:15","12:00","13:30"]
["金曜セット組めない","0830",830,"A17",null,"08:30","12:15:00","",""]
["７時間勤務の職員","日7","日7","×",null,"","","",""]
["６時間勤務の職員","日6","日6","×",null,"","","",""]
["５時間勤務の職員","日5","日5","×",null,"","","",""]
["４時間勤務の職員","日4","日4","×",null,"","","",""]
["代休","代／","代／","A",null,"08:30","17:15","12:00","13:00"]
["結婚休暇","結／","結／","A",null,"08:30","17:15","12:00","13:00"]
["産前産後休暇","産／","産／","A",null,"08:30","17:15","12:00","13:00"]
["病気休暇","病／","病／","A",null,"08:30","17:15","12:00","13:00"]
["年次有給休暇","年／","年／","A",null,"08:30","17:15","12:00","13:00"]
["午前年休","A年","A年","A",null,"08:30","17:15","12:00","13:00"]
["午後年休","P年","P年","A",null,"08:30","17:15","12:00","13:00"]
["一日出張","出張","出張","A",null,"08:30","17:15","12:00","13:00"]
["午前出張","А出","А出","A",null,"08:30","17:15","12:00","13:00"]
["午後出張","P出","P出","A",null,"08:30","17:15","12:00","13:00"]
["夏季休暇","夏／","夏／","A",null,"08:30","17:15","12:00","13:00"]
["午前夏季休暇","А夏","А夏","A",null,"08:30","17:15","12:00","13:00"]
["午後夏季休暇","Р夏","Р夏","A",null,"08:30","17:15","12:00","13:00"]
["職専免","免／","免／","A",null,"08:30","17:15","12:00","13:00"]
["職専免+年休","免年","免年","A",null,"08:30","17:15","12:00","13:00"]
["午前職専免","A免","A免","A",null,"08:30","17:15","12:00","13:00"]
["午後職専免","P免","P免","A",null,"08:30","17:15","12:00","13:00"]
["特別休暇（忌引き、結婚休暇、産前産後休暇を除く）","特／","特／","A",null,"08:30","17:15","12:00","13:00"]
["AM特休","A特","A特","A",null,"08:30","17:15","12:00","13:00"]
["PM特休","P特","P特","A",null,"08:30","17:15","12:00","13:00"]
["AM特休＋PM年休","特年","特年","A",null,"08:30","17:15","12:00","13:00"]
["準夜翌日の日勤","*日","*日","A",null,"08:30","17:15","12:00","13:00"]
["準夜翌日の準夜","*準","*準","AJ",null,"16:30","01:15","21:00","22:00"]
["準夜翌日の週休","*／","*／",2,null,"～","～","",""]
["準夜翌日の指定休","*指／","*指／","A",null,"08:30","17:15","12:00","13:00"]
["準夜翌日の10:00","*1000","*1000","A6",null,"10:00","18:45","12:00","13:00"]
["準夜翌日の12:30","*1230","*1230","A7",null,"12:30","21:15","16:00","17:00"]
["準夜翌日の祭休","*祭／","*祭／",1,null,"08:30","17:15","12:00","13:00"]
["準夜翌日の祭代","*祭代","*祭代","A",null,"08:30","17:15","12:00","13:00"]
["育児休暇","育／","育／","A",null,"08:30","17:15","12:00","13:00"]
["介護休暇","介／","介／","A",null,"08:30","17:15","12:00","13:00"]
["祭日勤務","祭日","祭日",1,null,"08:30","17:15","12:00","13:00"]
["祭日準夜勤務","祭準","祭準","KJ",null,"16:30","01:15","21:00","22:00"]
["祭日深夜勤務","祭深","祭深","KS",null,"00:30","9:15 ","05:00","06:00"]
["祭6:00～14:45","祭0600","祭0600","K4",null,"06:00","14:45","12:00","13:00"]
["祭7:00～15:45","祭0700","祭0700","K5",null,"07:00","15:45","12:00","13:00"]
["祭10:00～18:45","祭1000","祭1000","K6",null,"10:00","8:45 ","12:00","13:00"]
["祭12:30～21:15","祭1230","祭1230","K7",null,"12:30","21:15","12:00","13:00"]
["祝日の日直(師長)","祭日直","祭日直",1,null,"08:30","17:15","12:00","13:00"]
["祝日の当直(師長)","祭当直","祭当直",1,null,"08:30","17:15","12:00","13:00"]
["７時間勤務の職員","祭日7","祭日7","×",null,"","","",""]
["６時間勤務の職員","祭日6","祭日6","×",null,"","","",""]
["５時間勤務の職員","祭日5","祭日5","×",null,"","","",""]
["４時間勤務の職員","祭日4","祭日4","×",null,"","","",""]
["一日出張","祭出張","祭出張","A",null,"08:30","17:15","12:00","13:00"]
["午前出張","祭А出","祭А出","A",null,"08:30","17:15","12:00","13:00"]
["午後出張","祭P出","祭P出","A",null,"08:30","17:15","12:00","13:00"]
["準夜翌日の日勤","*祭日","*祭日","A",null,"08:30","17:15","12:00","13:00"]
["準夜翌日の準夜","*祭準","*祭準","AJ",null,"16:30","01:15","21:00","22:00"]
["準夜翌日の10:00","*祭1000","*祭1000","K6",null,"10:00","8:45 ","12:00","13:00"]
["準夜翌日の12:30","*祭1230","*祭1230","K7",null,"12:30","21:15","12:00","13:00"]
["AM勤務","AM勤務","AM勤務","A17",null,"08:30","12:15:00"]
["準夜・深夜","準深","準深","L3",null,"16:30:00","09:15:00","00:00:00","01:15:00"]
["休日準夜・深夜","休準深","休準深","L4",null,"16:30:00","09:15:00","00:00:00","01:15:00"]
["準深明け（週休日）","0915","0915",2]
["準深明け（休日）","0915","0915",1]

{"sheet":"総務事務システムへの読み込み","index":11,"n_rows":0,"n_cols":0,"rows_kept":0,"cut":false,"hidden":false,"merged":[]}